BEGIN:VCALENDAR
VERSION:2.0
PRODID:-//GreySheeters Anonymous World Services - ECPv6.15.20//NONSGML v1.0//EN
CALSCALE:GREGORIAN
METHOD:PUBLISH
X-WR-CALNAME:GreySheeters Anonymous World Services
X-ORIGINAL-URL:https://meetings.greysheet.org
X-WR-CALDESC:Events for GreySheeters Anonymous World Services
REFRESH-INTERVAL;VALUE=DURATION:PT1H
X-Robots-Tag:noindex
X-PUBLISHED-TTL:PT1H
BEGIN:VTIMEZONE
TZID:America/New_York
BEGIN:DAYLIGHT
TZOFFSETFROM:-0500
TZOFFSETTO:-0400
TZNAME:EDT
DTSTART:20240310T070000
END:DAYLIGHT
BEGIN:STANDARD
TZOFFSETFROM:-0400
TZOFFSETTO:-0500
TZNAME:EST
DTSTART:20241103T060000
END:STANDARD
BEGIN:DAYLIGHT
TZOFFSETFROM:-0500
TZOFFSETTO:-0400
TZNAME:EDT
DTSTART:20250309T070000
END:DAYLIGHT
BEGIN:STANDARD
TZOFFSETFROM:-0400
TZOFFSETTO:-0500
TZNAME:EST
DTSTART:20251102T060000
END:STANDARD
BEGIN:DAYLIGHT
TZOFFSETFROM:-0500
TZOFFSETTO:-0400
TZNAME:EDT
DTSTART:20260308T070000
END:DAYLIGHT
BEGIN:STANDARD
TZOFFSETFROM:-0400
TZOFFSETTO:-0500
TZNAME:EST
DTSTART:20261101T060000
END:STANDARD
END:VTIMEZONE
BEGIN:VEVENT
DTSTART;TZID=America/New_York:20250419T113000
DTEND;TZID=America/New_York:20250419T123000
DTSTAMP:20260420T200705
CREATED:20250122T174218Z
LAST-MODIFIED:20260308T170308Z
UID:10049619-1745062200-1745065800@meetings.greysheet.org
SUMMARY:There Is a Solution
DESCRIPTION:This is a closed once a month (4th Saturday of every month) hybrid Literature meeting.  We will be meeting live at the noted above address and we will also be simultaneously utilizing the Zoom platform to stream the live meeting allowing any member with the zoom meeting ID and password to participate in the meeting.   We are currently reading the GSA Living Abstinent from cover to cover. We will be reading from all other GSA and AA conference approved literature in a rotating order. We will be reading from the books; The Big Book of Alcoholics Anonymous\, The 12 steps and 12 traditions of GSA \, The Twelve steps and 12 traditions of Alcoholics Anonymous\, The Living Sober book of AA.  We will reading a chapter or a designated portion of the literature and the floor will be then open up to timed shared from the membership.
URL:https://meetings.greysheet.org/meeting/there-is-a-solution/2025-04-19
LOCATION:Zoom ID: 86027837379, Passcode: Universal, Camera: Required - St. Thomas Aquinas Catholic Church\, 1400 Suther Street\, Charlotte\, NC\, 28213\, United States
CATEGORIES:Hybrid,In Person,Zoom
ATTACH;FMTTYPE=image/svg+xml:https://meetings.greysheet.org/wp-content/uploads/2025/05/hybrid-1.svg
GEO:35.3000742;-80.727974
X-APPLE-STRUCTURED-LOCATION;VALUE=URI;X-ADDRESS=Zoom ID: 86027837379, Passcode: Universal, Camera: Required - St. Thomas Aquinas Catholic Church 1400 Suther Street Charlotte NC 28213 United States;X-APPLE-RADIUS=500;X-TITLE=1400 Suther Street:geo:-80.727974,35.3000742
END:VEVENT
BEGIN:VEVENT
DTSTART;TZID=America/New_York:20250315T113000
DTEND;TZID=America/New_York:20250315T123000
DTSTAMP:20260420T200705
CREATED:20250122T174218Z
LAST-MODIFIED:20260308T170308Z
UID:10049618-1742038200-1742041800@meetings.greysheet.org
SUMMARY:There Is a Solution
DESCRIPTION:This is a closed once a month (4th Saturday of every month) hybrid Literature meeting.  We will be meeting live at the noted above address and we will also be simultaneously utilizing the Zoom platform to stream the live meeting allowing any member with the zoom meeting ID and password to participate in the meeting.   We are currently reading the GSA Living Abstinent from cover to cover. We will be reading from all other GSA and AA conference approved literature in a rotating order. We will be reading from the books; The Big Book of Alcoholics Anonymous\, The 12 steps and 12 traditions of GSA \, The Twelve steps and 12 traditions of Alcoholics Anonymous\, The Living Sober book of AA.  We will reading a chapter or a designated portion of the literature and the floor will be then open up to timed shared from the membership.
URL:https://meetings.greysheet.org/meeting/there-is-a-solution/2025-03-15
LOCATION:Zoom ID: 86027837379, Passcode: Universal, Camera: Required - St. Thomas Aquinas Catholic Church\, 1400 Suther Street\, Charlotte\, NC\, 28213\, United States
CATEGORIES:Hybrid,In Person,Zoom
ATTACH;FMTTYPE=image/svg+xml:https://meetings.greysheet.org/wp-content/uploads/2025/05/hybrid-1.svg
GEO:35.3000742;-80.727974
X-APPLE-STRUCTURED-LOCATION;VALUE=URI;X-ADDRESS=Zoom ID: 86027837379, Passcode: Universal, Camera: Required - St. Thomas Aquinas Catholic Church 1400 Suther Street Charlotte NC 28213 United States;X-APPLE-RADIUS=500;X-TITLE=1400 Suther Street:geo:-80.727974,35.3000742
END:VEVENT
BEGIN:VEVENT
DTSTART;TZID=America/New_York:20250215T113000
DTEND;TZID=America/New_York:20250215T123000
DTSTAMP:20260420T200705
CREATED:20250122T174218Z
LAST-MODIFIED:20260308T170308Z
UID:10049617-1739619000-1739622600@meetings.greysheet.org
SUMMARY:There Is a Solution
DESCRIPTION:This is a closed once a month (4th Saturday of every month) hybrid Literature meeting.  We will be meeting live at the noted above address and we will also be simultaneously utilizing the Zoom platform to stream the live meeting allowing any member with the zoom meeting ID and password to participate in the meeting.   We are currently reading the GSA Living Abstinent from cover to cover. We will be reading from all other GSA and AA conference approved literature in a rotating order. We will be reading from the books; The Big Book of Alcoholics Anonymous\, The 12 steps and 12 traditions of GSA \, The Twelve steps and 12 traditions of Alcoholics Anonymous\, The Living Sober book of AA.  We will reading a chapter or a designated portion of the literature and the floor will be then open up to timed shared from the membership.
URL:https://meetings.greysheet.org/meeting/there-is-a-solution/2025-02-15
LOCATION:Zoom ID: 86027837379, Passcode: Universal, Camera: Required - St. Thomas Aquinas Catholic Church\, 1400 Suther Street\, Charlotte\, NC\, 28213\, United States
CATEGORIES:Hybrid,In Person,Zoom
ATTACH;FMTTYPE=image/svg+xml:https://meetings.greysheet.org/wp-content/uploads/2025/05/hybrid-1.svg
GEO:35.3000742;-80.727974
X-APPLE-STRUCTURED-LOCATION;VALUE=URI;X-ADDRESS=Zoom ID: 86027837379, Passcode: Universal, Camera: Required - St. Thomas Aquinas Catholic Church 1400 Suther Street Charlotte NC 28213 United States;X-APPLE-RADIUS=500;X-TITLE=1400 Suther Street:geo:-80.727974,35.3000742
END:VEVENT
BEGIN:VEVENT
DTSTART;TZID=America/New_York:20250118T113000
DTEND;TZID=America/New_York:20250118T123000
DTSTAMP:20260420T200705
CREATED:20250122T174218Z
LAST-MODIFIED:20260308T170308Z
UID:10002583-1737199800-1737203400@meetings.greysheet.org
SUMMARY:There Is a Solution
DESCRIPTION:This is a closed once a month (4th Saturday of every month) hybrid Literature meeting.  We will be meeting live at the noted above address and we will also be simultaneously utilizing the Zoom platform to stream the live meeting allowing any member with the zoom meeting ID and password to participate in the meeting.   We are currently reading the GSA Living Abstinent from cover to cover. We will be reading from all other GSA and AA conference approved literature in a rotating order. We will be reading from the books; The Big Book of Alcoholics Anonymous\, The 12 steps and 12 traditions of GSA \, The Twelve steps and 12 traditions of Alcoholics Anonymous\, The Living Sober book of AA.  We will reading a chapter or a designated portion of the literature and the floor will be then open up to timed shared from the membership.
URL:https://meetings.greysheet.org/meeting/there-is-a-solution/2025-01-18
LOCATION:Zoom ID: 86027837379, Passcode: Universal, Camera: Required - St. Thomas Aquinas Catholic Church\, 1400 Suther Street\, Charlotte\, NC\, 28213\, United States
CATEGORIES:Hybrid,In Person,Zoom
ATTACH;FMTTYPE=image/svg+xml:https://meetings.greysheet.org/wp-content/uploads/2025/05/hybrid-1.svg
GEO:35.3000742;-80.727974
X-APPLE-STRUCTURED-LOCATION;VALUE=URI;X-ADDRESS=Zoom ID: 86027837379, Passcode: Universal, Camera: Required - St. Thomas Aquinas Catholic Church 1400 Suther Street Charlotte NC 28213 United States;X-APPLE-RADIUS=500;X-TITLE=1400 Suther Street:geo:-80.727974,35.3000742
END:VEVENT
END:VCALENDAR