BEGIN:VCALENDAR
VERSION:2.0
PRODID:-//GreySheeters Anonymous World Services - ECPv6.15.20//NONSGML v1.0//EN
CALSCALE:GREGORIAN
METHOD:PUBLISH
X-ORIGINAL-URL:https://meetings.greysheet.org
X-WR-CALDESC:Events for GreySheeters Anonymous World Services
REFRESH-INTERVAL;VALUE=DURATION:PT1H
X-Robots-Tag:noindex
X-PUBLISHED-TTL:PT1H
BEGIN:VTIMEZONE
TZID:America/Chicago
BEGIN:DAYLIGHT
TZOFFSETFROM:-0600
TZOFFSETTO:-0500
TZNAME:CDT
DTSTART:20250309T080000
END:DAYLIGHT
BEGIN:STANDARD
TZOFFSETFROM:-0500
TZOFFSETTO:-0600
TZNAME:CST
DTSTART:20251102T070000
END:STANDARD
BEGIN:DAYLIGHT
TZOFFSETFROM:-0600
TZOFFSETTO:-0500
TZNAME:CDT
DTSTART:20260308T080000
END:DAYLIGHT
BEGIN:STANDARD
TZOFFSETFROM:-0500
TZOFFSETTO:-0600
TZNAME:CST
DTSTART:20261101T070000
END:STANDARD
BEGIN:DAYLIGHT
TZOFFSETFROM:-0600
TZOFFSETTO:-0500
TZNAME:CDT
DTSTART:20270314T080000
END:DAYLIGHT
BEGIN:STANDARD
TZOFFSETFROM:-0500
TZOFFSETTO:-0600
TZNAME:CST
DTSTART:20271107T070000
END:STANDARD
BEGIN:DAYLIGHT
TZOFFSETFROM:-0600
TZOFFSETTO:-0500
TZNAME:CDT
DTSTART:20280312T080000
END:DAYLIGHT
BEGIN:STANDARD
TZOFFSETFROM:-0500
TZOFFSETTO:-0600
TZNAME:CST
DTSTART:20281105T070000
END:STANDARD
END:VTIMEZONE
BEGIN:VEVENT
DTSTART;TZID=America/Chicago:20260718T090000
DTEND;TZID=America/Chicago:20260718T100000
DTSTAMP:20260424T100755
CREATED:20250122T190501Z
LAST-MODIFIED:20260308T192956Z
UID:10048375-1784365200-1784368800@meetings.greysheet.org
SUMMARY:St. John's Church Chicago
DESCRIPTION:
URL:https://meetings.greysheet.org/meeting/st-johns-church-chicago/2026-07-18
LOCATION:St. John’s Church Chicago\, 3875 North Kostner Avenue\, Chicago\, IL\, 60641\, United States
CATEGORIES:In Person
ATTACH;FMTTYPE=image/svg+xml:https://meetings.greysheet.org/wp-content/uploads/2025/05/map-pin.svg
GEO:41.9516399;-87.7376906
X-APPLE-STRUCTURED-LOCATION;VALUE=URI;X-ADDRESS=St. John’s Church Chicago 3875 North Kostner Avenue Chicago IL 60641 United States;X-APPLE-RADIUS=500;X-TITLE=3875 North Kostner Avenue:geo:-87.7376906,41.9516399
END:VEVENT
BEGIN:VEVENT
DTSTART;TZID=America/Chicago:20260725T090000
DTEND;TZID=America/Chicago:20260725T100000
DTSTAMP:20260424T100755
CREATED:20250122T190501Z
LAST-MODIFIED:20260308T192956Z
UID:10048376-1784970000-1784973600@meetings.greysheet.org
SUMMARY:St. John's Church Chicago
DESCRIPTION:
URL:https://meetings.greysheet.org/meeting/st-johns-church-chicago/2026-07-25
LOCATION:St. John’s Church Chicago\, 3875 North Kostner Avenue\, Chicago\, IL\, 60641\, United States
CATEGORIES:In Person
ATTACH;FMTTYPE=image/svg+xml:https://meetings.greysheet.org/wp-content/uploads/2025/05/map-pin.svg
GEO:41.9516399;-87.7376906
X-APPLE-STRUCTURED-LOCATION;VALUE=URI;X-ADDRESS=St. John’s Church Chicago 3875 North Kostner Avenue Chicago IL 60641 United States;X-APPLE-RADIUS=500;X-TITLE=3875 North Kostner Avenue:geo:-87.7376906,41.9516399
END:VEVENT
BEGIN:VEVENT
DTSTART;TZID=America/Chicago:20260801T090000
DTEND;TZID=America/Chicago:20260801T100000
DTSTAMP:20260424T100755
CREATED:20250122T190501Z
LAST-MODIFIED:20260308T192956Z
UID:10048377-1785574800-1785578400@meetings.greysheet.org
SUMMARY:St. John's Church Chicago
DESCRIPTION:
URL:https://meetings.greysheet.org/meeting/st-johns-church-chicago/2026-08-01
LOCATION:St. John’s Church Chicago\, 3875 North Kostner Avenue\, Chicago\, IL\, 60641\, United States
CATEGORIES:In Person
ATTACH;FMTTYPE=image/svg+xml:https://meetings.greysheet.org/wp-content/uploads/2025/05/map-pin.svg
GEO:41.9516399;-87.7376906
X-APPLE-STRUCTURED-LOCATION;VALUE=URI;X-ADDRESS=St. John’s Church Chicago 3875 North Kostner Avenue Chicago IL 60641 United States;X-APPLE-RADIUS=500;X-TITLE=3875 North Kostner Avenue:geo:-87.7376906,41.9516399
END:VEVENT
BEGIN:VEVENT
DTSTART;TZID=America/Chicago:20260808T090000
DTEND;TZID=America/Chicago:20260808T100000
DTSTAMP:20260424T100755
CREATED:20250122T190501Z
LAST-MODIFIED:20260308T192956Z
UID:10048378-1786179600-1786183200@meetings.greysheet.org
SUMMARY:St. John's Church Chicago
DESCRIPTION:
URL:https://meetings.greysheet.org/meeting/st-johns-church-chicago/2026-08-08
LOCATION:St. John’s Church Chicago\, 3875 North Kostner Avenue\, Chicago\, IL\, 60641\, United States
CATEGORIES:In Person
ATTACH;FMTTYPE=image/svg+xml:https://meetings.greysheet.org/wp-content/uploads/2025/05/map-pin.svg
GEO:41.9516399;-87.7376906
X-APPLE-STRUCTURED-LOCATION;VALUE=URI;X-ADDRESS=St. John’s Church Chicago 3875 North Kostner Avenue Chicago IL 60641 United States;X-APPLE-RADIUS=500;X-TITLE=3875 North Kostner Avenue:geo:-87.7376906,41.9516399
END:VEVENT
BEGIN:VEVENT
DTSTART;TZID=America/Chicago:20260815T090000
DTEND;TZID=America/Chicago:20260815T100000
DTSTAMP:20260424T100755
CREATED:20250122T190501Z
LAST-MODIFIED:20260308T192956Z
UID:10048379-1786784400-1786788000@meetings.greysheet.org
SUMMARY:St. John's Church Chicago
DESCRIPTION:
URL:https://meetings.greysheet.org/meeting/st-johns-church-chicago/2026-08-15
LOCATION:St. John’s Church Chicago\, 3875 North Kostner Avenue\, Chicago\, IL\, 60641\, United States
CATEGORIES:In Person
ATTACH;FMTTYPE=image/svg+xml:https://meetings.greysheet.org/wp-content/uploads/2025/05/map-pin.svg
GEO:41.9516399;-87.7376906
X-APPLE-STRUCTURED-LOCATION;VALUE=URI;X-ADDRESS=St. John’s Church Chicago 3875 North Kostner Avenue Chicago IL 60641 United States;X-APPLE-RADIUS=500;X-TITLE=3875 North Kostner Avenue:geo:-87.7376906,41.9516399
END:VEVENT
BEGIN:VEVENT
DTSTART;TZID=America/Chicago:20260822T090000
DTEND;TZID=America/Chicago:20260822T100000
DTSTAMP:20260424T100755
CREATED:20250122T190501Z
LAST-MODIFIED:20260308T192956Z
UID:10048380-1787389200-1787392800@meetings.greysheet.org
SUMMARY:St. John's Church Chicago
DESCRIPTION:
URL:https://meetings.greysheet.org/meeting/st-johns-church-chicago/2026-08-22
LOCATION:St. John’s Church Chicago\, 3875 North Kostner Avenue\, Chicago\, IL\, 60641\, United States
CATEGORIES:In Person
ATTACH;FMTTYPE=image/svg+xml:https://meetings.greysheet.org/wp-content/uploads/2025/05/map-pin.svg
GEO:41.9516399;-87.7376906
X-APPLE-STRUCTURED-LOCATION;VALUE=URI;X-ADDRESS=St. John’s Church Chicago 3875 North Kostner Avenue Chicago IL 60641 United States;X-APPLE-RADIUS=500;X-TITLE=3875 North Kostner Avenue:geo:-87.7376906,41.9516399
END:VEVENT
BEGIN:VEVENT
DTSTART;TZID=America/Chicago:20260829T090000
DTEND;TZID=America/Chicago:20260829T100000
DTSTAMP:20260424T100755
CREATED:20250122T190501Z
LAST-MODIFIED:20260308T192956Z
UID:10048381-1787994000-1787997600@meetings.greysheet.org
SUMMARY:St. John's Church Chicago
DESCRIPTION:
URL:https://meetings.greysheet.org/meeting/st-johns-church-chicago/2026-08-29
LOCATION:St. John’s Church Chicago\, 3875 North Kostner Avenue\, Chicago\, IL\, 60641\, United States
CATEGORIES:In Person
ATTACH;FMTTYPE=image/svg+xml:https://meetings.greysheet.org/wp-content/uploads/2025/05/map-pin.svg
GEO:41.9516399;-87.7376906
X-APPLE-STRUCTURED-LOCATION;VALUE=URI;X-ADDRESS=St. John’s Church Chicago 3875 North Kostner Avenue Chicago IL 60641 United States;X-APPLE-RADIUS=500;X-TITLE=3875 North Kostner Avenue:geo:-87.7376906,41.9516399
END:VEVENT
BEGIN:VEVENT
DTSTART;TZID=America/Chicago:20260905T090000
DTEND;TZID=America/Chicago:20260905T100000
DTSTAMP:20260424T100755
CREATED:20250122T190501Z
LAST-MODIFIED:20260308T192956Z
UID:10048382-1788598800-1788602400@meetings.greysheet.org
SUMMARY:St. John's Church Chicago
DESCRIPTION:
URL:https://meetings.greysheet.org/meeting/st-johns-church-chicago/2026-09-05
LOCATION:St. John’s Church Chicago\, 3875 North Kostner Avenue\, Chicago\, IL\, 60641\, United States
CATEGORIES:In Person
ATTACH;FMTTYPE=image/svg+xml:https://meetings.greysheet.org/wp-content/uploads/2025/05/map-pin.svg
GEO:41.9516399;-87.7376906
X-APPLE-STRUCTURED-LOCATION;VALUE=URI;X-ADDRESS=St. John’s Church Chicago 3875 North Kostner Avenue Chicago IL 60641 United States;X-APPLE-RADIUS=500;X-TITLE=3875 North Kostner Avenue:geo:-87.7376906,41.9516399
END:VEVENT
BEGIN:VEVENT
DTSTART;TZID=America/Chicago:20260912T090000
DTEND;TZID=America/Chicago:20260912T100000
DTSTAMP:20260424T100755
CREATED:20250122T190501Z
LAST-MODIFIED:20260308T192956Z
UID:10048383-1789203600-1789207200@meetings.greysheet.org
SUMMARY:St. John's Church Chicago
DESCRIPTION:
URL:https://meetings.greysheet.org/meeting/st-johns-church-chicago/2026-09-12
LOCATION:St. John’s Church Chicago\, 3875 North Kostner Avenue\, Chicago\, IL\, 60641\, United States
CATEGORIES:In Person
ATTACH;FMTTYPE=image/svg+xml:https://meetings.greysheet.org/wp-content/uploads/2025/05/map-pin.svg
GEO:41.9516399;-87.7376906
X-APPLE-STRUCTURED-LOCATION;VALUE=URI;X-ADDRESS=St. John’s Church Chicago 3875 North Kostner Avenue Chicago IL 60641 United States;X-APPLE-RADIUS=500;X-TITLE=3875 North Kostner Avenue:geo:-87.7376906,41.9516399
END:VEVENT
BEGIN:VEVENT
DTSTART;TZID=America/Chicago:20260919T090000
DTEND;TZID=America/Chicago:20260919T100000
DTSTAMP:20260424T100755
CREATED:20250122T190501Z
LAST-MODIFIED:20260308T192956Z
UID:10048384-1789808400-1789812000@meetings.greysheet.org
SUMMARY:St. John's Church Chicago
DESCRIPTION:
URL:https://meetings.greysheet.org/meeting/st-johns-church-chicago/2026-09-19
LOCATION:St. John’s Church Chicago\, 3875 North Kostner Avenue\, Chicago\, IL\, 60641\, United States
CATEGORIES:In Person
ATTACH;FMTTYPE=image/svg+xml:https://meetings.greysheet.org/wp-content/uploads/2025/05/map-pin.svg
GEO:41.9516399;-87.7376906
X-APPLE-STRUCTURED-LOCATION;VALUE=URI;X-ADDRESS=St. John’s Church Chicago 3875 North Kostner Avenue Chicago IL 60641 United States;X-APPLE-RADIUS=500;X-TITLE=3875 North Kostner Avenue:geo:-87.7376906,41.9516399
END:VEVENT
BEGIN:VEVENT
DTSTART;TZID=America/Chicago:20260926T090000
DTEND;TZID=America/Chicago:20260926T100000
DTSTAMP:20260424T100755
CREATED:20250122T190501Z
LAST-MODIFIED:20260308T192956Z
UID:10048385-1790413200-1790416800@meetings.greysheet.org
SUMMARY:St. John's Church Chicago
DESCRIPTION:
URL:https://meetings.greysheet.org/meeting/st-johns-church-chicago/2026-09-26
LOCATION:St. John’s Church Chicago\, 3875 North Kostner Avenue\, Chicago\, IL\, 60641\, United States
CATEGORIES:In Person
ATTACH;FMTTYPE=image/svg+xml:https://meetings.greysheet.org/wp-content/uploads/2025/05/map-pin.svg
GEO:41.9516399;-87.7376906
X-APPLE-STRUCTURED-LOCATION;VALUE=URI;X-ADDRESS=St. John’s Church Chicago 3875 North Kostner Avenue Chicago IL 60641 United States;X-APPLE-RADIUS=500;X-TITLE=3875 North Kostner Avenue:geo:-87.7376906,41.9516399
END:VEVENT
BEGIN:VEVENT
DTSTART;TZID=America/Chicago:20261003T090000
DTEND;TZID=America/Chicago:20261003T100000
DTSTAMP:20260424T100755
CREATED:20250122T190501Z
LAST-MODIFIED:20260308T192956Z
UID:10048386-1791018000-1791021600@meetings.greysheet.org
SUMMARY:St. John's Church Chicago
DESCRIPTION:
URL:https://meetings.greysheet.org/meeting/st-johns-church-chicago/2026-10-03
LOCATION:St. John’s Church Chicago\, 3875 North Kostner Avenue\, Chicago\, IL\, 60641\, United States
CATEGORIES:In Person
ATTACH;FMTTYPE=image/svg+xml:https://meetings.greysheet.org/wp-content/uploads/2025/05/map-pin.svg
GEO:41.9516399;-87.7376906
X-APPLE-STRUCTURED-LOCATION;VALUE=URI;X-ADDRESS=St. John’s Church Chicago 3875 North Kostner Avenue Chicago IL 60641 United States;X-APPLE-RADIUS=500;X-TITLE=3875 North Kostner Avenue:geo:-87.7376906,41.9516399
END:VEVENT
BEGIN:VEVENT
DTSTART;TZID=America/Chicago:20261010T090000
DTEND;TZID=America/Chicago:20261010T100000
DTSTAMP:20260424T100755
CREATED:20250122T190501Z
LAST-MODIFIED:20260308T192956Z
UID:10048387-1791622800-1791626400@meetings.greysheet.org
SUMMARY:St. John's Church Chicago
DESCRIPTION:
URL:https://meetings.greysheet.org/meeting/st-johns-church-chicago/2026-10-10
LOCATION:St. John’s Church Chicago\, 3875 North Kostner Avenue\, Chicago\, IL\, 60641\, United States
CATEGORIES:In Person
ATTACH;FMTTYPE=image/svg+xml:https://meetings.greysheet.org/wp-content/uploads/2025/05/map-pin.svg
GEO:41.9516399;-87.7376906
X-APPLE-STRUCTURED-LOCATION;VALUE=URI;X-ADDRESS=St. John’s Church Chicago 3875 North Kostner Avenue Chicago IL 60641 United States;X-APPLE-RADIUS=500;X-TITLE=3875 North Kostner Avenue:geo:-87.7376906,41.9516399
END:VEVENT
BEGIN:VEVENT
DTSTART;TZID=America/Chicago:20261017T090000
DTEND;TZID=America/Chicago:20261017T100000
DTSTAMP:20260424T100755
CREATED:20250122T190501Z
LAST-MODIFIED:20260308T192956Z
UID:10048388-1792227600-1792231200@meetings.greysheet.org
SUMMARY:St. John's Church Chicago
DESCRIPTION:
URL:https://meetings.greysheet.org/meeting/st-johns-church-chicago/2026-10-17
LOCATION:St. John’s Church Chicago\, 3875 North Kostner Avenue\, Chicago\, IL\, 60641\, United States
CATEGORIES:In Person
ATTACH;FMTTYPE=image/svg+xml:https://meetings.greysheet.org/wp-content/uploads/2025/05/map-pin.svg
GEO:41.9516399;-87.7376906
X-APPLE-STRUCTURED-LOCATION;VALUE=URI;X-ADDRESS=St. John’s Church Chicago 3875 North Kostner Avenue Chicago IL 60641 United States;X-APPLE-RADIUS=500;X-TITLE=3875 North Kostner Avenue:geo:-87.7376906,41.9516399
END:VEVENT
BEGIN:VEVENT
DTSTART;TZID=America/Chicago:20261024T090000
DTEND;TZID=America/Chicago:20261024T100000
DTSTAMP:20260424T100755
CREATED:20250122T190501Z
LAST-MODIFIED:20260308T192956Z
UID:10048389-1792832400-1792836000@meetings.greysheet.org
SUMMARY:St. John's Church Chicago
DESCRIPTION:
URL:https://meetings.greysheet.org/meeting/st-johns-church-chicago/2026-10-24
LOCATION:St. John’s Church Chicago\, 3875 North Kostner Avenue\, Chicago\, IL\, 60641\, United States
CATEGORIES:In Person
ATTACH;FMTTYPE=image/svg+xml:https://meetings.greysheet.org/wp-content/uploads/2025/05/map-pin.svg
GEO:41.9516399;-87.7376906
X-APPLE-STRUCTURED-LOCATION;VALUE=URI;X-ADDRESS=St. John’s Church Chicago 3875 North Kostner Avenue Chicago IL 60641 United States;X-APPLE-RADIUS=500;X-TITLE=3875 North Kostner Avenue:geo:-87.7376906,41.9516399
END:VEVENT
BEGIN:VEVENT
DTSTART;TZID=America/Chicago:20261031T090000
DTEND;TZID=America/Chicago:20261031T100000
DTSTAMP:20260424T100755
CREATED:20250122T190501Z
LAST-MODIFIED:20260308T192956Z
UID:10048390-1793437200-1793440800@meetings.greysheet.org
SUMMARY:St. John's Church Chicago
DESCRIPTION:
URL:https://meetings.greysheet.org/meeting/st-johns-church-chicago/2026-10-31
LOCATION:St. John’s Church Chicago\, 3875 North Kostner Avenue\, Chicago\, IL\, 60641\, United States
CATEGORIES:In Person
ATTACH;FMTTYPE=image/svg+xml:https://meetings.greysheet.org/wp-content/uploads/2025/05/map-pin.svg
GEO:41.9516399;-87.7376906
X-APPLE-STRUCTURED-LOCATION;VALUE=URI;X-ADDRESS=St. John’s Church Chicago 3875 North Kostner Avenue Chicago IL 60641 United States;X-APPLE-RADIUS=500;X-TITLE=3875 North Kostner Avenue:geo:-87.7376906,41.9516399
END:VEVENT
BEGIN:VEVENT
DTSTART;TZID=America/Chicago:20261107T090000
DTEND;TZID=America/Chicago:20261107T100000
DTSTAMP:20260424T100755
CREATED:20250122T190501Z
LAST-MODIFIED:20260308T192956Z
UID:10048391-1794042000-1794045600@meetings.greysheet.org
SUMMARY:St. John's Church Chicago
DESCRIPTION:
URL:https://meetings.greysheet.org/meeting/st-johns-church-chicago/2026-11-07
LOCATION:St. John’s Church Chicago\, 3875 North Kostner Avenue\, Chicago\, IL\, 60641\, United States
CATEGORIES:In Person
ATTACH;FMTTYPE=image/svg+xml:https://meetings.greysheet.org/wp-content/uploads/2025/05/map-pin.svg
GEO:41.9516399;-87.7376906
X-APPLE-STRUCTURED-LOCATION;VALUE=URI;X-ADDRESS=St. John’s Church Chicago 3875 North Kostner Avenue Chicago IL 60641 United States;X-APPLE-RADIUS=500;X-TITLE=3875 North Kostner Avenue:geo:-87.7376906,41.9516399
END:VEVENT
BEGIN:VEVENT
DTSTART;TZID=America/Chicago:20261114T090000
DTEND;TZID=America/Chicago:20261114T100000
DTSTAMP:20260424T100755
CREATED:20250122T190501Z
LAST-MODIFIED:20260308T192956Z
UID:10048392-1794646800-1794650400@meetings.greysheet.org
SUMMARY:St. John's Church Chicago
DESCRIPTION:
URL:https://meetings.greysheet.org/meeting/st-johns-church-chicago/2026-11-14
LOCATION:St. John’s Church Chicago\, 3875 North Kostner Avenue\, Chicago\, IL\, 60641\, United States
CATEGORIES:In Person
ATTACH;FMTTYPE=image/svg+xml:https://meetings.greysheet.org/wp-content/uploads/2025/05/map-pin.svg
GEO:41.9516399;-87.7376906
X-APPLE-STRUCTURED-LOCATION;VALUE=URI;X-ADDRESS=St. John’s Church Chicago 3875 North Kostner Avenue Chicago IL 60641 United States;X-APPLE-RADIUS=500;X-TITLE=3875 North Kostner Avenue:geo:-87.7376906,41.9516399
END:VEVENT
BEGIN:VEVENT
DTSTART;TZID=America/Chicago:20261121T090000
DTEND;TZID=America/Chicago:20261121T100000
DTSTAMP:20260424T100755
CREATED:20250122T190501Z
LAST-MODIFIED:20260308T192956Z
UID:10048393-1795251600-1795255200@meetings.greysheet.org
SUMMARY:St. John's Church Chicago
DESCRIPTION:
URL:https://meetings.greysheet.org/meeting/st-johns-church-chicago/2026-11-21
LOCATION:St. John’s Church Chicago\, 3875 North Kostner Avenue\, Chicago\, IL\, 60641\, United States
CATEGORIES:In Person
ATTACH;FMTTYPE=image/svg+xml:https://meetings.greysheet.org/wp-content/uploads/2025/05/map-pin.svg
GEO:41.9516399;-87.7376906
X-APPLE-STRUCTURED-LOCATION;VALUE=URI;X-ADDRESS=St. John’s Church Chicago 3875 North Kostner Avenue Chicago IL 60641 United States;X-APPLE-RADIUS=500;X-TITLE=3875 North Kostner Avenue:geo:-87.7376906,41.9516399
END:VEVENT
BEGIN:VEVENT
DTSTART;TZID=America/Chicago:20261128T090000
DTEND;TZID=America/Chicago:20261128T100000
DTSTAMP:20260424T100755
CREATED:20250122T190501Z
LAST-MODIFIED:20260308T192956Z
UID:10048394-1795856400-1795860000@meetings.greysheet.org
SUMMARY:St. John's Church Chicago
DESCRIPTION:
URL:https://meetings.greysheet.org/meeting/st-johns-church-chicago/2026-11-28
LOCATION:St. John’s Church Chicago\, 3875 North Kostner Avenue\, Chicago\, IL\, 60641\, United States
CATEGORIES:In Person
ATTACH;FMTTYPE=image/svg+xml:https://meetings.greysheet.org/wp-content/uploads/2025/05/map-pin.svg
GEO:41.9516399;-87.7376906
X-APPLE-STRUCTURED-LOCATION;VALUE=URI;X-ADDRESS=St. John’s Church Chicago 3875 North Kostner Avenue Chicago IL 60641 United States;X-APPLE-RADIUS=500;X-TITLE=3875 North Kostner Avenue:geo:-87.7376906,41.9516399
END:VEVENT
BEGIN:VEVENT
DTSTART;TZID=America/Chicago:20261205T090000
DTEND;TZID=America/Chicago:20261205T100000
DTSTAMP:20260424T100755
CREATED:20250122T190501Z
LAST-MODIFIED:20260308T192956Z
UID:10048395-1796461200-1796464800@meetings.greysheet.org
SUMMARY:St. John's Church Chicago
DESCRIPTION:
URL:https://meetings.greysheet.org/meeting/st-johns-church-chicago/2026-12-05
LOCATION:St. John’s Church Chicago\, 3875 North Kostner Avenue\, Chicago\, IL\, 60641\, United States
CATEGORIES:In Person
ATTACH;FMTTYPE=image/svg+xml:https://meetings.greysheet.org/wp-content/uploads/2025/05/map-pin.svg
GEO:41.9516399;-87.7376906
X-APPLE-STRUCTURED-LOCATION;VALUE=URI;X-ADDRESS=St. John’s Church Chicago 3875 North Kostner Avenue Chicago IL 60641 United States;X-APPLE-RADIUS=500;X-TITLE=3875 North Kostner Avenue:geo:-87.7376906,41.9516399
END:VEVENT
BEGIN:VEVENT
DTSTART;TZID=America/Chicago:20261212T090000
DTEND;TZID=America/Chicago:20261212T100000
DTSTAMP:20260424T100755
CREATED:20250122T190501Z
LAST-MODIFIED:20260308T192956Z
UID:10048396-1797066000-1797069600@meetings.greysheet.org
SUMMARY:St. John's Church Chicago
DESCRIPTION:
URL:https://meetings.greysheet.org/meeting/st-johns-church-chicago/2026-12-12
LOCATION:St. John’s Church Chicago\, 3875 North Kostner Avenue\, Chicago\, IL\, 60641\, United States
CATEGORIES:In Person
ATTACH;FMTTYPE=image/svg+xml:https://meetings.greysheet.org/wp-content/uploads/2025/05/map-pin.svg
GEO:41.9516399;-87.7376906
X-APPLE-STRUCTURED-LOCATION;VALUE=URI;X-ADDRESS=St. John’s Church Chicago 3875 North Kostner Avenue Chicago IL 60641 United States;X-APPLE-RADIUS=500;X-TITLE=3875 North Kostner Avenue:geo:-87.7376906,41.9516399
END:VEVENT
BEGIN:VEVENT
DTSTART;TZID=America/Chicago:20261219T090000
DTEND;TZID=America/Chicago:20261219T100000
DTSTAMP:20260424T100755
CREATED:20250122T190501Z
LAST-MODIFIED:20260308T192956Z
UID:10048397-1797670800-1797674400@meetings.greysheet.org
SUMMARY:St. John's Church Chicago
DESCRIPTION:
URL:https://meetings.greysheet.org/meeting/st-johns-church-chicago/2026-12-19
LOCATION:St. John’s Church Chicago\, 3875 North Kostner Avenue\, Chicago\, IL\, 60641\, United States
CATEGORIES:In Person
ATTACH;FMTTYPE=image/svg+xml:https://meetings.greysheet.org/wp-content/uploads/2025/05/map-pin.svg
GEO:41.9516399;-87.7376906
X-APPLE-STRUCTURED-LOCATION;VALUE=URI;X-ADDRESS=St. John’s Church Chicago 3875 North Kostner Avenue Chicago IL 60641 United States;X-APPLE-RADIUS=500;X-TITLE=3875 North Kostner Avenue:geo:-87.7376906,41.9516399
END:VEVENT
BEGIN:VEVENT
DTSTART;TZID=America/Chicago:20261226T090000
DTEND;TZID=America/Chicago:20261226T100000
DTSTAMP:20260424T100755
CREATED:20250122T190501Z
LAST-MODIFIED:20260308T192956Z
UID:10048398-1798275600-1798279200@meetings.greysheet.org
SUMMARY:St. John's Church Chicago
DESCRIPTION:
URL:https://meetings.greysheet.org/meeting/st-johns-church-chicago/2026-12-26
LOCATION:St. John’s Church Chicago\, 3875 North Kostner Avenue\, Chicago\, IL\, 60641\, United States
CATEGORIES:In Person
ATTACH;FMTTYPE=image/svg+xml:https://meetings.greysheet.org/wp-content/uploads/2025/05/map-pin.svg
GEO:41.9516399;-87.7376906
X-APPLE-STRUCTURED-LOCATION;VALUE=URI;X-ADDRESS=St. John’s Church Chicago 3875 North Kostner Avenue Chicago IL 60641 United States;X-APPLE-RADIUS=500;X-TITLE=3875 North Kostner Avenue:geo:-87.7376906,41.9516399
END:VEVENT
BEGIN:VEVENT
DTSTART;TZID=America/Chicago:20270102T090000
DTEND;TZID=America/Chicago:20270102T100000
DTSTAMP:20260424T100755
CREATED:20250122T190501Z
LAST-MODIFIED:20260308T192956Z
UID:10048399-1798880400-1798884000@meetings.greysheet.org
SUMMARY:St. John's Church Chicago
DESCRIPTION:
URL:https://meetings.greysheet.org/meeting/st-johns-church-chicago/2027-01-02
LOCATION:St. John’s Church Chicago\, 3875 North Kostner Avenue\, Chicago\, IL\, 60641\, United States
CATEGORIES:In Person
ATTACH;FMTTYPE=image/svg+xml:https://meetings.greysheet.org/wp-content/uploads/2025/05/map-pin.svg
GEO:41.9516399;-87.7376906
X-APPLE-STRUCTURED-LOCATION;VALUE=URI;X-ADDRESS=St. John’s Church Chicago 3875 North Kostner Avenue Chicago IL 60641 United States;X-APPLE-RADIUS=500;X-TITLE=3875 North Kostner Avenue:geo:-87.7376906,41.9516399
END:VEVENT
BEGIN:VEVENT
DTSTART;TZID=America/Chicago:20270109T090000
DTEND;TZID=America/Chicago:20270109T100000
DTSTAMP:20260424T100755
CREATED:20250122T190501Z
LAST-MODIFIED:20260308T192956Z
UID:10048400-1799485200-1799488800@meetings.greysheet.org
SUMMARY:St. John's Church Chicago
DESCRIPTION:
URL:https://meetings.greysheet.org/meeting/st-johns-church-chicago/2027-01-09
LOCATION:St. John’s Church Chicago\, 3875 North Kostner Avenue\, Chicago\, IL\, 60641\, United States
CATEGORIES:In Person
ATTACH;FMTTYPE=image/svg+xml:https://meetings.greysheet.org/wp-content/uploads/2025/05/map-pin.svg
GEO:41.9516399;-87.7376906
X-APPLE-STRUCTURED-LOCATION;VALUE=URI;X-ADDRESS=St. John’s Church Chicago 3875 North Kostner Avenue Chicago IL 60641 United States;X-APPLE-RADIUS=500;X-TITLE=3875 North Kostner Avenue:geo:-87.7376906,41.9516399
END:VEVENT
BEGIN:VEVENT
DTSTART;TZID=America/Chicago:20270116T090000
DTEND;TZID=America/Chicago:20270116T100000
DTSTAMP:20260424T100755
CREATED:20250122T190501Z
LAST-MODIFIED:20260308T192956Z
UID:10048401-1800090000-1800093600@meetings.greysheet.org
SUMMARY:St. John's Church Chicago
DESCRIPTION:
URL:https://meetings.greysheet.org/meeting/st-johns-church-chicago/2027-01-16
LOCATION:St. John’s Church Chicago\, 3875 North Kostner Avenue\, Chicago\, IL\, 60641\, United States
CATEGORIES:In Person
ATTACH;FMTTYPE=image/svg+xml:https://meetings.greysheet.org/wp-content/uploads/2025/05/map-pin.svg
GEO:41.9516399;-87.7376906
X-APPLE-STRUCTURED-LOCATION;VALUE=URI;X-ADDRESS=St. John’s Church Chicago 3875 North Kostner Avenue Chicago IL 60641 United States;X-APPLE-RADIUS=500;X-TITLE=3875 North Kostner Avenue:geo:-87.7376906,41.9516399
END:VEVENT
BEGIN:VEVENT
DTSTART;TZID=America/Chicago:20270123T090000
DTEND;TZID=America/Chicago:20270123T100000
DTSTAMP:20260424T100755
CREATED:20250122T190501Z
LAST-MODIFIED:20260308T192956Z
UID:10048402-1800694800-1800698400@meetings.greysheet.org
SUMMARY:St. John's Church Chicago
DESCRIPTION:
URL:https://meetings.greysheet.org/meeting/st-johns-church-chicago/2027-01-23
LOCATION:St. John’s Church Chicago\, 3875 North Kostner Avenue\, Chicago\, IL\, 60641\, United States
CATEGORIES:In Person
ATTACH;FMTTYPE=image/svg+xml:https://meetings.greysheet.org/wp-content/uploads/2025/05/map-pin.svg
GEO:41.9516399;-87.7376906
X-APPLE-STRUCTURED-LOCATION;VALUE=URI;X-ADDRESS=St. John’s Church Chicago 3875 North Kostner Avenue Chicago IL 60641 United States;X-APPLE-RADIUS=500;X-TITLE=3875 North Kostner Avenue:geo:-87.7376906,41.9516399
END:VEVENT
BEGIN:VEVENT
DTSTART;TZID=America/Chicago:20270130T090000
DTEND;TZID=America/Chicago:20270130T100000
DTSTAMP:20260424T100755
CREATED:20250122T190501Z
LAST-MODIFIED:20260308T192956Z
UID:10048403-1801299600-1801303200@meetings.greysheet.org
SUMMARY:St. John's Church Chicago
DESCRIPTION:
URL:https://meetings.greysheet.org/meeting/st-johns-church-chicago/2027-01-30
LOCATION:St. John’s Church Chicago\, 3875 North Kostner Avenue\, Chicago\, IL\, 60641\, United States
CATEGORIES:In Person
ATTACH;FMTTYPE=image/svg+xml:https://meetings.greysheet.org/wp-content/uploads/2025/05/map-pin.svg
GEO:41.9516399;-87.7376906
X-APPLE-STRUCTURED-LOCATION;VALUE=URI;X-ADDRESS=St. John’s Church Chicago 3875 North Kostner Avenue Chicago IL 60641 United States;X-APPLE-RADIUS=500;X-TITLE=3875 North Kostner Avenue:geo:-87.7376906,41.9516399
END:VEVENT
BEGIN:VEVENT
DTSTART;TZID=America/Chicago:20270206T090000
DTEND;TZID=America/Chicago:20270206T100000
DTSTAMP:20260424T100755
CREATED:20250122T190501Z
LAST-MODIFIED:20260308T192956Z
UID:10048404-1801904400-1801908000@meetings.greysheet.org
SUMMARY:St. John's Church Chicago
DESCRIPTION:
URL:https://meetings.greysheet.org/meeting/st-johns-church-chicago/2027-02-06
LOCATION:St. John’s Church Chicago\, 3875 North Kostner Avenue\, Chicago\, IL\, 60641\, United States
CATEGORIES:In Person
ATTACH;FMTTYPE=image/svg+xml:https://meetings.greysheet.org/wp-content/uploads/2025/05/map-pin.svg
GEO:41.9516399;-87.7376906
X-APPLE-STRUCTURED-LOCATION;VALUE=URI;X-ADDRESS=St. John’s Church Chicago 3875 North Kostner Avenue Chicago IL 60641 United States;X-APPLE-RADIUS=500;X-TITLE=3875 North Kostner Avenue:geo:-87.7376906,41.9516399
END:VEVENT
END:VCALENDAR