BEGIN:VCALENDAR
VERSION:2.0
PRODID:-//GreySheeters Anonymous World Services - ECPv6.15.20//NONSGML v1.0//EN
CALSCALE:GREGORIAN
METHOD:PUBLISH
X-WR-CALNAME:GreySheeters Anonymous World Services
X-ORIGINAL-URL:https://meetings.greysheet.org
X-WR-CALDESC:Events for GreySheeters Anonymous World Services
REFRESH-INTERVAL;VALUE=DURATION:PT1H
X-Robots-Tag:noindex
X-PUBLISHED-TTL:PT1H
BEGIN:VTIMEZONE
TZID:America/New_York
BEGIN:DAYLIGHT
TZOFFSETFROM:-0500
TZOFFSETTO:-0400
TZNAME:EDT
DTSTART:20250309T070000
END:DAYLIGHT
BEGIN:STANDARD
TZOFFSETFROM:-0400
TZOFFSETTO:-0500
TZNAME:EST
DTSTART:20251102T060000
END:STANDARD
BEGIN:DAYLIGHT
TZOFFSETFROM:-0500
TZOFFSETTO:-0400
TZNAME:EDT
DTSTART:20260308T070000
END:DAYLIGHT
BEGIN:STANDARD
TZOFFSETFROM:-0400
TZOFFSETTO:-0500
TZNAME:EST
DTSTART:20261101T060000
END:STANDARD
BEGIN:DAYLIGHT
TZOFFSETFROM:-0500
TZOFFSETTO:-0400
TZNAME:EDT
DTSTART:20270314T070000
END:DAYLIGHT
BEGIN:STANDARD
TZOFFSETFROM:-0400
TZOFFSETTO:-0500
TZNAME:EST
DTSTART:20271107T060000
END:STANDARD
BEGIN:DAYLIGHT
TZOFFSETFROM:-0500
TZOFFSETTO:-0400
TZNAME:EDT
DTSTART:20280312T070000
END:DAYLIGHT
BEGIN:STANDARD
TZOFFSETFROM:-0400
TZOFFSETTO:-0500
TZNAME:EST
DTSTART:20281105T060000
END:STANDARD
END:VTIMEZONE
BEGIN:VEVENT
DTSTART;TZID=America/New_York:20260722T170000
DTEND;TZID=America/New_York:20260722T180000
DTSTAMP:20260423T121340
CREATED:20260212T184946Z
LAST-MODIFIED:20260306T211202Z
UID:10064460-1784739600-1784743200@meetings.greysheet.org
SUMMARY:Freedom Club Queens North
DESCRIPTION:
URL:https://meetings.greysheet.org/meeting/freedom-club-queens-north-2/2026-07-22
LOCATION:Shelter Rock Church\, 214-41 40th Ave\, Bayside\, NY\, 11361\, United States
CATEGORIES:In Person
ATTACH;FMTTYPE=image/svg+xml:https://meetings.greysheet.org/wp-content/uploads/2025/05/map-pin.svg
GEO:40.7648174;-73.7690242
X-APPLE-STRUCTURED-LOCATION;VALUE=URI;X-ADDRESS=Shelter Rock Church 214-41 40th Ave Bayside NY 11361 United States;X-APPLE-RADIUS=500;X-TITLE=214-41 40th Ave:geo:-73.7690242,40.7648174
END:VEVENT
BEGIN:VEVENT
DTSTART;TZID=America/New_York:20260729T170000
DTEND;TZID=America/New_York:20260729T180000
DTSTAMP:20260423T121340
CREATED:20260212T184946Z
LAST-MODIFIED:20260306T211202Z
UID:10064461-1785344400-1785348000@meetings.greysheet.org
SUMMARY:Freedom Club Queens North
DESCRIPTION:
URL:https://meetings.greysheet.org/meeting/freedom-club-queens-north-2/2026-07-29
LOCATION:Shelter Rock Church\, 214-41 40th Ave\, Bayside\, NY\, 11361\, United States
CATEGORIES:In Person
ATTACH;FMTTYPE=image/svg+xml:https://meetings.greysheet.org/wp-content/uploads/2025/05/map-pin.svg
GEO:40.7648174;-73.7690242
X-APPLE-STRUCTURED-LOCATION;VALUE=URI;X-ADDRESS=Shelter Rock Church 214-41 40th Ave Bayside NY 11361 United States;X-APPLE-RADIUS=500;X-TITLE=214-41 40th Ave:geo:-73.7690242,40.7648174
END:VEVENT
BEGIN:VEVENT
DTSTART;TZID=America/New_York:20260805T170000
DTEND;TZID=America/New_York:20260805T180000
DTSTAMP:20260423T121340
CREATED:20260212T184946Z
LAST-MODIFIED:20260306T211202Z
UID:10064462-1785949200-1785952800@meetings.greysheet.org
SUMMARY:Freedom Club Queens North
DESCRIPTION:
URL:https://meetings.greysheet.org/meeting/freedom-club-queens-north-2/2026-08-05
LOCATION:Shelter Rock Church\, 214-41 40th Ave\, Bayside\, NY\, 11361\, United States
CATEGORIES:In Person
ATTACH;FMTTYPE=image/svg+xml:https://meetings.greysheet.org/wp-content/uploads/2025/05/map-pin.svg
GEO:40.7648174;-73.7690242
X-APPLE-STRUCTURED-LOCATION;VALUE=URI;X-ADDRESS=Shelter Rock Church 214-41 40th Ave Bayside NY 11361 United States;X-APPLE-RADIUS=500;X-TITLE=214-41 40th Ave:geo:-73.7690242,40.7648174
END:VEVENT
BEGIN:VEVENT
DTSTART;TZID=America/New_York:20260812T170000
DTEND;TZID=America/New_York:20260812T180000
DTSTAMP:20260423T121340
CREATED:20260212T184946Z
LAST-MODIFIED:20260306T211202Z
UID:10064463-1786554000-1786557600@meetings.greysheet.org
SUMMARY:Freedom Club Queens North
DESCRIPTION:
URL:https://meetings.greysheet.org/meeting/freedom-club-queens-north-2/2026-08-12
LOCATION:Shelter Rock Church\, 214-41 40th Ave\, Bayside\, NY\, 11361\, United States
CATEGORIES:In Person
ATTACH;FMTTYPE=image/svg+xml:https://meetings.greysheet.org/wp-content/uploads/2025/05/map-pin.svg
GEO:40.7648174;-73.7690242
X-APPLE-STRUCTURED-LOCATION;VALUE=URI;X-ADDRESS=Shelter Rock Church 214-41 40th Ave Bayside NY 11361 United States;X-APPLE-RADIUS=500;X-TITLE=214-41 40th Ave:geo:-73.7690242,40.7648174
END:VEVENT
BEGIN:VEVENT
DTSTART;TZID=America/New_York:20260819T170000
DTEND;TZID=America/New_York:20260819T180000
DTSTAMP:20260423T121340
CREATED:20260212T184946Z
LAST-MODIFIED:20260306T211202Z
UID:10064464-1787158800-1787162400@meetings.greysheet.org
SUMMARY:Freedom Club Queens North
DESCRIPTION:
URL:https://meetings.greysheet.org/meeting/freedom-club-queens-north-2/2026-08-19
LOCATION:Shelter Rock Church\, 214-41 40th Ave\, Bayside\, NY\, 11361\, United States
CATEGORIES:In Person
ATTACH;FMTTYPE=image/svg+xml:https://meetings.greysheet.org/wp-content/uploads/2025/05/map-pin.svg
GEO:40.7648174;-73.7690242
X-APPLE-STRUCTURED-LOCATION;VALUE=URI;X-ADDRESS=Shelter Rock Church 214-41 40th Ave Bayside NY 11361 United States;X-APPLE-RADIUS=500;X-TITLE=214-41 40th Ave:geo:-73.7690242,40.7648174
END:VEVENT
BEGIN:VEVENT
DTSTART;TZID=America/New_York:20260826T170000
DTEND;TZID=America/New_York:20260826T180000
DTSTAMP:20260423T121340
CREATED:20260212T184946Z
LAST-MODIFIED:20260306T211202Z
UID:10064465-1787763600-1787767200@meetings.greysheet.org
SUMMARY:Freedom Club Queens North
DESCRIPTION:
URL:https://meetings.greysheet.org/meeting/freedom-club-queens-north-2/2026-08-26
LOCATION:Shelter Rock Church\, 214-41 40th Ave\, Bayside\, NY\, 11361\, United States
CATEGORIES:In Person
ATTACH;FMTTYPE=image/svg+xml:https://meetings.greysheet.org/wp-content/uploads/2025/05/map-pin.svg
GEO:40.7648174;-73.7690242
X-APPLE-STRUCTURED-LOCATION;VALUE=URI;X-ADDRESS=Shelter Rock Church 214-41 40th Ave Bayside NY 11361 United States;X-APPLE-RADIUS=500;X-TITLE=214-41 40th Ave:geo:-73.7690242,40.7648174
END:VEVENT
BEGIN:VEVENT
DTSTART;TZID=America/New_York:20260902T170000
DTEND;TZID=America/New_York:20260902T180000
DTSTAMP:20260423T121340
CREATED:20260212T184946Z
LAST-MODIFIED:20260306T211202Z
UID:10064466-1788368400-1788372000@meetings.greysheet.org
SUMMARY:Freedom Club Queens North
DESCRIPTION:
URL:https://meetings.greysheet.org/meeting/freedom-club-queens-north-2/2026-09-02
LOCATION:Shelter Rock Church\, 214-41 40th Ave\, Bayside\, NY\, 11361\, United States
CATEGORIES:In Person
ATTACH;FMTTYPE=image/svg+xml:https://meetings.greysheet.org/wp-content/uploads/2025/05/map-pin.svg
GEO:40.7648174;-73.7690242
X-APPLE-STRUCTURED-LOCATION;VALUE=URI;X-ADDRESS=Shelter Rock Church 214-41 40th Ave Bayside NY 11361 United States;X-APPLE-RADIUS=500;X-TITLE=214-41 40th Ave:geo:-73.7690242,40.7648174
END:VEVENT
BEGIN:VEVENT
DTSTART;TZID=America/New_York:20260909T170000
DTEND;TZID=America/New_York:20260909T180000
DTSTAMP:20260423T121340
CREATED:20260212T184946Z
LAST-MODIFIED:20260306T211202Z
UID:10064467-1788973200-1788976800@meetings.greysheet.org
SUMMARY:Freedom Club Queens North
DESCRIPTION:
URL:https://meetings.greysheet.org/meeting/freedom-club-queens-north-2/2026-09-09
LOCATION:Shelter Rock Church\, 214-41 40th Ave\, Bayside\, NY\, 11361\, United States
CATEGORIES:In Person
ATTACH;FMTTYPE=image/svg+xml:https://meetings.greysheet.org/wp-content/uploads/2025/05/map-pin.svg
GEO:40.7648174;-73.7690242
X-APPLE-STRUCTURED-LOCATION;VALUE=URI;X-ADDRESS=Shelter Rock Church 214-41 40th Ave Bayside NY 11361 United States;X-APPLE-RADIUS=500;X-TITLE=214-41 40th Ave:geo:-73.7690242,40.7648174
END:VEVENT
BEGIN:VEVENT
DTSTART;TZID=America/New_York:20260916T170000
DTEND;TZID=America/New_York:20260916T180000
DTSTAMP:20260423T121340
CREATED:20260212T184946Z
LAST-MODIFIED:20260306T211202Z
UID:10064468-1789578000-1789581600@meetings.greysheet.org
SUMMARY:Freedom Club Queens North
DESCRIPTION:
URL:https://meetings.greysheet.org/meeting/freedom-club-queens-north-2/2026-09-16
LOCATION:Shelter Rock Church\, 214-41 40th Ave\, Bayside\, NY\, 11361\, United States
CATEGORIES:In Person
ATTACH;FMTTYPE=image/svg+xml:https://meetings.greysheet.org/wp-content/uploads/2025/05/map-pin.svg
GEO:40.7648174;-73.7690242
X-APPLE-STRUCTURED-LOCATION;VALUE=URI;X-ADDRESS=Shelter Rock Church 214-41 40th Ave Bayside NY 11361 United States;X-APPLE-RADIUS=500;X-TITLE=214-41 40th Ave:geo:-73.7690242,40.7648174
END:VEVENT
BEGIN:VEVENT
DTSTART;TZID=America/New_York:20260923T170000
DTEND;TZID=America/New_York:20260923T180000
DTSTAMP:20260423T121340
CREATED:20260212T184946Z
LAST-MODIFIED:20260306T211202Z
UID:10064469-1790182800-1790186400@meetings.greysheet.org
SUMMARY:Freedom Club Queens North
DESCRIPTION:
URL:https://meetings.greysheet.org/meeting/freedom-club-queens-north-2/2026-09-23
LOCATION:Shelter Rock Church\, 214-41 40th Ave\, Bayside\, NY\, 11361\, United States
CATEGORIES:In Person
ATTACH;FMTTYPE=image/svg+xml:https://meetings.greysheet.org/wp-content/uploads/2025/05/map-pin.svg
GEO:40.7648174;-73.7690242
X-APPLE-STRUCTURED-LOCATION;VALUE=URI;X-ADDRESS=Shelter Rock Church 214-41 40th Ave Bayside NY 11361 United States;X-APPLE-RADIUS=500;X-TITLE=214-41 40th Ave:geo:-73.7690242,40.7648174
END:VEVENT
BEGIN:VEVENT
DTSTART;TZID=America/New_York:20260930T170000
DTEND;TZID=America/New_York:20260930T180000
DTSTAMP:20260423T121340
CREATED:20260212T184946Z
LAST-MODIFIED:20260306T211202Z
UID:10064470-1790787600-1790791200@meetings.greysheet.org
SUMMARY:Freedom Club Queens North
DESCRIPTION:
URL:https://meetings.greysheet.org/meeting/freedom-club-queens-north-2/2026-09-30
LOCATION:Shelter Rock Church\, 214-41 40th Ave\, Bayside\, NY\, 11361\, United States
CATEGORIES:In Person
ATTACH;FMTTYPE=image/svg+xml:https://meetings.greysheet.org/wp-content/uploads/2025/05/map-pin.svg
GEO:40.7648174;-73.7690242
X-APPLE-STRUCTURED-LOCATION;VALUE=URI;X-ADDRESS=Shelter Rock Church 214-41 40th Ave Bayside NY 11361 United States;X-APPLE-RADIUS=500;X-TITLE=214-41 40th Ave:geo:-73.7690242,40.7648174
END:VEVENT
BEGIN:VEVENT
DTSTART;TZID=America/New_York:20261007T170000
DTEND;TZID=America/New_York:20261007T180000
DTSTAMP:20260423T121340
CREATED:20260212T184946Z
LAST-MODIFIED:20260306T211202Z
UID:10064471-1791392400-1791396000@meetings.greysheet.org
SUMMARY:Freedom Club Queens North
DESCRIPTION:
URL:https://meetings.greysheet.org/meeting/freedom-club-queens-north-2/2026-10-07
LOCATION:Shelter Rock Church\, 214-41 40th Ave\, Bayside\, NY\, 11361\, United States
CATEGORIES:In Person
ATTACH;FMTTYPE=image/svg+xml:https://meetings.greysheet.org/wp-content/uploads/2025/05/map-pin.svg
GEO:40.7648174;-73.7690242
X-APPLE-STRUCTURED-LOCATION;VALUE=URI;X-ADDRESS=Shelter Rock Church 214-41 40th Ave Bayside NY 11361 United States;X-APPLE-RADIUS=500;X-TITLE=214-41 40th Ave:geo:-73.7690242,40.7648174
END:VEVENT
BEGIN:VEVENT
DTSTART;TZID=America/New_York:20261014T170000
DTEND;TZID=America/New_York:20261014T180000
DTSTAMP:20260423T121340
CREATED:20260212T184946Z
LAST-MODIFIED:20260306T211202Z
UID:10064472-1791997200-1792000800@meetings.greysheet.org
SUMMARY:Freedom Club Queens North
DESCRIPTION:
URL:https://meetings.greysheet.org/meeting/freedom-club-queens-north-2/2026-10-14
LOCATION:Shelter Rock Church\, 214-41 40th Ave\, Bayside\, NY\, 11361\, United States
CATEGORIES:In Person
ATTACH;FMTTYPE=image/svg+xml:https://meetings.greysheet.org/wp-content/uploads/2025/05/map-pin.svg
GEO:40.7648174;-73.7690242
X-APPLE-STRUCTURED-LOCATION;VALUE=URI;X-ADDRESS=Shelter Rock Church 214-41 40th Ave Bayside NY 11361 United States;X-APPLE-RADIUS=500;X-TITLE=214-41 40th Ave:geo:-73.7690242,40.7648174
END:VEVENT
BEGIN:VEVENT
DTSTART;TZID=America/New_York:20261021T170000
DTEND;TZID=America/New_York:20261021T180000
DTSTAMP:20260423T121340
CREATED:20260212T184946Z
LAST-MODIFIED:20260306T211202Z
UID:10064473-1792602000-1792605600@meetings.greysheet.org
SUMMARY:Freedom Club Queens North
DESCRIPTION:
URL:https://meetings.greysheet.org/meeting/freedom-club-queens-north-2/2026-10-21
LOCATION:Shelter Rock Church\, 214-41 40th Ave\, Bayside\, NY\, 11361\, United States
CATEGORIES:In Person
ATTACH;FMTTYPE=image/svg+xml:https://meetings.greysheet.org/wp-content/uploads/2025/05/map-pin.svg
GEO:40.7648174;-73.7690242
X-APPLE-STRUCTURED-LOCATION;VALUE=URI;X-ADDRESS=Shelter Rock Church 214-41 40th Ave Bayside NY 11361 United States;X-APPLE-RADIUS=500;X-TITLE=214-41 40th Ave:geo:-73.7690242,40.7648174
END:VEVENT
BEGIN:VEVENT
DTSTART;TZID=America/New_York:20261028T170000
DTEND;TZID=America/New_York:20261028T180000
DTSTAMP:20260423T121340
CREATED:20260212T184946Z
LAST-MODIFIED:20260306T211202Z
UID:10064474-1793206800-1793210400@meetings.greysheet.org
SUMMARY:Freedom Club Queens North
DESCRIPTION:
URL:https://meetings.greysheet.org/meeting/freedom-club-queens-north-2/2026-10-28
LOCATION:Shelter Rock Church\, 214-41 40th Ave\, Bayside\, NY\, 11361\, United States
CATEGORIES:In Person
ATTACH;FMTTYPE=image/svg+xml:https://meetings.greysheet.org/wp-content/uploads/2025/05/map-pin.svg
GEO:40.7648174;-73.7690242
X-APPLE-STRUCTURED-LOCATION;VALUE=URI;X-ADDRESS=Shelter Rock Church 214-41 40th Ave Bayside NY 11361 United States;X-APPLE-RADIUS=500;X-TITLE=214-41 40th Ave:geo:-73.7690242,40.7648174
END:VEVENT
BEGIN:VEVENT
DTSTART;TZID=America/New_York:20261104T170000
DTEND;TZID=America/New_York:20261104T180000
DTSTAMP:20260423T121340
CREATED:20260212T184946Z
LAST-MODIFIED:20260306T211202Z
UID:10064475-1793811600-1793815200@meetings.greysheet.org
SUMMARY:Freedom Club Queens North
DESCRIPTION:
URL:https://meetings.greysheet.org/meeting/freedom-club-queens-north-2/2026-11-04
LOCATION:Shelter Rock Church\, 214-41 40th Ave\, Bayside\, NY\, 11361\, United States
CATEGORIES:In Person
ATTACH;FMTTYPE=image/svg+xml:https://meetings.greysheet.org/wp-content/uploads/2025/05/map-pin.svg
GEO:40.7648174;-73.7690242
X-APPLE-STRUCTURED-LOCATION;VALUE=URI;X-ADDRESS=Shelter Rock Church 214-41 40th Ave Bayside NY 11361 United States;X-APPLE-RADIUS=500;X-TITLE=214-41 40th Ave:geo:-73.7690242,40.7648174
END:VEVENT
BEGIN:VEVENT
DTSTART;TZID=America/New_York:20261111T170000
DTEND;TZID=America/New_York:20261111T180000
DTSTAMP:20260423T121340
CREATED:20260212T184946Z
LAST-MODIFIED:20260306T211202Z
UID:10064476-1794416400-1794420000@meetings.greysheet.org
SUMMARY:Freedom Club Queens North
DESCRIPTION:
URL:https://meetings.greysheet.org/meeting/freedom-club-queens-north-2/2026-11-11
LOCATION:Shelter Rock Church\, 214-41 40th Ave\, Bayside\, NY\, 11361\, United States
CATEGORIES:In Person
ATTACH;FMTTYPE=image/svg+xml:https://meetings.greysheet.org/wp-content/uploads/2025/05/map-pin.svg
GEO:40.7648174;-73.7690242
X-APPLE-STRUCTURED-LOCATION;VALUE=URI;X-ADDRESS=Shelter Rock Church 214-41 40th Ave Bayside NY 11361 United States;X-APPLE-RADIUS=500;X-TITLE=214-41 40th Ave:geo:-73.7690242,40.7648174
END:VEVENT
BEGIN:VEVENT
DTSTART;TZID=America/New_York:20261118T170000
DTEND;TZID=America/New_York:20261118T180000
DTSTAMP:20260423T121340
CREATED:20260212T184946Z
LAST-MODIFIED:20260306T211202Z
UID:10064477-1795021200-1795024800@meetings.greysheet.org
SUMMARY:Freedom Club Queens North
DESCRIPTION:
URL:https://meetings.greysheet.org/meeting/freedom-club-queens-north-2/2026-11-18
LOCATION:Shelter Rock Church\, 214-41 40th Ave\, Bayside\, NY\, 11361\, United States
CATEGORIES:In Person
ATTACH;FMTTYPE=image/svg+xml:https://meetings.greysheet.org/wp-content/uploads/2025/05/map-pin.svg
GEO:40.7648174;-73.7690242
X-APPLE-STRUCTURED-LOCATION;VALUE=URI;X-ADDRESS=Shelter Rock Church 214-41 40th Ave Bayside NY 11361 United States;X-APPLE-RADIUS=500;X-TITLE=214-41 40th Ave:geo:-73.7690242,40.7648174
END:VEVENT
BEGIN:VEVENT
DTSTART;TZID=America/New_York:20261125T170000
DTEND;TZID=America/New_York:20261125T180000
DTSTAMP:20260423T121340
CREATED:20260212T184946Z
LAST-MODIFIED:20260306T211202Z
UID:10064478-1795626000-1795629600@meetings.greysheet.org
SUMMARY:Freedom Club Queens North
DESCRIPTION:
URL:https://meetings.greysheet.org/meeting/freedom-club-queens-north-2/2026-11-25
LOCATION:Shelter Rock Church\, 214-41 40th Ave\, Bayside\, NY\, 11361\, United States
CATEGORIES:In Person
ATTACH;FMTTYPE=image/svg+xml:https://meetings.greysheet.org/wp-content/uploads/2025/05/map-pin.svg
GEO:40.7648174;-73.7690242
X-APPLE-STRUCTURED-LOCATION;VALUE=URI;X-ADDRESS=Shelter Rock Church 214-41 40th Ave Bayside NY 11361 United States;X-APPLE-RADIUS=500;X-TITLE=214-41 40th Ave:geo:-73.7690242,40.7648174
END:VEVENT
BEGIN:VEVENT
DTSTART;TZID=America/New_York:20261202T170000
DTEND;TZID=America/New_York:20261202T180000
DTSTAMP:20260423T121340
CREATED:20260212T184946Z
LAST-MODIFIED:20260306T211202Z
UID:10064479-1796230800-1796234400@meetings.greysheet.org
SUMMARY:Freedom Club Queens North
DESCRIPTION:
URL:https://meetings.greysheet.org/meeting/freedom-club-queens-north-2/2026-12-02
LOCATION:Shelter Rock Church\, 214-41 40th Ave\, Bayside\, NY\, 11361\, United States
CATEGORIES:In Person
ATTACH;FMTTYPE=image/svg+xml:https://meetings.greysheet.org/wp-content/uploads/2025/05/map-pin.svg
GEO:40.7648174;-73.7690242
X-APPLE-STRUCTURED-LOCATION;VALUE=URI;X-ADDRESS=Shelter Rock Church 214-41 40th Ave Bayside NY 11361 United States;X-APPLE-RADIUS=500;X-TITLE=214-41 40th Ave:geo:-73.7690242,40.7648174
END:VEVENT
BEGIN:VEVENT
DTSTART;TZID=America/New_York:20261209T170000
DTEND;TZID=America/New_York:20261209T180000
DTSTAMP:20260423T121340
CREATED:20260212T184946Z
LAST-MODIFIED:20260306T211202Z
UID:10064480-1796835600-1796839200@meetings.greysheet.org
SUMMARY:Freedom Club Queens North
DESCRIPTION:
URL:https://meetings.greysheet.org/meeting/freedom-club-queens-north-2/2026-12-09
LOCATION:Shelter Rock Church\, 214-41 40th Ave\, Bayside\, NY\, 11361\, United States
CATEGORIES:In Person
ATTACH;FMTTYPE=image/svg+xml:https://meetings.greysheet.org/wp-content/uploads/2025/05/map-pin.svg
GEO:40.7648174;-73.7690242
X-APPLE-STRUCTURED-LOCATION;VALUE=URI;X-ADDRESS=Shelter Rock Church 214-41 40th Ave Bayside NY 11361 United States;X-APPLE-RADIUS=500;X-TITLE=214-41 40th Ave:geo:-73.7690242,40.7648174
END:VEVENT
BEGIN:VEVENT
DTSTART;TZID=America/New_York:20261216T170000
DTEND;TZID=America/New_York:20261216T180000
DTSTAMP:20260423T121340
CREATED:20260212T184946Z
LAST-MODIFIED:20260306T211202Z
UID:10064481-1797440400-1797444000@meetings.greysheet.org
SUMMARY:Freedom Club Queens North
DESCRIPTION:
URL:https://meetings.greysheet.org/meeting/freedom-club-queens-north-2/2026-12-16
LOCATION:Shelter Rock Church\, 214-41 40th Ave\, Bayside\, NY\, 11361\, United States
CATEGORIES:In Person
ATTACH;FMTTYPE=image/svg+xml:https://meetings.greysheet.org/wp-content/uploads/2025/05/map-pin.svg
GEO:40.7648174;-73.7690242
X-APPLE-STRUCTURED-LOCATION;VALUE=URI;X-ADDRESS=Shelter Rock Church 214-41 40th Ave Bayside NY 11361 United States;X-APPLE-RADIUS=500;X-TITLE=214-41 40th Ave:geo:-73.7690242,40.7648174
END:VEVENT
BEGIN:VEVENT
DTSTART;TZID=America/New_York:20261223T170000
DTEND;TZID=America/New_York:20261223T180000
DTSTAMP:20260423T121340
CREATED:20260212T184946Z
LAST-MODIFIED:20260306T211202Z
UID:10064482-1798045200-1798048800@meetings.greysheet.org
SUMMARY:Freedom Club Queens North
DESCRIPTION:
URL:https://meetings.greysheet.org/meeting/freedom-club-queens-north-2/2026-12-23
LOCATION:Shelter Rock Church\, 214-41 40th Ave\, Bayside\, NY\, 11361\, United States
CATEGORIES:In Person
ATTACH;FMTTYPE=image/svg+xml:https://meetings.greysheet.org/wp-content/uploads/2025/05/map-pin.svg
GEO:40.7648174;-73.7690242
X-APPLE-STRUCTURED-LOCATION;VALUE=URI;X-ADDRESS=Shelter Rock Church 214-41 40th Ave Bayside NY 11361 United States;X-APPLE-RADIUS=500;X-TITLE=214-41 40th Ave:geo:-73.7690242,40.7648174
END:VEVENT
BEGIN:VEVENT
DTSTART;TZID=America/New_York:20261230T170000
DTEND;TZID=America/New_York:20261230T180000
DTSTAMP:20260423T121340
CREATED:20260212T184946Z
LAST-MODIFIED:20260306T211202Z
UID:10064483-1798650000-1798653600@meetings.greysheet.org
SUMMARY:Freedom Club Queens North
DESCRIPTION:
URL:https://meetings.greysheet.org/meeting/freedom-club-queens-north-2/2026-12-30
LOCATION:Shelter Rock Church\, 214-41 40th Ave\, Bayside\, NY\, 11361\, United States
CATEGORIES:In Person
ATTACH;FMTTYPE=image/svg+xml:https://meetings.greysheet.org/wp-content/uploads/2025/05/map-pin.svg
GEO:40.7648174;-73.7690242
X-APPLE-STRUCTURED-LOCATION;VALUE=URI;X-ADDRESS=Shelter Rock Church 214-41 40th Ave Bayside NY 11361 United States;X-APPLE-RADIUS=500;X-TITLE=214-41 40th Ave:geo:-73.7690242,40.7648174
END:VEVENT
BEGIN:VEVENT
DTSTART;TZID=America/New_York:20270106T170000
DTEND;TZID=America/New_York:20270106T180000
DTSTAMP:20260423T121340
CREATED:20260212T184946Z
LAST-MODIFIED:20260306T211202Z
UID:10064484-1799254800-1799258400@meetings.greysheet.org
SUMMARY:Freedom Club Queens North
DESCRIPTION:
URL:https://meetings.greysheet.org/meeting/freedom-club-queens-north-2/2027-01-06
LOCATION:Shelter Rock Church\, 214-41 40th Ave\, Bayside\, NY\, 11361\, United States
CATEGORIES:In Person
ATTACH;FMTTYPE=image/svg+xml:https://meetings.greysheet.org/wp-content/uploads/2025/05/map-pin.svg
GEO:40.7648174;-73.7690242
X-APPLE-STRUCTURED-LOCATION;VALUE=URI;X-ADDRESS=Shelter Rock Church 214-41 40th Ave Bayside NY 11361 United States;X-APPLE-RADIUS=500;X-TITLE=214-41 40th Ave:geo:-73.7690242,40.7648174
END:VEVENT
BEGIN:VEVENT
DTSTART;TZID=America/New_York:20270113T170000
DTEND;TZID=America/New_York:20270113T180000
DTSTAMP:20260423T121340
CREATED:20260212T184946Z
LAST-MODIFIED:20260306T211202Z
UID:10064485-1799859600-1799863200@meetings.greysheet.org
SUMMARY:Freedom Club Queens North
DESCRIPTION:
URL:https://meetings.greysheet.org/meeting/freedom-club-queens-north-2/2027-01-13
LOCATION:Shelter Rock Church\, 214-41 40th Ave\, Bayside\, NY\, 11361\, United States
CATEGORIES:In Person
ATTACH;FMTTYPE=image/svg+xml:https://meetings.greysheet.org/wp-content/uploads/2025/05/map-pin.svg
GEO:40.7648174;-73.7690242
X-APPLE-STRUCTURED-LOCATION;VALUE=URI;X-ADDRESS=Shelter Rock Church 214-41 40th Ave Bayside NY 11361 United States;X-APPLE-RADIUS=500;X-TITLE=214-41 40th Ave:geo:-73.7690242,40.7648174
END:VEVENT
BEGIN:VEVENT
DTSTART;TZID=America/New_York:20270120T170000
DTEND;TZID=America/New_York:20270120T180000
DTSTAMP:20260423T121340
CREATED:20260212T184946Z
LAST-MODIFIED:20260306T211202Z
UID:10064486-1800464400-1800468000@meetings.greysheet.org
SUMMARY:Freedom Club Queens North
DESCRIPTION:
URL:https://meetings.greysheet.org/meeting/freedom-club-queens-north-2/2027-01-20
LOCATION:Shelter Rock Church\, 214-41 40th Ave\, Bayside\, NY\, 11361\, United States
CATEGORIES:In Person
ATTACH;FMTTYPE=image/svg+xml:https://meetings.greysheet.org/wp-content/uploads/2025/05/map-pin.svg
GEO:40.7648174;-73.7690242
X-APPLE-STRUCTURED-LOCATION;VALUE=URI;X-ADDRESS=Shelter Rock Church 214-41 40th Ave Bayside NY 11361 United States;X-APPLE-RADIUS=500;X-TITLE=214-41 40th Ave:geo:-73.7690242,40.7648174
END:VEVENT
BEGIN:VEVENT
DTSTART;TZID=America/New_York:20270127T170000
DTEND;TZID=America/New_York:20270127T180000
DTSTAMP:20260423T121340
CREATED:20260212T184946Z
LAST-MODIFIED:20260306T211202Z
UID:10064487-1801069200-1801072800@meetings.greysheet.org
SUMMARY:Freedom Club Queens North
DESCRIPTION:
URL:https://meetings.greysheet.org/meeting/freedom-club-queens-north-2/2027-01-27
LOCATION:Shelter Rock Church\, 214-41 40th Ave\, Bayside\, NY\, 11361\, United States
CATEGORIES:In Person
ATTACH;FMTTYPE=image/svg+xml:https://meetings.greysheet.org/wp-content/uploads/2025/05/map-pin.svg
GEO:40.7648174;-73.7690242
X-APPLE-STRUCTURED-LOCATION;VALUE=URI;X-ADDRESS=Shelter Rock Church 214-41 40th Ave Bayside NY 11361 United States;X-APPLE-RADIUS=500;X-TITLE=214-41 40th Ave:geo:-73.7690242,40.7648174
END:VEVENT
BEGIN:VEVENT
DTSTART;TZID=America/New_York:20270203T170000
DTEND;TZID=America/New_York:20270203T180000
DTSTAMP:20260423T121340
CREATED:20260212T184946Z
LAST-MODIFIED:20260306T211202Z
UID:10064488-1801674000-1801677600@meetings.greysheet.org
SUMMARY:Freedom Club Queens North
DESCRIPTION:
URL:https://meetings.greysheet.org/meeting/freedom-club-queens-north-2/2027-02-03
LOCATION:Shelter Rock Church\, 214-41 40th Ave\, Bayside\, NY\, 11361\, United States
CATEGORIES:In Person
ATTACH;FMTTYPE=image/svg+xml:https://meetings.greysheet.org/wp-content/uploads/2025/05/map-pin.svg
GEO:40.7648174;-73.7690242
X-APPLE-STRUCTURED-LOCATION;VALUE=URI;X-ADDRESS=Shelter Rock Church 214-41 40th Ave Bayside NY 11361 United States;X-APPLE-RADIUS=500;X-TITLE=214-41 40th Ave:geo:-73.7690242,40.7648174
END:VEVENT
BEGIN:VEVENT
DTSTART;TZID=America/New_York:20270210T170000
DTEND;TZID=America/New_York:20270210T180000
DTSTAMP:20260423T121340
CREATED:20260212T184946Z
LAST-MODIFIED:20260306T211202Z
UID:10064489-1802278800-1802282400@meetings.greysheet.org
SUMMARY:Freedom Club Queens North
DESCRIPTION:
URL:https://meetings.greysheet.org/meeting/freedom-club-queens-north-2/2027-02-10
LOCATION:Shelter Rock Church\, 214-41 40th Ave\, Bayside\, NY\, 11361\, United States
CATEGORIES:In Person
ATTACH;FMTTYPE=image/svg+xml:https://meetings.greysheet.org/wp-content/uploads/2025/05/map-pin.svg
GEO:40.7648174;-73.7690242
X-APPLE-STRUCTURED-LOCATION;VALUE=URI;X-ADDRESS=Shelter Rock Church 214-41 40th Ave Bayside NY 11361 United States;X-APPLE-RADIUS=500;X-TITLE=214-41 40th Ave:geo:-73.7690242,40.7648174
END:VEVENT
END:VCALENDAR