BEGIN:VCALENDAR
VERSION:2.0
PRODID:-//GreySheeters Anonymous World Services - ECPv6.15.20//NONSGML v1.0//EN
CALSCALE:GREGORIAN
METHOD:PUBLISH
X-ORIGINAL-URL:https://meetings.greysheet.org
X-WR-CALDESC:Events for GreySheeters Anonymous World Services
REFRESH-INTERVAL;VALUE=DURATION:PT1H
X-Robots-Tag:noindex
X-PUBLISHED-TTL:PT1H
BEGIN:VTIMEZONE
TZID:America/New_York
BEGIN:DAYLIGHT
TZOFFSETFROM:-0500
TZOFFSETTO:-0400
TZNAME:EDT
DTSTART:20250309T070000
END:DAYLIGHT
BEGIN:STANDARD
TZOFFSETFROM:-0400
TZOFFSETTO:-0500
TZNAME:EST
DTSTART:20251102T060000
END:STANDARD
BEGIN:DAYLIGHT
TZOFFSETFROM:-0500
TZOFFSETTO:-0400
TZNAME:EDT
DTSTART:20260308T070000
END:DAYLIGHT
BEGIN:STANDARD
TZOFFSETFROM:-0400
TZOFFSETTO:-0500
TZNAME:EST
DTSTART:20261101T060000
END:STANDARD
BEGIN:DAYLIGHT
TZOFFSETFROM:-0500
TZOFFSETTO:-0400
TZNAME:EDT
DTSTART:20270314T070000
END:DAYLIGHT
BEGIN:STANDARD
TZOFFSETFROM:-0400
TZOFFSETTO:-0500
TZNAME:EST
DTSTART:20271107T060000
END:STANDARD
BEGIN:DAYLIGHT
TZOFFSETFROM:-0500
TZOFFSETTO:-0400
TZNAME:EDT
DTSTART:20280312T070000
END:DAYLIGHT
BEGIN:STANDARD
TZOFFSETFROM:-0400
TZOFFSETTO:-0500
TZNAME:EST
DTSTART:20281105T060000
END:STANDARD
END:VTIMEZONE
BEGIN:VEVENT
DTSTART;TZID=America/New_York:20261009T170000
DTEND;TZID=America/New_York:20261009T180000
DTSTAMP:20260422T113128
CREATED:20260212T185935Z
LAST-MODIFIED:20260306T211202Z
UID:10064680-1791565200-1791568800@meetings.greysheet.org
SUMMARY:Freedom Club Queens South
DESCRIPTION:
URL:https://meetings.greysheet.org/meeting/freedom-club-queens-south/2026-10-09
LOCATION:Robert Ross Johnson Family Life Center\, 172-17 Linden Blvd\, Jamaica\, NY\, 11434\, United States
CATEGORIES:In Person
ATTACH;FMTTYPE=image/svg+xml:https://meetings.greysheet.org/wp-content/uploads/2025/05/map-pin.svg
GEO:40.6923526;-73.7778466
X-APPLE-STRUCTURED-LOCATION;VALUE=URI;X-ADDRESS=Robert Ross Johnson Family Life Center 172-17 Linden Blvd Jamaica NY 11434 United States;X-APPLE-RADIUS=500;X-TITLE=172-17 Linden Blvd:geo:-73.7778466,40.6923526
END:VEVENT
BEGIN:VEVENT
DTSTART;TZID=America/New_York:20261016T170000
DTEND;TZID=America/New_York:20261016T180000
DTSTAMP:20260422T113128
CREATED:20260212T185935Z
LAST-MODIFIED:20260306T211202Z
UID:10064681-1792170000-1792173600@meetings.greysheet.org
SUMMARY:Freedom Club Queens South
DESCRIPTION:
URL:https://meetings.greysheet.org/meeting/freedom-club-queens-south/2026-10-16
LOCATION:Robert Ross Johnson Family Life Center\, 172-17 Linden Blvd\, Jamaica\, NY\, 11434\, United States
CATEGORIES:In Person
ATTACH;FMTTYPE=image/svg+xml:https://meetings.greysheet.org/wp-content/uploads/2025/05/map-pin.svg
GEO:40.6923526;-73.7778466
X-APPLE-STRUCTURED-LOCATION;VALUE=URI;X-ADDRESS=Robert Ross Johnson Family Life Center 172-17 Linden Blvd Jamaica NY 11434 United States;X-APPLE-RADIUS=500;X-TITLE=172-17 Linden Blvd:geo:-73.7778466,40.6923526
END:VEVENT
BEGIN:VEVENT
DTSTART;TZID=America/New_York:20261023T170000
DTEND;TZID=America/New_York:20261023T180000
DTSTAMP:20260422T113128
CREATED:20260212T185935Z
LAST-MODIFIED:20260306T211202Z
UID:10064682-1792774800-1792778400@meetings.greysheet.org
SUMMARY:Freedom Club Queens South
DESCRIPTION:
URL:https://meetings.greysheet.org/meeting/freedom-club-queens-south/2026-10-23
LOCATION:Robert Ross Johnson Family Life Center\, 172-17 Linden Blvd\, Jamaica\, NY\, 11434\, United States
CATEGORIES:In Person
ATTACH;FMTTYPE=image/svg+xml:https://meetings.greysheet.org/wp-content/uploads/2025/05/map-pin.svg
GEO:40.6923526;-73.7778466
X-APPLE-STRUCTURED-LOCATION;VALUE=URI;X-ADDRESS=Robert Ross Johnson Family Life Center 172-17 Linden Blvd Jamaica NY 11434 United States;X-APPLE-RADIUS=500;X-TITLE=172-17 Linden Blvd:geo:-73.7778466,40.6923526
END:VEVENT
BEGIN:VEVENT
DTSTART;TZID=America/New_York:20261030T170000
DTEND;TZID=America/New_York:20261030T180000
DTSTAMP:20260422T113128
CREATED:20260212T185935Z
LAST-MODIFIED:20260306T211202Z
UID:10064683-1793379600-1793383200@meetings.greysheet.org
SUMMARY:Freedom Club Queens South
DESCRIPTION:
URL:https://meetings.greysheet.org/meeting/freedom-club-queens-south/2026-10-30
LOCATION:Robert Ross Johnson Family Life Center\, 172-17 Linden Blvd\, Jamaica\, NY\, 11434\, United States
CATEGORIES:In Person
ATTACH;FMTTYPE=image/svg+xml:https://meetings.greysheet.org/wp-content/uploads/2025/05/map-pin.svg
GEO:40.6923526;-73.7778466
X-APPLE-STRUCTURED-LOCATION;VALUE=URI;X-ADDRESS=Robert Ross Johnson Family Life Center 172-17 Linden Blvd Jamaica NY 11434 United States;X-APPLE-RADIUS=500;X-TITLE=172-17 Linden Blvd:geo:-73.7778466,40.6923526
END:VEVENT
BEGIN:VEVENT
DTSTART;TZID=America/New_York:20261106T170000
DTEND;TZID=America/New_York:20261106T180000
DTSTAMP:20260422T113128
CREATED:20260212T185935Z
LAST-MODIFIED:20260306T211202Z
UID:10064684-1793984400-1793988000@meetings.greysheet.org
SUMMARY:Freedom Club Queens South
DESCRIPTION:
URL:https://meetings.greysheet.org/meeting/freedom-club-queens-south/2026-11-06
LOCATION:Robert Ross Johnson Family Life Center\, 172-17 Linden Blvd\, Jamaica\, NY\, 11434\, United States
CATEGORIES:In Person
ATTACH;FMTTYPE=image/svg+xml:https://meetings.greysheet.org/wp-content/uploads/2025/05/map-pin.svg
GEO:40.6923526;-73.7778466
X-APPLE-STRUCTURED-LOCATION;VALUE=URI;X-ADDRESS=Robert Ross Johnson Family Life Center 172-17 Linden Blvd Jamaica NY 11434 United States;X-APPLE-RADIUS=500;X-TITLE=172-17 Linden Blvd:geo:-73.7778466,40.6923526
END:VEVENT
BEGIN:VEVENT
DTSTART;TZID=America/New_York:20261113T170000
DTEND;TZID=America/New_York:20261113T180000
DTSTAMP:20260422T113128
CREATED:20260212T185935Z
LAST-MODIFIED:20260306T211202Z
UID:10064685-1794589200-1794592800@meetings.greysheet.org
SUMMARY:Freedom Club Queens South
DESCRIPTION:
URL:https://meetings.greysheet.org/meeting/freedom-club-queens-south/2026-11-13
LOCATION:Robert Ross Johnson Family Life Center\, 172-17 Linden Blvd\, Jamaica\, NY\, 11434\, United States
CATEGORIES:In Person
ATTACH;FMTTYPE=image/svg+xml:https://meetings.greysheet.org/wp-content/uploads/2025/05/map-pin.svg
GEO:40.6923526;-73.7778466
X-APPLE-STRUCTURED-LOCATION;VALUE=URI;X-ADDRESS=Robert Ross Johnson Family Life Center 172-17 Linden Blvd Jamaica NY 11434 United States;X-APPLE-RADIUS=500;X-TITLE=172-17 Linden Blvd:geo:-73.7778466,40.6923526
END:VEVENT
BEGIN:VEVENT
DTSTART;TZID=America/New_York:20261120T170000
DTEND;TZID=America/New_York:20261120T180000
DTSTAMP:20260422T113129
CREATED:20260212T185935Z
LAST-MODIFIED:20260306T211202Z
UID:10064686-1795194000-1795197600@meetings.greysheet.org
SUMMARY:Freedom Club Queens South
DESCRIPTION:
URL:https://meetings.greysheet.org/meeting/freedom-club-queens-south/2026-11-20
LOCATION:Robert Ross Johnson Family Life Center\, 172-17 Linden Blvd\, Jamaica\, NY\, 11434\, United States
CATEGORIES:In Person
ATTACH;FMTTYPE=image/svg+xml:https://meetings.greysheet.org/wp-content/uploads/2025/05/map-pin.svg
GEO:40.6923526;-73.7778466
X-APPLE-STRUCTURED-LOCATION;VALUE=URI;X-ADDRESS=Robert Ross Johnson Family Life Center 172-17 Linden Blvd Jamaica NY 11434 United States;X-APPLE-RADIUS=500;X-TITLE=172-17 Linden Blvd:geo:-73.7778466,40.6923526
END:VEVENT
BEGIN:VEVENT
DTSTART;TZID=America/New_York:20261127T170000
DTEND;TZID=America/New_York:20261127T180000
DTSTAMP:20260422T113129
CREATED:20260212T185935Z
LAST-MODIFIED:20260306T211202Z
UID:10064687-1795798800-1795802400@meetings.greysheet.org
SUMMARY:Freedom Club Queens South
DESCRIPTION:
URL:https://meetings.greysheet.org/meeting/freedom-club-queens-south/2026-11-27
LOCATION:Robert Ross Johnson Family Life Center\, 172-17 Linden Blvd\, Jamaica\, NY\, 11434\, United States
CATEGORIES:In Person
ATTACH;FMTTYPE=image/svg+xml:https://meetings.greysheet.org/wp-content/uploads/2025/05/map-pin.svg
GEO:40.6923526;-73.7778466
X-APPLE-STRUCTURED-LOCATION;VALUE=URI;X-ADDRESS=Robert Ross Johnson Family Life Center 172-17 Linden Blvd Jamaica NY 11434 United States;X-APPLE-RADIUS=500;X-TITLE=172-17 Linden Blvd:geo:-73.7778466,40.6923526
END:VEVENT
BEGIN:VEVENT
DTSTART;TZID=America/New_York:20261204T170000
DTEND;TZID=America/New_York:20261204T180000
DTSTAMP:20260422T113129
CREATED:20260212T185935Z
LAST-MODIFIED:20260306T211202Z
UID:10064688-1796403600-1796407200@meetings.greysheet.org
SUMMARY:Freedom Club Queens South
DESCRIPTION:
URL:https://meetings.greysheet.org/meeting/freedom-club-queens-south/2026-12-04
LOCATION:Robert Ross Johnson Family Life Center\, 172-17 Linden Blvd\, Jamaica\, NY\, 11434\, United States
CATEGORIES:In Person
ATTACH;FMTTYPE=image/svg+xml:https://meetings.greysheet.org/wp-content/uploads/2025/05/map-pin.svg
GEO:40.6923526;-73.7778466
X-APPLE-STRUCTURED-LOCATION;VALUE=URI;X-ADDRESS=Robert Ross Johnson Family Life Center 172-17 Linden Blvd Jamaica NY 11434 United States;X-APPLE-RADIUS=500;X-TITLE=172-17 Linden Blvd:geo:-73.7778466,40.6923526
END:VEVENT
BEGIN:VEVENT
DTSTART;TZID=America/New_York:20261211T170000
DTEND;TZID=America/New_York:20261211T180000
DTSTAMP:20260422T113129
CREATED:20260212T185935Z
LAST-MODIFIED:20260306T211202Z
UID:10064689-1797008400-1797012000@meetings.greysheet.org
SUMMARY:Freedom Club Queens South
DESCRIPTION:
URL:https://meetings.greysheet.org/meeting/freedom-club-queens-south/2026-12-11
LOCATION:Robert Ross Johnson Family Life Center\, 172-17 Linden Blvd\, Jamaica\, NY\, 11434\, United States
CATEGORIES:In Person
ATTACH;FMTTYPE=image/svg+xml:https://meetings.greysheet.org/wp-content/uploads/2025/05/map-pin.svg
GEO:40.6923526;-73.7778466
X-APPLE-STRUCTURED-LOCATION;VALUE=URI;X-ADDRESS=Robert Ross Johnson Family Life Center 172-17 Linden Blvd Jamaica NY 11434 United States;X-APPLE-RADIUS=500;X-TITLE=172-17 Linden Blvd:geo:-73.7778466,40.6923526
END:VEVENT
BEGIN:VEVENT
DTSTART;TZID=America/New_York:20261218T170000
DTEND;TZID=America/New_York:20261218T180000
DTSTAMP:20260422T113129
CREATED:20260212T185935Z
LAST-MODIFIED:20260306T211202Z
UID:10064690-1797613200-1797616800@meetings.greysheet.org
SUMMARY:Freedom Club Queens South
DESCRIPTION:
URL:https://meetings.greysheet.org/meeting/freedom-club-queens-south/2026-12-18
LOCATION:Robert Ross Johnson Family Life Center\, 172-17 Linden Blvd\, Jamaica\, NY\, 11434\, United States
CATEGORIES:In Person
ATTACH;FMTTYPE=image/svg+xml:https://meetings.greysheet.org/wp-content/uploads/2025/05/map-pin.svg
GEO:40.6923526;-73.7778466
X-APPLE-STRUCTURED-LOCATION;VALUE=URI;X-ADDRESS=Robert Ross Johnson Family Life Center 172-17 Linden Blvd Jamaica NY 11434 United States;X-APPLE-RADIUS=500;X-TITLE=172-17 Linden Blvd:geo:-73.7778466,40.6923526
END:VEVENT
BEGIN:VEVENT
DTSTART;TZID=America/New_York:20261225T170000
DTEND;TZID=America/New_York:20261225T180000
DTSTAMP:20260422T113129
CREATED:20260212T185935Z
LAST-MODIFIED:20260306T211202Z
UID:10064691-1798218000-1798221600@meetings.greysheet.org
SUMMARY:Freedom Club Queens South
DESCRIPTION:
URL:https://meetings.greysheet.org/meeting/freedom-club-queens-south/2026-12-25
LOCATION:Robert Ross Johnson Family Life Center\, 172-17 Linden Blvd\, Jamaica\, NY\, 11434\, United States
CATEGORIES:In Person
ATTACH;FMTTYPE=image/svg+xml:https://meetings.greysheet.org/wp-content/uploads/2025/05/map-pin.svg
GEO:40.6923526;-73.7778466
X-APPLE-STRUCTURED-LOCATION;VALUE=URI;X-ADDRESS=Robert Ross Johnson Family Life Center 172-17 Linden Blvd Jamaica NY 11434 United States;X-APPLE-RADIUS=500;X-TITLE=172-17 Linden Blvd:geo:-73.7778466,40.6923526
END:VEVENT
BEGIN:VEVENT
DTSTART;TZID=America/New_York:20270101T170000
DTEND;TZID=America/New_York:20270101T180000
DTSTAMP:20260422T113129
CREATED:20260212T185935Z
LAST-MODIFIED:20260306T211202Z
UID:10064692-1798822800-1798826400@meetings.greysheet.org
SUMMARY:Freedom Club Queens South
DESCRIPTION:
URL:https://meetings.greysheet.org/meeting/freedom-club-queens-south/2027-01-01
LOCATION:Robert Ross Johnson Family Life Center\, 172-17 Linden Blvd\, Jamaica\, NY\, 11434\, United States
CATEGORIES:In Person
ATTACH;FMTTYPE=image/svg+xml:https://meetings.greysheet.org/wp-content/uploads/2025/05/map-pin.svg
GEO:40.6923526;-73.7778466
X-APPLE-STRUCTURED-LOCATION;VALUE=URI;X-ADDRESS=Robert Ross Johnson Family Life Center 172-17 Linden Blvd Jamaica NY 11434 United States;X-APPLE-RADIUS=500;X-TITLE=172-17 Linden Blvd:geo:-73.7778466,40.6923526
END:VEVENT
BEGIN:VEVENT
DTSTART;TZID=America/New_York:20270108T170000
DTEND;TZID=America/New_York:20270108T180000
DTSTAMP:20260422T113129
CREATED:20260212T185935Z
LAST-MODIFIED:20260306T211202Z
UID:10064693-1799427600-1799431200@meetings.greysheet.org
SUMMARY:Freedom Club Queens South
DESCRIPTION:
URL:https://meetings.greysheet.org/meeting/freedom-club-queens-south/2027-01-08
LOCATION:Robert Ross Johnson Family Life Center\, 172-17 Linden Blvd\, Jamaica\, NY\, 11434\, United States
CATEGORIES:In Person
ATTACH;FMTTYPE=image/svg+xml:https://meetings.greysheet.org/wp-content/uploads/2025/05/map-pin.svg
GEO:40.6923526;-73.7778466
X-APPLE-STRUCTURED-LOCATION;VALUE=URI;X-ADDRESS=Robert Ross Johnson Family Life Center 172-17 Linden Blvd Jamaica NY 11434 United States;X-APPLE-RADIUS=500;X-TITLE=172-17 Linden Blvd:geo:-73.7778466,40.6923526
END:VEVENT
BEGIN:VEVENT
DTSTART;TZID=America/New_York:20270115T170000
DTEND;TZID=America/New_York:20270115T180000
DTSTAMP:20260422T113129
CREATED:20260212T185935Z
LAST-MODIFIED:20260306T211202Z
UID:10064694-1800032400-1800036000@meetings.greysheet.org
SUMMARY:Freedom Club Queens South
DESCRIPTION:
URL:https://meetings.greysheet.org/meeting/freedom-club-queens-south/2027-01-15
LOCATION:Robert Ross Johnson Family Life Center\, 172-17 Linden Blvd\, Jamaica\, NY\, 11434\, United States
CATEGORIES:In Person
ATTACH;FMTTYPE=image/svg+xml:https://meetings.greysheet.org/wp-content/uploads/2025/05/map-pin.svg
GEO:40.6923526;-73.7778466
X-APPLE-STRUCTURED-LOCATION;VALUE=URI;X-ADDRESS=Robert Ross Johnson Family Life Center 172-17 Linden Blvd Jamaica NY 11434 United States;X-APPLE-RADIUS=500;X-TITLE=172-17 Linden Blvd:geo:-73.7778466,40.6923526
END:VEVENT
BEGIN:VEVENT
DTSTART;TZID=America/New_York:20270122T170000
DTEND;TZID=America/New_York:20270122T180000
DTSTAMP:20260422T113129
CREATED:20260212T185935Z
LAST-MODIFIED:20260306T211202Z
UID:10064695-1800637200-1800640800@meetings.greysheet.org
SUMMARY:Freedom Club Queens South
DESCRIPTION:
URL:https://meetings.greysheet.org/meeting/freedom-club-queens-south/2027-01-22
LOCATION:Robert Ross Johnson Family Life Center\, 172-17 Linden Blvd\, Jamaica\, NY\, 11434\, United States
CATEGORIES:In Person
ATTACH;FMTTYPE=image/svg+xml:https://meetings.greysheet.org/wp-content/uploads/2025/05/map-pin.svg
GEO:40.6923526;-73.7778466
X-APPLE-STRUCTURED-LOCATION;VALUE=URI;X-ADDRESS=Robert Ross Johnson Family Life Center 172-17 Linden Blvd Jamaica NY 11434 United States;X-APPLE-RADIUS=500;X-TITLE=172-17 Linden Blvd:geo:-73.7778466,40.6923526
END:VEVENT
BEGIN:VEVENT
DTSTART;TZID=America/New_York:20270129T170000
DTEND;TZID=America/New_York:20270129T180000
DTSTAMP:20260422T113129
CREATED:20260212T185935Z
LAST-MODIFIED:20260306T211202Z
UID:10064696-1801242000-1801245600@meetings.greysheet.org
SUMMARY:Freedom Club Queens South
DESCRIPTION:
URL:https://meetings.greysheet.org/meeting/freedom-club-queens-south/2027-01-29
LOCATION:Robert Ross Johnson Family Life Center\, 172-17 Linden Blvd\, Jamaica\, NY\, 11434\, United States
CATEGORIES:In Person
ATTACH;FMTTYPE=image/svg+xml:https://meetings.greysheet.org/wp-content/uploads/2025/05/map-pin.svg
GEO:40.6923526;-73.7778466
X-APPLE-STRUCTURED-LOCATION;VALUE=URI;X-ADDRESS=Robert Ross Johnson Family Life Center 172-17 Linden Blvd Jamaica NY 11434 United States;X-APPLE-RADIUS=500;X-TITLE=172-17 Linden Blvd:geo:-73.7778466,40.6923526
END:VEVENT
BEGIN:VEVENT
DTSTART;TZID=America/New_York:20270205T170000
DTEND;TZID=America/New_York:20270205T180000
DTSTAMP:20260422T113129
CREATED:20260212T185935Z
LAST-MODIFIED:20260306T211202Z
UID:10064697-1801846800-1801850400@meetings.greysheet.org
SUMMARY:Freedom Club Queens South
DESCRIPTION:
URL:https://meetings.greysheet.org/meeting/freedom-club-queens-south/2027-02-05
LOCATION:Robert Ross Johnson Family Life Center\, 172-17 Linden Blvd\, Jamaica\, NY\, 11434\, United States
CATEGORIES:In Person
ATTACH;FMTTYPE=image/svg+xml:https://meetings.greysheet.org/wp-content/uploads/2025/05/map-pin.svg
GEO:40.6923526;-73.7778466
X-APPLE-STRUCTURED-LOCATION;VALUE=URI;X-ADDRESS=Robert Ross Johnson Family Life Center 172-17 Linden Blvd Jamaica NY 11434 United States;X-APPLE-RADIUS=500;X-TITLE=172-17 Linden Blvd:geo:-73.7778466,40.6923526
END:VEVENT
BEGIN:VEVENT
DTSTART;TZID=America/New_York:20270212T170000
DTEND;TZID=America/New_York:20270212T180000
DTSTAMP:20260422T113129
CREATED:20260212T185935Z
LAST-MODIFIED:20260306T211202Z
UID:10064698-1802451600-1802455200@meetings.greysheet.org
SUMMARY:Freedom Club Queens South
DESCRIPTION:
URL:https://meetings.greysheet.org/meeting/freedom-club-queens-south/2027-02-12
LOCATION:Robert Ross Johnson Family Life Center\, 172-17 Linden Blvd\, Jamaica\, NY\, 11434\, United States
CATEGORIES:In Person
ATTACH;FMTTYPE=image/svg+xml:https://meetings.greysheet.org/wp-content/uploads/2025/05/map-pin.svg
GEO:40.6923526;-73.7778466
X-APPLE-STRUCTURED-LOCATION;VALUE=URI;X-ADDRESS=Robert Ross Johnson Family Life Center 172-17 Linden Blvd Jamaica NY 11434 United States;X-APPLE-RADIUS=500;X-TITLE=172-17 Linden Blvd:geo:-73.7778466,40.6923526
END:VEVENT
BEGIN:VEVENT
DTSTART;TZID=America/New_York:20270219T170000
DTEND;TZID=America/New_York:20270219T180000
DTSTAMP:20260422T113129
CREATED:20260212T185935Z
LAST-MODIFIED:20260306T211202Z
UID:10064699-1803056400-1803060000@meetings.greysheet.org
SUMMARY:Freedom Club Queens South
DESCRIPTION:
URL:https://meetings.greysheet.org/meeting/freedom-club-queens-south/2027-02-19
LOCATION:Robert Ross Johnson Family Life Center\, 172-17 Linden Blvd\, Jamaica\, NY\, 11434\, United States
CATEGORIES:In Person
ATTACH;FMTTYPE=image/svg+xml:https://meetings.greysheet.org/wp-content/uploads/2025/05/map-pin.svg
GEO:40.6923526;-73.7778466
X-APPLE-STRUCTURED-LOCATION;VALUE=URI;X-ADDRESS=Robert Ross Johnson Family Life Center 172-17 Linden Blvd Jamaica NY 11434 United States;X-APPLE-RADIUS=500;X-TITLE=172-17 Linden Blvd:geo:-73.7778466,40.6923526
END:VEVENT
BEGIN:VEVENT
DTSTART;TZID=America/New_York:20270226T170000
DTEND;TZID=America/New_York:20270226T180000
DTSTAMP:20260422T113129
CREATED:20260212T185935Z
LAST-MODIFIED:20260306T211202Z
UID:10064700-1803661200-1803664800@meetings.greysheet.org
SUMMARY:Freedom Club Queens South
DESCRIPTION:
URL:https://meetings.greysheet.org/meeting/freedom-club-queens-south/2027-02-26
LOCATION:Robert Ross Johnson Family Life Center\, 172-17 Linden Blvd\, Jamaica\, NY\, 11434\, United States
CATEGORIES:In Person
ATTACH;FMTTYPE=image/svg+xml:https://meetings.greysheet.org/wp-content/uploads/2025/05/map-pin.svg
GEO:40.6923526;-73.7778466
X-APPLE-STRUCTURED-LOCATION;VALUE=URI;X-ADDRESS=Robert Ross Johnson Family Life Center 172-17 Linden Blvd Jamaica NY 11434 United States;X-APPLE-RADIUS=500;X-TITLE=172-17 Linden Blvd:geo:-73.7778466,40.6923526
END:VEVENT
BEGIN:VEVENT
DTSTART;TZID=America/New_York:20270305T170000
DTEND;TZID=America/New_York:20270305T180000
DTSTAMP:20260422T113129
CREATED:20260212T185935Z
LAST-MODIFIED:20260306T211202Z
UID:10064701-1804266000-1804269600@meetings.greysheet.org
SUMMARY:Freedom Club Queens South
DESCRIPTION:
URL:https://meetings.greysheet.org/meeting/freedom-club-queens-south/2027-03-05
LOCATION:Robert Ross Johnson Family Life Center\, 172-17 Linden Blvd\, Jamaica\, NY\, 11434\, United States
CATEGORIES:In Person
ATTACH;FMTTYPE=image/svg+xml:https://meetings.greysheet.org/wp-content/uploads/2025/05/map-pin.svg
GEO:40.6923526;-73.7778466
X-APPLE-STRUCTURED-LOCATION;VALUE=URI;X-ADDRESS=Robert Ross Johnson Family Life Center 172-17 Linden Blvd Jamaica NY 11434 United States;X-APPLE-RADIUS=500;X-TITLE=172-17 Linden Blvd:geo:-73.7778466,40.6923526
END:VEVENT
BEGIN:VEVENT
DTSTART;TZID=America/New_York:20270312T170000
DTEND;TZID=America/New_York:20270312T180000
DTSTAMP:20260422T113129
CREATED:20260212T185935Z
LAST-MODIFIED:20260306T211202Z
UID:10064702-1804870800-1804874400@meetings.greysheet.org
SUMMARY:Freedom Club Queens South
DESCRIPTION:
URL:https://meetings.greysheet.org/meeting/freedom-club-queens-south/2027-03-12
LOCATION:Robert Ross Johnson Family Life Center\, 172-17 Linden Blvd\, Jamaica\, NY\, 11434\, United States
CATEGORIES:In Person
ATTACH;FMTTYPE=image/svg+xml:https://meetings.greysheet.org/wp-content/uploads/2025/05/map-pin.svg
GEO:40.6923526;-73.7778466
X-APPLE-STRUCTURED-LOCATION;VALUE=URI;X-ADDRESS=Robert Ross Johnson Family Life Center 172-17 Linden Blvd Jamaica NY 11434 United States;X-APPLE-RADIUS=500;X-TITLE=172-17 Linden Blvd:geo:-73.7778466,40.6923526
END:VEVENT
BEGIN:VEVENT
DTSTART;TZID=America/New_York:20270319T170000
DTEND;TZID=America/New_York:20270319T180000
DTSTAMP:20260422T113129
CREATED:20260212T185935Z
LAST-MODIFIED:20260306T211202Z
UID:10064703-1805475600-1805479200@meetings.greysheet.org
SUMMARY:Freedom Club Queens South
DESCRIPTION:
URL:https://meetings.greysheet.org/meeting/freedom-club-queens-south/2027-03-19
LOCATION:Robert Ross Johnson Family Life Center\, 172-17 Linden Blvd\, Jamaica\, NY\, 11434\, United States
CATEGORIES:In Person
ATTACH;FMTTYPE=image/svg+xml:https://meetings.greysheet.org/wp-content/uploads/2025/05/map-pin.svg
GEO:40.6923526;-73.7778466
X-APPLE-STRUCTURED-LOCATION;VALUE=URI;X-ADDRESS=Robert Ross Johnson Family Life Center 172-17 Linden Blvd Jamaica NY 11434 United States;X-APPLE-RADIUS=500;X-TITLE=172-17 Linden Blvd:geo:-73.7778466,40.6923526
END:VEVENT
BEGIN:VEVENT
DTSTART;TZID=America/New_York:20270326T170000
DTEND;TZID=America/New_York:20270326T180000
DTSTAMP:20260422T113129
CREATED:20260212T185935Z
LAST-MODIFIED:20260306T211202Z
UID:10064704-1806080400-1806084000@meetings.greysheet.org
SUMMARY:Freedom Club Queens South
DESCRIPTION:
URL:https://meetings.greysheet.org/meeting/freedom-club-queens-south/2027-03-26
LOCATION:Robert Ross Johnson Family Life Center\, 172-17 Linden Blvd\, Jamaica\, NY\, 11434\, United States
CATEGORIES:In Person
ATTACH;FMTTYPE=image/svg+xml:https://meetings.greysheet.org/wp-content/uploads/2025/05/map-pin.svg
GEO:40.6923526;-73.7778466
X-APPLE-STRUCTURED-LOCATION;VALUE=URI;X-ADDRESS=Robert Ross Johnson Family Life Center 172-17 Linden Blvd Jamaica NY 11434 United States;X-APPLE-RADIUS=500;X-TITLE=172-17 Linden Blvd:geo:-73.7778466,40.6923526
END:VEVENT
BEGIN:VEVENT
DTSTART;TZID=America/New_York:20270402T170000
DTEND;TZID=America/New_York:20270402T180000
DTSTAMP:20260422T113129
CREATED:20260212T185935Z
LAST-MODIFIED:20260306T211202Z
UID:10064705-1806685200-1806688800@meetings.greysheet.org
SUMMARY:Freedom Club Queens South
DESCRIPTION:
URL:https://meetings.greysheet.org/meeting/freedom-club-queens-south/2027-04-02
LOCATION:Robert Ross Johnson Family Life Center\, 172-17 Linden Blvd\, Jamaica\, NY\, 11434\, United States
CATEGORIES:In Person
ATTACH;FMTTYPE=image/svg+xml:https://meetings.greysheet.org/wp-content/uploads/2025/05/map-pin.svg
GEO:40.6923526;-73.7778466
X-APPLE-STRUCTURED-LOCATION;VALUE=URI;X-ADDRESS=Robert Ross Johnson Family Life Center 172-17 Linden Blvd Jamaica NY 11434 United States;X-APPLE-RADIUS=500;X-TITLE=172-17 Linden Blvd:geo:-73.7778466,40.6923526
END:VEVENT
BEGIN:VEVENT
DTSTART;TZID=America/New_York:20270409T170000
DTEND;TZID=America/New_York:20270409T180000
DTSTAMP:20260422T113129
CREATED:20260212T185935Z
LAST-MODIFIED:20260306T211202Z
UID:10064706-1807290000-1807293600@meetings.greysheet.org
SUMMARY:Freedom Club Queens South
DESCRIPTION:
URL:https://meetings.greysheet.org/meeting/freedom-club-queens-south/2027-04-09
LOCATION:Robert Ross Johnson Family Life Center\, 172-17 Linden Blvd\, Jamaica\, NY\, 11434\, United States
CATEGORIES:In Person
ATTACH;FMTTYPE=image/svg+xml:https://meetings.greysheet.org/wp-content/uploads/2025/05/map-pin.svg
GEO:40.6923526;-73.7778466
X-APPLE-STRUCTURED-LOCATION;VALUE=URI;X-ADDRESS=Robert Ross Johnson Family Life Center 172-17 Linden Blvd Jamaica NY 11434 United States;X-APPLE-RADIUS=500;X-TITLE=172-17 Linden Blvd:geo:-73.7778466,40.6923526
END:VEVENT
BEGIN:VEVENT
DTSTART;TZID=America/New_York:20270416T170000
DTEND;TZID=America/New_York:20270416T180000
DTSTAMP:20260422T113129
CREATED:20260212T185935Z
LAST-MODIFIED:20260306T211202Z
UID:10064707-1807894800-1807898400@meetings.greysheet.org
SUMMARY:Freedom Club Queens South
DESCRIPTION:
URL:https://meetings.greysheet.org/meeting/freedom-club-queens-south/2027-04-16
LOCATION:Robert Ross Johnson Family Life Center\, 172-17 Linden Blvd\, Jamaica\, NY\, 11434\, United States
CATEGORIES:In Person
ATTACH;FMTTYPE=image/svg+xml:https://meetings.greysheet.org/wp-content/uploads/2025/05/map-pin.svg
GEO:40.6923526;-73.7778466
X-APPLE-STRUCTURED-LOCATION;VALUE=URI;X-ADDRESS=Robert Ross Johnson Family Life Center 172-17 Linden Blvd Jamaica NY 11434 United States;X-APPLE-RADIUS=500;X-TITLE=172-17 Linden Blvd:geo:-73.7778466,40.6923526
END:VEVENT
BEGIN:VEVENT
DTSTART;TZID=America/New_York:20270423T170000
DTEND;TZID=America/New_York:20270423T180000
DTSTAMP:20260422T113129
CREATED:20260212T185935Z
LAST-MODIFIED:20260306T211202Z
UID:10064708-1808499600-1808503200@meetings.greysheet.org
SUMMARY:Freedom Club Queens South
DESCRIPTION:
URL:https://meetings.greysheet.org/meeting/freedom-club-queens-south/2027-04-23
LOCATION:Robert Ross Johnson Family Life Center\, 172-17 Linden Blvd\, Jamaica\, NY\, 11434\, United States
CATEGORIES:In Person
ATTACH;FMTTYPE=image/svg+xml:https://meetings.greysheet.org/wp-content/uploads/2025/05/map-pin.svg
GEO:40.6923526;-73.7778466
X-APPLE-STRUCTURED-LOCATION;VALUE=URI;X-ADDRESS=Robert Ross Johnson Family Life Center 172-17 Linden Blvd Jamaica NY 11434 United States;X-APPLE-RADIUS=500;X-TITLE=172-17 Linden Blvd:geo:-73.7778466,40.6923526
END:VEVENT
BEGIN:VEVENT
DTSTART;TZID=America/New_York:20270430T170000
DTEND;TZID=America/New_York:20270430T180000
DTSTAMP:20260422T113129
CREATED:20260212T185935Z
LAST-MODIFIED:20260306T211202Z
UID:10064709-1809104400-1809108000@meetings.greysheet.org
SUMMARY:Freedom Club Queens South
DESCRIPTION:
URL:https://meetings.greysheet.org/meeting/freedom-club-queens-south/2027-04-30
LOCATION:Robert Ross Johnson Family Life Center\, 172-17 Linden Blvd\, Jamaica\, NY\, 11434\, United States
CATEGORIES:In Person
ATTACH;FMTTYPE=image/svg+xml:https://meetings.greysheet.org/wp-content/uploads/2025/05/map-pin.svg
GEO:40.6923526;-73.7778466
X-APPLE-STRUCTURED-LOCATION;VALUE=URI;X-ADDRESS=Robert Ross Johnson Family Life Center 172-17 Linden Blvd Jamaica NY 11434 United States;X-APPLE-RADIUS=500;X-TITLE=172-17 Linden Blvd:geo:-73.7778466,40.6923526
END:VEVENT
END:VCALENDAR