BEGIN:VCALENDAR
VERSION:2.0
PRODID:-//GreySheeters Anonymous World Services - ECPv6.15.20//NONSGML v1.0//EN
CALSCALE:GREGORIAN
METHOD:PUBLISH
X-ORIGINAL-URL:https://meetings.greysheet.org
X-WR-CALDESC:Events for GreySheeters Anonymous World Services
REFRESH-INTERVAL;VALUE=DURATION:PT1H
X-Robots-Tag:noindex
X-PUBLISHED-TTL:PT1H
BEGIN:VTIMEZONE
TZID:America/New_York
BEGIN:DAYLIGHT
TZOFFSETFROM:-0500
TZOFFSETTO:-0400
TZNAME:EDT
DTSTART:20260308T070000
END:DAYLIGHT
BEGIN:STANDARD
TZOFFSETFROM:-0400
TZOFFSETTO:-0500
TZNAME:EST
DTSTART:20261101T060000
END:STANDARD
BEGIN:DAYLIGHT
TZOFFSETFROM:-0500
TZOFFSETTO:-0400
TZNAME:EDT
DTSTART:20270314T070000
END:DAYLIGHT
BEGIN:STANDARD
TZOFFSETFROM:-0400
TZOFFSETTO:-0500
TZNAME:EST
DTSTART:20271107T060000
END:STANDARD
BEGIN:DAYLIGHT
TZOFFSETFROM:-0500
TZOFFSETTO:-0400
TZNAME:EDT
DTSTART:20280312T070000
END:DAYLIGHT
BEGIN:STANDARD
TZOFFSETFROM:-0400
TZOFFSETTO:-0500
TZNAME:EST
DTSTART:20281105T060000
END:STANDARD
BEGIN:DAYLIGHT
TZOFFSETFROM:-0500
TZOFFSETTO:-0400
TZNAME:EDT
DTSTART:20290311T070000
END:DAYLIGHT
BEGIN:STANDARD
TZOFFSETFROM:-0400
TZOFFSETTO:-0500
TZNAME:EST
DTSTART:20291104T060000
END:STANDARD
END:VTIMEZONE
BEGIN:VEVENT
DTSTART;TZID=America/New_York:20270913T183000
DTEND;TZID=America/New_York:20270913T193000
DTSTAMP:20260422T044436
CREATED:20250122T174203Z
LAST-MODIFIED:20260216T161833Z
UID:10040843-1820860200-1820863800@meetings.greysheet.org
SUMMARY:Nassau NY
DESCRIPTION:Enter through the first or second door on the front of the church. Contact to confirm meeting on holidays.
URL:https://meetings.greysheet.org/meeting/nassau-ny/2027-09-13
LOCATION:Our Saviour’s Lutheran Church\, 16 Glenwood Road\, Glen Head\, NY\, 11545\, United States
CATEGORIES:In Person
ATTACH;FMTTYPE=image/svg+xml:https://meetings.greysheet.org/wp-content/uploads/2025/05/map-pin.svg
GEO:40.8325169;-73.632011
X-APPLE-STRUCTURED-LOCATION;VALUE=URI;X-ADDRESS=Our Saviour’s Lutheran Church 16 Glenwood Road Glen Head NY 11545 United States;X-APPLE-RADIUS=500;X-TITLE=16 Glenwood Road:geo:-73.632011,40.8325169
END:VEVENT
BEGIN:VEVENT
DTSTART;TZID=America/New_York:20270920T183000
DTEND;TZID=America/New_York:20270920T193000
DTSTAMP:20260422T044436
CREATED:20250122T174203Z
LAST-MODIFIED:20260216T161833Z
UID:10040844-1821465000-1821468600@meetings.greysheet.org
SUMMARY:Nassau NY
DESCRIPTION:Enter through the first or second door on the front of the church. Contact to confirm meeting on holidays.
URL:https://meetings.greysheet.org/meeting/nassau-ny/2027-09-20
LOCATION:Our Saviour’s Lutheran Church\, 16 Glenwood Road\, Glen Head\, NY\, 11545\, United States
CATEGORIES:In Person
ATTACH;FMTTYPE=image/svg+xml:https://meetings.greysheet.org/wp-content/uploads/2025/05/map-pin.svg
GEO:40.8325169;-73.632011
X-APPLE-STRUCTURED-LOCATION;VALUE=URI;X-ADDRESS=Our Saviour’s Lutheran Church 16 Glenwood Road Glen Head NY 11545 United States;X-APPLE-RADIUS=500;X-TITLE=16 Glenwood Road:geo:-73.632011,40.8325169
END:VEVENT
BEGIN:VEVENT
DTSTART;TZID=America/New_York:20270927T183000
DTEND;TZID=America/New_York:20270927T193000
DTSTAMP:20260422T044436
CREATED:20250122T174203Z
LAST-MODIFIED:20260216T161833Z
UID:10040845-1822069800-1822073400@meetings.greysheet.org
SUMMARY:Nassau NY
DESCRIPTION:Enter through the first or second door on the front of the church. Contact to confirm meeting on holidays.
URL:https://meetings.greysheet.org/meeting/nassau-ny/2027-09-27
LOCATION:Our Saviour’s Lutheran Church\, 16 Glenwood Road\, Glen Head\, NY\, 11545\, United States
CATEGORIES:In Person
ATTACH;FMTTYPE=image/svg+xml:https://meetings.greysheet.org/wp-content/uploads/2025/05/map-pin.svg
GEO:40.8325169;-73.632011
X-APPLE-STRUCTURED-LOCATION;VALUE=URI;X-ADDRESS=Our Saviour’s Lutheran Church 16 Glenwood Road Glen Head NY 11545 United States;X-APPLE-RADIUS=500;X-TITLE=16 Glenwood Road:geo:-73.632011,40.8325169
END:VEVENT
BEGIN:VEVENT
DTSTART;TZID=America/New_York:20271004T183000
DTEND;TZID=America/New_York:20271004T193000
DTSTAMP:20260422T044436
CREATED:20250122T174203Z
LAST-MODIFIED:20260216T161833Z
UID:10040846-1822674600-1822678200@meetings.greysheet.org
SUMMARY:Nassau NY
DESCRIPTION:Enter through the first or second door on the front of the church. Contact to confirm meeting on holidays.
URL:https://meetings.greysheet.org/meeting/nassau-ny/2027-10-04
LOCATION:Our Saviour’s Lutheran Church\, 16 Glenwood Road\, Glen Head\, NY\, 11545\, United States
CATEGORIES:In Person
ATTACH;FMTTYPE=image/svg+xml:https://meetings.greysheet.org/wp-content/uploads/2025/05/map-pin.svg
GEO:40.8325169;-73.632011
X-APPLE-STRUCTURED-LOCATION;VALUE=URI;X-ADDRESS=Our Saviour’s Lutheran Church 16 Glenwood Road Glen Head NY 11545 United States;X-APPLE-RADIUS=500;X-TITLE=16 Glenwood Road:geo:-73.632011,40.8325169
END:VEVENT
BEGIN:VEVENT
DTSTART;TZID=America/New_York:20271011T183000
DTEND;TZID=America/New_York:20271011T193000
DTSTAMP:20260422T044436
CREATED:20250122T174203Z
LAST-MODIFIED:20260216T161833Z
UID:10040847-1823279400-1823283000@meetings.greysheet.org
SUMMARY:Nassau NY
DESCRIPTION:Enter through the first or second door on the front of the church. Contact to confirm meeting on holidays.
URL:https://meetings.greysheet.org/meeting/nassau-ny/2027-10-11
LOCATION:Our Saviour’s Lutheran Church\, 16 Glenwood Road\, Glen Head\, NY\, 11545\, United States
CATEGORIES:In Person
ATTACH;FMTTYPE=image/svg+xml:https://meetings.greysheet.org/wp-content/uploads/2025/05/map-pin.svg
GEO:40.8325169;-73.632011
X-APPLE-STRUCTURED-LOCATION;VALUE=URI;X-ADDRESS=Our Saviour’s Lutheran Church 16 Glenwood Road Glen Head NY 11545 United States;X-APPLE-RADIUS=500;X-TITLE=16 Glenwood Road:geo:-73.632011,40.8325169
END:VEVENT
BEGIN:VEVENT
DTSTART;TZID=America/New_York:20271018T183000
DTEND;TZID=America/New_York:20271018T193000
DTSTAMP:20260422T044436
CREATED:20250122T174203Z
LAST-MODIFIED:20260216T161833Z
UID:10040848-1823884200-1823887800@meetings.greysheet.org
SUMMARY:Nassau NY
DESCRIPTION:Enter through the first or second door on the front of the church. Contact to confirm meeting on holidays.
URL:https://meetings.greysheet.org/meeting/nassau-ny/2027-10-18
LOCATION:Our Saviour’s Lutheran Church\, 16 Glenwood Road\, Glen Head\, NY\, 11545\, United States
CATEGORIES:In Person
ATTACH;FMTTYPE=image/svg+xml:https://meetings.greysheet.org/wp-content/uploads/2025/05/map-pin.svg
GEO:40.8325169;-73.632011
X-APPLE-STRUCTURED-LOCATION;VALUE=URI;X-ADDRESS=Our Saviour’s Lutheran Church 16 Glenwood Road Glen Head NY 11545 United States;X-APPLE-RADIUS=500;X-TITLE=16 Glenwood Road:geo:-73.632011,40.8325169
END:VEVENT
BEGIN:VEVENT
DTSTART;TZID=America/New_York:20271025T183000
DTEND;TZID=America/New_York:20271025T193000
DTSTAMP:20260422T044436
CREATED:20250122T174203Z
LAST-MODIFIED:20260216T161833Z
UID:10040849-1824489000-1824492600@meetings.greysheet.org
SUMMARY:Nassau NY
DESCRIPTION:Enter through the first or second door on the front of the church. Contact to confirm meeting on holidays.
URL:https://meetings.greysheet.org/meeting/nassau-ny/2027-10-25
LOCATION:Our Saviour’s Lutheran Church\, 16 Glenwood Road\, Glen Head\, NY\, 11545\, United States
CATEGORIES:In Person
ATTACH;FMTTYPE=image/svg+xml:https://meetings.greysheet.org/wp-content/uploads/2025/05/map-pin.svg
GEO:40.8325169;-73.632011
X-APPLE-STRUCTURED-LOCATION;VALUE=URI;X-ADDRESS=Our Saviour’s Lutheran Church 16 Glenwood Road Glen Head NY 11545 United States;X-APPLE-RADIUS=500;X-TITLE=16 Glenwood Road:geo:-73.632011,40.8325169
END:VEVENT
BEGIN:VEVENT
DTSTART;TZID=America/New_York:20271101T183000
DTEND;TZID=America/New_York:20271101T193000
DTSTAMP:20260422T044436
CREATED:20250122T174203Z
LAST-MODIFIED:20260216T161833Z
UID:10040850-1825093800-1825097400@meetings.greysheet.org
SUMMARY:Nassau NY
DESCRIPTION:Enter through the first or second door on the front of the church. Contact to confirm meeting on holidays.
URL:https://meetings.greysheet.org/meeting/nassau-ny/2027-11-01
LOCATION:Our Saviour’s Lutheran Church\, 16 Glenwood Road\, Glen Head\, NY\, 11545\, United States
CATEGORIES:In Person
ATTACH;FMTTYPE=image/svg+xml:https://meetings.greysheet.org/wp-content/uploads/2025/05/map-pin.svg
GEO:40.8325169;-73.632011
X-APPLE-STRUCTURED-LOCATION;VALUE=URI;X-ADDRESS=Our Saviour’s Lutheran Church 16 Glenwood Road Glen Head NY 11545 United States;X-APPLE-RADIUS=500;X-TITLE=16 Glenwood Road:geo:-73.632011,40.8325169
END:VEVENT
BEGIN:VEVENT
DTSTART;TZID=America/New_York:20271108T183000
DTEND;TZID=America/New_York:20271108T193000
DTSTAMP:20260422T044436
CREATED:20250122T174203Z
LAST-MODIFIED:20260216T161833Z
UID:10040851-1825698600-1825702200@meetings.greysheet.org
SUMMARY:Nassau NY
DESCRIPTION:Enter through the first or second door on the front of the church. Contact to confirm meeting on holidays.
URL:https://meetings.greysheet.org/meeting/nassau-ny/2027-11-08
LOCATION:Our Saviour’s Lutheran Church\, 16 Glenwood Road\, Glen Head\, NY\, 11545\, United States
CATEGORIES:In Person
ATTACH;FMTTYPE=image/svg+xml:https://meetings.greysheet.org/wp-content/uploads/2025/05/map-pin.svg
GEO:40.8325169;-73.632011
X-APPLE-STRUCTURED-LOCATION;VALUE=URI;X-ADDRESS=Our Saviour’s Lutheran Church 16 Glenwood Road Glen Head NY 11545 United States;X-APPLE-RADIUS=500;X-TITLE=16 Glenwood Road:geo:-73.632011,40.8325169
END:VEVENT
BEGIN:VEVENT
DTSTART;TZID=America/New_York:20271115T183000
DTEND;TZID=America/New_York:20271115T193000
DTSTAMP:20260422T044436
CREATED:20250122T174203Z
LAST-MODIFIED:20260216T161833Z
UID:10040852-1826303400-1826307000@meetings.greysheet.org
SUMMARY:Nassau NY
DESCRIPTION:Enter through the first or second door on the front of the church. Contact to confirm meeting on holidays.
URL:https://meetings.greysheet.org/meeting/nassau-ny/2027-11-15
LOCATION:Our Saviour’s Lutheran Church\, 16 Glenwood Road\, Glen Head\, NY\, 11545\, United States
CATEGORIES:In Person
ATTACH;FMTTYPE=image/svg+xml:https://meetings.greysheet.org/wp-content/uploads/2025/05/map-pin.svg
GEO:40.8325169;-73.632011
X-APPLE-STRUCTURED-LOCATION;VALUE=URI;X-ADDRESS=Our Saviour’s Lutheran Church 16 Glenwood Road Glen Head NY 11545 United States;X-APPLE-RADIUS=500;X-TITLE=16 Glenwood Road:geo:-73.632011,40.8325169
END:VEVENT
BEGIN:VEVENT
DTSTART;TZID=America/New_York:20271122T183000
DTEND;TZID=America/New_York:20271122T193000
DTSTAMP:20260422T044436
CREATED:20250122T174203Z
LAST-MODIFIED:20260216T161833Z
UID:10062332-1826908200-1826911800@meetings.greysheet.org
SUMMARY:Nassau NY
DESCRIPTION:Enter through the first or second door on the front of the church. Contact to confirm meeting on holidays.
URL:https://meetings.greysheet.org/meeting/nassau-ny/2027-11-22
LOCATION:Our Saviour’s Lutheran Church\, 16 Glenwood Road\, Glen Head\, NY\, 11545\, United States
CATEGORIES:In Person
ATTACH;FMTTYPE=image/svg+xml:https://meetings.greysheet.org/wp-content/uploads/2025/05/map-pin.svg
GEO:40.8325169;-73.632011
X-APPLE-STRUCTURED-LOCATION;VALUE=URI;X-ADDRESS=Our Saviour’s Lutheran Church 16 Glenwood Road Glen Head NY 11545 United States;X-APPLE-RADIUS=500;X-TITLE=16 Glenwood Road:geo:-73.632011,40.8325169
END:VEVENT
BEGIN:VEVENT
DTSTART;TZID=America/New_York:20271129T183000
DTEND;TZID=America/New_York:20271129T193000
DTSTAMP:20260422T044436
CREATED:20250122T174203Z
LAST-MODIFIED:20260216T161833Z
UID:10062333-1827513000-1827516600@meetings.greysheet.org
SUMMARY:Nassau NY
DESCRIPTION:Enter through the first or second door on the front of the church. Contact to confirm meeting on holidays.
URL:https://meetings.greysheet.org/meeting/nassau-ny/2027-11-29
LOCATION:Our Saviour’s Lutheran Church\, 16 Glenwood Road\, Glen Head\, NY\, 11545\, United States
CATEGORIES:In Person
ATTACH;FMTTYPE=image/svg+xml:https://meetings.greysheet.org/wp-content/uploads/2025/05/map-pin.svg
GEO:40.8325169;-73.632011
X-APPLE-STRUCTURED-LOCATION;VALUE=URI;X-ADDRESS=Our Saviour’s Lutheran Church 16 Glenwood Road Glen Head NY 11545 United States;X-APPLE-RADIUS=500;X-TITLE=16 Glenwood Road:geo:-73.632011,40.8325169
END:VEVENT
BEGIN:VEVENT
DTSTART;TZID=America/New_York:20271206T183000
DTEND;TZID=America/New_York:20271206T193000
DTSTAMP:20260422T044436
CREATED:20250122T174203Z
LAST-MODIFIED:20260216T161833Z
UID:10062334-1828117800-1828121400@meetings.greysheet.org
SUMMARY:Nassau NY
DESCRIPTION:Enter through the first or second door on the front of the church. Contact to confirm meeting on holidays.
URL:https://meetings.greysheet.org/meeting/nassau-ny/2027-12-06
LOCATION:Our Saviour’s Lutheran Church\, 16 Glenwood Road\, Glen Head\, NY\, 11545\, United States
CATEGORIES:In Person
ATTACH;FMTTYPE=image/svg+xml:https://meetings.greysheet.org/wp-content/uploads/2025/05/map-pin.svg
GEO:40.8325169;-73.632011
X-APPLE-STRUCTURED-LOCATION;VALUE=URI;X-ADDRESS=Our Saviour’s Lutheran Church 16 Glenwood Road Glen Head NY 11545 United States;X-APPLE-RADIUS=500;X-TITLE=16 Glenwood Road:geo:-73.632011,40.8325169
END:VEVENT
BEGIN:VEVENT
DTSTART;TZID=America/New_York:20271213T183000
DTEND;TZID=America/New_York:20271213T193000
DTSTAMP:20260422T044436
CREATED:20250122T174203Z
LAST-MODIFIED:20260216T161833Z
UID:10062335-1828722600-1828726200@meetings.greysheet.org
SUMMARY:Nassau NY
DESCRIPTION:Enter through the first or second door on the front of the church. Contact to confirm meeting on holidays.
URL:https://meetings.greysheet.org/meeting/nassau-ny/2027-12-13
LOCATION:Our Saviour’s Lutheran Church\, 16 Glenwood Road\, Glen Head\, NY\, 11545\, United States
CATEGORIES:In Person
ATTACH;FMTTYPE=image/svg+xml:https://meetings.greysheet.org/wp-content/uploads/2025/05/map-pin.svg
GEO:40.8325169;-73.632011
X-APPLE-STRUCTURED-LOCATION;VALUE=URI;X-ADDRESS=Our Saviour’s Lutheran Church 16 Glenwood Road Glen Head NY 11545 United States;X-APPLE-RADIUS=500;X-TITLE=16 Glenwood Road:geo:-73.632011,40.8325169
END:VEVENT
BEGIN:VEVENT
DTSTART;TZID=America/New_York:20271220T183000
DTEND;TZID=America/New_York:20271220T193000
DTSTAMP:20260422T044436
CREATED:20250122T174203Z
LAST-MODIFIED:20260216T161833Z
UID:10062336-1829327400-1829331000@meetings.greysheet.org
SUMMARY:Nassau NY
DESCRIPTION:Enter through the first or second door on the front of the church. Contact to confirm meeting on holidays.
URL:https://meetings.greysheet.org/meeting/nassau-ny/2027-12-20
LOCATION:Our Saviour’s Lutheran Church\, 16 Glenwood Road\, Glen Head\, NY\, 11545\, United States
CATEGORIES:In Person
ATTACH;FMTTYPE=image/svg+xml:https://meetings.greysheet.org/wp-content/uploads/2025/05/map-pin.svg
GEO:40.8325169;-73.632011
X-APPLE-STRUCTURED-LOCATION;VALUE=URI;X-ADDRESS=Our Saviour’s Lutheran Church 16 Glenwood Road Glen Head NY 11545 United States;X-APPLE-RADIUS=500;X-TITLE=16 Glenwood Road:geo:-73.632011,40.8325169
END:VEVENT
BEGIN:VEVENT
DTSTART;TZID=America/New_York:20271227T183000
DTEND;TZID=America/New_York:20271227T193000
DTSTAMP:20260422T044436
CREATED:20250122T174203Z
LAST-MODIFIED:20260216T161833Z
UID:10062337-1829932200-1829935800@meetings.greysheet.org
SUMMARY:Nassau NY
DESCRIPTION:Enter through the first or second door on the front of the church. Contact to confirm meeting on holidays.
URL:https://meetings.greysheet.org/meeting/nassau-ny/2027-12-27
LOCATION:Our Saviour’s Lutheran Church\, 16 Glenwood Road\, Glen Head\, NY\, 11545\, United States
CATEGORIES:In Person
ATTACH;FMTTYPE=image/svg+xml:https://meetings.greysheet.org/wp-content/uploads/2025/05/map-pin.svg
GEO:40.8325169;-73.632011
X-APPLE-STRUCTURED-LOCATION;VALUE=URI;X-ADDRESS=Our Saviour’s Lutheran Church 16 Glenwood Road Glen Head NY 11545 United States;X-APPLE-RADIUS=500;X-TITLE=16 Glenwood Road:geo:-73.632011,40.8325169
END:VEVENT
BEGIN:VEVENT
DTSTART;TZID=America/New_York:20280103T183000
DTEND;TZID=America/New_York:20280103T193000
DTSTAMP:20260422T044436
CREATED:20250122T174203Z
LAST-MODIFIED:20260216T161833Z
UID:10062338-1830537000-1830540600@meetings.greysheet.org
SUMMARY:Nassau NY
DESCRIPTION:Enter through the first or second door on the front of the church. Contact to confirm meeting on holidays.
URL:https://meetings.greysheet.org/meeting/nassau-ny/2028-01-03
LOCATION:Our Saviour’s Lutheran Church\, 16 Glenwood Road\, Glen Head\, NY\, 11545\, United States
CATEGORIES:In Person
ATTACH;FMTTYPE=image/svg+xml:https://meetings.greysheet.org/wp-content/uploads/2025/05/map-pin.svg
GEO:40.8325169;-73.632011
X-APPLE-STRUCTURED-LOCATION;VALUE=URI;X-ADDRESS=Our Saviour’s Lutheran Church 16 Glenwood Road Glen Head NY 11545 United States;X-APPLE-RADIUS=500;X-TITLE=16 Glenwood Road:geo:-73.632011,40.8325169
END:VEVENT
BEGIN:VEVENT
DTSTART;TZID=America/New_York:20280110T183000
DTEND;TZID=America/New_York:20280110T193000
DTSTAMP:20260422T044436
CREATED:20250122T174203Z
LAST-MODIFIED:20260216T161833Z
UID:10062339-1831141800-1831145400@meetings.greysheet.org
SUMMARY:Nassau NY
DESCRIPTION:Enter through the first or second door on the front of the church. Contact to confirm meeting on holidays.
URL:https://meetings.greysheet.org/meeting/nassau-ny/2028-01-10
LOCATION:Our Saviour’s Lutheran Church\, 16 Glenwood Road\, Glen Head\, NY\, 11545\, United States
CATEGORIES:In Person
ATTACH;FMTTYPE=image/svg+xml:https://meetings.greysheet.org/wp-content/uploads/2025/05/map-pin.svg
GEO:40.8325169;-73.632011
X-APPLE-STRUCTURED-LOCATION;VALUE=URI;X-ADDRESS=Our Saviour’s Lutheran Church 16 Glenwood Road Glen Head NY 11545 United States;X-APPLE-RADIUS=500;X-TITLE=16 Glenwood Road:geo:-73.632011,40.8325169
END:VEVENT
BEGIN:VEVENT
DTSTART;TZID=America/New_York:20280117T183000
DTEND;TZID=America/New_York:20280117T193000
DTSTAMP:20260422T044436
CREATED:20250122T174203Z
LAST-MODIFIED:20260216T161833Z
UID:10065817-1831746600-1831750200@meetings.greysheet.org
SUMMARY:Nassau NY
DESCRIPTION:Enter through the first or second door on the front of the church. Contact to confirm meeting on holidays.
URL:https://meetings.greysheet.org/meeting/nassau-ny/2028-01-17
LOCATION:Our Saviour’s Lutheran Church\, 16 Glenwood Road\, Glen Head\, NY\, 11545\, United States
CATEGORIES:In Person
ATTACH;FMTTYPE=image/svg+xml:https://meetings.greysheet.org/wp-content/uploads/2025/05/map-pin.svg
GEO:40.8325169;-73.632011
X-APPLE-STRUCTURED-LOCATION;VALUE=URI;X-ADDRESS=Our Saviour’s Lutheran Church 16 Glenwood Road Glen Head NY 11545 United States;X-APPLE-RADIUS=500;X-TITLE=16 Glenwood Road:geo:-73.632011,40.8325169
END:VEVENT
BEGIN:VEVENT
DTSTART;TZID=America/New_York:20280124T183000
DTEND;TZID=America/New_York:20280124T193000
DTSTAMP:20260422T044436
CREATED:20250122T174203Z
LAST-MODIFIED:20260216T161833Z
UID:10065818-1832351400-1832355000@meetings.greysheet.org
SUMMARY:Nassau NY
DESCRIPTION:Enter through the first or second door on the front of the church. Contact to confirm meeting on holidays.
URL:https://meetings.greysheet.org/meeting/nassau-ny/2028-01-24
LOCATION:Our Saviour’s Lutheran Church\, 16 Glenwood Road\, Glen Head\, NY\, 11545\, United States
CATEGORIES:In Person
ATTACH;FMTTYPE=image/svg+xml:https://meetings.greysheet.org/wp-content/uploads/2025/05/map-pin.svg
GEO:40.8325169;-73.632011
X-APPLE-STRUCTURED-LOCATION;VALUE=URI;X-ADDRESS=Our Saviour’s Lutheran Church 16 Glenwood Road Glen Head NY 11545 United States;X-APPLE-RADIUS=500;X-TITLE=16 Glenwood Road:geo:-73.632011,40.8325169
END:VEVENT
BEGIN:VEVENT
DTSTART;TZID=America/New_York:20280131T183000
DTEND;TZID=America/New_York:20280131T193000
DTSTAMP:20260422T044436
CREATED:20250122T174203Z
LAST-MODIFIED:20260216T161833Z
UID:10065819-1832956200-1832959800@meetings.greysheet.org
SUMMARY:Nassau NY
DESCRIPTION:Enter through the first or second door on the front of the church. Contact to confirm meeting on holidays.
URL:https://meetings.greysheet.org/meeting/nassau-ny/2028-01-31
LOCATION:Our Saviour’s Lutheran Church\, 16 Glenwood Road\, Glen Head\, NY\, 11545\, United States
CATEGORIES:In Person
ATTACH;FMTTYPE=image/svg+xml:https://meetings.greysheet.org/wp-content/uploads/2025/05/map-pin.svg
GEO:40.8325169;-73.632011
X-APPLE-STRUCTURED-LOCATION;VALUE=URI;X-ADDRESS=Our Saviour’s Lutheran Church 16 Glenwood Road Glen Head NY 11545 United States;X-APPLE-RADIUS=500;X-TITLE=16 Glenwood Road:geo:-73.632011,40.8325169
END:VEVENT
BEGIN:VEVENT
DTSTART;TZID=America/New_York:20280207T183000
DTEND;TZID=America/New_York:20280207T193000
DTSTAMP:20260422T044436
CREATED:20250122T174203Z
LAST-MODIFIED:20260216T161833Z
UID:10065820-1833561000-1833564600@meetings.greysheet.org
SUMMARY:Nassau NY
DESCRIPTION:Enter through the first or second door on the front of the church. Contact to confirm meeting on holidays.
URL:https://meetings.greysheet.org/meeting/nassau-ny/2028-02-07
LOCATION:Our Saviour’s Lutheran Church\, 16 Glenwood Road\, Glen Head\, NY\, 11545\, United States
CATEGORIES:In Person
ATTACH;FMTTYPE=image/svg+xml:https://meetings.greysheet.org/wp-content/uploads/2025/05/map-pin.svg
GEO:40.8325169;-73.632011
X-APPLE-STRUCTURED-LOCATION;VALUE=URI;X-ADDRESS=Our Saviour’s Lutheran Church 16 Glenwood Road Glen Head NY 11545 United States;X-APPLE-RADIUS=500;X-TITLE=16 Glenwood Road:geo:-73.632011,40.8325169
END:VEVENT
BEGIN:VEVENT
DTSTART;TZID=America/New_York:20280214T183000
DTEND;TZID=America/New_York:20280214T193000
DTSTAMP:20260422T044436
CREATED:20250122T174203Z
LAST-MODIFIED:20260216T161833Z
UID:10065821-1834165800-1834169400@meetings.greysheet.org
SUMMARY:Nassau NY
DESCRIPTION:Enter through the first or second door on the front of the church. Contact to confirm meeting on holidays.
URL:https://meetings.greysheet.org/meeting/nassau-ny/2028-02-14
LOCATION:Our Saviour’s Lutheran Church\, 16 Glenwood Road\, Glen Head\, NY\, 11545\, United States
CATEGORIES:In Person
ATTACH;FMTTYPE=image/svg+xml:https://meetings.greysheet.org/wp-content/uploads/2025/05/map-pin.svg
GEO:40.8325169;-73.632011
X-APPLE-STRUCTURED-LOCATION;VALUE=URI;X-ADDRESS=Our Saviour’s Lutheran Church 16 Glenwood Road Glen Head NY 11545 United States;X-APPLE-RADIUS=500;X-TITLE=16 Glenwood Road:geo:-73.632011,40.8325169
END:VEVENT
END:VCALENDAR