BEGIN:VCALENDAR
VERSION:2.0
PRODID:-//GreySheeters Anonymous World Services - ECPv6.15.20//NONSGML v1.0//EN
CALSCALE:GREGORIAN
METHOD:PUBLISH
X-ORIGINAL-URL:https://meetings.greysheet.org
X-WR-CALDESC:Events for GreySheeters Anonymous World Services
REFRESH-INTERVAL;VALUE=DURATION:PT1H
X-Robots-Tag:noindex
X-PUBLISHED-TTL:PT1H
BEGIN:VTIMEZONE
TZID:America/New_York
BEGIN:DAYLIGHT
TZOFFSETFROM:-0500
TZOFFSETTO:-0400
TZNAME:EDT
DTSTART:20260308T070000
END:DAYLIGHT
BEGIN:STANDARD
TZOFFSETFROM:-0400
TZOFFSETTO:-0500
TZNAME:EST
DTSTART:20261101T060000
END:STANDARD
BEGIN:DAYLIGHT
TZOFFSETFROM:-0500
TZOFFSETTO:-0400
TZNAME:EDT
DTSTART:20270314T070000
END:DAYLIGHT
BEGIN:STANDARD
TZOFFSETFROM:-0400
TZOFFSETTO:-0500
TZNAME:EST
DTSTART:20271107T060000
END:STANDARD
BEGIN:DAYLIGHT
TZOFFSETFROM:-0500
TZOFFSETTO:-0400
TZNAME:EDT
DTSTART:20280312T070000
END:DAYLIGHT
BEGIN:STANDARD
TZOFFSETFROM:-0400
TZOFFSETTO:-0500
TZNAME:EST
DTSTART:20281105T060000
END:STANDARD
BEGIN:DAYLIGHT
TZOFFSETFROM:-0500
TZOFFSETTO:-0400
TZNAME:EDT
DTSTART:20290311T070000
END:DAYLIGHT
BEGIN:STANDARD
TZOFFSETFROM:-0400
TZOFFSETTO:-0500
TZNAME:EST
DTSTART:20291104T060000
END:STANDARD
END:VTIMEZONE
BEGIN:VEVENT
DTSTART;TZID=America/New_York:20270619T103000
DTEND;TZID=America/New_York:20270619T113000
DTSTAMP:20260424T090224
CREATED:20250122T174203Z
LAST-MODIFIED:20260216T151724Z
UID:10048125-1813401000-1813404600@meetings.greysheet.org
SUMMARY:NMW NJ
DESCRIPTION:
URL:https://meetings.greysheet.org/meeting/nmw/2027-06-19
LOCATION:Our Lady of Sorrows\, 217 Prospect St\, South Orange\, NJ\, 07079\, United States
CATEGORIES:In Person
ATTACH;FMTTYPE=image/svg+xml:https://meetings.greysheet.org/wp-content/uploads/2025/05/map-pin.svg
GEO:40.7415079;-74.2590547
X-APPLE-STRUCTURED-LOCATION;VALUE=URI;X-ADDRESS=Our Lady of Sorrows 217 Prospect St South Orange NJ 07079 United States;X-APPLE-RADIUS=500;X-TITLE=217 Prospect St:geo:-74.2590547,40.7415079
END:VEVENT
BEGIN:VEVENT
DTSTART;TZID=America/New_York:20270626T103000
DTEND;TZID=America/New_York:20270626T113000
DTSTAMP:20260424T090224
CREATED:20250122T174203Z
LAST-MODIFIED:20260216T151724Z
UID:10048126-1814005800-1814009400@meetings.greysheet.org
SUMMARY:NMW NJ
DESCRIPTION:
URL:https://meetings.greysheet.org/meeting/nmw/2027-06-26
LOCATION:Our Lady of Sorrows\, 217 Prospect St\, South Orange\, NJ\, 07079\, United States
CATEGORIES:In Person
ATTACH;FMTTYPE=image/svg+xml:https://meetings.greysheet.org/wp-content/uploads/2025/05/map-pin.svg
GEO:40.7415079;-74.2590547
X-APPLE-STRUCTURED-LOCATION;VALUE=URI;X-ADDRESS=Our Lady of Sorrows 217 Prospect St South Orange NJ 07079 United States;X-APPLE-RADIUS=500;X-TITLE=217 Prospect St:geo:-74.2590547,40.7415079
END:VEVENT
BEGIN:VEVENT
DTSTART;TZID=America/New_York:20270703T103000
DTEND;TZID=America/New_York:20270703T113000
DTSTAMP:20260424T090224
CREATED:20250122T174203Z
LAST-MODIFIED:20260216T151724Z
UID:10048127-1814610600-1814614200@meetings.greysheet.org
SUMMARY:NMW NJ
DESCRIPTION:
URL:https://meetings.greysheet.org/meeting/nmw/2027-07-03
LOCATION:Our Lady of Sorrows\, 217 Prospect St\, South Orange\, NJ\, 07079\, United States
CATEGORIES:In Person
ATTACH;FMTTYPE=image/svg+xml:https://meetings.greysheet.org/wp-content/uploads/2025/05/map-pin.svg
GEO:40.7415079;-74.2590547
X-APPLE-STRUCTURED-LOCATION;VALUE=URI;X-ADDRESS=Our Lady of Sorrows 217 Prospect St South Orange NJ 07079 United States;X-APPLE-RADIUS=500;X-TITLE=217 Prospect St:geo:-74.2590547,40.7415079
END:VEVENT
BEGIN:VEVENT
DTSTART;TZID=America/New_York:20270710T103000
DTEND;TZID=America/New_York:20270710T113000
DTSTAMP:20260424T090224
CREATED:20250122T174203Z
LAST-MODIFIED:20260216T151724Z
UID:10048128-1815215400-1815219000@meetings.greysheet.org
SUMMARY:NMW NJ
DESCRIPTION:
URL:https://meetings.greysheet.org/meeting/nmw/2027-07-10
LOCATION:Our Lady of Sorrows\, 217 Prospect St\, South Orange\, NJ\, 07079\, United States
CATEGORIES:In Person
ATTACH;FMTTYPE=image/svg+xml:https://meetings.greysheet.org/wp-content/uploads/2025/05/map-pin.svg
GEO:40.7415079;-74.2590547
X-APPLE-STRUCTURED-LOCATION;VALUE=URI;X-ADDRESS=Our Lady of Sorrows 217 Prospect St South Orange NJ 07079 United States;X-APPLE-RADIUS=500;X-TITLE=217 Prospect St:geo:-74.2590547,40.7415079
END:VEVENT
BEGIN:VEVENT
DTSTART;TZID=America/New_York:20270717T103000
DTEND;TZID=America/New_York:20270717T113000
DTSTAMP:20260424T090224
CREATED:20250122T174203Z
LAST-MODIFIED:20260216T151724Z
UID:10048129-1815820200-1815823800@meetings.greysheet.org
SUMMARY:NMW NJ
DESCRIPTION:
URL:https://meetings.greysheet.org/meeting/nmw/2027-07-17
LOCATION:Our Lady of Sorrows\, 217 Prospect St\, South Orange\, NJ\, 07079\, United States
CATEGORIES:In Person
ATTACH;FMTTYPE=image/svg+xml:https://meetings.greysheet.org/wp-content/uploads/2025/05/map-pin.svg
GEO:40.7415079;-74.2590547
X-APPLE-STRUCTURED-LOCATION;VALUE=URI;X-ADDRESS=Our Lady of Sorrows 217 Prospect St South Orange NJ 07079 United States;X-APPLE-RADIUS=500;X-TITLE=217 Prospect St:geo:-74.2590547,40.7415079
END:VEVENT
BEGIN:VEVENT
DTSTART;TZID=America/New_York:20270724T103000
DTEND;TZID=America/New_York:20270724T113000
DTSTAMP:20260424T090224
CREATED:20250122T174203Z
LAST-MODIFIED:20260216T151724Z
UID:10048130-1816425000-1816428600@meetings.greysheet.org
SUMMARY:NMW NJ
DESCRIPTION:
URL:https://meetings.greysheet.org/meeting/nmw/2027-07-24
LOCATION:Our Lady of Sorrows\, 217 Prospect St\, South Orange\, NJ\, 07079\, United States
CATEGORIES:In Person
ATTACH;FMTTYPE=image/svg+xml:https://meetings.greysheet.org/wp-content/uploads/2025/05/map-pin.svg
GEO:40.7415079;-74.2590547
X-APPLE-STRUCTURED-LOCATION;VALUE=URI;X-ADDRESS=Our Lady of Sorrows 217 Prospect St South Orange NJ 07079 United States;X-APPLE-RADIUS=500;X-TITLE=217 Prospect St:geo:-74.2590547,40.7415079
END:VEVENT
BEGIN:VEVENT
DTSTART;TZID=America/New_York:20270731T103000
DTEND;TZID=America/New_York:20270731T113000
DTSTAMP:20260424T090224
CREATED:20250122T174203Z
LAST-MODIFIED:20260216T151724Z
UID:10048131-1817029800-1817033400@meetings.greysheet.org
SUMMARY:NMW NJ
DESCRIPTION:
URL:https://meetings.greysheet.org/meeting/nmw/2027-07-31
LOCATION:Our Lady of Sorrows\, 217 Prospect St\, South Orange\, NJ\, 07079\, United States
CATEGORIES:In Person
ATTACH;FMTTYPE=image/svg+xml:https://meetings.greysheet.org/wp-content/uploads/2025/05/map-pin.svg
GEO:40.7415079;-74.2590547
X-APPLE-STRUCTURED-LOCATION;VALUE=URI;X-ADDRESS=Our Lady of Sorrows 217 Prospect St South Orange NJ 07079 United States;X-APPLE-RADIUS=500;X-TITLE=217 Prospect St:geo:-74.2590547,40.7415079
END:VEVENT
BEGIN:VEVENT
DTSTART;TZID=America/New_York:20270807T103000
DTEND;TZID=America/New_York:20270807T113000
DTSTAMP:20260424T090224
CREATED:20250122T174203Z
LAST-MODIFIED:20260216T151724Z
UID:10048132-1817634600-1817638200@meetings.greysheet.org
SUMMARY:NMW NJ
DESCRIPTION:
URL:https://meetings.greysheet.org/meeting/nmw/2027-08-07
LOCATION:Our Lady of Sorrows\, 217 Prospect St\, South Orange\, NJ\, 07079\, United States
CATEGORIES:In Person
ATTACH;FMTTYPE=image/svg+xml:https://meetings.greysheet.org/wp-content/uploads/2025/05/map-pin.svg
GEO:40.7415079;-74.2590547
X-APPLE-STRUCTURED-LOCATION;VALUE=URI;X-ADDRESS=Our Lady of Sorrows 217 Prospect St South Orange NJ 07079 United States;X-APPLE-RADIUS=500;X-TITLE=217 Prospect St:geo:-74.2590547,40.7415079
END:VEVENT
BEGIN:VEVENT
DTSTART;TZID=America/New_York:20270814T103000
DTEND;TZID=America/New_York:20270814T113000
DTSTAMP:20260424T090224
CREATED:20250122T174203Z
LAST-MODIFIED:20260216T151724Z
UID:10048133-1818239400-1818243000@meetings.greysheet.org
SUMMARY:NMW NJ
DESCRIPTION:
URL:https://meetings.greysheet.org/meeting/nmw/2027-08-14
LOCATION:Our Lady of Sorrows\, 217 Prospect St\, South Orange\, NJ\, 07079\, United States
CATEGORIES:In Person
ATTACH;FMTTYPE=image/svg+xml:https://meetings.greysheet.org/wp-content/uploads/2025/05/map-pin.svg
GEO:40.7415079;-74.2590547
X-APPLE-STRUCTURED-LOCATION;VALUE=URI;X-ADDRESS=Our Lady of Sorrows 217 Prospect St South Orange NJ 07079 United States;X-APPLE-RADIUS=500;X-TITLE=217 Prospect St:geo:-74.2590547,40.7415079
END:VEVENT
BEGIN:VEVENT
DTSTART;TZID=America/New_York:20270821T103000
DTEND;TZID=America/New_York:20270821T113000
DTSTAMP:20260424T090224
CREATED:20250122T174203Z
LAST-MODIFIED:20260216T151724Z
UID:10048134-1818844200-1818847800@meetings.greysheet.org
SUMMARY:NMW NJ
DESCRIPTION:
URL:https://meetings.greysheet.org/meeting/nmw/2027-08-21
LOCATION:Our Lady of Sorrows\, 217 Prospect St\, South Orange\, NJ\, 07079\, United States
CATEGORIES:In Person
ATTACH;FMTTYPE=image/svg+xml:https://meetings.greysheet.org/wp-content/uploads/2025/05/map-pin.svg
GEO:40.7415079;-74.2590547
X-APPLE-STRUCTURED-LOCATION;VALUE=URI;X-ADDRESS=Our Lady of Sorrows 217 Prospect St South Orange NJ 07079 United States;X-APPLE-RADIUS=500;X-TITLE=217 Prospect St:geo:-74.2590547,40.7415079
END:VEVENT
BEGIN:VEVENT
DTSTART;TZID=America/New_York:20270828T103000
DTEND;TZID=America/New_York:20270828T113000
DTSTAMP:20260424T090224
CREATED:20250122T174203Z
LAST-MODIFIED:20260216T151724Z
UID:10048135-1819449000-1819452600@meetings.greysheet.org
SUMMARY:NMW NJ
DESCRIPTION:
URL:https://meetings.greysheet.org/meeting/nmw/2027-08-28
LOCATION:Our Lady of Sorrows\, 217 Prospect St\, South Orange\, NJ\, 07079\, United States
CATEGORIES:In Person
ATTACH;FMTTYPE=image/svg+xml:https://meetings.greysheet.org/wp-content/uploads/2025/05/map-pin.svg
GEO:40.7415079;-74.2590547
X-APPLE-STRUCTURED-LOCATION;VALUE=URI;X-ADDRESS=Our Lady of Sorrows 217 Prospect St South Orange NJ 07079 United States;X-APPLE-RADIUS=500;X-TITLE=217 Prospect St:geo:-74.2590547,40.7415079
END:VEVENT
BEGIN:VEVENT
DTSTART;TZID=America/New_York:20270904T103000
DTEND;TZID=America/New_York:20270904T113000
DTSTAMP:20260424T090224
CREATED:20250122T174203Z
LAST-MODIFIED:20260216T151724Z
UID:10048136-1820053800-1820057400@meetings.greysheet.org
SUMMARY:NMW NJ
DESCRIPTION:
URL:https://meetings.greysheet.org/meeting/nmw/2027-09-04
LOCATION:Our Lady of Sorrows\, 217 Prospect St\, South Orange\, NJ\, 07079\, United States
CATEGORIES:In Person
ATTACH;FMTTYPE=image/svg+xml:https://meetings.greysheet.org/wp-content/uploads/2025/05/map-pin.svg
GEO:40.7415079;-74.2590547
X-APPLE-STRUCTURED-LOCATION;VALUE=URI;X-ADDRESS=Our Lady of Sorrows 217 Prospect St South Orange NJ 07079 United States;X-APPLE-RADIUS=500;X-TITLE=217 Prospect St:geo:-74.2590547,40.7415079
END:VEVENT
BEGIN:VEVENT
DTSTART;TZID=America/New_York:20270911T103000
DTEND;TZID=America/New_York:20270911T113000
DTSTAMP:20260424T090224
CREATED:20250122T174203Z
LAST-MODIFIED:20260216T151724Z
UID:10048137-1820658600-1820662200@meetings.greysheet.org
SUMMARY:NMW NJ
DESCRIPTION:
URL:https://meetings.greysheet.org/meeting/nmw/2027-09-11
LOCATION:Our Lady of Sorrows\, 217 Prospect St\, South Orange\, NJ\, 07079\, United States
CATEGORIES:In Person
ATTACH;FMTTYPE=image/svg+xml:https://meetings.greysheet.org/wp-content/uploads/2025/05/map-pin.svg
GEO:40.7415079;-74.2590547
X-APPLE-STRUCTURED-LOCATION;VALUE=URI;X-ADDRESS=Our Lady of Sorrows 217 Prospect St South Orange NJ 07079 United States;X-APPLE-RADIUS=500;X-TITLE=217 Prospect St:geo:-74.2590547,40.7415079
END:VEVENT
BEGIN:VEVENT
DTSTART;TZID=America/New_York:20270918T103000
DTEND;TZID=America/New_York:20270918T113000
DTSTAMP:20260424T090224
CREATED:20250122T174203Z
LAST-MODIFIED:20260216T151724Z
UID:10048138-1821263400-1821267000@meetings.greysheet.org
SUMMARY:NMW NJ
DESCRIPTION:
URL:https://meetings.greysheet.org/meeting/nmw/2027-09-18
LOCATION:Our Lady of Sorrows\, 217 Prospect St\, South Orange\, NJ\, 07079\, United States
CATEGORIES:In Person
ATTACH;FMTTYPE=image/svg+xml:https://meetings.greysheet.org/wp-content/uploads/2025/05/map-pin.svg
GEO:40.7415079;-74.2590547
X-APPLE-STRUCTURED-LOCATION;VALUE=URI;X-ADDRESS=Our Lady of Sorrows 217 Prospect St South Orange NJ 07079 United States;X-APPLE-RADIUS=500;X-TITLE=217 Prospect St:geo:-74.2590547,40.7415079
END:VEVENT
BEGIN:VEVENT
DTSTART;TZID=America/New_York:20270925T103000
DTEND;TZID=America/New_York:20270925T113000
DTSTAMP:20260424T090224
CREATED:20250122T174203Z
LAST-MODIFIED:20260216T151724Z
UID:10048139-1821868200-1821871800@meetings.greysheet.org
SUMMARY:NMW NJ
DESCRIPTION:
URL:https://meetings.greysheet.org/meeting/nmw/2027-09-25
LOCATION:Our Lady of Sorrows\, 217 Prospect St\, South Orange\, NJ\, 07079\, United States
CATEGORIES:In Person
ATTACH;FMTTYPE=image/svg+xml:https://meetings.greysheet.org/wp-content/uploads/2025/05/map-pin.svg
GEO:40.7415079;-74.2590547
X-APPLE-STRUCTURED-LOCATION;VALUE=URI;X-ADDRESS=Our Lady of Sorrows 217 Prospect St South Orange NJ 07079 United States;X-APPLE-RADIUS=500;X-TITLE=217 Prospect St:geo:-74.2590547,40.7415079
END:VEVENT
BEGIN:VEVENT
DTSTART;TZID=America/New_York:20271002T103000
DTEND;TZID=America/New_York:20271002T113000
DTSTAMP:20260424T090224
CREATED:20250122T174203Z
LAST-MODIFIED:20260216T151724Z
UID:10048140-1822473000-1822476600@meetings.greysheet.org
SUMMARY:NMW NJ
DESCRIPTION:
URL:https://meetings.greysheet.org/meeting/nmw/2027-10-02
LOCATION:Our Lady of Sorrows\, 217 Prospect St\, South Orange\, NJ\, 07079\, United States
CATEGORIES:In Person
ATTACH;FMTTYPE=image/svg+xml:https://meetings.greysheet.org/wp-content/uploads/2025/05/map-pin.svg
GEO:40.7415079;-74.2590547
X-APPLE-STRUCTURED-LOCATION;VALUE=URI;X-ADDRESS=Our Lady of Sorrows 217 Prospect St South Orange NJ 07079 United States;X-APPLE-RADIUS=500;X-TITLE=217 Prospect St:geo:-74.2590547,40.7415079
END:VEVENT
BEGIN:VEVENT
DTSTART;TZID=America/New_York:20271009T103000
DTEND;TZID=America/New_York:20271009T113000
DTSTAMP:20260424T090224
CREATED:20250122T174203Z
LAST-MODIFIED:20260216T151724Z
UID:10048141-1823077800-1823081400@meetings.greysheet.org
SUMMARY:NMW NJ
DESCRIPTION:
URL:https://meetings.greysheet.org/meeting/nmw/2027-10-09
LOCATION:Our Lady of Sorrows\, 217 Prospect St\, South Orange\, NJ\, 07079\, United States
CATEGORIES:In Person
ATTACH;FMTTYPE=image/svg+xml:https://meetings.greysheet.org/wp-content/uploads/2025/05/map-pin.svg
GEO:40.7415079;-74.2590547
X-APPLE-STRUCTURED-LOCATION;VALUE=URI;X-ADDRESS=Our Lady of Sorrows 217 Prospect St South Orange NJ 07079 United States;X-APPLE-RADIUS=500;X-TITLE=217 Prospect St:geo:-74.2590547,40.7415079
END:VEVENT
BEGIN:VEVENT
DTSTART;TZID=America/New_York:20271016T103000
DTEND;TZID=America/New_York:20271016T113000
DTSTAMP:20260424T090224
CREATED:20250122T174203Z
LAST-MODIFIED:20260216T151724Z
UID:10048142-1823682600-1823686200@meetings.greysheet.org
SUMMARY:NMW NJ
DESCRIPTION:
URL:https://meetings.greysheet.org/meeting/nmw/2027-10-16
LOCATION:Our Lady of Sorrows\, 217 Prospect St\, South Orange\, NJ\, 07079\, United States
CATEGORIES:In Person
ATTACH;FMTTYPE=image/svg+xml:https://meetings.greysheet.org/wp-content/uploads/2025/05/map-pin.svg
GEO:40.7415079;-74.2590547
X-APPLE-STRUCTURED-LOCATION;VALUE=URI;X-ADDRESS=Our Lady of Sorrows 217 Prospect St South Orange NJ 07079 United States;X-APPLE-RADIUS=500;X-TITLE=217 Prospect St:geo:-74.2590547,40.7415079
END:VEVENT
BEGIN:VEVENT
DTSTART;TZID=America/New_York:20271023T103000
DTEND;TZID=America/New_York:20271023T113000
DTSTAMP:20260424T090224
CREATED:20250122T174203Z
LAST-MODIFIED:20260216T151724Z
UID:10048143-1824287400-1824291000@meetings.greysheet.org
SUMMARY:NMW NJ
DESCRIPTION:
URL:https://meetings.greysheet.org/meeting/nmw/2027-10-23
LOCATION:Our Lady of Sorrows\, 217 Prospect St\, South Orange\, NJ\, 07079\, United States
CATEGORIES:In Person
ATTACH;FMTTYPE=image/svg+xml:https://meetings.greysheet.org/wp-content/uploads/2025/05/map-pin.svg
GEO:40.7415079;-74.2590547
X-APPLE-STRUCTURED-LOCATION;VALUE=URI;X-ADDRESS=Our Lady of Sorrows 217 Prospect St South Orange NJ 07079 United States;X-APPLE-RADIUS=500;X-TITLE=217 Prospect St:geo:-74.2590547,40.7415079
END:VEVENT
BEGIN:VEVENT
DTSTART;TZID=America/New_York:20271030T103000
DTEND;TZID=America/New_York:20271030T113000
DTSTAMP:20260424T090224
CREATED:20250122T174203Z
LAST-MODIFIED:20260216T151724Z
UID:10048144-1824892200-1824895800@meetings.greysheet.org
SUMMARY:NMW NJ
DESCRIPTION:
URL:https://meetings.greysheet.org/meeting/nmw/2027-10-30
LOCATION:Our Lady of Sorrows\, 217 Prospect St\, South Orange\, NJ\, 07079\, United States
CATEGORIES:In Person
ATTACH;FMTTYPE=image/svg+xml:https://meetings.greysheet.org/wp-content/uploads/2025/05/map-pin.svg
GEO:40.7415079;-74.2590547
X-APPLE-STRUCTURED-LOCATION;VALUE=URI;X-ADDRESS=Our Lady of Sorrows 217 Prospect St South Orange NJ 07079 United States;X-APPLE-RADIUS=500;X-TITLE=217 Prospect St:geo:-74.2590547,40.7415079
END:VEVENT
BEGIN:VEVENT
DTSTART;TZID=America/New_York:20271106T103000
DTEND;TZID=America/New_York:20271106T113000
DTSTAMP:20260424T090224
CREATED:20250122T174203Z
LAST-MODIFIED:20260216T151724Z
UID:10048145-1825497000-1825500600@meetings.greysheet.org
SUMMARY:NMW NJ
DESCRIPTION:
URL:https://meetings.greysheet.org/meeting/nmw/2027-11-06
LOCATION:Our Lady of Sorrows\, 217 Prospect St\, South Orange\, NJ\, 07079\, United States
CATEGORIES:In Person
ATTACH;FMTTYPE=image/svg+xml:https://meetings.greysheet.org/wp-content/uploads/2025/05/map-pin.svg
GEO:40.7415079;-74.2590547
X-APPLE-STRUCTURED-LOCATION;VALUE=URI;X-ADDRESS=Our Lady of Sorrows 217 Prospect St South Orange NJ 07079 United States;X-APPLE-RADIUS=500;X-TITLE=217 Prospect St:geo:-74.2590547,40.7415079
END:VEVENT
BEGIN:VEVENT
DTSTART;TZID=America/New_York:20271113T103000
DTEND;TZID=America/New_York:20271113T113000
DTSTAMP:20260424T090224
CREATED:20250122T174203Z
LAST-MODIFIED:20260216T151724Z
UID:10048146-1826101800-1826105400@meetings.greysheet.org
SUMMARY:NMW NJ
DESCRIPTION:
URL:https://meetings.greysheet.org/meeting/nmw/2027-11-13
LOCATION:Our Lady of Sorrows\, 217 Prospect St\, South Orange\, NJ\, 07079\, United States
CATEGORIES:In Person
ATTACH;FMTTYPE=image/svg+xml:https://meetings.greysheet.org/wp-content/uploads/2025/05/map-pin.svg
GEO:40.7415079;-74.2590547
X-APPLE-STRUCTURED-LOCATION;VALUE=URI;X-ADDRESS=Our Lady of Sorrows 217 Prospect St South Orange NJ 07079 United States;X-APPLE-RADIUS=500;X-TITLE=217 Prospect St:geo:-74.2590547,40.7415079
END:VEVENT
BEGIN:VEVENT
DTSTART;TZID=America/New_York:20271120T103000
DTEND;TZID=America/New_York:20271120T113000
DTSTAMP:20260424T090224
CREATED:20250122T174203Z
LAST-MODIFIED:20260216T151724Z
UID:10062321-1826706600-1826710200@meetings.greysheet.org
SUMMARY:NMW NJ
DESCRIPTION:
URL:https://meetings.greysheet.org/meeting/nmw/2027-11-20
LOCATION:Our Lady of Sorrows\, 217 Prospect St\, South Orange\, NJ\, 07079\, United States
CATEGORIES:In Person
ATTACH;FMTTYPE=image/svg+xml:https://meetings.greysheet.org/wp-content/uploads/2025/05/map-pin.svg
GEO:40.7415079;-74.2590547
X-APPLE-STRUCTURED-LOCATION;VALUE=URI;X-ADDRESS=Our Lady of Sorrows 217 Prospect St South Orange NJ 07079 United States;X-APPLE-RADIUS=500;X-TITLE=217 Prospect St:geo:-74.2590547,40.7415079
END:VEVENT
BEGIN:VEVENT
DTSTART;TZID=America/New_York:20271127T103000
DTEND;TZID=America/New_York:20271127T113000
DTSTAMP:20260424T090224
CREATED:20250122T174203Z
LAST-MODIFIED:20260216T151724Z
UID:10062322-1827311400-1827315000@meetings.greysheet.org
SUMMARY:NMW NJ
DESCRIPTION:
URL:https://meetings.greysheet.org/meeting/nmw/2027-11-27
LOCATION:Our Lady of Sorrows\, 217 Prospect St\, South Orange\, NJ\, 07079\, United States
CATEGORIES:In Person
ATTACH;FMTTYPE=image/svg+xml:https://meetings.greysheet.org/wp-content/uploads/2025/05/map-pin.svg
GEO:40.7415079;-74.2590547
X-APPLE-STRUCTURED-LOCATION;VALUE=URI;X-ADDRESS=Our Lady of Sorrows 217 Prospect St South Orange NJ 07079 United States;X-APPLE-RADIUS=500;X-TITLE=217 Prospect St:geo:-74.2590547,40.7415079
END:VEVENT
BEGIN:VEVENT
DTSTART;TZID=America/New_York:20271204T103000
DTEND;TZID=America/New_York:20271204T113000
DTSTAMP:20260424T090224
CREATED:20250122T174203Z
LAST-MODIFIED:20260216T151724Z
UID:10062323-1827916200-1827919800@meetings.greysheet.org
SUMMARY:NMW NJ
DESCRIPTION:
URL:https://meetings.greysheet.org/meeting/nmw/2027-12-04
LOCATION:Our Lady of Sorrows\, 217 Prospect St\, South Orange\, NJ\, 07079\, United States
CATEGORIES:In Person
ATTACH;FMTTYPE=image/svg+xml:https://meetings.greysheet.org/wp-content/uploads/2025/05/map-pin.svg
GEO:40.7415079;-74.2590547
X-APPLE-STRUCTURED-LOCATION;VALUE=URI;X-ADDRESS=Our Lady of Sorrows 217 Prospect St South Orange NJ 07079 United States;X-APPLE-RADIUS=500;X-TITLE=217 Prospect St:geo:-74.2590547,40.7415079
END:VEVENT
BEGIN:VEVENT
DTSTART;TZID=America/New_York:20271211T103000
DTEND;TZID=America/New_York:20271211T113000
DTSTAMP:20260424T090224
CREATED:20250122T174203Z
LAST-MODIFIED:20260216T151724Z
UID:10062324-1828521000-1828524600@meetings.greysheet.org
SUMMARY:NMW NJ
DESCRIPTION:
URL:https://meetings.greysheet.org/meeting/nmw/2027-12-11
LOCATION:Our Lady of Sorrows\, 217 Prospect St\, South Orange\, NJ\, 07079\, United States
CATEGORIES:In Person
ATTACH;FMTTYPE=image/svg+xml:https://meetings.greysheet.org/wp-content/uploads/2025/05/map-pin.svg
GEO:40.7415079;-74.2590547
X-APPLE-STRUCTURED-LOCATION;VALUE=URI;X-ADDRESS=Our Lady of Sorrows 217 Prospect St South Orange NJ 07079 United States;X-APPLE-RADIUS=500;X-TITLE=217 Prospect St:geo:-74.2590547,40.7415079
END:VEVENT
BEGIN:VEVENT
DTSTART;TZID=America/New_York:20271218T103000
DTEND;TZID=America/New_York:20271218T113000
DTSTAMP:20260424T090224
CREATED:20250122T174203Z
LAST-MODIFIED:20260216T151724Z
UID:10062325-1829125800-1829129400@meetings.greysheet.org
SUMMARY:NMW NJ
DESCRIPTION:
URL:https://meetings.greysheet.org/meeting/nmw/2027-12-18
LOCATION:Our Lady of Sorrows\, 217 Prospect St\, South Orange\, NJ\, 07079\, United States
CATEGORIES:In Person
ATTACH;FMTTYPE=image/svg+xml:https://meetings.greysheet.org/wp-content/uploads/2025/05/map-pin.svg
GEO:40.7415079;-74.2590547
X-APPLE-STRUCTURED-LOCATION;VALUE=URI;X-ADDRESS=Our Lady of Sorrows 217 Prospect St South Orange NJ 07079 United States;X-APPLE-RADIUS=500;X-TITLE=217 Prospect St:geo:-74.2590547,40.7415079
END:VEVENT
BEGIN:VEVENT
DTSTART;TZID=America/New_York:20271225T103000
DTEND;TZID=America/New_York:20271225T113000
DTSTAMP:20260424T090224
CREATED:20250122T174203Z
LAST-MODIFIED:20260216T151724Z
UID:10062326-1829730600-1829734200@meetings.greysheet.org
SUMMARY:NMW NJ
DESCRIPTION:
URL:https://meetings.greysheet.org/meeting/nmw/2027-12-25
LOCATION:Our Lady of Sorrows\, 217 Prospect St\, South Orange\, NJ\, 07079\, United States
CATEGORIES:In Person
ATTACH;FMTTYPE=image/svg+xml:https://meetings.greysheet.org/wp-content/uploads/2025/05/map-pin.svg
GEO:40.7415079;-74.2590547
X-APPLE-STRUCTURED-LOCATION;VALUE=URI;X-ADDRESS=Our Lady of Sorrows 217 Prospect St South Orange NJ 07079 United States;X-APPLE-RADIUS=500;X-TITLE=217 Prospect St:geo:-74.2590547,40.7415079
END:VEVENT
BEGIN:VEVENT
DTSTART;TZID=America/New_York:20280101T103000
DTEND;TZID=America/New_York:20280101T113000
DTSTAMP:20260424T090224
CREATED:20250122T174203Z
LAST-MODIFIED:20260216T151724Z
UID:10062327-1830335400-1830339000@meetings.greysheet.org
SUMMARY:NMW NJ
DESCRIPTION:
URL:https://meetings.greysheet.org/meeting/nmw/2028-01-01
LOCATION:Our Lady of Sorrows\, 217 Prospect St\, South Orange\, NJ\, 07079\, United States
CATEGORIES:In Person
ATTACH;FMTTYPE=image/svg+xml:https://meetings.greysheet.org/wp-content/uploads/2025/05/map-pin.svg
GEO:40.7415079;-74.2590547
X-APPLE-STRUCTURED-LOCATION;VALUE=URI;X-ADDRESS=Our Lady of Sorrows 217 Prospect St South Orange NJ 07079 United States;X-APPLE-RADIUS=500;X-TITLE=217 Prospect St:geo:-74.2590547,40.7415079
END:VEVENT
BEGIN:VEVENT
DTSTART;TZID=America/New_York:20280108T103000
DTEND;TZID=America/New_York:20280108T113000
DTSTAMP:20260424T090224
CREATED:20250122T174203Z
LAST-MODIFIED:20260216T151724Z
UID:10062328-1830940200-1830943800@meetings.greysheet.org
SUMMARY:NMW NJ
DESCRIPTION:
URL:https://meetings.greysheet.org/meeting/nmw/2028-01-08
LOCATION:Our Lady of Sorrows\, 217 Prospect St\, South Orange\, NJ\, 07079\, United States
CATEGORIES:In Person
ATTACH;FMTTYPE=image/svg+xml:https://meetings.greysheet.org/wp-content/uploads/2025/05/map-pin.svg
GEO:40.7415079;-74.2590547
X-APPLE-STRUCTURED-LOCATION;VALUE=URI;X-ADDRESS=Our Lady of Sorrows 217 Prospect St South Orange NJ 07079 United States;X-APPLE-RADIUS=500;X-TITLE=217 Prospect St:geo:-74.2590547,40.7415079
END:VEVENT
END:VCALENDAR