BEGIN:VCALENDAR
VERSION:2.0
PRODID:-//GreySheeters Anonymous World Services - ECPv6.15.20//NONSGML v1.0//EN
CALSCALE:GREGORIAN
METHOD:PUBLISH
X-ORIGINAL-URL:https://meetings.greysheet.org
X-WR-CALDESC:Events for GreySheeters Anonymous World Services
REFRESH-INTERVAL;VALUE=DURATION:PT1H
X-Robots-Tag:noindex
X-PUBLISHED-TTL:PT1H
BEGIN:VTIMEZONE
TZID:Asia/Jerusalem
BEGIN:DAYLIGHT
TZOFFSETFROM:+0200
TZOFFSETTO:+0300
TZNAME:IDT
DTSTART:20240329T000000
END:DAYLIGHT
BEGIN:STANDARD
TZOFFSETFROM:+0300
TZOFFSETTO:+0200
TZNAME:IST
DTSTART:20241026T230000
END:STANDARD
BEGIN:DAYLIGHT
TZOFFSETFROM:+0200
TZOFFSETTO:+0300
TZNAME:IDT
DTSTART:20250328T000000
END:DAYLIGHT
BEGIN:STANDARD
TZOFFSETFROM:+0300
TZOFFSETTO:+0200
TZNAME:IST
DTSTART:20251025T230000
END:STANDARD
BEGIN:DAYLIGHT
TZOFFSETFROM:+0200
TZOFFSETTO:+0300
TZNAME:IDT
DTSTART:20260327T000000
END:DAYLIGHT
BEGIN:STANDARD
TZOFFSETFROM:+0300
TZOFFSETTO:+0200
TZNAME:IST
DTSTART:20261024T230000
END:STANDARD
BEGIN:DAYLIGHT
TZOFFSETFROM:+0200
TZOFFSETTO:+0300
TZNAME:IDT
DTSTART:20270326T000000
END:DAYLIGHT
BEGIN:STANDARD
TZOFFSETFROM:+0300
TZOFFSETTO:+0200
TZNAME:IST
DTSTART:20271030T230000
END:STANDARD
END:VTIMEZONE
BEGIN:VEVENT
DTSTART;TZID=Asia/Jerusalem:20260122T203000
DTEND;TZID=Asia/Jerusalem:20260122T213000
DTSTAMP:20260422T085156
CREATED:20250122T174133Z
LAST-MODIFIED:20260216T145633Z
UID:10049080-1769113800-1769117400@meetings.greysheet.org
SUMMARY:Rosh Haain ISL
DESCRIPTION:
URL:https://meetings.greysheet.org/meeting/rosh-haain-isl/2026-01-22
LOCATION:Ha rav Shalom\, Shbazi 97\, Rosh Haain\, 4806407\, Israel
CATEGORIES:In Person
ATTACH;FMTTYPE=image/svg+xml:https://meetings.greysheet.org/wp-content/uploads/2025/05/map-pin.svg
GEO:32.090304;34.947393
X-APPLE-STRUCTURED-LOCATION;VALUE=URI;X-ADDRESS=Ha rav Shalom Shbazi 97 Rosh Haain 4806407 Israel;X-APPLE-RADIUS=500;X-TITLE=Shbazi 97:geo:34.947393,32.090304
END:VEVENT
BEGIN:VEVENT
DTSTART;TZID=Asia/Jerusalem:20260115T203000
DTEND;TZID=Asia/Jerusalem:20260115T213000
DTSTAMP:20260422T085156
CREATED:20250122T174133Z
LAST-MODIFIED:20260216T145633Z
UID:10049079-1768509000-1768512600@meetings.greysheet.org
SUMMARY:Rosh Haain ISL
DESCRIPTION:
URL:https://meetings.greysheet.org/meeting/rosh-haain-isl/2026-01-15
LOCATION:Ha rav Shalom\, Shbazi 97\, Rosh Haain\, 4806407\, Israel
CATEGORIES:In Person
ATTACH;FMTTYPE=image/svg+xml:https://meetings.greysheet.org/wp-content/uploads/2025/05/map-pin.svg
GEO:32.090304;34.947393
X-APPLE-STRUCTURED-LOCATION;VALUE=URI;X-ADDRESS=Ha rav Shalom Shbazi 97 Rosh Haain 4806407 Israel;X-APPLE-RADIUS=500;X-TITLE=Shbazi 97:geo:34.947393,32.090304
END:VEVENT
BEGIN:VEVENT
DTSTART;TZID=Asia/Jerusalem:20260108T203000
DTEND;TZID=Asia/Jerusalem:20260108T213000
DTSTAMP:20260422T085156
CREATED:20250122T174133Z
LAST-MODIFIED:20260216T145633Z
UID:10049078-1767904200-1767907800@meetings.greysheet.org
SUMMARY:Rosh Haain ISL
DESCRIPTION:
URL:https://meetings.greysheet.org/meeting/rosh-haain-isl/2026-01-08
LOCATION:Ha rav Shalom\, Shbazi 97\, Rosh Haain\, 4806407\, Israel
CATEGORIES:In Person
ATTACH;FMTTYPE=image/svg+xml:https://meetings.greysheet.org/wp-content/uploads/2025/05/map-pin.svg
GEO:32.090304;34.947393
X-APPLE-STRUCTURED-LOCATION;VALUE=URI;X-ADDRESS=Ha rav Shalom Shbazi 97 Rosh Haain 4806407 Israel;X-APPLE-RADIUS=500;X-TITLE=Shbazi 97:geo:34.947393,32.090304
END:VEVENT
BEGIN:VEVENT
DTSTART;TZID=Asia/Jerusalem:20260101T203000
DTEND;TZID=Asia/Jerusalem:20260101T213000
DTSTAMP:20260422T085156
CREATED:20250122T174133Z
LAST-MODIFIED:20260216T145633Z
UID:10049077-1767299400-1767303000@meetings.greysheet.org
SUMMARY:Rosh Haain ISL
DESCRIPTION:
URL:https://meetings.greysheet.org/meeting/rosh-haain-isl/2026-01-01
LOCATION:Ha rav Shalom\, Shbazi 97\, Rosh Haain\, 4806407\, Israel
CATEGORIES:In Person
ATTACH;FMTTYPE=image/svg+xml:https://meetings.greysheet.org/wp-content/uploads/2025/05/map-pin.svg
GEO:32.090304;34.947393
X-APPLE-STRUCTURED-LOCATION;VALUE=URI;X-ADDRESS=Ha rav Shalom Shbazi 97 Rosh Haain 4806407 Israel;X-APPLE-RADIUS=500;X-TITLE=Shbazi 97:geo:34.947393,32.090304
END:VEVENT
BEGIN:VEVENT
DTSTART;TZID=Asia/Jerusalem:20251225T203000
DTEND;TZID=Asia/Jerusalem:20251225T213000
DTSTAMP:20260422T085156
CREATED:20250122T174133Z
LAST-MODIFIED:20260216T145633Z
UID:10049076-1766694600-1766698200@meetings.greysheet.org
SUMMARY:Rosh Haain ISL
DESCRIPTION:
URL:https://meetings.greysheet.org/meeting/rosh-haain-isl/2025-12-25
LOCATION:Ha rav Shalom\, Shbazi 97\, Rosh Haain\, 4806407\, Israel
CATEGORIES:In Person
ATTACH;FMTTYPE=image/svg+xml:https://meetings.greysheet.org/wp-content/uploads/2025/05/map-pin.svg
GEO:32.090304;34.947393
X-APPLE-STRUCTURED-LOCATION;VALUE=URI;X-ADDRESS=Ha rav Shalom Shbazi 97 Rosh Haain 4806407 Israel;X-APPLE-RADIUS=500;X-TITLE=Shbazi 97:geo:34.947393,32.090304
END:VEVENT
BEGIN:VEVENT
DTSTART;TZID=Asia/Jerusalem:20251218T203000
DTEND;TZID=Asia/Jerusalem:20251218T213000
DTSTAMP:20260422T085156
CREATED:20250122T174133Z
LAST-MODIFIED:20260216T145633Z
UID:10049075-1766089800-1766093400@meetings.greysheet.org
SUMMARY:Rosh Haain ISL
DESCRIPTION:
URL:https://meetings.greysheet.org/meeting/rosh-haain-isl/2025-12-18
LOCATION:Ha rav Shalom\, Shbazi 97\, Rosh Haain\, 4806407\, Israel
CATEGORIES:In Person
ATTACH;FMTTYPE=image/svg+xml:https://meetings.greysheet.org/wp-content/uploads/2025/05/map-pin.svg
GEO:32.090304;34.947393
X-APPLE-STRUCTURED-LOCATION;VALUE=URI;X-ADDRESS=Ha rav Shalom Shbazi 97 Rosh Haain 4806407 Israel;X-APPLE-RADIUS=500;X-TITLE=Shbazi 97:geo:34.947393,32.090304
END:VEVENT
BEGIN:VEVENT
DTSTART;TZID=Asia/Jerusalem:20251211T203000
DTEND;TZID=Asia/Jerusalem:20251211T213000
DTSTAMP:20260422T085156
CREATED:20250122T174133Z
LAST-MODIFIED:20260216T145633Z
UID:10049074-1765485000-1765488600@meetings.greysheet.org
SUMMARY:Rosh Haain ISL
DESCRIPTION:
URL:https://meetings.greysheet.org/meeting/rosh-haain-isl/2025-12-11
LOCATION:Ha rav Shalom\, Shbazi 97\, Rosh Haain\, 4806407\, Israel
CATEGORIES:In Person
ATTACH;FMTTYPE=image/svg+xml:https://meetings.greysheet.org/wp-content/uploads/2025/05/map-pin.svg
GEO:32.090304;34.947393
X-APPLE-STRUCTURED-LOCATION;VALUE=URI;X-ADDRESS=Ha rav Shalom Shbazi 97 Rosh Haain 4806407 Israel;X-APPLE-RADIUS=500;X-TITLE=Shbazi 97:geo:34.947393,32.090304
END:VEVENT
BEGIN:VEVENT
DTSTART;TZID=Asia/Jerusalem:20251204T203000
DTEND;TZID=Asia/Jerusalem:20251204T213000
DTSTAMP:20260422T085156
CREATED:20250122T174133Z
LAST-MODIFIED:20260216T145633Z
UID:10049073-1764880200-1764883800@meetings.greysheet.org
SUMMARY:Rosh Haain ISL
DESCRIPTION:
URL:https://meetings.greysheet.org/meeting/rosh-haain-isl/2025-12-04
LOCATION:Ha rav Shalom\, Shbazi 97\, Rosh Haain\, 4806407\, Israel
CATEGORIES:In Person
ATTACH;FMTTYPE=image/svg+xml:https://meetings.greysheet.org/wp-content/uploads/2025/05/map-pin.svg
GEO:32.090304;34.947393
X-APPLE-STRUCTURED-LOCATION;VALUE=URI;X-ADDRESS=Ha rav Shalom Shbazi 97 Rosh Haain 4806407 Israel;X-APPLE-RADIUS=500;X-TITLE=Shbazi 97:geo:34.947393,32.090304
END:VEVENT
BEGIN:VEVENT
DTSTART;TZID=Asia/Jerusalem:20251127T203000
DTEND;TZID=Asia/Jerusalem:20251127T213000
DTSTAMP:20260422T085156
CREATED:20250122T174133Z
LAST-MODIFIED:20260216T145633Z
UID:10049072-1764275400-1764279000@meetings.greysheet.org
SUMMARY:Rosh Haain ISL
DESCRIPTION:
URL:https://meetings.greysheet.org/meeting/rosh-haain-isl/2025-11-27
LOCATION:Ha rav Shalom\, Shbazi 97\, Rosh Haain\, 4806407\, Israel
CATEGORIES:In Person
ATTACH;FMTTYPE=image/svg+xml:https://meetings.greysheet.org/wp-content/uploads/2025/05/map-pin.svg
GEO:32.090304;34.947393
X-APPLE-STRUCTURED-LOCATION;VALUE=URI;X-ADDRESS=Ha rav Shalom Shbazi 97 Rosh Haain 4806407 Israel;X-APPLE-RADIUS=500;X-TITLE=Shbazi 97:geo:34.947393,32.090304
END:VEVENT
BEGIN:VEVENT
DTSTART;TZID=Asia/Jerusalem:20251120T203000
DTEND;TZID=Asia/Jerusalem:20251120T213000
DTSTAMP:20260422T085156
CREATED:20250122T174133Z
LAST-MODIFIED:20260216T145633Z
UID:10049071-1763670600-1763674200@meetings.greysheet.org
SUMMARY:Rosh Haain ISL
DESCRIPTION:
URL:https://meetings.greysheet.org/meeting/rosh-haain-isl/2025-11-20
LOCATION:Ha rav Shalom\, Shbazi 97\, Rosh Haain\, 4806407\, Israel
CATEGORIES:In Person
ATTACH;FMTTYPE=image/svg+xml:https://meetings.greysheet.org/wp-content/uploads/2025/05/map-pin.svg
GEO:32.090304;34.947393
X-APPLE-STRUCTURED-LOCATION;VALUE=URI;X-ADDRESS=Ha rav Shalom Shbazi 97 Rosh Haain 4806407 Israel;X-APPLE-RADIUS=500;X-TITLE=Shbazi 97:geo:34.947393,32.090304
END:VEVENT
BEGIN:VEVENT
DTSTART;TZID=Asia/Jerusalem:20251113T203000
DTEND;TZID=Asia/Jerusalem:20251113T213000
DTSTAMP:20260422T085156
CREATED:20250122T174133Z
LAST-MODIFIED:20260216T145633Z
UID:10049070-1763065800-1763069400@meetings.greysheet.org
SUMMARY:Rosh Haain ISL
DESCRIPTION:
URL:https://meetings.greysheet.org/meeting/rosh-haain-isl/2025-11-13
LOCATION:Ha rav Shalom\, Shbazi 97\, Rosh Haain\, 4806407\, Israel
CATEGORIES:In Person
ATTACH;FMTTYPE=image/svg+xml:https://meetings.greysheet.org/wp-content/uploads/2025/05/map-pin.svg
GEO:32.090304;34.947393
X-APPLE-STRUCTURED-LOCATION;VALUE=URI;X-ADDRESS=Ha rav Shalom Shbazi 97 Rosh Haain 4806407 Israel;X-APPLE-RADIUS=500;X-TITLE=Shbazi 97:geo:34.947393,32.090304
END:VEVENT
BEGIN:VEVENT
DTSTART;TZID=Asia/Jerusalem:20251106T203000
DTEND;TZID=Asia/Jerusalem:20251106T213000
DTSTAMP:20260422T085156
CREATED:20250122T174133Z
LAST-MODIFIED:20260216T145633Z
UID:10049069-1762461000-1762464600@meetings.greysheet.org
SUMMARY:Rosh Haain ISL
DESCRIPTION:
URL:https://meetings.greysheet.org/meeting/rosh-haain-isl/2025-11-06
LOCATION:Ha rav Shalom\, Shbazi 97\, Rosh Haain\, 4806407\, Israel
CATEGORIES:In Person
ATTACH;FMTTYPE=image/svg+xml:https://meetings.greysheet.org/wp-content/uploads/2025/05/map-pin.svg
GEO:32.090304;34.947393
X-APPLE-STRUCTURED-LOCATION;VALUE=URI;X-ADDRESS=Ha rav Shalom Shbazi 97 Rosh Haain 4806407 Israel;X-APPLE-RADIUS=500;X-TITLE=Shbazi 97:geo:34.947393,32.090304
END:VEVENT
BEGIN:VEVENT
DTSTART;TZID=Asia/Jerusalem:20251030T203000
DTEND;TZID=Asia/Jerusalem:20251030T213000
DTSTAMP:20260422T085156
CREATED:20250122T174133Z
LAST-MODIFIED:20260216T145633Z
UID:10049068-1761856200-1761859800@meetings.greysheet.org
SUMMARY:Rosh Haain ISL
DESCRIPTION:
URL:https://meetings.greysheet.org/meeting/rosh-haain-isl/2025-10-30
LOCATION:Ha rav Shalom\, Shbazi 97\, Rosh Haain\, 4806407\, Israel
CATEGORIES:In Person
ATTACH;FMTTYPE=image/svg+xml:https://meetings.greysheet.org/wp-content/uploads/2025/05/map-pin.svg
GEO:32.090304;34.947393
X-APPLE-STRUCTURED-LOCATION;VALUE=URI;X-ADDRESS=Ha rav Shalom Shbazi 97 Rosh Haain 4806407 Israel;X-APPLE-RADIUS=500;X-TITLE=Shbazi 97:geo:34.947393,32.090304
END:VEVENT
BEGIN:VEVENT
DTSTART;TZID=Asia/Jerusalem:20251023T203000
DTEND;TZID=Asia/Jerusalem:20251023T213000
DTSTAMP:20260422T085156
CREATED:20250122T174133Z
LAST-MODIFIED:20260216T145633Z
UID:10049067-1761251400-1761255000@meetings.greysheet.org
SUMMARY:Rosh Haain ISL
DESCRIPTION:
URL:https://meetings.greysheet.org/meeting/rosh-haain-isl/2025-10-23
LOCATION:Ha rav Shalom\, Shbazi 97\, Rosh Haain\, 4806407\, Israel
CATEGORIES:In Person
ATTACH;FMTTYPE=image/svg+xml:https://meetings.greysheet.org/wp-content/uploads/2025/05/map-pin.svg
GEO:32.090304;34.947393
X-APPLE-STRUCTURED-LOCATION;VALUE=URI;X-ADDRESS=Ha rav Shalom Shbazi 97 Rosh Haain 4806407 Israel;X-APPLE-RADIUS=500;X-TITLE=Shbazi 97:geo:34.947393,32.090304
END:VEVENT
BEGIN:VEVENT
DTSTART;TZID=Asia/Jerusalem:20251016T203000
DTEND;TZID=Asia/Jerusalem:20251016T213000
DTSTAMP:20260422T085156
CREATED:20250122T174133Z
LAST-MODIFIED:20260216T145633Z
UID:10049066-1760646600-1760650200@meetings.greysheet.org
SUMMARY:Rosh Haain ISL
DESCRIPTION:
URL:https://meetings.greysheet.org/meeting/rosh-haain-isl/2025-10-16
LOCATION:Ha rav Shalom\, Shbazi 97\, Rosh Haain\, 4806407\, Israel
CATEGORIES:In Person
ATTACH;FMTTYPE=image/svg+xml:https://meetings.greysheet.org/wp-content/uploads/2025/05/map-pin.svg
GEO:32.090304;34.947393
X-APPLE-STRUCTURED-LOCATION;VALUE=URI;X-ADDRESS=Ha rav Shalom Shbazi 97 Rosh Haain 4806407 Israel;X-APPLE-RADIUS=500;X-TITLE=Shbazi 97:geo:34.947393,32.090304
END:VEVENT
BEGIN:VEVENT
DTSTART;TZID=Asia/Jerusalem:20251009T203000
DTEND;TZID=Asia/Jerusalem:20251009T213000
DTSTAMP:20260422T085156
CREATED:20250122T174133Z
LAST-MODIFIED:20260216T145633Z
UID:10049065-1760041800-1760045400@meetings.greysheet.org
SUMMARY:Rosh Haain ISL
DESCRIPTION:
URL:https://meetings.greysheet.org/meeting/rosh-haain-isl/2025-10-09
LOCATION:Ha rav Shalom\, Shbazi 97\, Rosh Haain\, 4806407\, Israel
CATEGORIES:In Person
ATTACH;FMTTYPE=image/svg+xml:https://meetings.greysheet.org/wp-content/uploads/2025/05/map-pin.svg
GEO:32.090304;34.947393
X-APPLE-STRUCTURED-LOCATION;VALUE=URI;X-ADDRESS=Ha rav Shalom Shbazi 97 Rosh Haain 4806407 Israel;X-APPLE-RADIUS=500;X-TITLE=Shbazi 97:geo:34.947393,32.090304
END:VEVENT
BEGIN:VEVENT
DTSTART;TZID=Asia/Jerusalem:20251002T203000
DTEND;TZID=Asia/Jerusalem:20251002T213000
DTSTAMP:20260422T085156
CREATED:20250122T174133Z
LAST-MODIFIED:20260216T145633Z
UID:10049064-1759437000-1759440600@meetings.greysheet.org
SUMMARY:Rosh Haain ISL
DESCRIPTION:
URL:https://meetings.greysheet.org/meeting/rosh-haain-isl/2025-10-02
LOCATION:Ha rav Shalom\, Shbazi 97\, Rosh Haain\, 4806407\, Israel
CATEGORIES:In Person
ATTACH;FMTTYPE=image/svg+xml:https://meetings.greysheet.org/wp-content/uploads/2025/05/map-pin.svg
GEO:32.090304;34.947393
X-APPLE-STRUCTURED-LOCATION;VALUE=URI;X-ADDRESS=Ha rav Shalom Shbazi 97 Rosh Haain 4806407 Israel;X-APPLE-RADIUS=500;X-TITLE=Shbazi 97:geo:34.947393,32.090304
END:VEVENT
BEGIN:VEVENT
DTSTART;TZID=Asia/Jerusalem:20250925T203000
DTEND;TZID=Asia/Jerusalem:20250925T213000
DTSTAMP:20260422T085156
CREATED:20250122T174133Z
LAST-MODIFIED:20260216T145633Z
UID:10049063-1758832200-1758835800@meetings.greysheet.org
SUMMARY:Rosh Haain ISL
DESCRIPTION:
URL:https://meetings.greysheet.org/meeting/rosh-haain-isl/2025-09-25
LOCATION:Ha rav Shalom\, Shbazi 97\, Rosh Haain\, 4806407\, Israel
CATEGORIES:In Person
ATTACH;FMTTYPE=image/svg+xml:https://meetings.greysheet.org/wp-content/uploads/2025/05/map-pin.svg
GEO:32.090304;34.947393
X-APPLE-STRUCTURED-LOCATION;VALUE=URI;X-ADDRESS=Ha rav Shalom Shbazi 97 Rosh Haain 4806407 Israel;X-APPLE-RADIUS=500;X-TITLE=Shbazi 97:geo:34.947393,32.090304
END:VEVENT
BEGIN:VEVENT
DTSTART;TZID=Asia/Jerusalem:20250918T203000
DTEND;TZID=Asia/Jerusalem:20250918T213000
DTSTAMP:20260422T085156
CREATED:20250122T174133Z
LAST-MODIFIED:20260216T145633Z
UID:10049062-1758227400-1758231000@meetings.greysheet.org
SUMMARY:Rosh Haain ISL
DESCRIPTION:
URL:https://meetings.greysheet.org/meeting/rosh-haain-isl/2025-09-18
LOCATION:Ha rav Shalom\, Shbazi 97\, Rosh Haain\, 4806407\, Israel
CATEGORIES:In Person
ATTACH;FMTTYPE=image/svg+xml:https://meetings.greysheet.org/wp-content/uploads/2025/05/map-pin.svg
GEO:32.090304;34.947393
X-APPLE-STRUCTURED-LOCATION;VALUE=URI;X-ADDRESS=Ha rav Shalom Shbazi 97 Rosh Haain 4806407 Israel;X-APPLE-RADIUS=500;X-TITLE=Shbazi 97:geo:34.947393,32.090304
END:VEVENT
BEGIN:VEVENT
DTSTART;TZID=Asia/Jerusalem:20250911T203000
DTEND;TZID=Asia/Jerusalem:20250911T213000
DTSTAMP:20260422T085156
CREATED:20250122T174133Z
LAST-MODIFIED:20260216T145633Z
UID:10049061-1757622600-1757626200@meetings.greysheet.org
SUMMARY:Rosh Haain ISL
DESCRIPTION:
URL:https://meetings.greysheet.org/meeting/rosh-haain-isl/2025-09-11
LOCATION:Ha rav Shalom\, Shbazi 97\, Rosh Haain\, 4806407\, Israel
CATEGORIES:In Person
ATTACH;FMTTYPE=image/svg+xml:https://meetings.greysheet.org/wp-content/uploads/2025/05/map-pin.svg
GEO:32.090304;34.947393
X-APPLE-STRUCTURED-LOCATION;VALUE=URI;X-ADDRESS=Ha rav Shalom Shbazi 97 Rosh Haain 4806407 Israel;X-APPLE-RADIUS=500;X-TITLE=Shbazi 97:geo:34.947393,32.090304
END:VEVENT
BEGIN:VEVENT
DTSTART;TZID=Asia/Jerusalem:20250904T203000
DTEND;TZID=Asia/Jerusalem:20250904T213000
DTSTAMP:20260422T085156
CREATED:20250122T174133Z
LAST-MODIFIED:20260216T145633Z
UID:10049060-1757017800-1757021400@meetings.greysheet.org
SUMMARY:Rosh Haain ISL
DESCRIPTION:
URL:https://meetings.greysheet.org/meeting/rosh-haain-isl/2025-09-04
LOCATION:Ha rav Shalom\, Shbazi 97\, Rosh Haain\, 4806407\, Israel
CATEGORIES:In Person
ATTACH;FMTTYPE=image/svg+xml:https://meetings.greysheet.org/wp-content/uploads/2025/05/map-pin.svg
GEO:32.090304;34.947393
X-APPLE-STRUCTURED-LOCATION;VALUE=URI;X-ADDRESS=Ha rav Shalom Shbazi 97 Rosh Haain 4806407 Israel;X-APPLE-RADIUS=500;X-TITLE=Shbazi 97:geo:34.947393,32.090304
END:VEVENT
BEGIN:VEVENT
DTSTART;TZID=Asia/Jerusalem:20250828T203000
DTEND;TZID=Asia/Jerusalem:20250828T213000
DTSTAMP:20260422T085156
CREATED:20250122T174133Z
LAST-MODIFIED:20260216T145633Z
UID:10049059-1756413000-1756416600@meetings.greysheet.org
SUMMARY:Rosh Haain ISL
DESCRIPTION:
URL:https://meetings.greysheet.org/meeting/rosh-haain-isl/2025-08-28
LOCATION:Ha rav Shalom\, Shbazi 97\, Rosh Haain\, 4806407\, Israel
CATEGORIES:In Person
ATTACH;FMTTYPE=image/svg+xml:https://meetings.greysheet.org/wp-content/uploads/2025/05/map-pin.svg
GEO:32.090304;34.947393
X-APPLE-STRUCTURED-LOCATION;VALUE=URI;X-ADDRESS=Ha rav Shalom Shbazi 97 Rosh Haain 4806407 Israel;X-APPLE-RADIUS=500;X-TITLE=Shbazi 97:geo:34.947393,32.090304
END:VEVENT
BEGIN:VEVENT
DTSTART;TZID=Asia/Jerusalem:20250821T203000
DTEND;TZID=Asia/Jerusalem:20250821T213000
DTSTAMP:20260422T085156
CREATED:20250122T174133Z
LAST-MODIFIED:20260216T145633Z
UID:10049058-1755808200-1755811800@meetings.greysheet.org
SUMMARY:Rosh Haain ISL
DESCRIPTION:
URL:https://meetings.greysheet.org/meeting/rosh-haain-isl/2025-08-21
LOCATION:Ha rav Shalom\, Shbazi 97\, Rosh Haain\, 4806407\, Israel
CATEGORIES:In Person
ATTACH;FMTTYPE=image/svg+xml:https://meetings.greysheet.org/wp-content/uploads/2025/05/map-pin.svg
GEO:32.090304;34.947393
X-APPLE-STRUCTURED-LOCATION;VALUE=URI;X-ADDRESS=Ha rav Shalom Shbazi 97 Rosh Haain 4806407 Israel;X-APPLE-RADIUS=500;X-TITLE=Shbazi 97:geo:34.947393,32.090304
END:VEVENT
BEGIN:VEVENT
DTSTART;TZID=Asia/Jerusalem:20250814T203000
DTEND;TZID=Asia/Jerusalem:20250814T213000
DTSTAMP:20260422T085156
CREATED:20250122T174133Z
LAST-MODIFIED:20260216T145633Z
UID:10049057-1755203400-1755207000@meetings.greysheet.org
SUMMARY:Rosh Haain ISL
DESCRIPTION:
URL:https://meetings.greysheet.org/meeting/rosh-haain-isl/2025-08-14
LOCATION:Ha rav Shalom\, Shbazi 97\, Rosh Haain\, 4806407\, Israel
CATEGORIES:In Person
ATTACH;FMTTYPE=image/svg+xml:https://meetings.greysheet.org/wp-content/uploads/2025/05/map-pin.svg
GEO:32.090304;34.947393
X-APPLE-STRUCTURED-LOCATION;VALUE=URI;X-ADDRESS=Ha rav Shalom Shbazi 97 Rosh Haain 4806407 Israel;X-APPLE-RADIUS=500;X-TITLE=Shbazi 97:geo:34.947393,32.090304
END:VEVENT
BEGIN:VEVENT
DTSTART;TZID=Asia/Jerusalem:20250807T203000
DTEND;TZID=Asia/Jerusalem:20250807T213000
DTSTAMP:20260422T085156
CREATED:20250122T174133Z
LAST-MODIFIED:20260216T145633Z
UID:10049056-1754598600-1754602200@meetings.greysheet.org
SUMMARY:Rosh Haain ISL
DESCRIPTION:
URL:https://meetings.greysheet.org/meeting/rosh-haain-isl/2025-08-07
LOCATION:Ha rav Shalom\, Shbazi 97\, Rosh Haain\, 4806407\, Israel
CATEGORIES:In Person
ATTACH;FMTTYPE=image/svg+xml:https://meetings.greysheet.org/wp-content/uploads/2025/05/map-pin.svg
GEO:32.090304;34.947393
X-APPLE-STRUCTURED-LOCATION;VALUE=URI;X-ADDRESS=Ha rav Shalom Shbazi 97 Rosh Haain 4806407 Israel;X-APPLE-RADIUS=500;X-TITLE=Shbazi 97:geo:34.947393,32.090304
END:VEVENT
BEGIN:VEVENT
DTSTART;TZID=Asia/Jerusalem:20250731T203000
DTEND;TZID=Asia/Jerusalem:20250731T213000
DTSTAMP:20260422T085156
CREATED:20250122T174133Z
LAST-MODIFIED:20260216T145633Z
UID:10049055-1753993800-1753997400@meetings.greysheet.org
SUMMARY:Rosh Haain ISL
DESCRIPTION:
URL:https://meetings.greysheet.org/meeting/rosh-haain-isl/2025-07-31
LOCATION:Ha rav Shalom\, Shbazi 97\, Rosh Haain\, 4806407\, Israel
CATEGORIES:In Person
ATTACH;FMTTYPE=image/svg+xml:https://meetings.greysheet.org/wp-content/uploads/2025/05/map-pin.svg
GEO:32.090304;34.947393
X-APPLE-STRUCTURED-LOCATION;VALUE=URI;X-ADDRESS=Ha rav Shalom Shbazi 97 Rosh Haain 4806407 Israel;X-APPLE-RADIUS=500;X-TITLE=Shbazi 97:geo:34.947393,32.090304
END:VEVENT
BEGIN:VEVENT
DTSTART;TZID=Asia/Jerusalem:20250724T203000
DTEND;TZID=Asia/Jerusalem:20250724T213000
DTSTAMP:20260422T085156
CREATED:20250122T174133Z
LAST-MODIFIED:20260216T145633Z
UID:10049054-1753389000-1753392600@meetings.greysheet.org
SUMMARY:Rosh Haain ISL
DESCRIPTION:
URL:https://meetings.greysheet.org/meeting/rosh-haain-isl/2025-07-24
LOCATION:Ha rav Shalom\, Shbazi 97\, Rosh Haain\, 4806407\, Israel
CATEGORIES:In Person
ATTACH;FMTTYPE=image/svg+xml:https://meetings.greysheet.org/wp-content/uploads/2025/05/map-pin.svg
GEO:32.090304;34.947393
X-APPLE-STRUCTURED-LOCATION;VALUE=URI;X-ADDRESS=Ha rav Shalom Shbazi 97 Rosh Haain 4806407 Israel;X-APPLE-RADIUS=500;X-TITLE=Shbazi 97:geo:34.947393,32.090304
END:VEVENT
BEGIN:VEVENT
DTSTART;TZID=Asia/Jerusalem:20250717T203000
DTEND;TZID=Asia/Jerusalem:20250717T213000
DTSTAMP:20260422T085156
CREATED:20250122T174133Z
LAST-MODIFIED:20260216T145633Z
UID:10049053-1752784200-1752787800@meetings.greysheet.org
SUMMARY:Rosh Haain ISL
DESCRIPTION:
URL:https://meetings.greysheet.org/meeting/rosh-haain-isl/2025-07-17
LOCATION:Ha rav Shalom\, Shbazi 97\, Rosh Haain\, 4806407\, Israel
CATEGORIES:In Person
ATTACH;FMTTYPE=image/svg+xml:https://meetings.greysheet.org/wp-content/uploads/2025/05/map-pin.svg
GEO:32.090304;34.947393
X-APPLE-STRUCTURED-LOCATION;VALUE=URI;X-ADDRESS=Ha rav Shalom Shbazi 97 Rosh Haain 4806407 Israel;X-APPLE-RADIUS=500;X-TITLE=Shbazi 97:geo:34.947393,32.090304
END:VEVENT
BEGIN:VEVENT
DTSTART;TZID=Asia/Jerusalem:20250710T203000
DTEND;TZID=Asia/Jerusalem:20250710T213000
DTSTAMP:20260422T085156
CREATED:20250122T174133Z
LAST-MODIFIED:20260216T145633Z
UID:10049052-1752179400-1752183000@meetings.greysheet.org
SUMMARY:Rosh Haain ISL
DESCRIPTION:
URL:https://meetings.greysheet.org/meeting/rosh-haain-isl/2025-07-10
LOCATION:Ha rav Shalom\, Shbazi 97\, Rosh Haain\, 4806407\, Israel
CATEGORIES:In Person
ATTACH;FMTTYPE=image/svg+xml:https://meetings.greysheet.org/wp-content/uploads/2025/05/map-pin.svg
GEO:32.090304;34.947393
X-APPLE-STRUCTURED-LOCATION;VALUE=URI;X-ADDRESS=Ha rav Shalom Shbazi 97 Rosh Haain 4806407 Israel;X-APPLE-RADIUS=500;X-TITLE=Shbazi 97:geo:34.947393,32.090304
END:VEVENT
BEGIN:VEVENT
DTSTART;TZID=Asia/Jerusalem:20250703T203000
DTEND;TZID=Asia/Jerusalem:20250703T213000
DTSTAMP:20260422T085156
CREATED:20250122T174133Z
LAST-MODIFIED:20260216T145633Z
UID:10049051-1751574600-1751578200@meetings.greysheet.org
SUMMARY:Rosh Haain ISL
DESCRIPTION:
URL:https://meetings.greysheet.org/meeting/rosh-haain-isl/2025-07-03
LOCATION:Ha rav Shalom\, Shbazi 97\, Rosh Haain\, 4806407\, Israel
CATEGORIES:In Person
ATTACH;FMTTYPE=image/svg+xml:https://meetings.greysheet.org/wp-content/uploads/2025/05/map-pin.svg
GEO:32.090304;34.947393
X-APPLE-STRUCTURED-LOCATION;VALUE=URI;X-ADDRESS=Ha rav Shalom Shbazi 97 Rosh Haain 4806407 Israel;X-APPLE-RADIUS=500;X-TITLE=Shbazi 97:geo:34.947393,32.090304
END:VEVENT
END:VCALENDAR