BEGIN:VCALENDAR
VERSION:2.0
PRODID:-//GreySheeters Anonymous World Services - ECPv6.15.20//NONSGML v1.0//EN
CALSCALE:GREGORIAN
METHOD:PUBLISH
X-ORIGINAL-URL:https://meetings.greysheet.org
X-WR-CALDESC:Events for GreySheeters Anonymous World Services
REFRESH-INTERVAL;VALUE=DURATION:PT1H
X-Robots-Tag:noindex
X-PUBLISHED-TTL:PT1H
BEGIN:VTIMEZONE
TZID:America/Mexico_City
BEGIN:STANDARD
TZOFFSETFROM:-0600
TZOFFSETTO:-0600
TZNAME:CST
DTSTART:20250101T000000
END:STANDARD
END:VTIMEZONE
BEGIN:VTIMEZONE
TZID:America/New_York
BEGIN:DAYLIGHT
TZOFFSETFROM:-0500
TZOFFSETTO:-0400
TZNAME:EDT
DTSTART:20250309T070000
END:DAYLIGHT
BEGIN:STANDARD
TZOFFSETFROM:-0400
TZOFFSETTO:-0500
TZNAME:EST
DTSTART:20251102T060000
END:STANDARD
BEGIN:DAYLIGHT
TZOFFSETFROM:-0500
TZOFFSETTO:-0400
TZNAME:EDT
DTSTART:20260308T070000
END:DAYLIGHT
BEGIN:STANDARD
TZOFFSETFROM:-0400
TZOFFSETTO:-0500
TZNAME:EST
DTSTART:20261101T060000
END:STANDARD
BEGIN:DAYLIGHT
TZOFFSETFROM:-0500
TZOFFSETTO:-0400
TZNAME:EDT
DTSTART:20270314T070000
END:DAYLIGHT
BEGIN:STANDARD
TZOFFSETFROM:-0400
TZOFFSETTO:-0500
TZNAME:EST
DTSTART:20271107T060000
END:STANDARD
END:VTIMEZONE
BEGIN:VEVENT
DTSTART;TZID=America/Mexico_City:20260828T190000
DTEND;TZID=America/Mexico_City:20260828T210000
DTSTAMP:20260424T083358
CREATED:20250122T174057Z
LAST-MODIFIED:20260115T223845Z
UID:10061761-1787943600-1787950800@meetings.greysheet.org
SUMMARY:Mexico City Fri
DESCRIPTION:
URL:https://meetings.greysheet.org/meeting/mexico-city-fri/2026-08-28
LOCATION:Grupo Segunda Vida\, James Sullivan 165\, Mexico City\, 0-6470\, Mexico
CATEGORIES:In Person
ATTACH;FMTTYPE=image/svg+xml:https://meetings.greysheet.org/wp-content/uploads/2025/05/map-pin.svg
GEO:19.4352454;-99.1665786
X-APPLE-STRUCTURED-LOCATION;VALUE=URI;X-ADDRESS=Grupo Segunda Vida James Sullivan 165 Mexico City 0-6470 Mexico;X-APPLE-RADIUS=500;X-TITLE=James Sullivan 165:geo:-99.1665786,19.4352454
END:VEVENT
BEGIN:VEVENT
DTSTART;TZID=America/Mexico_City:20260830T100000
DTEND;TZID=America/Mexico_City:20260830T120000
DTSTAMP:20260424T083358
CREATED:20250122T174057Z
LAST-MODIFIED:20260215T201613Z
UID:10047499-1788084000-1788091200@meetings.greysheet.org
SUMMARY:Mexico City Sunday 1
DESCRIPTION:
URL:https://meetings.greysheet.org/meeting/mexico-city-sunday-morning/2026-08-30
LOCATION:Grupo Segunda Vida\, James Sullivan 165\, Mexico City\, 0-6470\, Mexico
CATEGORIES:In Person
ATTACH;FMTTYPE=image/svg+xml:https://meetings.greysheet.org/wp-content/uploads/2025/05/map-pin.svg
GEO:19.4352454;-99.1665786
X-APPLE-STRUCTURED-LOCATION;VALUE=URI;X-ADDRESS=Grupo Segunda Vida James Sullivan 165 Mexico City 0-6470 Mexico;X-APPLE-RADIUS=500;X-TITLE=James Sullivan 165:geo:-99.1665786,19.4352454
END:VEVENT
BEGIN:VEVENT
DTSTART;TZID=America/Mexico_City:20260830T120000
DTEND;TZID=America/Mexico_City:20260830T140000
DTSTAMP:20260424T083358
CREATED:20250122T174101Z
LAST-MODIFIED:20260115T223845Z
UID:10047061-1788091200-1788098400@meetings.greysheet.org
SUMMARY:Mexico City Sun 2
DESCRIPTION:
URL:https://meetings.greysheet.org/meeting/mc-sun-2/2026-08-30
LOCATION:Grupo Segunda Vida\, James Sullivan 165\, Mexico City\, 0-6470\, Mexico
CATEGORIES:In Person
ATTACH;FMTTYPE=image/svg+xml:https://meetings.greysheet.org/wp-content/uploads/2025/05/map-pin.svg
GEO:19.4352454;-99.1665786
X-APPLE-STRUCTURED-LOCATION;VALUE=URI;X-ADDRESS=Grupo Segunda Vida James Sullivan 165 Mexico City 0-6470 Mexico;X-APPLE-RADIUS=500;X-TITLE=James Sullivan 165:geo:-99.1665786,19.4352454
END:VEVENT
BEGIN:VEVENT
DTSTART;TZID=America/New_York:20260902T190000
DTEND;TZID=America/New_York:20260902T210000
DTSTAMP:20260424T083358
CREATED:20250122T174057Z
LAST-MODIFIED:20260215T201613Z
UID:10065025-1788375600-1788382800@meetings.greysheet.org
SUMMARY:Mexico City Wed
DESCRIPTION:
URL:https://meetings.greysheet.org/meeting/mexico-city-wed/2026-09-02
LOCATION:Grupo Segunda Vida\, James Sullivan 165\, Mexico City\, 0-6470\, Mexico
CATEGORIES:In Person
ATTACH;FMTTYPE=image/svg+xml:https://meetings.greysheet.org/wp-content/uploads/2025/05/map-pin.svg
GEO:19.4352454;-99.1665786
X-APPLE-STRUCTURED-LOCATION;VALUE=URI;X-ADDRESS=Grupo Segunda Vida James Sullivan 165 Mexico City 0-6470 Mexico;X-APPLE-RADIUS=500;X-TITLE=James Sullivan 165:geo:-99.1665786,19.4352454
END:VEVENT
BEGIN:VEVENT
DTSTART;TZID=America/Mexico_City:20260904T190000
DTEND;TZID=America/Mexico_City:20260904T210000
DTSTAMP:20260424T083358
CREATED:20250122T174057Z
LAST-MODIFIED:20260115T223845Z
UID:10061762-1788548400-1788555600@meetings.greysheet.org
SUMMARY:Mexico City Fri
DESCRIPTION:
URL:https://meetings.greysheet.org/meeting/mexico-city-fri/2026-09-04
LOCATION:Grupo Segunda Vida\, James Sullivan 165\, Mexico City\, 0-6470\, Mexico
CATEGORIES:In Person
ATTACH;FMTTYPE=image/svg+xml:https://meetings.greysheet.org/wp-content/uploads/2025/05/map-pin.svg
GEO:19.4352454;-99.1665786
X-APPLE-STRUCTURED-LOCATION;VALUE=URI;X-ADDRESS=Grupo Segunda Vida James Sullivan 165 Mexico City 0-6470 Mexico;X-APPLE-RADIUS=500;X-TITLE=James Sullivan 165:geo:-99.1665786,19.4352454
END:VEVENT
BEGIN:VEVENT
DTSTART;TZID=America/Mexico_City:20260906T100000
DTEND;TZID=America/Mexico_City:20260906T120000
DTSTAMP:20260424T083358
CREATED:20250122T174057Z
LAST-MODIFIED:20260215T201613Z
UID:10047500-1788688800-1788696000@meetings.greysheet.org
SUMMARY:Mexico City Sunday 1
DESCRIPTION:
URL:https://meetings.greysheet.org/meeting/mexico-city-sunday-morning/2026-09-06
LOCATION:Grupo Segunda Vida\, James Sullivan 165\, Mexico City\, 0-6470\, Mexico
CATEGORIES:In Person
ATTACH;FMTTYPE=image/svg+xml:https://meetings.greysheet.org/wp-content/uploads/2025/05/map-pin.svg
GEO:19.4352454;-99.1665786
X-APPLE-STRUCTURED-LOCATION;VALUE=URI;X-ADDRESS=Grupo Segunda Vida James Sullivan 165 Mexico City 0-6470 Mexico;X-APPLE-RADIUS=500;X-TITLE=James Sullivan 165:geo:-99.1665786,19.4352454
END:VEVENT
BEGIN:VEVENT
DTSTART;TZID=America/Mexico_City:20260906T120000
DTEND;TZID=America/Mexico_City:20260906T140000
DTSTAMP:20260424T083358
CREATED:20250122T174101Z
LAST-MODIFIED:20260115T223845Z
UID:10047062-1788696000-1788703200@meetings.greysheet.org
SUMMARY:Mexico City Sun 2
DESCRIPTION:
URL:https://meetings.greysheet.org/meeting/mc-sun-2/2026-09-06
LOCATION:Grupo Segunda Vida\, James Sullivan 165\, Mexico City\, 0-6470\, Mexico
CATEGORIES:In Person
ATTACH;FMTTYPE=image/svg+xml:https://meetings.greysheet.org/wp-content/uploads/2025/05/map-pin.svg
GEO:19.4352454;-99.1665786
X-APPLE-STRUCTURED-LOCATION;VALUE=URI;X-ADDRESS=Grupo Segunda Vida James Sullivan 165 Mexico City 0-6470 Mexico;X-APPLE-RADIUS=500;X-TITLE=James Sullivan 165:geo:-99.1665786,19.4352454
END:VEVENT
BEGIN:VEVENT
DTSTART;TZID=America/New_York:20260909T190000
DTEND;TZID=America/New_York:20260909T210000
DTSTAMP:20260424T083358
CREATED:20250122T174057Z
LAST-MODIFIED:20260215T201613Z
UID:10065026-1788980400-1788987600@meetings.greysheet.org
SUMMARY:Mexico City Wed
DESCRIPTION:
URL:https://meetings.greysheet.org/meeting/mexico-city-wed/2026-09-09
LOCATION:Grupo Segunda Vida\, James Sullivan 165\, Mexico City\, 0-6470\, Mexico
CATEGORIES:In Person
ATTACH;FMTTYPE=image/svg+xml:https://meetings.greysheet.org/wp-content/uploads/2025/05/map-pin.svg
GEO:19.4352454;-99.1665786
X-APPLE-STRUCTURED-LOCATION;VALUE=URI;X-ADDRESS=Grupo Segunda Vida James Sullivan 165 Mexico City 0-6470 Mexico;X-APPLE-RADIUS=500;X-TITLE=James Sullivan 165:geo:-99.1665786,19.4352454
END:VEVENT
BEGIN:VEVENT
DTSTART;TZID=America/Mexico_City:20260911T190000
DTEND;TZID=America/Mexico_City:20260911T210000
DTSTAMP:20260424T083358
CREATED:20250122T174057Z
LAST-MODIFIED:20260115T223845Z
UID:10061763-1789153200-1789160400@meetings.greysheet.org
SUMMARY:Mexico City Fri
DESCRIPTION:
URL:https://meetings.greysheet.org/meeting/mexico-city-fri/2026-09-11
LOCATION:Grupo Segunda Vida\, James Sullivan 165\, Mexico City\, 0-6470\, Mexico
CATEGORIES:In Person
ATTACH;FMTTYPE=image/svg+xml:https://meetings.greysheet.org/wp-content/uploads/2025/05/map-pin.svg
GEO:19.4352454;-99.1665786
X-APPLE-STRUCTURED-LOCATION;VALUE=URI;X-ADDRESS=Grupo Segunda Vida James Sullivan 165 Mexico City 0-6470 Mexico;X-APPLE-RADIUS=500;X-TITLE=James Sullivan 165:geo:-99.1665786,19.4352454
END:VEVENT
BEGIN:VEVENT
DTSTART;TZID=America/Mexico_City:20260913T100000
DTEND;TZID=America/Mexico_City:20260913T120000
DTSTAMP:20260424T083358
CREATED:20250122T174057Z
LAST-MODIFIED:20260215T201613Z
UID:10047501-1789293600-1789300800@meetings.greysheet.org
SUMMARY:Mexico City Sunday 1
DESCRIPTION:
URL:https://meetings.greysheet.org/meeting/mexico-city-sunday-morning/2026-09-13
LOCATION:Grupo Segunda Vida\, James Sullivan 165\, Mexico City\, 0-6470\, Mexico
CATEGORIES:In Person
ATTACH;FMTTYPE=image/svg+xml:https://meetings.greysheet.org/wp-content/uploads/2025/05/map-pin.svg
GEO:19.4352454;-99.1665786
X-APPLE-STRUCTURED-LOCATION;VALUE=URI;X-ADDRESS=Grupo Segunda Vida James Sullivan 165 Mexico City 0-6470 Mexico;X-APPLE-RADIUS=500;X-TITLE=James Sullivan 165:geo:-99.1665786,19.4352454
END:VEVENT
BEGIN:VEVENT
DTSTART;TZID=America/Mexico_City:20260913T120000
DTEND;TZID=America/Mexico_City:20260913T140000
DTSTAMP:20260424T083358
CREATED:20250122T174101Z
LAST-MODIFIED:20260115T223845Z
UID:10047063-1789300800-1789308000@meetings.greysheet.org
SUMMARY:Mexico City Sun 2
DESCRIPTION:
URL:https://meetings.greysheet.org/meeting/mc-sun-2/2026-09-13
LOCATION:Grupo Segunda Vida\, James Sullivan 165\, Mexico City\, 0-6470\, Mexico
CATEGORIES:In Person
ATTACH;FMTTYPE=image/svg+xml:https://meetings.greysheet.org/wp-content/uploads/2025/05/map-pin.svg
GEO:19.4352454;-99.1665786
X-APPLE-STRUCTURED-LOCATION;VALUE=URI;X-ADDRESS=Grupo Segunda Vida James Sullivan 165 Mexico City 0-6470 Mexico;X-APPLE-RADIUS=500;X-TITLE=James Sullivan 165:geo:-99.1665786,19.4352454
END:VEVENT
BEGIN:VEVENT
DTSTART;TZID=America/New_York:20260916T190000
DTEND;TZID=America/New_York:20260916T210000
DTSTAMP:20260424T083358
CREATED:20250122T174057Z
LAST-MODIFIED:20260215T201613Z
UID:10065027-1789585200-1789592400@meetings.greysheet.org
SUMMARY:Mexico City Wed
DESCRIPTION:
URL:https://meetings.greysheet.org/meeting/mexico-city-wed/2026-09-16
LOCATION:Grupo Segunda Vida\, James Sullivan 165\, Mexico City\, 0-6470\, Mexico
CATEGORIES:In Person
ATTACH;FMTTYPE=image/svg+xml:https://meetings.greysheet.org/wp-content/uploads/2025/05/map-pin.svg
GEO:19.4352454;-99.1665786
X-APPLE-STRUCTURED-LOCATION;VALUE=URI;X-ADDRESS=Grupo Segunda Vida James Sullivan 165 Mexico City 0-6470 Mexico;X-APPLE-RADIUS=500;X-TITLE=James Sullivan 165:geo:-99.1665786,19.4352454
END:VEVENT
BEGIN:VEVENT
DTSTART;TZID=America/Mexico_City:20260918T190000
DTEND;TZID=America/Mexico_City:20260918T210000
DTSTAMP:20260424T083358
CREATED:20250122T174057Z
LAST-MODIFIED:20260115T223845Z
UID:10061764-1789758000-1789765200@meetings.greysheet.org
SUMMARY:Mexico City Fri
DESCRIPTION:
URL:https://meetings.greysheet.org/meeting/mexico-city-fri/2026-09-18
LOCATION:Grupo Segunda Vida\, James Sullivan 165\, Mexico City\, 0-6470\, Mexico
CATEGORIES:In Person
ATTACH;FMTTYPE=image/svg+xml:https://meetings.greysheet.org/wp-content/uploads/2025/05/map-pin.svg
GEO:19.4352454;-99.1665786
X-APPLE-STRUCTURED-LOCATION;VALUE=URI;X-ADDRESS=Grupo Segunda Vida James Sullivan 165 Mexico City 0-6470 Mexico;X-APPLE-RADIUS=500;X-TITLE=James Sullivan 165:geo:-99.1665786,19.4352454
END:VEVENT
BEGIN:VEVENT
DTSTART;TZID=America/Mexico_City:20260920T100000
DTEND;TZID=America/Mexico_City:20260920T120000
DTSTAMP:20260424T083358
CREATED:20250122T174057Z
LAST-MODIFIED:20260215T201613Z
UID:10047502-1789898400-1789905600@meetings.greysheet.org
SUMMARY:Mexico City Sunday 1
DESCRIPTION:
URL:https://meetings.greysheet.org/meeting/mexico-city-sunday-morning/2026-09-20
LOCATION:Grupo Segunda Vida\, James Sullivan 165\, Mexico City\, 0-6470\, Mexico
CATEGORIES:In Person
ATTACH;FMTTYPE=image/svg+xml:https://meetings.greysheet.org/wp-content/uploads/2025/05/map-pin.svg
GEO:19.4352454;-99.1665786
X-APPLE-STRUCTURED-LOCATION;VALUE=URI;X-ADDRESS=Grupo Segunda Vida James Sullivan 165 Mexico City 0-6470 Mexico;X-APPLE-RADIUS=500;X-TITLE=James Sullivan 165:geo:-99.1665786,19.4352454
END:VEVENT
BEGIN:VEVENT
DTSTART;TZID=America/Mexico_City:20260920T120000
DTEND;TZID=America/Mexico_City:20260920T140000
DTSTAMP:20260424T083358
CREATED:20250122T174101Z
LAST-MODIFIED:20260115T223845Z
UID:10047064-1789905600-1789912800@meetings.greysheet.org
SUMMARY:Mexico City Sun 2
DESCRIPTION:
URL:https://meetings.greysheet.org/meeting/mc-sun-2/2026-09-20
LOCATION:Grupo Segunda Vida\, James Sullivan 165\, Mexico City\, 0-6470\, Mexico
CATEGORIES:In Person
ATTACH;FMTTYPE=image/svg+xml:https://meetings.greysheet.org/wp-content/uploads/2025/05/map-pin.svg
GEO:19.4352454;-99.1665786
X-APPLE-STRUCTURED-LOCATION;VALUE=URI;X-ADDRESS=Grupo Segunda Vida James Sullivan 165 Mexico City 0-6470 Mexico;X-APPLE-RADIUS=500;X-TITLE=James Sullivan 165:geo:-99.1665786,19.4352454
END:VEVENT
BEGIN:VEVENT
DTSTART;TZID=America/New_York:20260923T190000
DTEND;TZID=America/New_York:20260923T210000
DTSTAMP:20260424T083358
CREATED:20250122T174057Z
LAST-MODIFIED:20260215T201613Z
UID:10065028-1790190000-1790197200@meetings.greysheet.org
SUMMARY:Mexico City Wed
DESCRIPTION:
URL:https://meetings.greysheet.org/meeting/mexico-city-wed/2026-09-23
LOCATION:Grupo Segunda Vida\, James Sullivan 165\, Mexico City\, 0-6470\, Mexico
CATEGORIES:In Person
ATTACH;FMTTYPE=image/svg+xml:https://meetings.greysheet.org/wp-content/uploads/2025/05/map-pin.svg
GEO:19.4352454;-99.1665786
X-APPLE-STRUCTURED-LOCATION;VALUE=URI;X-ADDRESS=Grupo Segunda Vida James Sullivan 165 Mexico City 0-6470 Mexico;X-APPLE-RADIUS=500;X-TITLE=James Sullivan 165:geo:-99.1665786,19.4352454
END:VEVENT
BEGIN:VEVENT
DTSTART;TZID=America/Mexico_City:20260925T190000
DTEND;TZID=America/Mexico_City:20260925T210000
DTSTAMP:20260424T083358
CREATED:20250122T174057Z
LAST-MODIFIED:20260115T223845Z
UID:10061765-1790362800-1790370000@meetings.greysheet.org
SUMMARY:Mexico City Fri
DESCRIPTION:
URL:https://meetings.greysheet.org/meeting/mexico-city-fri/2026-09-25
LOCATION:Grupo Segunda Vida\, James Sullivan 165\, Mexico City\, 0-6470\, Mexico
CATEGORIES:In Person
ATTACH;FMTTYPE=image/svg+xml:https://meetings.greysheet.org/wp-content/uploads/2025/05/map-pin.svg
GEO:19.4352454;-99.1665786
X-APPLE-STRUCTURED-LOCATION;VALUE=URI;X-ADDRESS=Grupo Segunda Vida James Sullivan 165 Mexico City 0-6470 Mexico;X-APPLE-RADIUS=500;X-TITLE=James Sullivan 165:geo:-99.1665786,19.4352454
END:VEVENT
BEGIN:VEVENT
DTSTART;TZID=America/Mexico_City:20260927T100000
DTEND;TZID=America/Mexico_City:20260927T120000
DTSTAMP:20260424T083358
CREATED:20250122T174057Z
LAST-MODIFIED:20260215T201613Z
UID:10047503-1790503200-1790510400@meetings.greysheet.org
SUMMARY:Mexico City Sunday 1
DESCRIPTION:
URL:https://meetings.greysheet.org/meeting/mexico-city-sunday-morning/2026-09-27
LOCATION:Grupo Segunda Vida\, James Sullivan 165\, Mexico City\, 0-6470\, Mexico
CATEGORIES:In Person
ATTACH;FMTTYPE=image/svg+xml:https://meetings.greysheet.org/wp-content/uploads/2025/05/map-pin.svg
GEO:19.4352454;-99.1665786
X-APPLE-STRUCTURED-LOCATION;VALUE=URI;X-ADDRESS=Grupo Segunda Vida James Sullivan 165 Mexico City 0-6470 Mexico;X-APPLE-RADIUS=500;X-TITLE=James Sullivan 165:geo:-99.1665786,19.4352454
END:VEVENT
BEGIN:VEVENT
DTSTART;TZID=America/Mexico_City:20260927T120000
DTEND;TZID=America/Mexico_City:20260927T140000
DTSTAMP:20260424T083358
CREATED:20250122T174101Z
LAST-MODIFIED:20260115T223845Z
UID:10047065-1790510400-1790517600@meetings.greysheet.org
SUMMARY:Mexico City Sun 2
DESCRIPTION:
URL:https://meetings.greysheet.org/meeting/mc-sun-2/2026-09-27
LOCATION:Grupo Segunda Vida\, James Sullivan 165\, Mexico City\, 0-6470\, Mexico
CATEGORIES:In Person
ATTACH;FMTTYPE=image/svg+xml:https://meetings.greysheet.org/wp-content/uploads/2025/05/map-pin.svg
GEO:19.4352454;-99.1665786
X-APPLE-STRUCTURED-LOCATION;VALUE=URI;X-ADDRESS=Grupo Segunda Vida James Sullivan 165 Mexico City 0-6470 Mexico;X-APPLE-RADIUS=500;X-TITLE=James Sullivan 165:geo:-99.1665786,19.4352454
END:VEVENT
BEGIN:VEVENT
DTSTART;TZID=America/New_York:20260930T190000
DTEND;TZID=America/New_York:20260930T210000
DTSTAMP:20260424T083358
CREATED:20250122T174057Z
LAST-MODIFIED:20260215T201613Z
UID:10065029-1790794800-1790802000@meetings.greysheet.org
SUMMARY:Mexico City Wed
DESCRIPTION:
URL:https://meetings.greysheet.org/meeting/mexico-city-wed/2026-09-30
LOCATION:Grupo Segunda Vida\, James Sullivan 165\, Mexico City\, 0-6470\, Mexico
CATEGORIES:In Person
ATTACH;FMTTYPE=image/svg+xml:https://meetings.greysheet.org/wp-content/uploads/2025/05/map-pin.svg
GEO:19.4352454;-99.1665786
X-APPLE-STRUCTURED-LOCATION;VALUE=URI;X-ADDRESS=Grupo Segunda Vida James Sullivan 165 Mexico City 0-6470 Mexico;X-APPLE-RADIUS=500;X-TITLE=James Sullivan 165:geo:-99.1665786,19.4352454
END:VEVENT
BEGIN:VEVENT
DTSTART;TZID=America/Mexico_City:20261002T190000
DTEND;TZID=America/Mexico_City:20261002T210000
DTSTAMP:20260424T083358
CREATED:20250122T174057Z
LAST-MODIFIED:20260115T223845Z
UID:10061766-1790967600-1790974800@meetings.greysheet.org
SUMMARY:Mexico City Fri
DESCRIPTION:
URL:https://meetings.greysheet.org/meeting/mexico-city-fri/2026-10-02
LOCATION:Grupo Segunda Vida\, James Sullivan 165\, Mexico City\, 0-6470\, Mexico
CATEGORIES:In Person
ATTACH;FMTTYPE=image/svg+xml:https://meetings.greysheet.org/wp-content/uploads/2025/05/map-pin.svg
GEO:19.4352454;-99.1665786
X-APPLE-STRUCTURED-LOCATION;VALUE=URI;X-ADDRESS=Grupo Segunda Vida James Sullivan 165 Mexico City 0-6470 Mexico;X-APPLE-RADIUS=500;X-TITLE=James Sullivan 165:geo:-99.1665786,19.4352454
END:VEVENT
BEGIN:VEVENT
DTSTART;TZID=America/Mexico_City:20261004T100000
DTEND;TZID=America/Mexico_City:20261004T120000
DTSTAMP:20260424T083358
CREATED:20250122T174057Z
LAST-MODIFIED:20260215T201613Z
UID:10047504-1791108000-1791115200@meetings.greysheet.org
SUMMARY:Mexico City Sunday 1
DESCRIPTION:
URL:https://meetings.greysheet.org/meeting/mexico-city-sunday-morning/2026-10-04
LOCATION:Grupo Segunda Vida\, James Sullivan 165\, Mexico City\, 0-6470\, Mexico
CATEGORIES:In Person
ATTACH;FMTTYPE=image/svg+xml:https://meetings.greysheet.org/wp-content/uploads/2025/05/map-pin.svg
GEO:19.4352454;-99.1665786
X-APPLE-STRUCTURED-LOCATION;VALUE=URI;X-ADDRESS=Grupo Segunda Vida James Sullivan 165 Mexico City 0-6470 Mexico;X-APPLE-RADIUS=500;X-TITLE=James Sullivan 165:geo:-99.1665786,19.4352454
END:VEVENT
BEGIN:VEVENT
DTSTART;TZID=America/Mexico_City:20261004T120000
DTEND;TZID=America/Mexico_City:20261004T140000
DTSTAMP:20260424T083358
CREATED:20250122T174101Z
LAST-MODIFIED:20260115T223845Z
UID:10047066-1791115200-1791122400@meetings.greysheet.org
SUMMARY:Mexico City Sun 2
DESCRIPTION:
URL:https://meetings.greysheet.org/meeting/mc-sun-2/2026-10-04
LOCATION:Grupo Segunda Vida\, James Sullivan 165\, Mexico City\, 0-6470\, Mexico
CATEGORIES:In Person
ATTACH;FMTTYPE=image/svg+xml:https://meetings.greysheet.org/wp-content/uploads/2025/05/map-pin.svg
GEO:19.4352454;-99.1665786
X-APPLE-STRUCTURED-LOCATION;VALUE=URI;X-ADDRESS=Grupo Segunda Vida James Sullivan 165 Mexico City 0-6470 Mexico;X-APPLE-RADIUS=500;X-TITLE=James Sullivan 165:geo:-99.1665786,19.4352454
END:VEVENT
BEGIN:VEVENT
DTSTART;TZID=America/New_York:20261007T190000
DTEND;TZID=America/New_York:20261007T210000
DTSTAMP:20260424T083358
CREATED:20250122T174057Z
LAST-MODIFIED:20260215T201613Z
UID:10065030-1791399600-1791406800@meetings.greysheet.org
SUMMARY:Mexico City Wed
DESCRIPTION:
URL:https://meetings.greysheet.org/meeting/mexico-city-wed/2026-10-07
LOCATION:Grupo Segunda Vida\, James Sullivan 165\, Mexico City\, 0-6470\, Mexico
CATEGORIES:In Person
ATTACH;FMTTYPE=image/svg+xml:https://meetings.greysheet.org/wp-content/uploads/2025/05/map-pin.svg
GEO:19.4352454;-99.1665786
X-APPLE-STRUCTURED-LOCATION;VALUE=URI;X-ADDRESS=Grupo Segunda Vida James Sullivan 165 Mexico City 0-6470 Mexico;X-APPLE-RADIUS=500;X-TITLE=James Sullivan 165:geo:-99.1665786,19.4352454
END:VEVENT
BEGIN:VEVENT
DTSTART;TZID=America/Mexico_City:20261009T190000
DTEND;TZID=America/Mexico_City:20261009T210000
DTSTAMP:20260424T083358
CREATED:20250122T174057Z
LAST-MODIFIED:20260115T223845Z
UID:10061767-1791572400-1791579600@meetings.greysheet.org
SUMMARY:Mexico City Fri
DESCRIPTION:
URL:https://meetings.greysheet.org/meeting/mexico-city-fri/2026-10-09
LOCATION:Grupo Segunda Vida\, James Sullivan 165\, Mexico City\, 0-6470\, Mexico
CATEGORIES:In Person
ATTACH;FMTTYPE=image/svg+xml:https://meetings.greysheet.org/wp-content/uploads/2025/05/map-pin.svg
GEO:19.4352454;-99.1665786
X-APPLE-STRUCTURED-LOCATION;VALUE=URI;X-ADDRESS=Grupo Segunda Vida James Sullivan 165 Mexico City 0-6470 Mexico;X-APPLE-RADIUS=500;X-TITLE=James Sullivan 165:geo:-99.1665786,19.4352454
END:VEVENT
BEGIN:VEVENT
DTSTART;TZID=America/Mexico_City:20261011T100000
DTEND;TZID=America/Mexico_City:20261011T120000
DTSTAMP:20260424T083358
CREATED:20250122T174057Z
LAST-MODIFIED:20260215T201613Z
UID:10047505-1791712800-1791720000@meetings.greysheet.org
SUMMARY:Mexico City Sunday 1
DESCRIPTION:
URL:https://meetings.greysheet.org/meeting/mexico-city-sunday-morning/2026-10-11
LOCATION:Grupo Segunda Vida\, James Sullivan 165\, Mexico City\, 0-6470\, Mexico
CATEGORIES:In Person
ATTACH;FMTTYPE=image/svg+xml:https://meetings.greysheet.org/wp-content/uploads/2025/05/map-pin.svg
GEO:19.4352454;-99.1665786
X-APPLE-STRUCTURED-LOCATION;VALUE=URI;X-ADDRESS=Grupo Segunda Vida James Sullivan 165 Mexico City 0-6470 Mexico;X-APPLE-RADIUS=500;X-TITLE=James Sullivan 165:geo:-99.1665786,19.4352454
END:VEVENT
BEGIN:VEVENT
DTSTART;TZID=America/Mexico_City:20261011T120000
DTEND;TZID=America/Mexico_City:20261011T140000
DTSTAMP:20260424T083358
CREATED:20250122T174101Z
LAST-MODIFIED:20260115T223845Z
UID:10047067-1791720000-1791727200@meetings.greysheet.org
SUMMARY:Mexico City Sun 2
DESCRIPTION:
URL:https://meetings.greysheet.org/meeting/mc-sun-2/2026-10-11
LOCATION:Grupo Segunda Vida\, James Sullivan 165\, Mexico City\, 0-6470\, Mexico
CATEGORIES:In Person
ATTACH;FMTTYPE=image/svg+xml:https://meetings.greysheet.org/wp-content/uploads/2025/05/map-pin.svg
GEO:19.4352454;-99.1665786
X-APPLE-STRUCTURED-LOCATION;VALUE=URI;X-ADDRESS=Grupo Segunda Vida James Sullivan 165 Mexico City 0-6470 Mexico;X-APPLE-RADIUS=500;X-TITLE=James Sullivan 165:geo:-99.1665786,19.4352454
END:VEVENT
BEGIN:VEVENT
DTSTART;TZID=America/New_York:20261014T190000
DTEND;TZID=America/New_York:20261014T210000
DTSTAMP:20260424T083358
CREATED:20250122T174057Z
LAST-MODIFIED:20260215T201613Z
UID:10065031-1792004400-1792011600@meetings.greysheet.org
SUMMARY:Mexico City Wed
DESCRIPTION:
URL:https://meetings.greysheet.org/meeting/mexico-city-wed/2026-10-14
LOCATION:Grupo Segunda Vida\, James Sullivan 165\, Mexico City\, 0-6470\, Mexico
CATEGORIES:In Person
ATTACH;FMTTYPE=image/svg+xml:https://meetings.greysheet.org/wp-content/uploads/2025/05/map-pin.svg
GEO:19.4352454;-99.1665786
X-APPLE-STRUCTURED-LOCATION;VALUE=URI;X-ADDRESS=Grupo Segunda Vida James Sullivan 165 Mexico City 0-6470 Mexico;X-APPLE-RADIUS=500;X-TITLE=James Sullivan 165:geo:-99.1665786,19.4352454
END:VEVENT
BEGIN:VEVENT
DTSTART;TZID=America/Mexico_City:20261016T190000
DTEND;TZID=America/Mexico_City:20261016T210000
DTSTAMP:20260424T083358
CREATED:20250122T174057Z
LAST-MODIFIED:20260115T223845Z
UID:10061768-1792177200-1792184400@meetings.greysheet.org
SUMMARY:Mexico City Fri
DESCRIPTION:
URL:https://meetings.greysheet.org/meeting/mexico-city-fri/2026-10-16
LOCATION:Grupo Segunda Vida\, James Sullivan 165\, Mexico City\, 0-6470\, Mexico
CATEGORIES:In Person
ATTACH;FMTTYPE=image/svg+xml:https://meetings.greysheet.org/wp-content/uploads/2025/05/map-pin.svg
GEO:19.4352454;-99.1665786
X-APPLE-STRUCTURED-LOCATION;VALUE=URI;X-ADDRESS=Grupo Segunda Vida James Sullivan 165 Mexico City 0-6470 Mexico;X-APPLE-RADIUS=500;X-TITLE=James Sullivan 165:geo:-99.1665786,19.4352454
END:VEVENT
BEGIN:VEVENT
DTSTART;TZID=America/Mexico_City:20261018T100000
DTEND;TZID=America/Mexico_City:20261018T120000
DTSTAMP:20260424T083358
CREATED:20250122T174057Z
LAST-MODIFIED:20260215T201613Z
UID:10047506-1792317600-1792324800@meetings.greysheet.org
SUMMARY:Mexico City Sunday 1
DESCRIPTION:
URL:https://meetings.greysheet.org/meeting/mexico-city-sunday-morning/2026-10-18
LOCATION:Grupo Segunda Vida\, James Sullivan 165\, Mexico City\, 0-6470\, Mexico
CATEGORIES:In Person
ATTACH;FMTTYPE=image/svg+xml:https://meetings.greysheet.org/wp-content/uploads/2025/05/map-pin.svg
GEO:19.4352454;-99.1665786
X-APPLE-STRUCTURED-LOCATION;VALUE=URI;X-ADDRESS=Grupo Segunda Vida James Sullivan 165 Mexico City 0-6470 Mexico;X-APPLE-RADIUS=500;X-TITLE=James Sullivan 165:geo:-99.1665786,19.4352454
END:VEVENT
END:VCALENDAR