BEGIN:VCALENDAR
VERSION:2.0
PRODID:-//GreySheeters Anonymous World Services - ECPv6.15.20//NONSGML v1.0//EN
CALSCALE:GREGORIAN
METHOD:PUBLISH
X-ORIGINAL-URL:https://meetings.greysheet.org
X-WR-CALDESC:Events for GreySheeters Anonymous World Services
REFRESH-INTERVAL;VALUE=DURATION:PT1H
X-Robots-Tag:noindex
X-PUBLISHED-TTL:PT1H
BEGIN:VTIMEZONE
TZID:America/Mexico_City
BEGIN:STANDARD
TZOFFSETFROM:-0600
TZOFFSETTO:-0600
TZNAME:CST
DTSTART:20250101T000000
END:STANDARD
END:VTIMEZONE
BEGIN:VTIMEZONE
TZID:America/New_York
BEGIN:DAYLIGHT
TZOFFSETFROM:-0500
TZOFFSETTO:-0400
TZNAME:EDT
DTSTART:20250309T070000
END:DAYLIGHT
BEGIN:STANDARD
TZOFFSETFROM:-0400
TZOFFSETTO:-0500
TZNAME:EST
DTSTART:20251102T060000
END:STANDARD
BEGIN:DAYLIGHT
TZOFFSETFROM:-0500
TZOFFSETTO:-0400
TZNAME:EDT
DTSTART:20260308T070000
END:DAYLIGHT
BEGIN:STANDARD
TZOFFSETFROM:-0400
TZOFFSETTO:-0500
TZNAME:EST
DTSTART:20261101T060000
END:STANDARD
BEGIN:DAYLIGHT
TZOFFSETFROM:-0500
TZOFFSETTO:-0400
TZNAME:EDT
DTSTART:20270314T070000
END:DAYLIGHT
BEGIN:STANDARD
TZOFFSETFROM:-0400
TZOFFSETTO:-0500
TZNAME:EST
DTSTART:20271107T060000
END:STANDARD
END:VTIMEZONE
BEGIN:VEVENT
DTSTART;TZID=America/Mexico_City:20260419T120000
DTEND;TZID=America/Mexico_City:20260419T140000
DTSTAMP:20260420T111006
CREATED:20250122T174101Z
LAST-MODIFIED:20260115T223845Z
UID:10047042-1776600000-1776607200@meetings.greysheet.org
SUMMARY:Mexico City Sun 2
DESCRIPTION:
URL:https://meetings.greysheet.org/meeting/mc-sun-2/2026-04-19
LOCATION:Grupo Segunda Vida\, James Sullivan 165\, Mexico City\, 0-6470\, Mexico
CATEGORIES:In Person
ATTACH;FMTTYPE=image/svg+xml:https://meetings.greysheet.org/wp-content/uploads/2025/05/map-pin.svg
GEO:19.4352454;-99.1665786
X-APPLE-STRUCTURED-LOCATION;VALUE=URI;X-ADDRESS=Grupo Segunda Vida James Sullivan 165 Mexico City 0-6470 Mexico;X-APPLE-RADIUS=500;X-TITLE=James Sullivan 165:geo:-99.1665786,19.4352454
END:VEVENT
BEGIN:VEVENT
DTSTART;TZID=America/Mexico_City:20260419T100000
DTEND;TZID=America/Mexico_City:20260419T120000
DTSTAMP:20260420T111006
CREATED:20250122T174057Z
LAST-MODIFIED:20260215T201613Z
UID:10047480-1776592800-1776600000@meetings.greysheet.org
SUMMARY:Mexico City Sunday 1
DESCRIPTION:
URL:https://meetings.greysheet.org/meeting/mexico-city-sunday-morning/2026-04-19
LOCATION:Grupo Segunda Vida\, James Sullivan 165\, Mexico City\, 0-6470\, Mexico
CATEGORIES:In Person
ATTACH;FMTTYPE=image/svg+xml:https://meetings.greysheet.org/wp-content/uploads/2025/05/map-pin.svg
GEO:19.4352454;-99.1665786
X-APPLE-STRUCTURED-LOCATION;VALUE=URI;X-ADDRESS=Grupo Segunda Vida James Sullivan 165 Mexico City 0-6470 Mexico;X-APPLE-RADIUS=500;X-TITLE=James Sullivan 165:geo:-99.1665786,19.4352454
END:VEVENT
BEGIN:VEVENT
DTSTART;TZID=America/Mexico_City:20260417T190000
DTEND;TZID=America/Mexico_City:20260417T210000
DTSTAMP:20260420T111006
CREATED:20250122T174057Z
LAST-MODIFIED:20260115T223845Z
UID:10061742-1776452400-1776459600@meetings.greysheet.org
SUMMARY:Mexico City Fri
DESCRIPTION:
URL:https://meetings.greysheet.org/meeting/mexico-city-fri/2026-04-17
LOCATION:Grupo Segunda Vida\, James Sullivan 165\, Mexico City\, 0-6470\, Mexico
CATEGORIES:In Person
ATTACH;FMTTYPE=image/svg+xml:https://meetings.greysheet.org/wp-content/uploads/2025/05/map-pin.svg
GEO:19.4352454;-99.1665786
X-APPLE-STRUCTURED-LOCATION;VALUE=URI;X-ADDRESS=Grupo Segunda Vida James Sullivan 165 Mexico City 0-6470 Mexico;X-APPLE-RADIUS=500;X-TITLE=James Sullivan 165:geo:-99.1665786,19.4352454
END:VEVENT
BEGIN:VEVENT
DTSTART;TZID=America/New_York:20260415T190000
DTEND;TZID=America/New_York:20260415T210000
DTSTAMP:20260420T111006
CREATED:20250122T174057Z
LAST-MODIFIED:20260215T201613Z
UID:10065005-1776279600-1776286800@meetings.greysheet.org
SUMMARY:Mexico City Wed
DESCRIPTION:
URL:https://meetings.greysheet.org/meeting/mexico-city-wed/2026-04-15
LOCATION:Grupo Segunda Vida\, James Sullivan 165\, Mexico City\, 0-6470\, Mexico
CATEGORIES:In Person
ATTACH;FMTTYPE=image/svg+xml:https://meetings.greysheet.org/wp-content/uploads/2025/05/map-pin.svg
GEO:19.4352454;-99.1665786
X-APPLE-STRUCTURED-LOCATION;VALUE=URI;X-ADDRESS=Grupo Segunda Vida James Sullivan 165 Mexico City 0-6470 Mexico;X-APPLE-RADIUS=500;X-TITLE=James Sullivan 165:geo:-99.1665786,19.4352454
END:VEVENT
BEGIN:VEVENT
DTSTART;TZID=America/Mexico_City:20260412T120000
DTEND;TZID=America/Mexico_City:20260412T140000
DTSTAMP:20260420T111006
CREATED:20250122T174101Z
LAST-MODIFIED:20260115T223845Z
UID:10047041-1775995200-1776002400@meetings.greysheet.org
SUMMARY:Mexico City Sun 2
DESCRIPTION:
URL:https://meetings.greysheet.org/meeting/mc-sun-2/2026-04-12
LOCATION:Grupo Segunda Vida\, James Sullivan 165\, Mexico City\, 0-6470\, Mexico
CATEGORIES:In Person
ATTACH;FMTTYPE=image/svg+xml:https://meetings.greysheet.org/wp-content/uploads/2025/05/map-pin.svg
GEO:19.4352454;-99.1665786
X-APPLE-STRUCTURED-LOCATION;VALUE=URI;X-ADDRESS=Grupo Segunda Vida James Sullivan 165 Mexico City 0-6470 Mexico;X-APPLE-RADIUS=500;X-TITLE=James Sullivan 165:geo:-99.1665786,19.4352454
END:VEVENT
BEGIN:VEVENT
DTSTART;TZID=America/Mexico_City:20260412T100000
DTEND;TZID=America/Mexico_City:20260412T120000
DTSTAMP:20260420T111006
CREATED:20250122T174057Z
LAST-MODIFIED:20260215T201613Z
UID:10047479-1775988000-1775995200@meetings.greysheet.org
SUMMARY:Mexico City Sunday 1
DESCRIPTION:
URL:https://meetings.greysheet.org/meeting/mexico-city-sunday-morning/2026-04-12
LOCATION:Grupo Segunda Vida\, James Sullivan 165\, Mexico City\, 0-6470\, Mexico
CATEGORIES:In Person
ATTACH;FMTTYPE=image/svg+xml:https://meetings.greysheet.org/wp-content/uploads/2025/05/map-pin.svg
GEO:19.4352454;-99.1665786
X-APPLE-STRUCTURED-LOCATION;VALUE=URI;X-ADDRESS=Grupo Segunda Vida James Sullivan 165 Mexico City 0-6470 Mexico;X-APPLE-RADIUS=500;X-TITLE=James Sullivan 165:geo:-99.1665786,19.4352454
END:VEVENT
BEGIN:VEVENT
DTSTART;TZID=America/Mexico_City:20260410T190000
DTEND;TZID=America/Mexico_City:20260410T210000
DTSTAMP:20260420T111006
CREATED:20250122T174057Z
LAST-MODIFIED:20260115T223845Z
UID:10061741-1775847600-1775854800@meetings.greysheet.org
SUMMARY:Mexico City Fri
DESCRIPTION:
URL:https://meetings.greysheet.org/meeting/mexico-city-fri/2026-04-10
LOCATION:Grupo Segunda Vida\, James Sullivan 165\, Mexico City\, 0-6470\, Mexico
CATEGORIES:In Person
ATTACH;FMTTYPE=image/svg+xml:https://meetings.greysheet.org/wp-content/uploads/2025/05/map-pin.svg
GEO:19.4352454;-99.1665786
X-APPLE-STRUCTURED-LOCATION;VALUE=URI;X-ADDRESS=Grupo Segunda Vida James Sullivan 165 Mexico City 0-6470 Mexico;X-APPLE-RADIUS=500;X-TITLE=James Sullivan 165:geo:-99.1665786,19.4352454
END:VEVENT
BEGIN:VEVENT
DTSTART;TZID=America/New_York:20260408T190000
DTEND;TZID=America/New_York:20260408T210000
DTSTAMP:20260420T111006
CREATED:20250122T174057Z
LAST-MODIFIED:20260215T201613Z
UID:10065004-1775674800-1775682000@meetings.greysheet.org
SUMMARY:Mexico City Wed
DESCRIPTION:
URL:https://meetings.greysheet.org/meeting/mexico-city-wed/2026-04-08
LOCATION:Grupo Segunda Vida\, James Sullivan 165\, Mexico City\, 0-6470\, Mexico
CATEGORIES:In Person
ATTACH;FMTTYPE=image/svg+xml:https://meetings.greysheet.org/wp-content/uploads/2025/05/map-pin.svg
GEO:19.4352454;-99.1665786
X-APPLE-STRUCTURED-LOCATION;VALUE=URI;X-ADDRESS=Grupo Segunda Vida James Sullivan 165 Mexico City 0-6470 Mexico;X-APPLE-RADIUS=500;X-TITLE=James Sullivan 165:geo:-99.1665786,19.4352454
END:VEVENT
BEGIN:VEVENT
DTSTART;TZID=America/Mexico_City:20260405T120000
DTEND;TZID=America/Mexico_City:20260405T140000
DTSTAMP:20260420T111006
CREATED:20250122T174101Z
LAST-MODIFIED:20260115T223845Z
UID:10047040-1775390400-1775397600@meetings.greysheet.org
SUMMARY:Mexico City Sun 2
DESCRIPTION:
URL:https://meetings.greysheet.org/meeting/mc-sun-2/2026-04-05
LOCATION:Grupo Segunda Vida\, James Sullivan 165\, Mexico City\, 0-6470\, Mexico
CATEGORIES:In Person
ATTACH;FMTTYPE=image/svg+xml:https://meetings.greysheet.org/wp-content/uploads/2025/05/map-pin.svg
GEO:19.4352454;-99.1665786
X-APPLE-STRUCTURED-LOCATION;VALUE=URI;X-ADDRESS=Grupo Segunda Vida James Sullivan 165 Mexico City 0-6470 Mexico;X-APPLE-RADIUS=500;X-TITLE=James Sullivan 165:geo:-99.1665786,19.4352454
END:VEVENT
BEGIN:VEVENT
DTSTART;TZID=America/Mexico_City:20260405T100000
DTEND;TZID=America/Mexico_City:20260405T120000
DTSTAMP:20260420T111006
CREATED:20250122T174057Z
LAST-MODIFIED:20260215T201613Z
UID:10047478-1775383200-1775390400@meetings.greysheet.org
SUMMARY:Mexico City Sunday 1
DESCRIPTION:
URL:https://meetings.greysheet.org/meeting/mexico-city-sunday-morning/2026-04-05
LOCATION:Grupo Segunda Vida\, James Sullivan 165\, Mexico City\, 0-6470\, Mexico
CATEGORIES:In Person
ATTACH;FMTTYPE=image/svg+xml:https://meetings.greysheet.org/wp-content/uploads/2025/05/map-pin.svg
GEO:19.4352454;-99.1665786
X-APPLE-STRUCTURED-LOCATION;VALUE=URI;X-ADDRESS=Grupo Segunda Vida James Sullivan 165 Mexico City 0-6470 Mexico;X-APPLE-RADIUS=500;X-TITLE=James Sullivan 165:geo:-99.1665786,19.4352454
END:VEVENT
BEGIN:VEVENT
DTSTART;TZID=America/Mexico_City:20260403T190000
DTEND;TZID=America/Mexico_City:20260403T210000
DTSTAMP:20260420T111006
CREATED:20250122T174057Z
LAST-MODIFIED:20260115T223845Z
UID:10061740-1775242800-1775250000@meetings.greysheet.org
SUMMARY:Mexico City Fri
DESCRIPTION:
URL:https://meetings.greysheet.org/meeting/mexico-city-fri/2026-04-03
LOCATION:Grupo Segunda Vida\, James Sullivan 165\, Mexico City\, 0-6470\, Mexico
CATEGORIES:In Person
ATTACH;FMTTYPE=image/svg+xml:https://meetings.greysheet.org/wp-content/uploads/2025/05/map-pin.svg
GEO:19.4352454;-99.1665786
X-APPLE-STRUCTURED-LOCATION;VALUE=URI;X-ADDRESS=Grupo Segunda Vida James Sullivan 165 Mexico City 0-6470 Mexico;X-APPLE-RADIUS=500;X-TITLE=James Sullivan 165:geo:-99.1665786,19.4352454
END:VEVENT
BEGIN:VEVENT
DTSTART;TZID=America/New_York:20260401T190000
DTEND;TZID=America/New_York:20260401T210000
DTSTAMP:20260420T111006
CREATED:20250122T174057Z
LAST-MODIFIED:20260215T201613Z
UID:10065003-1775070000-1775077200@meetings.greysheet.org
SUMMARY:Mexico City Wed
DESCRIPTION:
URL:https://meetings.greysheet.org/meeting/mexico-city-wed/2026-04-01
LOCATION:Grupo Segunda Vida\, James Sullivan 165\, Mexico City\, 0-6470\, Mexico
CATEGORIES:In Person
ATTACH;FMTTYPE=image/svg+xml:https://meetings.greysheet.org/wp-content/uploads/2025/05/map-pin.svg
GEO:19.4352454;-99.1665786
X-APPLE-STRUCTURED-LOCATION;VALUE=URI;X-ADDRESS=Grupo Segunda Vida James Sullivan 165 Mexico City 0-6470 Mexico;X-APPLE-RADIUS=500;X-TITLE=James Sullivan 165:geo:-99.1665786,19.4352454
END:VEVENT
BEGIN:VEVENT
DTSTART;TZID=America/Mexico_City:20260329T120000
DTEND;TZID=America/Mexico_City:20260329T140000
DTSTAMP:20260420T111006
CREATED:20250122T174101Z
LAST-MODIFIED:20260115T223845Z
UID:10047039-1774785600-1774792800@meetings.greysheet.org
SUMMARY:Mexico City Sun 2
DESCRIPTION:
URL:https://meetings.greysheet.org/meeting/mc-sun-2/2026-03-29
LOCATION:Grupo Segunda Vida\, James Sullivan 165\, Mexico City\, 0-6470\, Mexico
CATEGORIES:In Person
ATTACH;FMTTYPE=image/svg+xml:https://meetings.greysheet.org/wp-content/uploads/2025/05/map-pin.svg
GEO:19.4352454;-99.1665786
X-APPLE-STRUCTURED-LOCATION;VALUE=URI;X-ADDRESS=Grupo Segunda Vida James Sullivan 165 Mexico City 0-6470 Mexico;X-APPLE-RADIUS=500;X-TITLE=James Sullivan 165:geo:-99.1665786,19.4352454
END:VEVENT
BEGIN:VEVENT
DTSTART;TZID=America/Mexico_City:20260329T100000
DTEND;TZID=America/Mexico_City:20260329T120000
DTSTAMP:20260420T111006
CREATED:20250122T174057Z
LAST-MODIFIED:20260215T201613Z
UID:10047477-1774778400-1774785600@meetings.greysheet.org
SUMMARY:Mexico City Sunday 1
DESCRIPTION:
URL:https://meetings.greysheet.org/meeting/mexico-city-sunday-morning/2026-03-29
LOCATION:Grupo Segunda Vida\, James Sullivan 165\, Mexico City\, 0-6470\, Mexico
CATEGORIES:In Person
ATTACH;FMTTYPE=image/svg+xml:https://meetings.greysheet.org/wp-content/uploads/2025/05/map-pin.svg
GEO:19.4352454;-99.1665786
X-APPLE-STRUCTURED-LOCATION;VALUE=URI;X-ADDRESS=Grupo Segunda Vida James Sullivan 165 Mexico City 0-6470 Mexico;X-APPLE-RADIUS=500;X-TITLE=James Sullivan 165:geo:-99.1665786,19.4352454
END:VEVENT
BEGIN:VEVENT
DTSTART;TZID=America/Mexico_City:20260327T190000
DTEND;TZID=America/Mexico_City:20260327T210000
DTSTAMP:20260420T111006
CREATED:20250122T174057Z
LAST-MODIFIED:20260115T223845Z
UID:10061739-1774638000-1774645200@meetings.greysheet.org
SUMMARY:Mexico City Fri
DESCRIPTION:
URL:https://meetings.greysheet.org/meeting/mexico-city-fri/2026-03-27
LOCATION:Grupo Segunda Vida\, James Sullivan 165\, Mexico City\, 0-6470\, Mexico
CATEGORIES:In Person
ATTACH;FMTTYPE=image/svg+xml:https://meetings.greysheet.org/wp-content/uploads/2025/05/map-pin.svg
GEO:19.4352454;-99.1665786
X-APPLE-STRUCTURED-LOCATION;VALUE=URI;X-ADDRESS=Grupo Segunda Vida James Sullivan 165 Mexico City 0-6470 Mexico;X-APPLE-RADIUS=500;X-TITLE=James Sullivan 165:geo:-99.1665786,19.4352454
END:VEVENT
BEGIN:VEVENT
DTSTART;TZID=America/New_York:20260325T190000
DTEND;TZID=America/New_York:20260325T210000
DTSTAMP:20260420T111006
CREATED:20250122T174057Z
LAST-MODIFIED:20260215T201613Z
UID:10065002-1774465200-1774472400@meetings.greysheet.org
SUMMARY:Mexico City Wed
DESCRIPTION:
URL:https://meetings.greysheet.org/meeting/mexico-city-wed/2026-03-25
LOCATION:Grupo Segunda Vida\, James Sullivan 165\, Mexico City\, 0-6470\, Mexico
CATEGORIES:In Person
ATTACH;FMTTYPE=image/svg+xml:https://meetings.greysheet.org/wp-content/uploads/2025/05/map-pin.svg
GEO:19.4352454;-99.1665786
X-APPLE-STRUCTURED-LOCATION;VALUE=URI;X-ADDRESS=Grupo Segunda Vida James Sullivan 165 Mexico City 0-6470 Mexico;X-APPLE-RADIUS=500;X-TITLE=James Sullivan 165:geo:-99.1665786,19.4352454
END:VEVENT
BEGIN:VEVENT
DTSTART;TZID=America/Mexico_City:20260322T120000
DTEND;TZID=America/Mexico_City:20260322T140000
DTSTAMP:20260420T111006
CREATED:20250122T174101Z
LAST-MODIFIED:20260115T223845Z
UID:10047038-1774180800-1774188000@meetings.greysheet.org
SUMMARY:Mexico City Sun 2
DESCRIPTION:
URL:https://meetings.greysheet.org/meeting/mc-sun-2/2026-03-22
LOCATION:Grupo Segunda Vida\, James Sullivan 165\, Mexico City\, 0-6470\, Mexico
CATEGORIES:In Person
ATTACH;FMTTYPE=image/svg+xml:https://meetings.greysheet.org/wp-content/uploads/2025/05/map-pin.svg
GEO:19.4352454;-99.1665786
X-APPLE-STRUCTURED-LOCATION;VALUE=URI;X-ADDRESS=Grupo Segunda Vida James Sullivan 165 Mexico City 0-6470 Mexico;X-APPLE-RADIUS=500;X-TITLE=James Sullivan 165:geo:-99.1665786,19.4352454
END:VEVENT
BEGIN:VEVENT
DTSTART;TZID=America/Mexico_City:20260322T100000
DTEND;TZID=America/Mexico_City:20260322T120000
DTSTAMP:20260420T111006
CREATED:20250122T174057Z
LAST-MODIFIED:20260215T201613Z
UID:10047476-1774173600-1774180800@meetings.greysheet.org
SUMMARY:Mexico City Sunday 1
DESCRIPTION:
URL:https://meetings.greysheet.org/meeting/mexico-city-sunday-morning/2026-03-22
LOCATION:Grupo Segunda Vida\, James Sullivan 165\, Mexico City\, 0-6470\, Mexico
CATEGORIES:In Person
ATTACH;FMTTYPE=image/svg+xml:https://meetings.greysheet.org/wp-content/uploads/2025/05/map-pin.svg
GEO:19.4352454;-99.1665786
X-APPLE-STRUCTURED-LOCATION;VALUE=URI;X-ADDRESS=Grupo Segunda Vida James Sullivan 165 Mexico City 0-6470 Mexico;X-APPLE-RADIUS=500;X-TITLE=James Sullivan 165:geo:-99.1665786,19.4352454
END:VEVENT
BEGIN:VEVENT
DTSTART;TZID=America/Mexico_City:20260320T190000
DTEND;TZID=America/Mexico_City:20260320T210000
DTSTAMP:20260420T111006
CREATED:20250122T174057Z
LAST-MODIFIED:20260115T223845Z
UID:10061738-1774033200-1774040400@meetings.greysheet.org
SUMMARY:Mexico City Fri
DESCRIPTION:
URL:https://meetings.greysheet.org/meeting/mexico-city-fri/2026-03-20
LOCATION:Grupo Segunda Vida\, James Sullivan 165\, Mexico City\, 0-6470\, Mexico
CATEGORIES:In Person
ATTACH;FMTTYPE=image/svg+xml:https://meetings.greysheet.org/wp-content/uploads/2025/05/map-pin.svg
GEO:19.4352454;-99.1665786
X-APPLE-STRUCTURED-LOCATION;VALUE=URI;X-ADDRESS=Grupo Segunda Vida James Sullivan 165 Mexico City 0-6470 Mexico;X-APPLE-RADIUS=500;X-TITLE=James Sullivan 165:geo:-99.1665786,19.4352454
END:VEVENT
BEGIN:VEVENT
DTSTART;TZID=America/New_York:20260318T190000
DTEND;TZID=America/New_York:20260318T210000
DTSTAMP:20260420T111006
CREATED:20250122T174057Z
LAST-MODIFIED:20260215T201613Z
UID:10065001-1773860400-1773867600@meetings.greysheet.org
SUMMARY:Mexico City Wed
DESCRIPTION:
URL:https://meetings.greysheet.org/meeting/mexico-city-wed/2026-03-18
LOCATION:Grupo Segunda Vida\, James Sullivan 165\, Mexico City\, 0-6470\, Mexico
CATEGORIES:In Person
ATTACH;FMTTYPE=image/svg+xml:https://meetings.greysheet.org/wp-content/uploads/2025/05/map-pin.svg
GEO:19.4352454;-99.1665786
X-APPLE-STRUCTURED-LOCATION;VALUE=URI;X-ADDRESS=Grupo Segunda Vida James Sullivan 165 Mexico City 0-6470 Mexico;X-APPLE-RADIUS=500;X-TITLE=James Sullivan 165:geo:-99.1665786,19.4352454
END:VEVENT
BEGIN:VEVENT
DTSTART;TZID=America/Mexico_City:20260315T120000
DTEND;TZID=America/Mexico_City:20260315T140000
DTSTAMP:20260420T111007
CREATED:20250122T174101Z
LAST-MODIFIED:20260115T223845Z
UID:10047037-1773576000-1773583200@meetings.greysheet.org
SUMMARY:Mexico City Sun 2
DESCRIPTION:
URL:https://meetings.greysheet.org/meeting/mc-sun-2/2026-03-15
LOCATION:Grupo Segunda Vida\, James Sullivan 165\, Mexico City\, 0-6470\, Mexico
CATEGORIES:In Person
ATTACH;FMTTYPE=image/svg+xml:https://meetings.greysheet.org/wp-content/uploads/2025/05/map-pin.svg
GEO:19.4352454;-99.1665786
X-APPLE-STRUCTURED-LOCATION;VALUE=URI;X-ADDRESS=Grupo Segunda Vida James Sullivan 165 Mexico City 0-6470 Mexico;X-APPLE-RADIUS=500;X-TITLE=James Sullivan 165:geo:-99.1665786,19.4352454
END:VEVENT
BEGIN:VEVENT
DTSTART;TZID=America/Mexico_City:20260315T100000
DTEND;TZID=America/Mexico_City:20260315T120000
DTSTAMP:20260420T111007
CREATED:20250122T174057Z
LAST-MODIFIED:20260215T201613Z
UID:10047475-1773568800-1773576000@meetings.greysheet.org
SUMMARY:Mexico City Sunday 1
DESCRIPTION:
URL:https://meetings.greysheet.org/meeting/mexico-city-sunday-morning/2026-03-15
LOCATION:Grupo Segunda Vida\, James Sullivan 165\, Mexico City\, 0-6470\, Mexico
CATEGORIES:In Person
ATTACH;FMTTYPE=image/svg+xml:https://meetings.greysheet.org/wp-content/uploads/2025/05/map-pin.svg
GEO:19.4352454;-99.1665786
X-APPLE-STRUCTURED-LOCATION;VALUE=URI;X-ADDRESS=Grupo Segunda Vida James Sullivan 165 Mexico City 0-6470 Mexico;X-APPLE-RADIUS=500;X-TITLE=James Sullivan 165:geo:-99.1665786,19.4352454
END:VEVENT
BEGIN:VEVENT
DTSTART;TZID=America/Mexico_City:20260313T190000
DTEND;TZID=America/Mexico_City:20260313T210000
DTSTAMP:20260420T111007
CREATED:20250122T174057Z
LAST-MODIFIED:20260115T223845Z
UID:10061737-1773428400-1773435600@meetings.greysheet.org
SUMMARY:Mexico City Fri
DESCRIPTION:
URL:https://meetings.greysheet.org/meeting/mexico-city-fri/2026-03-13
LOCATION:Grupo Segunda Vida\, James Sullivan 165\, Mexico City\, 0-6470\, Mexico
CATEGORIES:In Person
ATTACH;FMTTYPE=image/svg+xml:https://meetings.greysheet.org/wp-content/uploads/2025/05/map-pin.svg
GEO:19.4352454;-99.1665786
X-APPLE-STRUCTURED-LOCATION;VALUE=URI;X-ADDRESS=Grupo Segunda Vida James Sullivan 165 Mexico City 0-6470 Mexico;X-APPLE-RADIUS=500;X-TITLE=James Sullivan 165:geo:-99.1665786,19.4352454
END:VEVENT
BEGIN:VEVENT
DTSTART;TZID=America/New_York:20260311T190000
DTEND;TZID=America/New_York:20260311T210000
DTSTAMP:20260420T111007
CREATED:20250122T174057Z
LAST-MODIFIED:20260215T201613Z
UID:10065000-1773255600-1773262800@meetings.greysheet.org
SUMMARY:Mexico City Wed
DESCRIPTION:
URL:https://meetings.greysheet.org/meeting/mexico-city-wed/2026-03-11
LOCATION:Grupo Segunda Vida\, James Sullivan 165\, Mexico City\, 0-6470\, Mexico
CATEGORIES:In Person
ATTACH;FMTTYPE=image/svg+xml:https://meetings.greysheet.org/wp-content/uploads/2025/05/map-pin.svg
GEO:19.4352454;-99.1665786
X-APPLE-STRUCTURED-LOCATION;VALUE=URI;X-ADDRESS=Grupo Segunda Vida James Sullivan 165 Mexico City 0-6470 Mexico;X-APPLE-RADIUS=500;X-TITLE=James Sullivan 165:geo:-99.1665786,19.4352454
END:VEVENT
BEGIN:VEVENT
DTSTART;TZID=America/Mexico_City:20260308T120000
DTEND;TZID=America/Mexico_City:20260308T140000
DTSTAMP:20260420T111007
CREATED:20250122T174101Z
LAST-MODIFIED:20260115T223845Z
UID:10047036-1772971200-1772978400@meetings.greysheet.org
SUMMARY:Mexico City Sun 2
DESCRIPTION:
URL:https://meetings.greysheet.org/meeting/mc-sun-2/2026-03-08
LOCATION:Grupo Segunda Vida\, James Sullivan 165\, Mexico City\, 0-6470\, Mexico
CATEGORIES:In Person
ATTACH;FMTTYPE=image/svg+xml:https://meetings.greysheet.org/wp-content/uploads/2025/05/map-pin.svg
GEO:19.4352454;-99.1665786
X-APPLE-STRUCTURED-LOCATION;VALUE=URI;X-ADDRESS=Grupo Segunda Vida James Sullivan 165 Mexico City 0-6470 Mexico;X-APPLE-RADIUS=500;X-TITLE=James Sullivan 165:geo:-99.1665786,19.4352454
END:VEVENT
BEGIN:VEVENT
DTSTART;TZID=America/Mexico_City:20260308T100000
DTEND;TZID=America/Mexico_City:20260308T120000
DTSTAMP:20260420T111007
CREATED:20250122T174057Z
LAST-MODIFIED:20260215T201613Z
UID:10047474-1772964000-1772971200@meetings.greysheet.org
SUMMARY:Mexico City Sunday 1
DESCRIPTION:
URL:https://meetings.greysheet.org/meeting/mexico-city-sunday-morning/2026-03-08
LOCATION:Grupo Segunda Vida\, James Sullivan 165\, Mexico City\, 0-6470\, Mexico
CATEGORIES:In Person
ATTACH;FMTTYPE=image/svg+xml:https://meetings.greysheet.org/wp-content/uploads/2025/05/map-pin.svg
GEO:19.4352454;-99.1665786
X-APPLE-STRUCTURED-LOCATION;VALUE=URI;X-ADDRESS=Grupo Segunda Vida James Sullivan 165 Mexico City 0-6470 Mexico;X-APPLE-RADIUS=500;X-TITLE=James Sullivan 165:geo:-99.1665786,19.4352454
END:VEVENT
BEGIN:VEVENT
DTSTART;TZID=America/Mexico_City:20260306T190000
DTEND;TZID=America/Mexico_City:20260306T210000
DTSTAMP:20260420T111007
CREATED:20250122T174057Z
LAST-MODIFIED:20260115T223845Z
UID:10061736-1772823600-1772830800@meetings.greysheet.org
SUMMARY:Mexico City Fri
DESCRIPTION:
URL:https://meetings.greysheet.org/meeting/mexico-city-fri/2026-03-06
LOCATION:Grupo Segunda Vida\, James Sullivan 165\, Mexico City\, 0-6470\, Mexico
CATEGORIES:In Person
ATTACH;FMTTYPE=image/svg+xml:https://meetings.greysheet.org/wp-content/uploads/2025/05/map-pin.svg
GEO:19.4352454;-99.1665786
X-APPLE-STRUCTURED-LOCATION;VALUE=URI;X-ADDRESS=Grupo Segunda Vida James Sullivan 165 Mexico City 0-6470 Mexico;X-APPLE-RADIUS=500;X-TITLE=James Sullivan 165:geo:-99.1665786,19.4352454
END:VEVENT
BEGIN:VEVENT
DTSTART;TZID=America/New_York:20260304T190000
DTEND;TZID=America/New_York:20260304T210000
DTSTAMP:20260420T111007
CREATED:20250122T174057Z
LAST-MODIFIED:20260215T201613Z
UID:10064999-1772650800-1772658000@meetings.greysheet.org
SUMMARY:Mexico City Wed
DESCRIPTION:
URL:https://meetings.greysheet.org/meeting/mexico-city-wed/2026-03-04
LOCATION:Grupo Segunda Vida\, James Sullivan 165\, Mexico City\, 0-6470\, Mexico
CATEGORIES:In Person
ATTACH;FMTTYPE=image/svg+xml:https://meetings.greysheet.org/wp-content/uploads/2025/05/map-pin.svg
GEO:19.4352454;-99.1665786
X-APPLE-STRUCTURED-LOCATION;VALUE=URI;X-ADDRESS=Grupo Segunda Vida James Sullivan 165 Mexico City 0-6470 Mexico;X-APPLE-RADIUS=500;X-TITLE=James Sullivan 165:geo:-99.1665786,19.4352454
END:VEVENT
BEGIN:VEVENT
DTSTART;TZID=America/Mexico_City:20260301T120000
DTEND;TZID=America/Mexico_City:20260301T140000
DTSTAMP:20260420T111007
CREATED:20250122T174101Z
LAST-MODIFIED:20260115T223845Z
UID:10047035-1772366400-1772373600@meetings.greysheet.org
SUMMARY:Mexico City Sun 2
DESCRIPTION:
URL:https://meetings.greysheet.org/meeting/mc-sun-2/2026-03-01
LOCATION:Grupo Segunda Vida\, James Sullivan 165\, Mexico City\, 0-6470\, Mexico
CATEGORIES:In Person
ATTACH;FMTTYPE=image/svg+xml:https://meetings.greysheet.org/wp-content/uploads/2025/05/map-pin.svg
GEO:19.4352454;-99.1665786
X-APPLE-STRUCTURED-LOCATION;VALUE=URI;X-ADDRESS=Grupo Segunda Vida James Sullivan 165 Mexico City 0-6470 Mexico;X-APPLE-RADIUS=500;X-TITLE=James Sullivan 165:geo:-99.1665786,19.4352454
END:VEVENT
BEGIN:VEVENT
DTSTART;TZID=America/Mexico_City:20260301T100000
DTEND;TZID=America/Mexico_City:20260301T120000
DTSTAMP:20260420T111007
CREATED:20250122T174057Z
LAST-MODIFIED:20260215T201613Z
UID:10047473-1772359200-1772366400@meetings.greysheet.org
SUMMARY:Mexico City Sunday 1
DESCRIPTION:
URL:https://meetings.greysheet.org/meeting/mexico-city-sunday-morning/2026-03-01
LOCATION:Grupo Segunda Vida\, James Sullivan 165\, Mexico City\, 0-6470\, Mexico
CATEGORIES:In Person
ATTACH;FMTTYPE=image/svg+xml:https://meetings.greysheet.org/wp-content/uploads/2025/05/map-pin.svg
GEO:19.4352454;-99.1665786
X-APPLE-STRUCTURED-LOCATION;VALUE=URI;X-ADDRESS=Grupo Segunda Vida James Sullivan 165 Mexico City 0-6470 Mexico;X-APPLE-RADIUS=500;X-TITLE=James Sullivan 165:geo:-99.1665786,19.4352454
END:VEVENT
END:VCALENDAR