BEGIN:VCALENDAR
VERSION:2.0
PRODID:-//GreySheeters Anonymous World Services - ECPv6.15.20//NONSGML v1.0//EN
CALSCALE:GREGORIAN
METHOD:PUBLISH
X-ORIGINAL-URL:https://meetings.greysheet.org
X-WR-CALDESC:Events for GreySheeters Anonymous World Services
REFRESH-INTERVAL;VALUE=DURATION:PT1H
X-Robots-Tag:noindex
X-PUBLISHED-TTL:PT1H
BEGIN:VTIMEZONE
TZID:Atlantic/Reykjavik
BEGIN:STANDARD
TZOFFSETFROM:+0000
TZOFFSETTO:+0000
TZNAME:GMT
DTSTART:20260101T000000
END:STANDARD
END:VTIMEZONE
BEGIN:VEVENT
DTSTART;TZID=Atlantic/Reykjavik:20270429T173000
DTEND;TZID=Atlantic/Reykjavik:20270429T183000
DTSTAMP:20260420T110816
CREATED:20250122T174133Z
LAST-MODIFIED:20260214T205329Z
UID:10040675-1809019800-1809023400@meetings.greysheet.org
SUMMARY:Husavik Monthly
DESCRIPTION:
URL:https://meetings.greysheet.org/meeting/husavik-monthly/2027-04-29
LOCATION:Zoom ID: 3099135318, Passcode: Universal, Camera: Optional - Gardarsbraut Kirkubaer\, Gardarsbraut Kirkjubaer safnadarheimili\, Husavik\, Northeastern\, 640\, Iceland
CATEGORIES:Hybrid,In Person,Zoom
ATTACH;FMTTYPE=image/svg+xml:https://meetings.greysheet.org/wp-content/uploads/2025/05/hybrid-1.svg
GEO:66.0423053;-17.3395946
X-APPLE-STRUCTURED-LOCATION;VALUE=URI;X-ADDRESS=Zoom ID: 3099135318, Passcode: Universal, Camera: Optional - Gardarsbraut Kirkubaer Gardarsbraut Kirkjubaer safnadarheimili Husavik Northeastern 640 Iceland;X-APPLE-RADIUS=500;X-TITLE=Gardarsbraut Kirkjubaer safnadarheimili:geo:-17.3395946,66.0423053
END:VEVENT
BEGIN:VEVENT
DTSTART;TZID=Atlantic/Reykjavik:20270527T173000
DTEND;TZID=Atlantic/Reykjavik:20270527T183000
DTSTAMP:20260420T110816
CREATED:20250122T174133Z
LAST-MODIFIED:20260214T205329Z
UID:10040676-1811439000-1811442600@meetings.greysheet.org
SUMMARY:Husavik Monthly
DESCRIPTION:
URL:https://meetings.greysheet.org/meeting/husavik-monthly/2027-05-27
LOCATION:Zoom ID: 3099135318, Passcode: Universal, Camera: Optional - Gardarsbraut Kirkubaer\, Gardarsbraut Kirkjubaer safnadarheimili\, Husavik\, Northeastern\, 640\, Iceland
CATEGORIES:Hybrid,In Person,Zoom
ATTACH;FMTTYPE=image/svg+xml:https://meetings.greysheet.org/wp-content/uploads/2025/05/hybrid-1.svg
GEO:66.0423053;-17.3395946
X-APPLE-STRUCTURED-LOCATION;VALUE=URI;X-ADDRESS=Zoom ID: 3099135318, Passcode: Universal, Camera: Optional - Gardarsbraut Kirkubaer Gardarsbraut Kirkjubaer safnadarheimili Husavik Northeastern 640 Iceland;X-APPLE-RADIUS=500;X-TITLE=Gardarsbraut Kirkjubaer safnadarheimili:geo:-17.3395946,66.0423053
END:VEVENT
BEGIN:VEVENT
DTSTART;TZID=Atlantic/Reykjavik:20270624T173000
DTEND;TZID=Atlantic/Reykjavik:20270624T183000
DTSTAMP:20260420T110816
CREATED:20250122T174133Z
LAST-MODIFIED:20260214T205329Z
UID:10040677-1813858200-1813861800@meetings.greysheet.org
SUMMARY:Husavik Monthly
DESCRIPTION:
URL:https://meetings.greysheet.org/meeting/husavik-monthly/2027-06-24
LOCATION:Zoom ID: 3099135318, Passcode: Universal, Camera: Optional - Gardarsbraut Kirkubaer\, Gardarsbraut Kirkjubaer safnadarheimili\, Husavik\, Northeastern\, 640\, Iceland
CATEGORIES:Hybrid,In Person,Zoom
ATTACH;FMTTYPE=image/svg+xml:https://meetings.greysheet.org/wp-content/uploads/2025/05/hybrid-1.svg
GEO:66.0423053;-17.3395946
X-APPLE-STRUCTURED-LOCATION;VALUE=URI;X-ADDRESS=Zoom ID: 3099135318, Passcode: Universal, Camera: Optional - Gardarsbraut Kirkubaer Gardarsbraut Kirkjubaer safnadarheimili Husavik Northeastern 640 Iceland;X-APPLE-RADIUS=500;X-TITLE=Gardarsbraut Kirkjubaer safnadarheimili:geo:-17.3395946,66.0423053
END:VEVENT
BEGIN:VEVENT
DTSTART;TZID=Atlantic/Reykjavik:20270729T173000
DTEND;TZID=Atlantic/Reykjavik:20270729T183000
DTSTAMP:20260420T110816
CREATED:20250122T174133Z
LAST-MODIFIED:20260214T205329Z
UID:10040678-1816882200-1816885800@meetings.greysheet.org
SUMMARY:Husavik Monthly
DESCRIPTION:
URL:https://meetings.greysheet.org/meeting/husavik-monthly/2027-07-29
LOCATION:Zoom ID: 3099135318, Passcode: Universal, Camera: Optional - Gardarsbraut Kirkubaer\, Gardarsbraut Kirkjubaer safnadarheimili\, Husavik\, Northeastern\, 640\, Iceland
CATEGORIES:Hybrid,In Person,Zoom
ATTACH;FMTTYPE=image/svg+xml:https://meetings.greysheet.org/wp-content/uploads/2025/05/hybrid-1.svg
GEO:66.0423053;-17.3395946
X-APPLE-STRUCTURED-LOCATION;VALUE=URI;X-ADDRESS=Zoom ID: 3099135318, Passcode: Universal, Camera: Optional - Gardarsbraut Kirkubaer Gardarsbraut Kirkjubaer safnadarheimili Husavik Northeastern 640 Iceland;X-APPLE-RADIUS=500;X-TITLE=Gardarsbraut Kirkjubaer safnadarheimili:geo:-17.3395946,66.0423053
END:VEVENT
BEGIN:VEVENT
DTSTART;TZID=Atlantic/Reykjavik:20270826T173000
DTEND;TZID=Atlantic/Reykjavik:20270826T183000
DTSTAMP:20260420T110816
CREATED:20250122T174133Z
LAST-MODIFIED:20260214T205329Z
UID:10040679-1819301400-1819305000@meetings.greysheet.org
SUMMARY:Husavik Monthly
DESCRIPTION:
URL:https://meetings.greysheet.org/meeting/husavik-monthly/2027-08-26
LOCATION:Zoom ID: 3099135318, Passcode: Universal, Camera: Optional - Gardarsbraut Kirkubaer\, Gardarsbraut Kirkjubaer safnadarheimili\, Husavik\, Northeastern\, 640\, Iceland
CATEGORIES:Hybrid,In Person,Zoom
ATTACH;FMTTYPE=image/svg+xml:https://meetings.greysheet.org/wp-content/uploads/2025/05/hybrid-1.svg
GEO:66.0423053;-17.3395946
X-APPLE-STRUCTURED-LOCATION;VALUE=URI;X-ADDRESS=Zoom ID: 3099135318, Passcode: Universal, Camera: Optional - Gardarsbraut Kirkubaer Gardarsbraut Kirkjubaer safnadarheimili Husavik Northeastern 640 Iceland;X-APPLE-RADIUS=500;X-TITLE=Gardarsbraut Kirkjubaer safnadarheimili:geo:-17.3395946,66.0423053
END:VEVENT
BEGIN:VEVENT
DTSTART;TZID=Atlantic/Reykjavik:20270930T173000
DTEND;TZID=Atlantic/Reykjavik:20270930T183000
DTSTAMP:20260420T110816
CREATED:20250122T174133Z
LAST-MODIFIED:20260214T205329Z
UID:10040680-1822325400-1822329000@meetings.greysheet.org
SUMMARY:Husavik Monthly
DESCRIPTION:
URL:https://meetings.greysheet.org/meeting/husavik-monthly/2027-09-30
LOCATION:Zoom ID: 3099135318, Passcode: Universal, Camera: Optional - Gardarsbraut Kirkubaer\, Gardarsbraut Kirkjubaer safnadarheimili\, Husavik\, Northeastern\, 640\, Iceland
CATEGORIES:Hybrid,In Person,Zoom
ATTACH;FMTTYPE=image/svg+xml:https://meetings.greysheet.org/wp-content/uploads/2025/05/hybrid-1.svg
GEO:66.0423053;-17.3395946
X-APPLE-STRUCTURED-LOCATION;VALUE=URI;X-ADDRESS=Zoom ID: 3099135318, Passcode: Universal, Camera: Optional - Gardarsbraut Kirkubaer Gardarsbraut Kirkjubaer safnadarheimili Husavik Northeastern 640 Iceland;X-APPLE-RADIUS=500;X-TITLE=Gardarsbraut Kirkjubaer safnadarheimili:geo:-17.3395946,66.0423053
END:VEVENT
BEGIN:VEVENT
DTSTART;TZID=Atlantic/Reykjavik:20271028T173000
DTEND;TZID=Atlantic/Reykjavik:20271028T183000
DTSTAMP:20260420T110816
CREATED:20250122T174133Z
LAST-MODIFIED:20260214T205329Z
UID:10040681-1824744600-1824748200@meetings.greysheet.org
SUMMARY:Husavik Monthly
DESCRIPTION:
URL:https://meetings.greysheet.org/meeting/husavik-monthly/2027-10-28
LOCATION:Zoom ID: 3099135318, Passcode: Universal, Camera: Optional - Gardarsbraut Kirkubaer\, Gardarsbraut Kirkjubaer safnadarheimili\, Husavik\, Northeastern\, 640\, Iceland
CATEGORIES:Hybrid,In Person,Zoom
ATTACH;FMTTYPE=image/svg+xml:https://meetings.greysheet.org/wp-content/uploads/2025/05/hybrid-1.svg
GEO:66.0423053;-17.3395946
X-APPLE-STRUCTURED-LOCATION;VALUE=URI;X-ADDRESS=Zoom ID: 3099135318, Passcode: Universal, Camera: Optional - Gardarsbraut Kirkubaer Gardarsbraut Kirkjubaer safnadarheimili Husavik Northeastern 640 Iceland;X-APPLE-RADIUS=500;X-TITLE=Gardarsbraut Kirkjubaer safnadarheimili:geo:-17.3395946,66.0423053
END:VEVENT
BEGIN:VEVENT
DTSTART;TZID=Atlantic/Reykjavik:20271125T173000
DTEND;TZID=Atlantic/Reykjavik:20271125T183000
DTSTAMP:20260420T110816
CREATED:20250122T174133Z
LAST-MODIFIED:20260214T205329Z
UID:10060076-1827163800-1827167400@meetings.greysheet.org
SUMMARY:Husavik Monthly
DESCRIPTION:
URL:https://meetings.greysheet.org/meeting/husavik-monthly/2027-11-25
LOCATION:Zoom ID: 3099135318, Passcode: Universal, Camera: Optional - Gardarsbraut Kirkubaer\, Gardarsbraut Kirkjubaer safnadarheimili\, Husavik\, Northeastern\, 640\, Iceland
CATEGORIES:Hybrid,In Person,Zoom
ATTACH;FMTTYPE=image/svg+xml:https://meetings.greysheet.org/wp-content/uploads/2025/05/hybrid-1.svg
GEO:66.0423053;-17.3395946
X-APPLE-STRUCTURED-LOCATION;VALUE=URI;X-ADDRESS=Zoom ID: 3099135318, Passcode: Universal, Camera: Optional - Gardarsbraut Kirkubaer Gardarsbraut Kirkjubaer safnadarheimili Husavik Northeastern 640 Iceland;X-APPLE-RADIUS=500;X-TITLE=Gardarsbraut Kirkjubaer safnadarheimili:geo:-17.3395946,66.0423053
END:VEVENT
BEGIN:VEVENT
DTSTART;TZID=Atlantic/Reykjavik:20271230T173000
DTEND;TZID=Atlantic/Reykjavik:20271230T183000
DTSTAMP:20260420T110816
CREATED:20250122T174133Z
LAST-MODIFIED:20260214T205329Z
UID:10062253-1830187800-1830191400@meetings.greysheet.org
SUMMARY:Husavik Monthly
DESCRIPTION:
URL:https://meetings.greysheet.org/meeting/husavik-monthly/2027-12-30
LOCATION:Zoom ID: 3099135318, Passcode: Universal, Camera: Optional - Gardarsbraut Kirkubaer\, Gardarsbraut Kirkjubaer safnadarheimili\, Husavik\, Northeastern\, 640\, Iceland
CATEGORIES:Hybrid,In Person,Zoom
ATTACH;FMTTYPE=image/svg+xml:https://meetings.greysheet.org/wp-content/uploads/2025/05/hybrid-1.svg
GEO:66.0423053;-17.3395946
X-APPLE-STRUCTURED-LOCATION;VALUE=URI;X-ADDRESS=Zoom ID: 3099135318, Passcode: Universal, Camera: Optional - Gardarsbraut Kirkubaer Gardarsbraut Kirkjubaer safnadarheimili Husavik Northeastern 640 Iceland;X-APPLE-RADIUS=500;X-TITLE=Gardarsbraut Kirkjubaer safnadarheimili:geo:-17.3395946,66.0423053
END:VEVENT
BEGIN:VEVENT
DTSTART;TZID=Atlantic/Reykjavik:20280127T173000
DTEND;TZID=Atlantic/Reykjavik:20280127T183000
DTSTAMP:20260420T110816
CREATED:20250122T174133Z
LAST-MODIFIED:20260214T205329Z
UID:10062552-1832607000-1832610600@meetings.greysheet.org
SUMMARY:Husavik Monthly
DESCRIPTION:
URL:https://meetings.greysheet.org/meeting/husavik-monthly/2028-01-27
LOCATION:Zoom ID: 3099135318, Passcode: Universal, Camera: Optional - Gardarsbraut Kirkubaer\, Gardarsbraut Kirkjubaer safnadarheimili\, Husavik\, Northeastern\, 640\, Iceland
CATEGORIES:Hybrid,In Person,Zoom
ATTACH;FMTTYPE=image/svg+xml:https://meetings.greysheet.org/wp-content/uploads/2025/05/hybrid-1.svg
GEO:66.0423053;-17.3395946
X-APPLE-STRUCTURED-LOCATION;VALUE=URI;X-ADDRESS=Zoom ID: 3099135318, Passcode: Universal, Camera: Optional - Gardarsbraut Kirkubaer Gardarsbraut Kirkjubaer safnadarheimili Husavik Northeastern 640 Iceland;X-APPLE-RADIUS=500;X-TITLE=Gardarsbraut Kirkjubaer safnadarheimili:geo:-17.3395946,66.0423053
END:VEVENT
END:VCALENDAR