BEGIN:VCALENDAR
VERSION:2.0
PRODID:-//GreySheeters Anonymous World Services - ECPv6.15.20//NONSGML v1.0//EN
CALSCALE:GREGORIAN
METHOD:PUBLISH
X-WR-CALNAME:GreySheeters Anonymous World Services
X-ORIGINAL-URL:https://meetings.greysheet.org
X-WR-CALDESC:Events for GreySheeters Anonymous World Services
REFRESH-INTERVAL;VALUE=DURATION:PT1H
X-Robots-Tag:noindex
X-PUBLISHED-TTL:PT1H
BEGIN:VTIMEZONE
TZID:America/Los_Angeles
BEGIN:DAYLIGHT
TZOFFSETFROM:-0800
TZOFFSETTO:-0700
TZNAME:PDT
DTSTART:20240310T100000
END:DAYLIGHT
BEGIN:STANDARD
TZOFFSETFROM:-0700
TZOFFSETTO:-0800
TZNAME:PST
DTSTART:20241103T090000
END:STANDARD
BEGIN:DAYLIGHT
TZOFFSETFROM:-0800
TZOFFSETTO:-0700
TZNAME:PDT
DTSTART:20250309T100000
END:DAYLIGHT
BEGIN:STANDARD
TZOFFSETFROM:-0700
TZOFFSETTO:-0800
TZNAME:PST
DTSTART:20251102T090000
END:STANDARD
BEGIN:DAYLIGHT
TZOFFSETFROM:-0800
TZOFFSETTO:-0700
TZNAME:PDT
DTSTART:20260308T100000
END:DAYLIGHT
BEGIN:STANDARD
TZOFFSETFROM:-0700
TZOFFSETTO:-0800
TZNAME:PST
DTSTART:20261101T090000
END:STANDARD
END:VTIMEZONE
BEGIN:VEVENT
DTSTART;TZID=America/Los_Angeles:20250809T090000
DTEND;TZID=America/Los_Angeles:20250809T100000
DTSTAMP:20260421T142313
CREATED:20250122T194932Z
LAST-MODIFIED:20260308T195929Z
UID:10048180-1754730000-1754733600@meetings.greysheet.org
SUMMARY:Farmers Market at the Grove
DESCRIPTION:
URL:https://meetings.greysheet.org/meeting/farmers-market-at-the-grove/2025-08-09
LOCATION:Farmers Market at the Grove\, 6333 W 3rd St\, Los Angeles\, CA\, 90036\, United States
CATEGORIES:In Person
ATTACH;FMTTYPE=image/svg+xml:https://meetings.greysheet.org/wp-content/uploads/2025/05/map-pin.svg
GEO:34.0724565;-118.3599638
X-APPLE-STRUCTURED-LOCATION;VALUE=URI;X-ADDRESS=Farmers Market at the Grove 6333 W 3rd St Los Angeles CA 90036 United States;X-APPLE-RADIUS=500;X-TITLE=6333 W 3rd St:geo:-118.3599638,34.0724565
END:VEVENT
BEGIN:VEVENT
DTSTART;TZID=America/Los_Angeles:20250802T090000
DTEND;TZID=America/Los_Angeles:20250802T100000
DTSTAMP:20260421T142313
CREATED:20250122T194932Z
LAST-MODIFIED:20260308T195929Z
UID:10048179-1754125200-1754128800@meetings.greysheet.org
SUMMARY:Farmers Market at the Grove
DESCRIPTION:
URL:https://meetings.greysheet.org/meeting/farmers-market-at-the-grove/2025-08-02
LOCATION:Farmers Market at the Grove\, 6333 W 3rd St\, Los Angeles\, CA\, 90036\, United States
CATEGORIES:In Person
ATTACH;FMTTYPE=image/svg+xml:https://meetings.greysheet.org/wp-content/uploads/2025/05/map-pin.svg
GEO:34.0724565;-118.3599638
X-APPLE-STRUCTURED-LOCATION;VALUE=URI;X-ADDRESS=Farmers Market at the Grove 6333 W 3rd St Los Angeles CA 90036 United States;X-APPLE-RADIUS=500;X-TITLE=6333 W 3rd St:geo:-118.3599638,34.0724565
END:VEVENT
BEGIN:VEVENT
DTSTART;TZID=America/Los_Angeles:20250726T090000
DTEND;TZID=America/Los_Angeles:20250726T100000
DTSTAMP:20260421T142313
CREATED:20250122T194932Z
LAST-MODIFIED:20260308T195929Z
UID:10048178-1753520400-1753524000@meetings.greysheet.org
SUMMARY:Farmers Market at the Grove
DESCRIPTION:
URL:https://meetings.greysheet.org/meeting/farmers-market-at-the-grove/2025-07-26
LOCATION:Farmers Market at the Grove\, 6333 W 3rd St\, Los Angeles\, CA\, 90036\, United States
CATEGORIES:In Person
ATTACH;FMTTYPE=image/svg+xml:https://meetings.greysheet.org/wp-content/uploads/2025/05/map-pin.svg
GEO:34.0724565;-118.3599638
X-APPLE-STRUCTURED-LOCATION;VALUE=URI;X-ADDRESS=Farmers Market at the Grove 6333 W 3rd St Los Angeles CA 90036 United States;X-APPLE-RADIUS=500;X-TITLE=6333 W 3rd St:geo:-118.3599638,34.0724565
END:VEVENT
BEGIN:VEVENT
DTSTART;TZID=America/Los_Angeles:20250719T090000
DTEND;TZID=America/Los_Angeles:20250719T100000
DTSTAMP:20260421T142313
CREATED:20250122T194932Z
LAST-MODIFIED:20260308T195929Z
UID:10048177-1752915600-1752919200@meetings.greysheet.org
SUMMARY:Farmers Market at the Grove
DESCRIPTION:
URL:https://meetings.greysheet.org/meeting/farmers-market-at-the-grove/2025-07-19
LOCATION:Farmers Market at the Grove\, 6333 W 3rd St\, Los Angeles\, CA\, 90036\, United States
CATEGORIES:In Person
ATTACH;FMTTYPE=image/svg+xml:https://meetings.greysheet.org/wp-content/uploads/2025/05/map-pin.svg
GEO:34.0724565;-118.3599638
X-APPLE-STRUCTURED-LOCATION;VALUE=URI;X-ADDRESS=Farmers Market at the Grove 6333 W 3rd St Los Angeles CA 90036 United States;X-APPLE-RADIUS=500;X-TITLE=6333 W 3rd St:geo:-118.3599638,34.0724565
END:VEVENT
BEGIN:VEVENT
DTSTART;TZID=America/Los_Angeles:20250712T090000
DTEND;TZID=America/Los_Angeles:20250712T100000
DTSTAMP:20260421T142313
CREATED:20250122T194932Z
LAST-MODIFIED:20260308T195929Z
UID:10048176-1752310800-1752314400@meetings.greysheet.org
SUMMARY:Farmers Market at the Grove
DESCRIPTION:
URL:https://meetings.greysheet.org/meeting/farmers-market-at-the-grove/2025-07-12
LOCATION:Farmers Market at the Grove\, 6333 W 3rd St\, Los Angeles\, CA\, 90036\, United States
CATEGORIES:In Person
ATTACH;FMTTYPE=image/svg+xml:https://meetings.greysheet.org/wp-content/uploads/2025/05/map-pin.svg
GEO:34.0724565;-118.3599638
X-APPLE-STRUCTURED-LOCATION;VALUE=URI;X-ADDRESS=Farmers Market at the Grove 6333 W 3rd St Los Angeles CA 90036 United States;X-APPLE-RADIUS=500;X-TITLE=6333 W 3rd St:geo:-118.3599638,34.0724565
END:VEVENT
BEGIN:VEVENT
DTSTART;TZID=America/Los_Angeles:20250705T090000
DTEND;TZID=America/Los_Angeles:20250705T100000
DTSTAMP:20260421T142313
CREATED:20250122T194932Z
LAST-MODIFIED:20260308T195929Z
UID:10048175-1751706000-1751709600@meetings.greysheet.org
SUMMARY:Farmers Market at the Grove
DESCRIPTION:
URL:https://meetings.greysheet.org/meeting/farmers-market-at-the-grove/2025-07-05
LOCATION:Farmers Market at the Grove\, 6333 W 3rd St\, Los Angeles\, CA\, 90036\, United States
CATEGORIES:In Person
ATTACH;FMTTYPE=image/svg+xml:https://meetings.greysheet.org/wp-content/uploads/2025/05/map-pin.svg
GEO:34.0724565;-118.3599638
X-APPLE-STRUCTURED-LOCATION;VALUE=URI;X-ADDRESS=Farmers Market at the Grove 6333 W 3rd St Los Angeles CA 90036 United States;X-APPLE-RADIUS=500;X-TITLE=6333 W 3rd St:geo:-118.3599638,34.0724565
END:VEVENT
BEGIN:VEVENT
DTSTART;TZID=America/Los_Angeles:20250628T090000
DTEND;TZID=America/Los_Angeles:20250628T100000
DTSTAMP:20260421T142313
CREATED:20250122T194932Z
LAST-MODIFIED:20260308T195929Z
UID:10048174-1751101200-1751104800@meetings.greysheet.org
SUMMARY:Farmers Market at the Grove
DESCRIPTION:
URL:https://meetings.greysheet.org/meeting/farmers-market-at-the-grove/2025-06-28
LOCATION:Farmers Market at the Grove\, 6333 W 3rd St\, Los Angeles\, CA\, 90036\, United States
CATEGORIES:In Person
ATTACH;FMTTYPE=image/svg+xml:https://meetings.greysheet.org/wp-content/uploads/2025/05/map-pin.svg
GEO:34.0724565;-118.3599638
X-APPLE-STRUCTURED-LOCATION;VALUE=URI;X-ADDRESS=Farmers Market at the Grove 6333 W 3rd St Los Angeles CA 90036 United States;X-APPLE-RADIUS=500;X-TITLE=6333 W 3rd St:geo:-118.3599638,34.0724565
END:VEVENT
BEGIN:VEVENT
DTSTART;TZID=America/Los_Angeles:20250621T090000
DTEND;TZID=America/Los_Angeles:20250621T100000
DTSTAMP:20260421T142313
CREATED:20250122T194932Z
LAST-MODIFIED:20260308T195929Z
UID:10048173-1750496400-1750500000@meetings.greysheet.org
SUMMARY:Farmers Market at the Grove
DESCRIPTION:
URL:https://meetings.greysheet.org/meeting/farmers-market-at-the-grove/2025-06-21
LOCATION:Farmers Market at the Grove\, 6333 W 3rd St\, Los Angeles\, CA\, 90036\, United States
CATEGORIES:In Person
ATTACH;FMTTYPE=image/svg+xml:https://meetings.greysheet.org/wp-content/uploads/2025/05/map-pin.svg
GEO:34.0724565;-118.3599638
X-APPLE-STRUCTURED-LOCATION;VALUE=URI;X-ADDRESS=Farmers Market at the Grove 6333 W 3rd St Los Angeles CA 90036 United States;X-APPLE-RADIUS=500;X-TITLE=6333 W 3rd St:geo:-118.3599638,34.0724565
END:VEVENT
BEGIN:VEVENT
DTSTART;TZID=America/Los_Angeles:20250614T090000
DTEND;TZID=America/Los_Angeles:20250614T100000
DTSTAMP:20260421T142313
CREATED:20250122T194932Z
LAST-MODIFIED:20260308T195929Z
UID:10048172-1749891600-1749895200@meetings.greysheet.org
SUMMARY:Farmers Market at the Grove
DESCRIPTION:
URL:https://meetings.greysheet.org/meeting/farmers-market-at-the-grove/2025-06-14
LOCATION:Farmers Market at the Grove\, 6333 W 3rd St\, Los Angeles\, CA\, 90036\, United States
CATEGORIES:In Person
ATTACH;FMTTYPE=image/svg+xml:https://meetings.greysheet.org/wp-content/uploads/2025/05/map-pin.svg
GEO:34.0724565;-118.3599638
X-APPLE-STRUCTURED-LOCATION;VALUE=URI;X-ADDRESS=Farmers Market at the Grove 6333 W 3rd St Los Angeles CA 90036 United States;X-APPLE-RADIUS=500;X-TITLE=6333 W 3rd St:geo:-118.3599638,34.0724565
END:VEVENT
BEGIN:VEVENT
DTSTART;TZID=America/Los_Angeles:20250607T090000
DTEND;TZID=America/Los_Angeles:20250607T100000
DTSTAMP:20260421T142313
CREATED:20250122T194932Z
LAST-MODIFIED:20260308T195929Z
UID:10048171-1749286800-1749290400@meetings.greysheet.org
SUMMARY:Farmers Market at the Grove
DESCRIPTION:
URL:https://meetings.greysheet.org/meeting/farmers-market-at-the-grove/2025-06-07
LOCATION:Farmers Market at the Grove\, 6333 W 3rd St\, Los Angeles\, CA\, 90036\, United States
CATEGORIES:In Person
ATTACH;FMTTYPE=image/svg+xml:https://meetings.greysheet.org/wp-content/uploads/2025/05/map-pin.svg
GEO:34.0724565;-118.3599638
X-APPLE-STRUCTURED-LOCATION;VALUE=URI;X-ADDRESS=Farmers Market at the Grove 6333 W 3rd St Los Angeles CA 90036 United States;X-APPLE-RADIUS=500;X-TITLE=6333 W 3rd St:geo:-118.3599638,34.0724565
END:VEVENT
BEGIN:VEVENT
DTSTART;TZID=America/Los_Angeles:20250531T090000
DTEND;TZID=America/Los_Angeles:20250531T100000
DTSTAMP:20260421T142313
CREATED:20250122T194932Z
LAST-MODIFIED:20260308T195929Z
UID:10048170-1748682000-1748685600@meetings.greysheet.org
SUMMARY:Farmers Market at the Grove
DESCRIPTION:
URL:https://meetings.greysheet.org/meeting/farmers-market-at-the-grove/2025-05-31
LOCATION:Farmers Market at the Grove\, 6333 W 3rd St\, Los Angeles\, CA\, 90036\, United States
CATEGORIES:In Person
ATTACH;FMTTYPE=image/svg+xml:https://meetings.greysheet.org/wp-content/uploads/2025/05/map-pin.svg
GEO:34.0724565;-118.3599638
X-APPLE-STRUCTURED-LOCATION;VALUE=URI;X-ADDRESS=Farmers Market at the Grove 6333 W 3rd St Los Angeles CA 90036 United States;X-APPLE-RADIUS=500;X-TITLE=6333 W 3rd St:geo:-118.3599638,34.0724565
END:VEVENT
BEGIN:VEVENT
DTSTART;TZID=America/Los_Angeles:20250524T090000
DTEND;TZID=America/Los_Angeles:20250524T100000
DTSTAMP:20260421T142313
CREATED:20250122T194932Z
LAST-MODIFIED:20260308T195929Z
UID:10048169-1748077200-1748080800@meetings.greysheet.org
SUMMARY:Farmers Market at the Grove
DESCRIPTION:
URL:https://meetings.greysheet.org/meeting/farmers-market-at-the-grove/2025-05-24
LOCATION:Farmers Market at the Grove\, 6333 W 3rd St\, Los Angeles\, CA\, 90036\, United States
CATEGORIES:In Person
ATTACH;FMTTYPE=image/svg+xml:https://meetings.greysheet.org/wp-content/uploads/2025/05/map-pin.svg
GEO:34.0724565;-118.3599638
X-APPLE-STRUCTURED-LOCATION;VALUE=URI;X-ADDRESS=Farmers Market at the Grove 6333 W 3rd St Los Angeles CA 90036 United States;X-APPLE-RADIUS=500;X-TITLE=6333 W 3rd St:geo:-118.3599638,34.0724565
END:VEVENT
BEGIN:VEVENT
DTSTART;TZID=America/Los_Angeles:20250517T090000
DTEND;TZID=America/Los_Angeles:20250517T100000
DTSTAMP:20260421T142313
CREATED:20250122T194932Z
LAST-MODIFIED:20260308T195929Z
UID:10048168-1747472400-1747476000@meetings.greysheet.org
SUMMARY:Farmers Market at the Grove
DESCRIPTION:
URL:https://meetings.greysheet.org/meeting/farmers-market-at-the-grove/2025-05-17
LOCATION:Farmers Market at the Grove\, 6333 W 3rd St\, Los Angeles\, CA\, 90036\, United States
CATEGORIES:In Person
ATTACH;FMTTYPE=image/svg+xml:https://meetings.greysheet.org/wp-content/uploads/2025/05/map-pin.svg
GEO:34.0724565;-118.3599638
X-APPLE-STRUCTURED-LOCATION;VALUE=URI;X-ADDRESS=Farmers Market at the Grove 6333 W 3rd St Los Angeles CA 90036 United States;X-APPLE-RADIUS=500;X-TITLE=6333 W 3rd St:geo:-118.3599638,34.0724565
END:VEVENT
BEGIN:VEVENT
DTSTART;TZID=America/Los_Angeles:20250510T090000
DTEND;TZID=America/Los_Angeles:20250510T100000
DTSTAMP:20260421T142313
CREATED:20250122T194932Z
LAST-MODIFIED:20260308T195929Z
UID:10048167-1746867600-1746871200@meetings.greysheet.org
SUMMARY:Farmers Market at the Grove
DESCRIPTION:
URL:https://meetings.greysheet.org/meeting/farmers-market-at-the-grove/2025-05-10
LOCATION:Farmers Market at the Grove\, 6333 W 3rd St\, Los Angeles\, CA\, 90036\, United States
CATEGORIES:In Person
ATTACH;FMTTYPE=image/svg+xml:https://meetings.greysheet.org/wp-content/uploads/2025/05/map-pin.svg
GEO:34.0724565;-118.3599638
X-APPLE-STRUCTURED-LOCATION;VALUE=URI;X-ADDRESS=Farmers Market at the Grove 6333 W 3rd St Los Angeles CA 90036 United States;X-APPLE-RADIUS=500;X-TITLE=6333 W 3rd St:geo:-118.3599638,34.0724565
END:VEVENT
BEGIN:VEVENT
DTSTART;TZID=America/Los_Angeles:20250503T090000
DTEND;TZID=America/Los_Angeles:20250503T100000
DTSTAMP:20260421T142313
CREATED:20250122T194932Z
LAST-MODIFIED:20260308T195929Z
UID:10048166-1746262800-1746266400@meetings.greysheet.org
SUMMARY:Farmers Market at the Grove
DESCRIPTION:
URL:https://meetings.greysheet.org/meeting/farmers-market-at-the-grove/2025-05-03
LOCATION:Farmers Market at the Grove\, 6333 W 3rd St\, Los Angeles\, CA\, 90036\, United States
CATEGORIES:In Person
ATTACH;FMTTYPE=image/svg+xml:https://meetings.greysheet.org/wp-content/uploads/2025/05/map-pin.svg
GEO:34.0724565;-118.3599638
X-APPLE-STRUCTURED-LOCATION;VALUE=URI;X-ADDRESS=Farmers Market at the Grove 6333 W 3rd St Los Angeles CA 90036 United States;X-APPLE-RADIUS=500;X-TITLE=6333 W 3rd St:geo:-118.3599638,34.0724565
END:VEVENT
BEGIN:VEVENT
DTSTART;TZID=America/Los_Angeles:20250426T090000
DTEND;TZID=America/Los_Angeles:20250426T100000
DTSTAMP:20260421T142313
CREATED:20250122T194932Z
LAST-MODIFIED:20260308T195929Z
UID:10048165-1745658000-1745661600@meetings.greysheet.org
SUMMARY:Farmers Market at the Grove
DESCRIPTION:
URL:https://meetings.greysheet.org/meeting/farmers-market-at-the-grove/2025-04-26
LOCATION:Farmers Market at the Grove\, 6333 W 3rd St\, Los Angeles\, CA\, 90036\, United States
CATEGORIES:In Person
ATTACH;FMTTYPE=image/svg+xml:https://meetings.greysheet.org/wp-content/uploads/2025/05/map-pin.svg
GEO:34.0724565;-118.3599638
X-APPLE-STRUCTURED-LOCATION;VALUE=URI;X-ADDRESS=Farmers Market at the Grove 6333 W 3rd St Los Angeles CA 90036 United States;X-APPLE-RADIUS=500;X-TITLE=6333 W 3rd St:geo:-118.3599638,34.0724565
END:VEVENT
BEGIN:VEVENT
DTSTART;TZID=America/Los_Angeles:20250419T090000
DTEND;TZID=America/Los_Angeles:20250419T100000
DTSTAMP:20260421T142313
CREATED:20250122T194932Z
LAST-MODIFIED:20260308T195929Z
UID:10048164-1745053200-1745056800@meetings.greysheet.org
SUMMARY:Farmers Market at the Grove
DESCRIPTION:
URL:https://meetings.greysheet.org/meeting/farmers-market-at-the-grove/2025-04-19
LOCATION:Farmers Market at the Grove\, 6333 W 3rd St\, Los Angeles\, CA\, 90036\, United States
CATEGORIES:In Person
ATTACH;FMTTYPE=image/svg+xml:https://meetings.greysheet.org/wp-content/uploads/2025/05/map-pin.svg
GEO:34.0724565;-118.3599638
X-APPLE-STRUCTURED-LOCATION;VALUE=URI;X-ADDRESS=Farmers Market at the Grove 6333 W 3rd St Los Angeles CA 90036 United States;X-APPLE-RADIUS=500;X-TITLE=6333 W 3rd St:geo:-118.3599638,34.0724565
END:VEVENT
BEGIN:VEVENT
DTSTART;TZID=America/Los_Angeles:20250412T090000
DTEND;TZID=America/Los_Angeles:20250412T100000
DTSTAMP:20260421T142313
CREATED:20250122T194932Z
LAST-MODIFIED:20260308T195929Z
UID:10048163-1744448400-1744452000@meetings.greysheet.org
SUMMARY:Farmers Market at the Grove
DESCRIPTION:
URL:https://meetings.greysheet.org/meeting/farmers-market-at-the-grove/2025-04-12
LOCATION:Farmers Market at the Grove\, 6333 W 3rd St\, Los Angeles\, CA\, 90036\, United States
CATEGORIES:In Person
ATTACH;FMTTYPE=image/svg+xml:https://meetings.greysheet.org/wp-content/uploads/2025/05/map-pin.svg
GEO:34.0724565;-118.3599638
X-APPLE-STRUCTURED-LOCATION;VALUE=URI;X-ADDRESS=Farmers Market at the Grove 6333 W 3rd St Los Angeles CA 90036 United States;X-APPLE-RADIUS=500;X-TITLE=6333 W 3rd St:geo:-118.3599638,34.0724565
END:VEVENT
BEGIN:VEVENT
DTSTART;TZID=America/Los_Angeles:20250405T090000
DTEND;TZID=America/Los_Angeles:20250405T100000
DTSTAMP:20260421T142313
CREATED:20250122T194932Z
LAST-MODIFIED:20260308T195929Z
UID:10048162-1743843600-1743847200@meetings.greysheet.org
SUMMARY:Farmers Market at the Grove
DESCRIPTION:
URL:https://meetings.greysheet.org/meeting/farmers-market-at-the-grove/2025-04-05
LOCATION:Farmers Market at the Grove\, 6333 W 3rd St\, Los Angeles\, CA\, 90036\, United States
CATEGORIES:In Person
ATTACH;FMTTYPE=image/svg+xml:https://meetings.greysheet.org/wp-content/uploads/2025/05/map-pin.svg
GEO:34.0724565;-118.3599638
X-APPLE-STRUCTURED-LOCATION;VALUE=URI;X-ADDRESS=Farmers Market at the Grove 6333 W 3rd St Los Angeles CA 90036 United States;X-APPLE-RADIUS=500;X-TITLE=6333 W 3rd St:geo:-118.3599638,34.0724565
END:VEVENT
BEGIN:VEVENT
DTSTART;TZID=America/Los_Angeles:20250329T090000
DTEND;TZID=America/Los_Angeles:20250329T100000
DTSTAMP:20260421T142314
CREATED:20250122T194932Z
LAST-MODIFIED:20260308T195929Z
UID:10048161-1743238800-1743242400@meetings.greysheet.org
SUMMARY:Farmers Market at the Grove
DESCRIPTION:
URL:https://meetings.greysheet.org/meeting/farmers-market-at-the-grove/2025-03-29
LOCATION:Farmers Market at the Grove\, 6333 W 3rd St\, Los Angeles\, CA\, 90036\, United States
CATEGORIES:In Person
ATTACH;FMTTYPE=image/svg+xml:https://meetings.greysheet.org/wp-content/uploads/2025/05/map-pin.svg
GEO:34.0724565;-118.3599638
X-APPLE-STRUCTURED-LOCATION;VALUE=URI;X-ADDRESS=Farmers Market at the Grove 6333 W 3rd St Los Angeles CA 90036 United States;X-APPLE-RADIUS=500;X-TITLE=6333 W 3rd St:geo:-118.3599638,34.0724565
END:VEVENT
BEGIN:VEVENT
DTSTART;TZID=America/Los_Angeles:20250322T090000
DTEND;TZID=America/Los_Angeles:20250322T100000
DTSTAMP:20260421T142314
CREATED:20250122T194932Z
LAST-MODIFIED:20260308T195929Z
UID:10048160-1742634000-1742637600@meetings.greysheet.org
SUMMARY:Farmers Market at the Grove
DESCRIPTION:
URL:https://meetings.greysheet.org/meeting/farmers-market-at-the-grove/2025-03-22
LOCATION:Farmers Market at the Grove\, 6333 W 3rd St\, Los Angeles\, CA\, 90036\, United States
CATEGORIES:In Person
ATTACH;FMTTYPE=image/svg+xml:https://meetings.greysheet.org/wp-content/uploads/2025/05/map-pin.svg
GEO:34.0724565;-118.3599638
X-APPLE-STRUCTURED-LOCATION;VALUE=URI;X-ADDRESS=Farmers Market at the Grove 6333 W 3rd St Los Angeles CA 90036 United States;X-APPLE-RADIUS=500;X-TITLE=6333 W 3rd St:geo:-118.3599638,34.0724565
END:VEVENT
BEGIN:VEVENT
DTSTART;TZID=America/Los_Angeles:20250315T090000
DTEND;TZID=America/Los_Angeles:20250315T100000
DTSTAMP:20260421T142314
CREATED:20250122T194932Z
LAST-MODIFIED:20260308T195929Z
UID:10048159-1742029200-1742032800@meetings.greysheet.org
SUMMARY:Farmers Market at the Grove
DESCRIPTION:
URL:https://meetings.greysheet.org/meeting/farmers-market-at-the-grove/2025-03-15
LOCATION:Farmers Market at the Grove\, 6333 W 3rd St\, Los Angeles\, CA\, 90036\, United States
CATEGORIES:In Person
ATTACH;FMTTYPE=image/svg+xml:https://meetings.greysheet.org/wp-content/uploads/2025/05/map-pin.svg
GEO:34.0724565;-118.3599638
X-APPLE-STRUCTURED-LOCATION;VALUE=URI;X-ADDRESS=Farmers Market at the Grove 6333 W 3rd St Los Angeles CA 90036 United States;X-APPLE-RADIUS=500;X-TITLE=6333 W 3rd St:geo:-118.3599638,34.0724565
END:VEVENT
BEGIN:VEVENT
DTSTART;TZID=America/Los_Angeles:20250308T090000
DTEND;TZID=America/Los_Angeles:20250308T100000
DTSTAMP:20260421T142314
CREATED:20250122T194932Z
LAST-MODIFIED:20260308T195929Z
UID:10048158-1741424400-1741428000@meetings.greysheet.org
SUMMARY:Farmers Market at the Grove
DESCRIPTION:
URL:https://meetings.greysheet.org/meeting/farmers-market-at-the-grove/2025-03-08
LOCATION:Farmers Market at the Grove\, 6333 W 3rd St\, Los Angeles\, CA\, 90036\, United States
CATEGORIES:In Person
ATTACH;FMTTYPE=image/svg+xml:https://meetings.greysheet.org/wp-content/uploads/2025/05/map-pin.svg
GEO:34.0724565;-118.3599638
X-APPLE-STRUCTURED-LOCATION;VALUE=URI;X-ADDRESS=Farmers Market at the Grove 6333 W 3rd St Los Angeles CA 90036 United States;X-APPLE-RADIUS=500;X-TITLE=6333 W 3rd St:geo:-118.3599638,34.0724565
END:VEVENT
BEGIN:VEVENT
DTSTART;TZID=America/Los_Angeles:20250301T090000
DTEND;TZID=America/Los_Angeles:20250301T100000
DTSTAMP:20260421T142314
CREATED:20250122T194932Z
LAST-MODIFIED:20260308T195929Z
UID:10048157-1740819600-1740823200@meetings.greysheet.org
SUMMARY:Farmers Market at the Grove
DESCRIPTION:
URL:https://meetings.greysheet.org/meeting/farmers-market-at-the-grove/2025-03-01
LOCATION:Farmers Market at the Grove\, 6333 W 3rd St\, Los Angeles\, CA\, 90036\, United States
CATEGORIES:In Person
ATTACH;FMTTYPE=image/svg+xml:https://meetings.greysheet.org/wp-content/uploads/2025/05/map-pin.svg
GEO:34.0724565;-118.3599638
X-APPLE-STRUCTURED-LOCATION;VALUE=URI;X-ADDRESS=Farmers Market at the Grove 6333 W 3rd St Los Angeles CA 90036 United States;X-APPLE-RADIUS=500;X-TITLE=6333 W 3rd St:geo:-118.3599638,34.0724565
END:VEVENT
BEGIN:VEVENT
DTSTART;TZID=America/Los_Angeles:20250222T090000
DTEND;TZID=America/Los_Angeles:20250222T100000
DTSTAMP:20260421T142314
CREATED:20250122T194932Z
LAST-MODIFIED:20260308T195929Z
UID:10048156-1740214800-1740218400@meetings.greysheet.org
SUMMARY:Farmers Market at the Grove
DESCRIPTION:
URL:https://meetings.greysheet.org/meeting/farmers-market-at-the-grove/2025-02-22
LOCATION:Farmers Market at the Grove\, 6333 W 3rd St\, Los Angeles\, CA\, 90036\, United States
CATEGORIES:In Person
ATTACH;FMTTYPE=image/svg+xml:https://meetings.greysheet.org/wp-content/uploads/2025/05/map-pin.svg
GEO:34.0724565;-118.3599638
X-APPLE-STRUCTURED-LOCATION;VALUE=URI;X-ADDRESS=Farmers Market at the Grove 6333 W 3rd St Los Angeles CA 90036 United States;X-APPLE-RADIUS=500;X-TITLE=6333 W 3rd St:geo:-118.3599638,34.0724565
END:VEVENT
BEGIN:VEVENT
DTSTART;TZID=America/Los_Angeles:20250215T090000
DTEND;TZID=America/Los_Angeles:20250215T100000
DTSTAMP:20260421T142314
CREATED:20250122T194932Z
LAST-MODIFIED:20260308T195929Z
UID:10048155-1739610000-1739613600@meetings.greysheet.org
SUMMARY:Farmers Market at the Grove
DESCRIPTION:
URL:https://meetings.greysheet.org/meeting/farmers-market-at-the-grove/2025-02-15
LOCATION:Farmers Market at the Grove\, 6333 W 3rd St\, Los Angeles\, CA\, 90036\, United States
CATEGORIES:In Person
ATTACH;FMTTYPE=image/svg+xml:https://meetings.greysheet.org/wp-content/uploads/2025/05/map-pin.svg
GEO:34.0724565;-118.3599638
X-APPLE-STRUCTURED-LOCATION;VALUE=URI;X-ADDRESS=Farmers Market at the Grove 6333 W 3rd St Los Angeles CA 90036 United States;X-APPLE-RADIUS=500;X-TITLE=6333 W 3rd St:geo:-118.3599638,34.0724565
END:VEVENT
BEGIN:VEVENT
DTSTART;TZID=America/Los_Angeles:20250208T090000
DTEND;TZID=America/Los_Angeles:20250208T100000
DTSTAMP:20260421T142314
CREATED:20250122T194932Z
LAST-MODIFIED:20260308T195929Z
UID:10048154-1739005200-1739008800@meetings.greysheet.org
SUMMARY:Farmers Market at the Grove
DESCRIPTION:
URL:https://meetings.greysheet.org/meeting/farmers-market-at-the-grove/2025-02-08
LOCATION:Farmers Market at the Grove\, 6333 W 3rd St\, Los Angeles\, CA\, 90036\, United States
CATEGORIES:In Person
ATTACH;FMTTYPE=image/svg+xml:https://meetings.greysheet.org/wp-content/uploads/2025/05/map-pin.svg
GEO:34.0724565;-118.3599638
X-APPLE-STRUCTURED-LOCATION;VALUE=URI;X-ADDRESS=Farmers Market at the Grove 6333 W 3rd St Los Angeles CA 90036 United States;X-APPLE-RADIUS=500;X-TITLE=6333 W 3rd St:geo:-118.3599638,34.0724565
END:VEVENT
BEGIN:VEVENT
DTSTART;TZID=America/Los_Angeles:20250201T090000
DTEND;TZID=America/Los_Angeles:20250201T100000
DTSTAMP:20260421T142314
CREATED:20250122T194932Z
LAST-MODIFIED:20260308T195929Z
UID:10048153-1738400400-1738404000@meetings.greysheet.org
SUMMARY:Farmers Market at the Grove
DESCRIPTION:
URL:https://meetings.greysheet.org/meeting/farmers-market-at-the-grove/2025-02-01
LOCATION:Farmers Market at the Grove\, 6333 W 3rd St\, Los Angeles\, CA\, 90036\, United States
CATEGORIES:In Person
ATTACH;FMTTYPE=image/svg+xml:https://meetings.greysheet.org/wp-content/uploads/2025/05/map-pin.svg
GEO:34.0724565;-118.3599638
X-APPLE-STRUCTURED-LOCATION;VALUE=URI;X-ADDRESS=Farmers Market at the Grove 6333 W 3rd St Los Angeles CA 90036 United States;X-APPLE-RADIUS=500;X-TITLE=6333 W 3rd St:geo:-118.3599638,34.0724565
END:VEVENT
BEGIN:VEVENT
DTSTART;TZID=America/Los_Angeles:20250125T090000
DTEND;TZID=America/Los_Angeles:20250125T100000
DTSTAMP:20260421T142314
CREATED:20250122T194932Z
LAST-MODIFIED:20260308T195929Z
UID:10000038-1737795600-1737799200@meetings.greysheet.org
SUMMARY:Farmers Market at the Grove
DESCRIPTION:
URL:https://meetings.greysheet.org/meeting/farmers-market-at-the-grove/2025-01-25
LOCATION:Farmers Market at the Grove\, 6333 W 3rd St\, Los Angeles\, CA\, 90036\, United States
CATEGORIES:In Person
ATTACH;FMTTYPE=image/svg+xml:https://meetings.greysheet.org/wp-content/uploads/2025/05/map-pin.svg
GEO:34.0724565;-118.3599638
X-APPLE-STRUCTURED-LOCATION;VALUE=URI;X-ADDRESS=Farmers Market at the Grove 6333 W 3rd St Los Angeles CA 90036 United States;X-APPLE-RADIUS=500;X-TITLE=6333 W 3rd St:geo:-118.3599638,34.0724565
END:VEVENT
END:VCALENDAR