BEGIN:VCALENDAR
VERSION:2.0
PRODID:-//GreySheeters Anonymous World Services - ECPv6.15.20//NONSGML v1.0//EN
CALSCALE:GREGORIAN
METHOD:PUBLISH
X-ORIGINAL-URL:https://meetings.greysheet.org
X-WR-CALDESC:Events for GreySheeters Anonymous World Services
REFRESH-INTERVAL;VALUE=DURATION:PT1H
X-Robots-Tag:noindex
X-PUBLISHED-TTL:PT1H
BEGIN:VTIMEZONE
TZID:Atlantic/Reykjavik
BEGIN:STANDARD
TZOFFSETFROM:+0000
TZOFFSETTO:+0000
TZNAME:GMT
DTSTART:20260101T000000
END:STANDARD
END:VTIMEZONE
BEGIN:VEVENT
DTSTART;TZID=Atlantic/Reykjavik:20270616T200000
DTEND;TZID=Atlantic/Reykjavik:20270616T210000
DTSTAMP:20260422T193154
CREATED:20250122T174118Z
LAST-MODIFIED:20260214T202847Z
UID:10049447-1813176000-1813179600@meetings.greysheet.org
SUMMARY:Akranesdeild
DESCRIPTION:
URL:https://meetings.greysheet.org/meeting/akranesdeild/2027-06-16
LOCATION:Zoom ID: 3099135318, Passcode: Universal, Camera: Optional - Endurhæfingarhúsið Hver\, Suðurgata 57\, Akranes\, Höfuðborgarsvæðið\, 300\, Iceland
CATEGORIES:Hybrid,In Person,Zoom
ATTACH;FMTTYPE=image/svg+xml:https://meetings.greysheet.org/wp-content/uploads/2025/05/hybrid-1.svg
GEO:64.3167994;-22.0843231
X-APPLE-STRUCTURED-LOCATION;VALUE=URI;X-ADDRESS=Zoom ID: 3099135318, Passcode: Universal, Camera: Optional - Endurhæfingarhúsið Hver Suðurgata 57 Akranes Höfuðborgarsvæðið 300 Iceland;X-APPLE-RADIUS=500;X-TITLE=Suðurgata 57:geo:-22.0843231,64.3167994
END:VEVENT
BEGIN:VEVENT
DTSTART;TZID=Atlantic/Reykjavik:20270623T200000
DTEND;TZID=Atlantic/Reykjavik:20270623T210000
DTSTAMP:20260422T193154
CREATED:20250122T174118Z
LAST-MODIFIED:20260214T202847Z
UID:10049448-1813780800-1813784400@meetings.greysheet.org
SUMMARY:Akranesdeild
DESCRIPTION:
URL:https://meetings.greysheet.org/meeting/akranesdeild/2027-06-23
LOCATION:Zoom ID: 3099135318, Passcode: Universal, Camera: Optional - Endurhæfingarhúsið Hver\, Suðurgata 57\, Akranes\, Höfuðborgarsvæðið\, 300\, Iceland
CATEGORIES:Hybrid,In Person,Zoom
ATTACH;FMTTYPE=image/svg+xml:https://meetings.greysheet.org/wp-content/uploads/2025/05/hybrid-1.svg
GEO:64.3167994;-22.0843231
X-APPLE-STRUCTURED-LOCATION;VALUE=URI;X-ADDRESS=Zoom ID: 3099135318, Passcode: Universal, Camera: Optional - Endurhæfingarhúsið Hver Suðurgata 57 Akranes Höfuðborgarsvæðið 300 Iceland;X-APPLE-RADIUS=500;X-TITLE=Suðurgata 57:geo:-22.0843231,64.3167994
END:VEVENT
BEGIN:VEVENT
DTSTART;TZID=Atlantic/Reykjavik:20270630T200000
DTEND;TZID=Atlantic/Reykjavik:20270630T210000
DTSTAMP:20260422T193154
CREATED:20250122T174118Z
LAST-MODIFIED:20260214T202847Z
UID:10049449-1814385600-1814389200@meetings.greysheet.org
SUMMARY:Akranesdeild
DESCRIPTION:
URL:https://meetings.greysheet.org/meeting/akranesdeild/2027-06-30
LOCATION:Zoom ID: 3099135318, Passcode: Universal, Camera: Optional - Endurhæfingarhúsið Hver\, Suðurgata 57\, Akranes\, Höfuðborgarsvæðið\, 300\, Iceland
CATEGORIES:Hybrid,In Person,Zoom
ATTACH;FMTTYPE=image/svg+xml:https://meetings.greysheet.org/wp-content/uploads/2025/05/hybrid-1.svg
GEO:64.3167994;-22.0843231
X-APPLE-STRUCTURED-LOCATION;VALUE=URI;X-ADDRESS=Zoom ID: 3099135318, Passcode: Universal, Camera: Optional - Endurhæfingarhúsið Hver Suðurgata 57 Akranes Höfuðborgarsvæðið 300 Iceland;X-APPLE-RADIUS=500;X-TITLE=Suðurgata 57:geo:-22.0843231,64.3167994
END:VEVENT
BEGIN:VEVENT
DTSTART;TZID=Atlantic/Reykjavik:20270707T200000
DTEND;TZID=Atlantic/Reykjavik:20270707T210000
DTSTAMP:20260422T193154
CREATED:20250122T174118Z
LAST-MODIFIED:20260214T202847Z
UID:10049450-1814990400-1814994000@meetings.greysheet.org
SUMMARY:Akranesdeild
DESCRIPTION:
URL:https://meetings.greysheet.org/meeting/akranesdeild/2027-07-07
LOCATION:Zoom ID: 3099135318, Passcode: Universal, Camera: Optional - Endurhæfingarhúsið Hver\, Suðurgata 57\, Akranes\, Höfuðborgarsvæðið\, 300\, Iceland
CATEGORIES:Hybrid,In Person,Zoom
ATTACH;FMTTYPE=image/svg+xml:https://meetings.greysheet.org/wp-content/uploads/2025/05/hybrid-1.svg
GEO:64.3167994;-22.0843231
X-APPLE-STRUCTURED-LOCATION;VALUE=URI;X-ADDRESS=Zoom ID: 3099135318, Passcode: Universal, Camera: Optional - Endurhæfingarhúsið Hver Suðurgata 57 Akranes Höfuðborgarsvæðið 300 Iceland;X-APPLE-RADIUS=500;X-TITLE=Suðurgata 57:geo:-22.0843231,64.3167994
END:VEVENT
BEGIN:VEVENT
DTSTART;TZID=Atlantic/Reykjavik:20270714T200000
DTEND;TZID=Atlantic/Reykjavik:20270714T210000
DTSTAMP:20260422T193154
CREATED:20250122T174118Z
LAST-MODIFIED:20260214T202847Z
UID:10049451-1815595200-1815598800@meetings.greysheet.org
SUMMARY:Akranesdeild
DESCRIPTION:
URL:https://meetings.greysheet.org/meeting/akranesdeild/2027-07-14
LOCATION:Zoom ID: 3099135318, Passcode: Universal, Camera: Optional - Endurhæfingarhúsið Hver\, Suðurgata 57\, Akranes\, Höfuðborgarsvæðið\, 300\, Iceland
CATEGORIES:Hybrid,In Person,Zoom
ATTACH;FMTTYPE=image/svg+xml:https://meetings.greysheet.org/wp-content/uploads/2025/05/hybrid-1.svg
GEO:64.3167994;-22.0843231
X-APPLE-STRUCTURED-LOCATION;VALUE=URI;X-ADDRESS=Zoom ID: 3099135318, Passcode: Universal, Camera: Optional - Endurhæfingarhúsið Hver Suðurgata 57 Akranes Höfuðborgarsvæðið 300 Iceland;X-APPLE-RADIUS=500;X-TITLE=Suðurgata 57:geo:-22.0843231,64.3167994
END:VEVENT
BEGIN:VEVENT
DTSTART;TZID=Atlantic/Reykjavik:20270721T200000
DTEND;TZID=Atlantic/Reykjavik:20270721T210000
DTSTAMP:20260422T193154
CREATED:20250122T174118Z
LAST-MODIFIED:20260214T202847Z
UID:10049452-1816200000-1816203600@meetings.greysheet.org
SUMMARY:Akranesdeild
DESCRIPTION:
URL:https://meetings.greysheet.org/meeting/akranesdeild/2027-07-21
LOCATION:Zoom ID: 3099135318, Passcode: Universal, Camera: Optional - Endurhæfingarhúsið Hver\, Suðurgata 57\, Akranes\, Höfuðborgarsvæðið\, 300\, Iceland
CATEGORIES:Hybrid,In Person,Zoom
ATTACH;FMTTYPE=image/svg+xml:https://meetings.greysheet.org/wp-content/uploads/2025/05/hybrid-1.svg
GEO:64.3167994;-22.0843231
X-APPLE-STRUCTURED-LOCATION;VALUE=URI;X-ADDRESS=Zoom ID: 3099135318, Passcode: Universal, Camera: Optional - Endurhæfingarhúsið Hver Suðurgata 57 Akranes Höfuðborgarsvæðið 300 Iceland;X-APPLE-RADIUS=500;X-TITLE=Suðurgata 57:geo:-22.0843231,64.3167994
END:VEVENT
BEGIN:VEVENT
DTSTART;TZID=Atlantic/Reykjavik:20270728T200000
DTEND;TZID=Atlantic/Reykjavik:20270728T210000
DTSTAMP:20260422T193154
CREATED:20250122T174118Z
LAST-MODIFIED:20260214T202847Z
UID:10049453-1816804800-1816808400@meetings.greysheet.org
SUMMARY:Akranesdeild
DESCRIPTION:
URL:https://meetings.greysheet.org/meeting/akranesdeild/2027-07-28
LOCATION:Zoom ID: 3099135318, Passcode: Universal, Camera: Optional - Endurhæfingarhúsið Hver\, Suðurgata 57\, Akranes\, Höfuðborgarsvæðið\, 300\, Iceland
CATEGORIES:Hybrid,In Person,Zoom
ATTACH;FMTTYPE=image/svg+xml:https://meetings.greysheet.org/wp-content/uploads/2025/05/hybrid-1.svg
GEO:64.3167994;-22.0843231
X-APPLE-STRUCTURED-LOCATION;VALUE=URI;X-ADDRESS=Zoom ID: 3099135318, Passcode: Universal, Camera: Optional - Endurhæfingarhúsið Hver Suðurgata 57 Akranes Höfuðborgarsvæðið 300 Iceland;X-APPLE-RADIUS=500;X-TITLE=Suðurgata 57:geo:-22.0843231,64.3167994
END:VEVENT
BEGIN:VEVENT
DTSTART;TZID=Atlantic/Reykjavik:20270804T200000
DTEND;TZID=Atlantic/Reykjavik:20270804T210000
DTSTAMP:20260422T193154
CREATED:20250122T174118Z
LAST-MODIFIED:20260214T202847Z
UID:10049454-1817409600-1817413200@meetings.greysheet.org
SUMMARY:Akranesdeild
DESCRIPTION:
URL:https://meetings.greysheet.org/meeting/akranesdeild/2027-08-04
LOCATION:Zoom ID: 3099135318, Passcode: Universal, Camera: Optional - Endurhæfingarhúsið Hver\, Suðurgata 57\, Akranes\, Höfuðborgarsvæðið\, 300\, Iceland
CATEGORIES:Hybrid,In Person,Zoom
ATTACH;FMTTYPE=image/svg+xml:https://meetings.greysheet.org/wp-content/uploads/2025/05/hybrid-1.svg
GEO:64.3167994;-22.0843231
X-APPLE-STRUCTURED-LOCATION;VALUE=URI;X-ADDRESS=Zoom ID: 3099135318, Passcode: Universal, Camera: Optional - Endurhæfingarhúsið Hver Suðurgata 57 Akranes Höfuðborgarsvæðið 300 Iceland;X-APPLE-RADIUS=500;X-TITLE=Suðurgata 57:geo:-22.0843231,64.3167994
END:VEVENT
BEGIN:VEVENT
DTSTART;TZID=Atlantic/Reykjavik:20270811T200000
DTEND;TZID=Atlantic/Reykjavik:20270811T210000
DTSTAMP:20260422T193154
CREATED:20250122T174118Z
LAST-MODIFIED:20260214T202847Z
UID:10049455-1818014400-1818018000@meetings.greysheet.org
SUMMARY:Akranesdeild
DESCRIPTION:
URL:https://meetings.greysheet.org/meeting/akranesdeild/2027-08-11
LOCATION:Zoom ID: 3099135318, Passcode: Universal, Camera: Optional - Endurhæfingarhúsið Hver\, Suðurgata 57\, Akranes\, Höfuðborgarsvæðið\, 300\, Iceland
CATEGORIES:Hybrid,In Person,Zoom
ATTACH;FMTTYPE=image/svg+xml:https://meetings.greysheet.org/wp-content/uploads/2025/05/hybrid-1.svg
GEO:64.3167994;-22.0843231
X-APPLE-STRUCTURED-LOCATION;VALUE=URI;X-ADDRESS=Zoom ID: 3099135318, Passcode: Universal, Camera: Optional - Endurhæfingarhúsið Hver Suðurgata 57 Akranes Höfuðborgarsvæðið 300 Iceland;X-APPLE-RADIUS=500;X-TITLE=Suðurgata 57:geo:-22.0843231,64.3167994
END:VEVENT
BEGIN:VEVENT
DTSTART;TZID=Atlantic/Reykjavik:20270818T200000
DTEND;TZID=Atlantic/Reykjavik:20270818T210000
DTSTAMP:20260422T193154
CREATED:20250122T174118Z
LAST-MODIFIED:20260214T202847Z
UID:10049456-1818619200-1818622800@meetings.greysheet.org
SUMMARY:Akranesdeild
DESCRIPTION:
URL:https://meetings.greysheet.org/meeting/akranesdeild/2027-08-18
LOCATION:Zoom ID: 3099135318, Passcode: Universal, Camera: Optional - Endurhæfingarhúsið Hver\, Suðurgata 57\, Akranes\, Höfuðborgarsvæðið\, 300\, Iceland
CATEGORIES:Hybrid,In Person,Zoom
ATTACH;FMTTYPE=image/svg+xml:https://meetings.greysheet.org/wp-content/uploads/2025/05/hybrid-1.svg
GEO:64.3167994;-22.0843231
X-APPLE-STRUCTURED-LOCATION;VALUE=URI;X-ADDRESS=Zoom ID: 3099135318, Passcode: Universal, Camera: Optional - Endurhæfingarhúsið Hver Suðurgata 57 Akranes Höfuðborgarsvæðið 300 Iceland;X-APPLE-RADIUS=500;X-TITLE=Suðurgata 57:geo:-22.0843231,64.3167994
END:VEVENT
BEGIN:VEVENT
DTSTART;TZID=Atlantic/Reykjavik:20270825T200000
DTEND;TZID=Atlantic/Reykjavik:20270825T210000
DTSTAMP:20260422T193154
CREATED:20250122T174118Z
LAST-MODIFIED:20260214T202847Z
UID:10049457-1819224000-1819227600@meetings.greysheet.org
SUMMARY:Akranesdeild
DESCRIPTION:
URL:https://meetings.greysheet.org/meeting/akranesdeild/2027-08-25
LOCATION:Zoom ID: 3099135318, Passcode: Universal, Camera: Optional - Endurhæfingarhúsið Hver\, Suðurgata 57\, Akranes\, Höfuðborgarsvæðið\, 300\, Iceland
CATEGORIES:Hybrid,In Person,Zoom
ATTACH;FMTTYPE=image/svg+xml:https://meetings.greysheet.org/wp-content/uploads/2025/05/hybrid-1.svg
GEO:64.3167994;-22.0843231
X-APPLE-STRUCTURED-LOCATION;VALUE=URI;X-ADDRESS=Zoom ID: 3099135318, Passcode: Universal, Camera: Optional - Endurhæfingarhúsið Hver Suðurgata 57 Akranes Höfuðborgarsvæðið 300 Iceland;X-APPLE-RADIUS=500;X-TITLE=Suðurgata 57:geo:-22.0843231,64.3167994
END:VEVENT
BEGIN:VEVENT
DTSTART;TZID=Atlantic/Reykjavik:20270901T200000
DTEND;TZID=Atlantic/Reykjavik:20270901T210000
DTSTAMP:20260422T193154
CREATED:20250122T174118Z
LAST-MODIFIED:20260214T202847Z
UID:10049458-1819828800-1819832400@meetings.greysheet.org
SUMMARY:Akranesdeild
DESCRIPTION:
URL:https://meetings.greysheet.org/meeting/akranesdeild/2027-09-01
LOCATION:Zoom ID: 3099135318, Passcode: Universal, Camera: Optional - Endurhæfingarhúsið Hver\, Suðurgata 57\, Akranes\, Höfuðborgarsvæðið\, 300\, Iceland
CATEGORIES:Hybrid,In Person,Zoom
ATTACH;FMTTYPE=image/svg+xml:https://meetings.greysheet.org/wp-content/uploads/2025/05/hybrid-1.svg
GEO:64.3167994;-22.0843231
X-APPLE-STRUCTURED-LOCATION;VALUE=URI;X-ADDRESS=Zoom ID: 3099135318, Passcode: Universal, Camera: Optional - Endurhæfingarhúsið Hver Suðurgata 57 Akranes Höfuðborgarsvæðið 300 Iceland;X-APPLE-RADIUS=500;X-TITLE=Suðurgata 57:geo:-22.0843231,64.3167994
END:VEVENT
BEGIN:VEVENT
DTSTART;TZID=Atlantic/Reykjavik:20270908T200000
DTEND;TZID=Atlantic/Reykjavik:20270908T210000
DTSTAMP:20260422T193154
CREATED:20250122T174118Z
LAST-MODIFIED:20260214T202847Z
UID:10049459-1820433600-1820437200@meetings.greysheet.org
SUMMARY:Akranesdeild
DESCRIPTION:
URL:https://meetings.greysheet.org/meeting/akranesdeild/2027-09-08
LOCATION:Zoom ID: 3099135318, Passcode: Universal, Camera: Optional - Endurhæfingarhúsið Hver\, Suðurgata 57\, Akranes\, Höfuðborgarsvæðið\, 300\, Iceland
CATEGORIES:Hybrid,In Person,Zoom
ATTACH;FMTTYPE=image/svg+xml:https://meetings.greysheet.org/wp-content/uploads/2025/05/hybrid-1.svg
GEO:64.3167994;-22.0843231
X-APPLE-STRUCTURED-LOCATION;VALUE=URI;X-ADDRESS=Zoom ID: 3099135318, Passcode: Universal, Camera: Optional - Endurhæfingarhúsið Hver Suðurgata 57 Akranes Höfuðborgarsvæðið 300 Iceland;X-APPLE-RADIUS=500;X-TITLE=Suðurgata 57:geo:-22.0843231,64.3167994
END:VEVENT
BEGIN:VEVENT
DTSTART;TZID=Atlantic/Reykjavik:20270915T200000
DTEND;TZID=Atlantic/Reykjavik:20270915T210000
DTSTAMP:20260422T193154
CREATED:20250122T174118Z
LAST-MODIFIED:20260214T202847Z
UID:10049460-1821038400-1821042000@meetings.greysheet.org
SUMMARY:Akranesdeild
DESCRIPTION:
URL:https://meetings.greysheet.org/meeting/akranesdeild/2027-09-15
LOCATION:Zoom ID: 3099135318, Passcode: Universal, Camera: Optional - Endurhæfingarhúsið Hver\, Suðurgata 57\, Akranes\, Höfuðborgarsvæðið\, 300\, Iceland
CATEGORIES:Hybrid,In Person,Zoom
ATTACH;FMTTYPE=image/svg+xml:https://meetings.greysheet.org/wp-content/uploads/2025/05/hybrid-1.svg
GEO:64.3167994;-22.0843231
X-APPLE-STRUCTURED-LOCATION;VALUE=URI;X-ADDRESS=Zoom ID: 3099135318, Passcode: Universal, Camera: Optional - Endurhæfingarhúsið Hver Suðurgata 57 Akranes Höfuðborgarsvæðið 300 Iceland;X-APPLE-RADIUS=500;X-TITLE=Suðurgata 57:geo:-22.0843231,64.3167994
END:VEVENT
BEGIN:VEVENT
DTSTART;TZID=Atlantic/Reykjavik:20270922T200000
DTEND;TZID=Atlantic/Reykjavik:20270922T210000
DTSTAMP:20260422T193154
CREATED:20250122T174118Z
LAST-MODIFIED:20260214T202847Z
UID:10049461-1821643200-1821646800@meetings.greysheet.org
SUMMARY:Akranesdeild
DESCRIPTION:
URL:https://meetings.greysheet.org/meeting/akranesdeild/2027-09-22
LOCATION:Zoom ID: 3099135318, Passcode: Universal, Camera: Optional - Endurhæfingarhúsið Hver\, Suðurgata 57\, Akranes\, Höfuðborgarsvæðið\, 300\, Iceland
CATEGORIES:Hybrid,In Person,Zoom
ATTACH;FMTTYPE=image/svg+xml:https://meetings.greysheet.org/wp-content/uploads/2025/05/hybrid-1.svg
GEO:64.3167994;-22.0843231
X-APPLE-STRUCTURED-LOCATION;VALUE=URI;X-ADDRESS=Zoom ID: 3099135318, Passcode: Universal, Camera: Optional - Endurhæfingarhúsið Hver Suðurgata 57 Akranes Höfuðborgarsvæðið 300 Iceland;X-APPLE-RADIUS=500;X-TITLE=Suðurgata 57:geo:-22.0843231,64.3167994
END:VEVENT
BEGIN:VEVENT
DTSTART;TZID=Atlantic/Reykjavik:20270929T200000
DTEND;TZID=Atlantic/Reykjavik:20270929T210000
DTSTAMP:20260422T193154
CREATED:20250122T174118Z
LAST-MODIFIED:20260214T202847Z
UID:10049462-1822248000-1822251600@meetings.greysheet.org
SUMMARY:Akranesdeild
DESCRIPTION:
URL:https://meetings.greysheet.org/meeting/akranesdeild/2027-09-29
LOCATION:Zoom ID: 3099135318, Passcode: Universal, Camera: Optional - Endurhæfingarhúsið Hver\, Suðurgata 57\, Akranes\, Höfuðborgarsvæðið\, 300\, Iceland
CATEGORIES:Hybrid,In Person,Zoom
ATTACH;FMTTYPE=image/svg+xml:https://meetings.greysheet.org/wp-content/uploads/2025/05/hybrid-1.svg
GEO:64.3167994;-22.0843231
X-APPLE-STRUCTURED-LOCATION;VALUE=URI;X-ADDRESS=Zoom ID: 3099135318, Passcode: Universal, Camera: Optional - Endurhæfingarhúsið Hver Suðurgata 57 Akranes Höfuðborgarsvæðið 300 Iceland;X-APPLE-RADIUS=500;X-TITLE=Suðurgata 57:geo:-22.0843231,64.3167994
END:VEVENT
BEGIN:VEVENT
DTSTART;TZID=Atlantic/Reykjavik:20271006T200000
DTEND;TZID=Atlantic/Reykjavik:20271006T210000
DTSTAMP:20260422T193154
CREATED:20250122T174118Z
LAST-MODIFIED:20260214T202847Z
UID:10049463-1822852800-1822856400@meetings.greysheet.org
SUMMARY:Akranesdeild
DESCRIPTION:
URL:https://meetings.greysheet.org/meeting/akranesdeild/2027-10-06
LOCATION:Zoom ID: 3099135318, Passcode: Universal, Camera: Optional - Endurhæfingarhúsið Hver\, Suðurgata 57\, Akranes\, Höfuðborgarsvæðið\, 300\, Iceland
CATEGORIES:Hybrid,In Person,Zoom
ATTACH;FMTTYPE=image/svg+xml:https://meetings.greysheet.org/wp-content/uploads/2025/05/hybrid-1.svg
GEO:64.3167994;-22.0843231
X-APPLE-STRUCTURED-LOCATION;VALUE=URI;X-ADDRESS=Zoom ID: 3099135318, Passcode: Universal, Camera: Optional - Endurhæfingarhúsið Hver Suðurgata 57 Akranes Höfuðborgarsvæðið 300 Iceland;X-APPLE-RADIUS=500;X-TITLE=Suðurgata 57:geo:-22.0843231,64.3167994
END:VEVENT
BEGIN:VEVENT
DTSTART;TZID=Atlantic/Reykjavik:20271013T200000
DTEND;TZID=Atlantic/Reykjavik:20271013T210000
DTSTAMP:20260422T193154
CREATED:20250122T174118Z
LAST-MODIFIED:20260214T202847Z
UID:10049464-1823457600-1823461200@meetings.greysheet.org
SUMMARY:Akranesdeild
DESCRIPTION:
URL:https://meetings.greysheet.org/meeting/akranesdeild/2027-10-13
LOCATION:Zoom ID: 3099135318, Passcode: Universal, Camera: Optional - Endurhæfingarhúsið Hver\, Suðurgata 57\, Akranes\, Höfuðborgarsvæðið\, 300\, Iceland
CATEGORIES:Hybrid,In Person,Zoom
ATTACH;FMTTYPE=image/svg+xml:https://meetings.greysheet.org/wp-content/uploads/2025/05/hybrid-1.svg
GEO:64.3167994;-22.0843231
X-APPLE-STRUCTURED-LOCATION;VALUE=URI;X-ADDRESS=Zoom ID: 3099135318, Passcode: Universal, Camera: Optional - Endurhæfingarhúsið Hver Suðurgata 57 Akranes Höfuðborgarsvæðið 300 Iceland;X-APPLE-RADIUS=500;X-TITLE=Suðurgata 57:geo:-22.0843231,64.3167994
END:VEVENT
BEGIN:VEVENT
DTSTART;TZID=Atlantic/Reykjavik:20271020T200000
DTEND;TZID=Atlantic/Reykjavik:20271020T210000
DTSTAMP:20260422T193154
CREATED:20250122T174118Z
LAST-MODIFIED:20260214T202847Z
UID:10049465-1824062400-1824066000@meetings.greysheet.org
SUMMARY:Akranesdeild
DESCRIPTION:
URL:https://meetings.greysheet.org/meeting/akranesdeild/2027-10-20
LOCATION:Zoom ID: 3099135318, Passcode: Universal, Camera: Optional - Endurhæfingarhúsið Hver\, Suðurgata 57\, Akranes\, Höfuðborgarsvæðið\, 300\, Iceland
CATEGORIES:Hybrid,In Person,Zoom
ATTACH;FMTTYPE=image/svg+xml:https://meetings.greysheet.org/wp-content/uploads/2025/05/hybrid-1.svg
GEO:64.3167994;-22.0843231
X-APPLE-STRUCTURED-LOCATION;VALUE=URI;X-ADDRESS=Zoom ID: 3099135318, Passcode: Universal, Camera: Optional - Endurhæfingarhúsið Hver Suðurgata 57 Akranes Höfuðborgarsvæðið 300 Iceland;X-APPLE-RADIUS=500;X-TITLE=Suðurgata 57:geo:-22.0843231,64.3167994
END:VEVENT
BEGIN:VEVENT
DTSTART;TZID=Atlantic/Reykjavik:20271027T200000
DTEND;TZID=Atlantic/Reykjavik:20271027T210000
DTSTAMP:20260422T193154
CREATED:20250122T174118Z
LAST-MODIFIED:20260214T202847Z
UID:10049466-1824667200-1824670800@meetings.greysheet.org
SUMMARY:Akranesdeild
DESCRIPTION:
URL:https://meetings.greysheet.org/meeting/akranesdeild/2027-10-27
LOCATION:Zoom ID: 3099135318, Passcode: Universal, Camera: Optional - Endurhæfingarhúsið Hver\, Suðurgata 57\, Akranes\, Höfuðborgarsvæðið\, 300\, Iceland
CATEGORIES:Hybrid,In Person,Zoom
ATTACH;FMTTYPE=image/svg+xml:https://meetings.greysheet.org/wp-content/uploads/2025/05/hybrid-1.svg
GEO:64.3167994;-22.0843231
X-APPLE-STRUCTURED-LOCATION;VALUE=URI;X-ADDRESS=Zoom ID: 3099135318, Passcode: Universal, Camera: Optional - Endurhæfingarhúsið Hver Suðurgata 57 Akranes Höfuðborgarsvæðið 300 Iceland;X-APPLE-RADIUS=500;X-TITLE=Suðurgata 57:geo:-22.0843231,64.3167994
END:VEVENT
BEGIN:VEVENT
DTSTART;TZID=Atlantic/Reykjavik:20271103T200000
DTEND;TZID=Atlantic/Reykjavik:20271103T210000
DTSTAMP:20260422T193154
CREATED:20250122T174118Z
LAST-MODIFIED:20260214T202847Z
UID:10049467-1825272000-1825275600@meetings.greysheet.org
SUMMARY:Akranesdeild
DESCRIPTION:
URL:https://meetings.greysheet.org/meeting/akranesdeild/2027-11-03
LOCATION:Zoom ID: 3099135318, Passcode: Universal, Camera: Optional - Endurhæfingarhúsið Hver\, Suðurgata 57\, Akranes\, Höfuðborgarsvæðið\, 300\, Iceland
CATEGORIES:Hybrid,In Person,Zoom
ATTACH;FMTTYPE=image/svg+xml:https://meetings.greysheet.org/wp-content/uploads/2025/05/hybrid-1.svg
GEO:64.3167994;-22.0843231
X-APPLE-STRUCTURED-LOCATION;VALUE=URI;X-ADDRESS=Zoom ID: 3099135318, Passcode: Universal, Camera: Optional - Endurhæfingarhúsið Hver Suðurgata 57 Akranes Höfuðborgarsvæðið 300 Iceland;X-APPLE-RADIUS=500;X-TITLE=Suðurgata 57:geo:-22.0843231,64.3167994
END:VEVENT
BEGIN:VEVENT
DTSTART;TZID=Atlantic/Reykjavik:20271110T200000
DTEND;TZID=Atlantic/Reykjavik:20271110T210000
DTSTAMP:20260422T193154
CREATED:20250122T174118Z
LAST-MODIFIED:20260214T202847Z
UID:10049468-1825876800-1825880400@meetings.greysheet.org
SUMMARY:Akranesdeild
DESCRIPTION:
URL:https://meetings.greysheet.org/meeting/akranesdeild/2027-11-10
LOCATION:Zoom ID: 3099135318, Passcode: Universal, Camera: Optional - Endurhæfingarhúsið Hver\, Suðurgata 57\, Akranes\, Höfuðborgarsvæðið\, 300\, Iceland
CATEGORIES:Hybrid,In Person,Zoom
ATTACH;FMTTYPE=image/svg+xml:https://meetings.greysheet.org/wp-content/uploads/2025/05/hybrid-1.svg
GEO:64.3167994;-22.0843231
X-APPLE-STRUCTURED-LOCATION;VALUE=URI;X-ADDRESS=Zoom ID: 3099135318, Passcode: Universal, Camera: Optional - Endurhæfingarhúsið Hver Suðurgata 57 Akranes Höfuðborgarsvæðið 300 Iceland;X-APPLE-RADIUS=500;X-TITLE=Suðurgata 57:geo:-22.0843231,64.3167994
END:VEVENT
BEGIN:VEVENT
DTSTART;TZID=Atlantic/Reykjavik:20271117T200000
DTEND;TZID=Atlantic/Reykjavik:20271117T210000
DTSTAMP:20260422T193154
CREATED:20250122T174118Z
LAST-MODIFIED:20260214T202847Z
UID:10049469-1826481600-1826485200@meetings.greysheet.org
SUMMARY:Akranesdeild
DESCRIPTION:
URL:https://meetings.greysheet.org/meeting/akranesdeild/2027-11-17
LOCATION:Zoom ID: 3099135318, Passcode: Universal, Camera: Optional - Endurhæfingarhúsið Hver\, Suðurgata 57\, Akranes\, Höfuðborgarsvæðið\, 300\, Iceland
CATEGORIES:Hybrid,In Person,Zoom
ATTACH;FMTTYPE=image/svg+xml:https://meetings.greysheet.org/wp-content/uploads/2025/05/hybrid-1.svg
GEO:64.3167994;-22.0843231
X-APPLE-STRUCTURED-LOCATION;VALUE=URI;X-ADDRESS=Zoom ID: 3099135318, Passcode: Universal, Camera: Optional - Endurhæfingarhúsið Hver Suðurgata 57 Akranes Höfuðborgarsvæðið 300 Iceland;X-APPLE-RADIUS=500;X-TITLE=Suðurgata 57:geo:-22.0843231,64.3167994
END:VEVENT
BEGIN:VEVENT
DTSTART;TZID=Atlantic/Reykjavik:20271124T200000
DTEND;TZID=Atlantic/Reykjavik:20271124T210000
DTSTAMP:20260422T193154
CREATED:20250122T174118Z
LAST-MODIFIED:20260214T202847Z
UID:10060082-1827086400-1827090000@meetings.greysheet.org
SUMMARY:Akranesdeild
DESCRIPTION:
URL:https://meetings.greysheet.org/meeting/akranesdeild/2027-11-24
LOCATION:Zoom ID: 3099135318, Passcode: Universal, Camera: Optional - Endurhæfingarhúsið Hver\, Suðurgata 57\, Akranes\, Höfuðborgarsvæðið\, 300\, Iceland
CATEGORIES:Hybrid,In Person,Zoom
ATTACH;FMTTYPE=image/svg+xml:https://meetings.greysheet.org/wp-content/uploads/2025/05/hybrid-1.svg
GEO:64.3167994;-22.0843231
X-APPLE-STRUCTURED-LOCATION;VALUE=URI;X-ADDRESS=Zoom ID: 3099135318, Passcode: Universal, Camera: Optional - Endurhæfingarhúsið Hver Suðurgata 57 Akranes Höfuðborgarsvæðið 300 Iceland;X-APPLE-RADIUS=500;X-TITLE=Suðurgata 57:geo:-22.0843231,64.3167994
END:VEVENT
BEGIN:VEVENT
DTSTART;TZID=Atlantic/Reykjavik:20271201T200000
DTEND;TZID=Atlantic/Reykjavik:20271201T210000
DTSTAMP:20260422T193154
CREATED:20250122T174118Z
LAST-MODIFIED:20260214T202847Z
UID:10060083-1827691200-1827694800@meetings.greysheet.org
SUMMARY:Akranesdeild
DESCRIPTION:
URL:https://meetings.greysheet.org/meeting/akranesdeild/2027-12-01
LOCATION:Zoom ID: 3099135318, Passcode: Universal, Camera: Optional - Endurhæfingarhúsið Hver\, Suðurgata 57\, Akranes\, Höfuðborgarsvæðið\, 300\, Iceland
CATEGORIES:Hybrid,In Person,Zoom
ATTACH;FMTTYPE=image/svg+xml:https://meetings.greysheet.org/wp-content/uploads/2025/05/hybrid-1.svg
GEO:64.3167994;-22.0843231
X-APPLE-STRUCTURED-LOCATION;VALUE=URI;X-ADDRESS=Zoom ID: 3099135318, Passcode: Universal, Camera: Optional - Endurhæfingarhúsið Hver Suðurgata 57 Akranes Höfuðborgarsvæðið 300 Iceland;X-APPLE-RADIUS=500;X-TITLE=Suðurgata 57:geo:-22.0843231,64.3167994
END:VEVENT
BEGIN:VEVENT
DTSTART;TZID=Atlantic/Reykjavik:20271208T200000
DTEND;TZID=Atlantic/Reykjavik:20271208T210000
DTSTAMP:20260422T193154
CREATED:20250122T174118Z
LAST-MODIFIED:20260214T202847Z
UID:10060084-1828296000-1828299600@meetings.greysheet.org
SUMMARY:Akranesdeild
DESCRIPTION:
URL:https://meetings.greysheet.org/meeting/akranesdeild/2027-12-08
LOCATION:Zoom ID: 3099135318, Passcode: Universal, Camera: Optional - Endurhæfingarhúsið Hver\, Suðurgata 57\, Akranes\, Höfuðborgarsvæðið\, 300\, Iceland
CATEGORIES:Hybrid,In Person,Zoom
ATTACH;FMTTYPE=image/svg+xml:https://meetings.greysheet.org/wp-content/uploads/2025/05/hybrid-1.svg
GEO:64.3167994;-22.0843231
X-APPLE-STRUCTURED-LOCATION;VALUE=URI;X-ADDRESS=Zoom ID: 3099135318, Passcode: Universal, Camera: Optional - Endurhæfingarhúsið Hver Suðurgata 57 Akranes Höfuðborgarsvæðið 300 Iceland;X-APPLE-RADIUS=500;X-TITLE=Suðurgata 57:geo:-22.0843231,64.3167994
END:VEVENT
BEGIN:VEVENT
DTSTART;TZID=Atlantic/Reykjavik:20271215T200000
DTEND;TZID=Atlantic/Reykjavik:20271215T210000
DTSTAMP:20260422T193154
CREATED:20250122T174118Z
LAST-MODIFIED:20260214T202847Z
UID:10062231-1828900800-1828904400@meetings.greysheet.org
SUMMARY:Akranesdeild
DESCRIPTION:
URL:https://meetings.greysheet.org/meeting/akranesdeild/2027-12-15
LOCATION:Zoom ID: 3099135318, Passcode: Universal, Camera: Optional - Endurhæfingarhúsið Hver\, Suðurgata 57\, Akranes\, Höfuðborgarsvæðið\, 300\, Iceland
CATEGORIES:Hybrid,In Person,Zoom
ATTACH;FMTTYPE=image/svg+xml:https://meetings.greysheet.org/wp-content/uploads/2025/05/hybrid-1.svg
GEO:64.3167994;-22.0843231
X-APPLE-STRUCTURED-LOCATION;VALUE=URI;X-ADDRESS=Zoom ID: 3099135318, Passcode: Universal, Camera: Optional - Endurhæfingarhúsið Hver Suðurgata 57 Akranes Höfuðborgarsvæðið 300 Iceland;X-APPLE-RADIUS=500;X-TITLE=Suðurgata 57:geo:-22.0843231,64.3167994
END:VEVENT
BEGIN:VEVENT
DTSTART;TZID=Atlantic/Reykjavik:20271222T200000
DTEND;TZID=Atlantic/Reykjavik:20271222T210000
DTSTAMP:20260422T193154
CREATED:20250122T174118Z
LAST-MODIFIED:20260214T202847Z
UID:10062232-1829505600-1829509200@meetings.greysheet.org
SUMMARY:Akranesdeild
DESCRIPTION:
URL:https://meetings.greysheet.org/meeting/akranesdeild/2027-12-22
LOCATION:Zoom ID: 3099135318, Passcode: Universal, Camera: Optional - Endurhæfingarhúsið Hver\, Suðurgata 57\, Akranes\, Höfuðborgarsvæðið\, 300\, Iceland
CATEGORIES:Hybrid,In Person,Zoom
ATTACH;FMTTYPE=image/svg+xml:https://meetings.greysheet.org/wp-content/uploads/2025/05/hybrid-1.svg
GEO:64.3167994;-22.0843231
X-APPLE-STRUCTURED-LOCATION;VALUE=URI;X-ADDRESS=Zoom ID: 3099135318, Passcode: Universal, Camera: Optional - Endurhæfingarhúsið Hver Suðurgata 57 Akranes Höfuðborgarsvæðið 300 Iceland;X-APPLE-RADIUS=500;X-TITLE=Suðurgata 57:geo:-22.0843231,64.3167994
END:VEVENT
BEGIN:VEVENT
DTSTART;TZID=Atlantic/Reykjavik:20271229T200000
DTEND;TZID=Atlantic/Reykjavik:20271229T210000
DTSTAMP:20260422T193154
CREATED:20250122T174118Z
LAST-MODIFIED:20260214T202847Z
UID:10062233-1830110400-1830114000@meetings.greysheet.org
SUMMARY:Akranesdeild
DESCRIPTION:
URL:https://meetings.greysheet.org/meeting/akranesdeild/2027-12-29
LOCATION:Zoom ID: 3099135318, Passcode: Universal, Camera: Optional - Endurhæfingarhúsið Hver\, Suðurgata 57\, Akranes\, Höfuðborgarsvæðið\, 300\, Iceland
CATEGORIES:Hybrid,In Person,Zoom
ATTACH;FMTTYPE=image/svg+xml:https://meetings.greysheet.org/wp-content/uploads/2025/05/hybrid-1.svg
GEO:64.3167994;-22.0843231
X-APPLE-STRUCTURED-LOCATION;VALUE=URI;X-ADDRESS=Zoom ID: 3099135318, Passcode: Universal, Camera: Optional - Endurhæfingarhúsið Hver Suðurgata 57 Akranes Höfuðborgarsvæðið 300 Iceland;X-APPLE-RADIUS=500;X-TITLE=Suðurgata 57:geo:-22.0843231,64.3167994
END:VEVENT
BEGIN:VEVENT
DTSTART;TZID=Atlantic/Reykjavik:20280105T200000
DTEND;TZID=Atlantic/Reykjavik:20280105T210000
DTSTAMP:20260422T193154
CREATED:20250122T174118Z
LAST-MODIFIED:20260214T202847Z
UID:10062234-1830715200-1830718800@meetings.greysheet.org
SUMMARY:Akranesdeild
DESCRIPTION:
URL:https://meetings.greysheet.org/meeting/akranesdeild/2028-01-05
LOCATION:Zoom ID: 3099135318, Passcode: Universal, Camera: Optional - Endurhæfingarhúsið Hver\, Suðurgata 57\, Akranes\, Höfuðborgarsvæðið\, 300\, Iceland
CATEGORIES:Hybrid,In Person,Zoom
ATTACH;FMTTYPE=image/svg+xml:https://meetings.greysheet.org/wp-content/uploads/2025/05/hybrid-1.svg
GEO:64.3167994;-22.0843231
X-APPLE-STRUCTURED-LOCATION;VALUE=URI;X-ADDRESS=Zoom ID: 3099135318, Passcode: Universal, Camera: Optional - Endurhæfingarhúsið Hver Suðurgata 57 Akranes Höfuðborgarsvæðið 300 Iceland;X-APPLE-RADIUS=500;X-TITLE=Suðurgata 57:geo:-22.0843231,64.3167994
END:VEVENT
END:VCALENDAR