BEGIN:VCALENDAR
VERSION:2.0
PRODID:-//GreySheeters Anonymous World Services - ECPv6.15.20//NONSGML v1.0//EN
CALSCALE:GREGORIAN
METHOD:PUBLISH
X-WR-CALNAME:GreySheeters Anonymous World Services
X-ORIGINAL-URL:https://meetings.greysheet.org
X-WR-CALDESC:Events for GreySheeters Anonymous World Services
REFRESH-INTERVAL;VALUE=DURATION:PT1H
X-Robots-Tag:noindex
X-PUBLISHED-TTL:PT1H
BEGIN:VTIMEZONE
TZID:America/New_York
BEGIN:DAYLIGHT
TZOFFSETFROM:-0500
TZOFFSETTO:-0400
TZNAME:EDT
DTSTART:20250309T070000
END:DAYLIGHT
BEGIN:STANDARD
TZOFFSETFROM:-0400
TZOFFSETTO:-0500
TZNAME:EST
DTSTART:20251102T060000
END:STANDARD
BEGIN:DAYLIGHT
TZOFFSETFROM:-0500
TZOFFSETTO:-0400
TZNAME:EDT
DTSTART:20260308T070000
END:DAYLIGHT
BEGIN:STANDARD
TZOFFSETFROM:-0400
TZOFFSETTO:-0500
TZNAME:EST
DTSTART:20261101T060000
END:STANDARD
BEGIN:DAYLIGHT
TZOFFSETFROM:-0500
TZOFFSETTO:-0400
TZNAME:EDT
DTSTART:20270314T070000
END:DAYLIGHT
BEGIN:STANDARD
TZOFFSETFROM:-0400
TZOFFSETTO:-0500
TZNAME:EST
DTSTART:20271107T060000
END:STANDARD
BEGIN:DAYLIGHT
TZOFFSETFROM:-0500
TZOFFSETTO:-0400
TZNAME:EDT
DTSTART:20280312T070000
END:DAYLIGHT
BEGIN:STANDARD
TZOFFSETFROM:-0400
TZOFFSETTO:-0500
TZNAME:EST
DTSTART:20281105T060000
END:STANDARD
END:VTIMEZONE
BEGIN:VEVENT
DTSTART;TZID=America/New_York:20261231T190000
DTEND;TZID=America/New_York:20261231T200000
DTSTAMP:20260421T090811
CREATED:20250504T220133Z
LAST-MODIFIED:20260413T213759Z
UID:10045237-1798743600-1798747200@meetings.greysheet.org
SUMMARY:Southern Serenity
DESCRIPTION:
URL:https://meetings.greysheet.org/meeting/southern-serenity/2026-12-31
CATEGORIES:Zoom
ATTACH;FMTTYPE=image/svg+xml:https://meetings.greysheet.org/wp-content/uploads/2025/05/desktop.svg
LOCATION:Zoom ID: Contact Us, Passcode: Contact Us, Camera: Required
END:VEVENT
BEGIN:VEVENT
DTSTART;TZID=America/New_York:20270107T190000
DTEND;TZID=America/New_York:20270107T200000
DTSTAMP:20260421T090811
CREATED:20250504T220133Z
LAST-MODIFIED:20260413T213759Z
UID:10045238-1799348400-1799352000@meetings.greysheet.org
SUMMARY:Southern Serenity
DESCRIPTION:
URL:https://meetings.greysheet.org/meeting/southern-serenity/2027-01-07
CATEGORIES:Zoom
ATTACH;FMTTYPE=image/svg+xml:https://meetings.greysheet.org/wp-content/uploads/2025/05/desktop.svg
LOCATION:Zoom ID: Contact Us, Passcode: Contact Us, Camera: Required
END:VEVENT
BEGIN:VEVENT
DTSTART;TZID=America/New_York:20270114T190000
DTEND;TZID=America/New_York:20270114T200000
DTSTAMP:20260421T090811
CREATED:20250504T220133Z
LAST-MODIFIED:20260413T213759Z
UID:10045239-1799953200-1799956800@meetings.greysheet.org
SUMMARY:Southern Serenity
DESCRIPTION:
URL:https://meetings.greysheet.org/meeting/southern-serenity/2027-01-14
CATEGORIES:Zoom
ATTACH;FMTTYPE=image/svg+xml:https://meetings.greysheet.org/wp-content/uploads/2025/05/desktop.svg
LOCATION:Zoom ID: Contact Us, Passcode: Contact Us, Camera: Required
END:VEVENT
BEGIN:VEVENT
DTSTART;TZID=America/New_York:20270121T190000
DTEND;TZID=America/New_York:20270121T200000
DTSTAMP:20260421T090811
CREATED:20250504T220133Z
LAST-MODIFIED:20260413T213759Z
UID:10045240-1800558000-1800561600@meetings.greysheet.org
SUMMARY:Southern Serenity
DESCRIPTION:
URL:https://meetings.greysheet.org/meeting/southern-serenity/2027-01-21
CATEGORIES:Zoom
ATTACH;FMTTYPE=image/svg+xml:https://meetings.greysheet.org/wp-content/uploads/2025/05/desktop.svg
LOCATION:Zoom ID: Contact Us, Passcode: Contact Us, Camera: Required
END:VEVENT
BEGIN:VEVENT
DTSTART;TZID=America/New_York:20270128T190000
DTEND;TZID=America/New_York:20270128T200000
DTSTAMP:20260421T090811
CREATED:20250504T220133Z
LAST-MODIFIED:20260413T213759Z
UID:10045241-1801162800-1801166400@meetings.greysheet.org
SUMMARY:Southern Serenity
DESCRIPTION:
URL:https://meetings.greysheet.org/meeting/southern-serenity/2027-01-28
CATEGORIES:Zoom
ATTACH;FMTTYPE=image/svg+xml:https://meetings.greysheet.org/wp-content/uploads/2025/05/desktop.svg
LOCATION:Zoom ID: Contact Us, Passcode: Contact Us, Camera: Required
END:VEVENT
BEGIN:VEVENT
DTSTART;TZID=America/New_York:20270204T190000
DTEND;TZID=America/New_York:20270204T200000
DTSTAMP:20260421T090811
CREATED:20250504T220133Z
LAST-MODIFIED:20260413T213759Z
UID:10045242-1801767600-1801771200@meetings.greysheet.org
SUMMARY:Southern Serenity
DESCRIPTION:
URL:https://meetings.greysheet.org/meeting/southern-serenity/2027-02-04
CATEGORIES:Zoom
ATTACH;FMTTYPE=image/svg+xml:https://meetings.greysheet.org/wp-content/uploads/2025/05/desktop.svg
LOCATION:Zoom ID: Contact Us, Passcode: Contact Us, Camera: Required
END:VEVENT
BEGIN:VEVENT
DTSTART;TZID=America/New_York:20270211T190000
DTEND;TZID=America/New_York:20270211T200000
DTSTAMP:20260421T090811
CREATED:20250504T220133Z
LAST-MODIFIED:20260413T213759Z
UID:10045243-1802372400-1802376000@meetings.greysheet.org
SUMMARY:Southern Serenity
DESCRIPTION:
URL:https://meetings.greysheet.org/meeting/southern-serenity/2027-02-11
CATEGORIES:Zoom
ATTACH;FMTTYPE=image/svg+xml:https://meetings.greysheet.org/wp-content/uploads/2025/05/desktop.svg
LOCATION:Zoom ID: Contact Us, Passcode: Contact Us, Camera: Required
END:VEVENT
BEGIN:VEVENT
DTSTART;TZID=America/New_York:20270218T190000
DTEND;TZID=America/New_York:20270218T200000
DTSTAMP:20260421T090811
CREATED:20250504T220133Z
LAST-MODIFIED:20260413T213759Z
UID:10045244-1802977200-1802980800@meetings.greysheet.org
SUMMARY:Southern Serenity
DESCRIPTION:
URL:https://meetings.greysheet.org/meeting/southern-serenity/2027-02-18
CATEGORIES:Zoom
ATTACH;FMTTYPE=image/svg+xml:https://meetings.greysheet.org/wp-content/uploads/2025/05/desktop.svg
LOCATION:Zoom ID: Contact Us, Passcode: Contact Us, Camera: Required
END:VEVENT
BEGIN:VEVENT
DTSTART;TZID=America/New_York:20270225T190000
DTEND;TZID=America/New_York:20270225T200000
DTSTAMP:20260421T090811
CREATED:20250504T220133Z
LAST-MODIFIED:20260413T213759Z
UID:10045245-1803582000-1803585600@meetings.greysheet.org
SUMMARY:Southern Serenity
DESCRIPTION:
URL:https://meetings.greysheet.org/meeting/southern-serenity/2027-02-25
CATEGORIES:Zoom
ATTACH;FMTTYPE=image/svg+xml:https://meetings.greysheet.org/wp-content/uploads/2025/05/desktop.svg
LOCATION:Zoom ID: Contact Us, Passcode: Contact Us, Camera: Required
END:VEVENT
BEGIN:VEVENT
DTSTART;TZID=America/New_York:20270304T190000
DTEND;TZID=America/New_York:20270304T200000
DTSTAMP:20260421T090811
CREATED:20250504T220133Z
LAST-MODIFIED:20260413T213759Z
UID:10045246-1804186800-1804190400@meetings.greysheet.org
SUMMARY:Southern Serenity
DESCRIPTION:
URL:https://meetings.greysheet.org/meeting/southern-serenity/2027-03-04
CATEGORIES:Zoom
ATTACH;FMTTYPE=image/svg+xml:https://meetings.greysheet.org/wp-content/uploads/2025/05/desktop.svg
LOCATION:Zoom ID: Contact Us, Passcode: Contact Us, Camera: Required
END:VEVENT
BEGIN:VEVENT
DTSTART;TZID=America/New_York:20270311T190000
DTEND;TZID=America/New_York:20270311T200000
DTSTAMP:20260421T090811
CREATED:20250504T220133Z
LAST-MODIFIED:20260413T213759Z
UID:10045247-1804791600-1804795200@meetings.greysheet.org
SUMMARY:Southern Serenity
DESCRIPTION:
URL:https://meetings.greysheet.org/meeting/southern-serenity/2027-03-11
CATEGORIES:Zoom
ATTACH;FMTTYPE=image/svg+xml:https://meetings.greysheet.org/wp-content/uploads/2025/05/desktop.svg
LOCATION:Zoom ID: Contact Us, Passcode: Contact Us, Camera: Required
END:VEVENT
BEGIN:VEVENT
DTSTART;TZID=America/New_York:20270318T190000
DTEND;TZID=America/New_York:20270318T200000
DTSTAMP:20260421T090811
CREATED:20250504T220133Z
LAST-MODIFIED:20260413T213759Z
UID:10045248-1805396400-1805400000@meetings.greysheet.org
SUMMARY:Southern Serenity
DESCRIPTION:
URL:https://meetings.greysheet.org/meeting/southern-serenity/2027-03-18
CATEGORIES:Zoom
ATTACH;FMTTYPE=image/svg+xml:https://meetings.greysheet.org/wp-content/uploads/2025/05/desktop.svg
LOCATION:Zoom ID: Contact Us, Passcode: Contact Us, Camera: Required
END:VEVENT
BEGIN:VEVENT
DTSTART;TZID=America/New_York:20270325T190000
DTEND;TZID=America/New_York:20270325T200000
DTSTAMP:20260421T090811
CREATED:20250504T220133Z
LAST-MODIFIED:20260413T213759Z
UID:10045249-1806001200-1806004800@meetings.greysheet.org
SUMMARY:Southern Serenity
DESCRIPTION:
URL:https://meetings.greysheet.org/meeting/southern-serenity/2027-03-25
CATEGORIES:Zoom
ATTACH;FMTTYPE=image/svg+xml:https://meetings.greysheet.org/wp-content/uploads/2025/05/desktop.svg
LOCATION:Zoom ID: Contact Us, Passcode: Contact Us, Camera: Required
END:VEVENT
BEGIN:VEVENT
DTSTART;TZID=America/New_York:20270401T190000
DTEND;TZID=America/New_York:20270401T200000
DTSTAMP:20260421T090811
CREATED:20250504T220133Z
LAST-MODIFIED:20260413T213759Z
UID:10045250-1806606000-1806609600@meetings.greysheet.org
SUMMARY:Southern Serenity
DESCRIPTION:
URL:https://meetings.greysheet.org/meeting/southern-serenity/2027-04-01
CATEGORIES:Zoom
ATTACH;FMTTYPE=image/svg+xml:https://meetings.greysheet.org/wp-content/uploads/2025/05/desktop.svg
LOCATION:Zoom ID: Contact Us, Passcode: Contact Us, Camera: Required
END:VEVENT
BEGIN:VEVENT
DTSTART;TZID=America/New_York:20270408T190000
DTEND;TZID=America/New_York:20270408T200000
DTSTAMP:20260421T090811
CREATED:20250504T220133Z
LAST-MODIFIED:20260413T213759Z
UID:10045251-1807210800-1807214400@meetings.greysheet.org
SUMMARY:Southern Serenity
DESCRIPTION:
URL:https://meetings.greysheet.org/meeting/southern-serenity/2027-04-08
CATEGORIES:Zoom
ATTACH;FMTTYPE=image/svg+xml:https://meetings.greysheet.org/wp-content/uploads/2025/05/desktop.svg
LOCATION:Zoom ID: Contact Us, Passcode: Contact Us, Camera: Required
END:VEVENT
BEGIN:VEVENT
DTSTART;TZID=America/New_York:20270415T190000
DTEND;TZID=America/New_York:20270415T200000
DTSTAMP:20260421T090811
CREATED:20250504T220133Z
LAST-MODIFIED:20260413T213759Z
UID:10045252-1807815600-1807819200@meetings.greysheet.org
SUMMARY:Southern Serenity
DESCRIPTION:
URL:https://meetings.greysheet.org/meeting/southern-serenity/2027-04-15
CATEGORIES:Zoom
ATTACH;FMTTYPE=image/svg+xml:https://meetings.greysheet.org/wp-content/uploads/2025/05/desktop.svg
LOCATION:Zoom ID: Contact Us, Passcode: Contact Us, Camera: Required
END:VEVENT
BEGIN:VEVENT
DTSTART;TZID=America/New_York:20270422T190000
DTEND;TZID=America/New_York:20270422T200000
DTSTAMP:20260421T090811
CREATED:20250504T220133Z
LAST-MODIFIED:20260413T213759Z
UID:10045253-1808420400-1808424000@meetings.greysheet.org
SUMMARY:Southern Serenity
DESCRIPTION:
URL:https://meetings.greysheet.org/meeting/southern-serenity/2027-04-22
CATEGORIES:Zoom
ATTACH;FMTTYPE=image/svg+xml:https://meetings.greysheet.org/wp-content/uploads/2025/05/desktop.svg
LOCATION:Zoom ID: Contact Us, Passcode: Contact Us, Camera: Required
END:VEVENT
BEGIN:VEVENT
DTSTART;TZID=America/New_York:20270429T190000
DTEND;TZID=America/New_York:20270429T200000
DTSTAMP:20260421T090811
CREATED:20250504T220133Z
LAST-MODIFIED:20260413T213759Z
UID:10045254-1809025200-1809028800@meetings.greysheet.org
SUMMARY:Southern Serenity
DESCRIPTION:
URL:https://meetings.greysheet.org/meeting/southern-serenity/2027-04-29
CATEGORIES:Zoom
ATTACH;FMTTYPE=image/svg+xml:https://meetings.greysheet.org/wp-content/uploads/2025/05/desktop.svg
LOCATION:Zoom ID: Contact Us, Passcode: Contact Us, Camera: Required
END:VEVENT
BEGIN:VEVENT
DTSTART;TZID=America/New_York:20270506T190000
DTEND;TZID=America/New_York:20270506T200000
DTSTAMP:20260421T090811
CREATED:20250504T220133Z
LAST-MODIFIED:20260413T213759Z
UID:10045255-1809630000-1809633600@meetings.greysheet.org
SUMMARY:Southern Serenity
DESCRIPTION:
URL:https://meetings.greysheet.org/meeting/southern-serenity/2027-05-06
CATEGORIES:Zoom
ATTACH;FMTTYPE=image/svg+xml:https://meetings.greysheet.org/wp-content/uploads/2025/05/desktop.svg
LOCATION:Zoom ID: Contact Us, Passcode: Contact Us, Camera: Required
END:VEVENT
BEGIN:VEVENT
DTSTART;TZID=America/New_York:20270513T190000
DTEND;TZID=America/New_York:20270513T200000
DTSTAMP:20260421T090811
CREATED:20250504T220133Z
LAST-MODIFIED:20260413T213759Z
UID:10045256-1810234800-1810238400@meetings.greysheet.org
SUMMARY:Southern Serenity
DESCRIPTION:
URL:https://meetings.greysheet.org/meeting/southern-serenity/2027-05-13
CATEGORIES:Zoom
ATTACH;FMTTYPE=image/svg+xml:https://meetings.greysheet.org/wp-content/uploads/2025/05/desktop.svg
LOCATION:Zoom ID: Contact Us, Passcode: Contact Us, Camera: Required
END:VEVENT
BEGIN:VEVENT
DTSTART;TZID=America/New_York:20270520T190000
DTEND;TZID=America/New_York:20270520T200000
DTSTAMP:20260421T090811
CREATED:20250504T220133Z
LAST-MODIFIED:20260413T213759Z
UID:10045257-1810839600-1810843200@meetings.greysheet.org
SUMMARY:Southern Serenity
DESCRIPTION:
URL:https://meetings.greysheet.org/meeting/southern-serenity/2027-05-20
CATEGORIES:Zoom
ATTACH;FMTTYPE=image/svg+xml:https://meetings.greysheet.org/wp-content/uploads/2025/05/desktop.svg
LOCATION:Zoom ID: Contact Us, Passcode: Contact Us, Camera: Required
END:VEVENT
BEGIN:VEVENT
DTSTART;TZID=America/New_York:20270527T190000
DTEND;TZID=America/New_York:20270527T200000
DTSTAMP:20260421T090811
CREATED:20250504T220133Z
LAST-MODIFIED:20260413T213759Z
UID:10045258-1811444400-1811448000@meetings.greysheet.org
SUMMARY:Southern Serenity
DESCRIPTION:
URL:https://meetings.greysheet.org/meeting/southern-serenity/2027-05-27
CATEGORIES:Zoom
ATTACH;FMTTYPE=image/svg+xml:https://meetings.greysheet.org/wp-content/uploads/2025/05/desktop.svg
LOCATION:Zoom ID: Contact Us, Passcode: Contact Us, Camera: Required
END:VEVENT
BEGIN:VEVENT
DTSTART;TZID=America/New_York:20270603T190000
DTEND;TZID=America/New_York:20270603T200000
DTSTAMP:20260421T090811
CREATED:20250504T220133Z
LAST-MODIFIED:20260413T213759Z
UID:10045259-1812049200-1812052800@meetings.greysheet.org
SUMMARY:Southern Serenity
DESCRIPTION:
URL:https://meetings.greysheet.org/meeting/southern-serenity/2027-06-03
CATEGORIES:Zoom
ATTACH;FMTTYPE=image/svg+xml:https://meetings.greysheet.org/wp-content/uploads/2025/05/desktop.svg
LOCATION:Zoom ID: Contact Us, Passcode: Contact Us, Camera: Required
END:VEVENT
BEGIN:VEVENT
DTSTART;TZID=America/New_York:20270610T190000
DTEND;TZID=America/New_York:20270610T200000
DTSTAMP:20260421T090811
CREATED:20250504T220133Z
LAST-MODIFIED:20260413T213759Z
UID:10045260-1812654000-1812657600@meetings.greysheet.org
SUMMARY:Southern Serenity
DESCRIPTION:
URL:https://meetings.greysheet.org/meeting/southern-serenity/2027-06-10
CATEGORIES:Zoom
ATTACH;FMTTYPE=image/svg+xml:https://meetings.greysheet.org/wp-content/uploads/2025/05/desktop.svg
LOCATION:Zoom ID: Contact Us, Passcode: Contact Us, Camera: Required
END:VEVENT
BEGIN:VEVENT
DTSTART;TZID=America/New_York:20270617T190000
DTEND;TZID=America/New_York:20270617T200000
DTSTAMP:20260421T090811
CREATED:20250504T220133Z
LAST-MODIFIED:20260413T213759Z
UID:10045261-1813258800-1813262400@meetings.greysheet.org
SUMMARY:Southern Serenity
DESCRIPTION:
URL:https://meetings.greysheet.org/meeting/southern-serenity/2027-06-17
CATEGORIES:Zoom
ATTACH;FMTTYPE=image/svg+xml:https://meetings.greysheet.org/wp-content/uploads/2025/05/desktop.svg
LOCATION:Zoom ID: Contact Us, Passcode: Contact Us, Camera: Required
END:VEVENT
BEGIN:VEVENT
DTSTART;TZID=America/New_York:20270624T190000
DTEND;TZID=America/New_York:20270624T200000
DTSTAMP:20260421T090811
CREATED:20250504T220133Z
LAST-MODIFIED:20260413T213759Z
UID:10045262-1813863600-1813867200@meetings.greysheet.org
SUMMARY:Southern Serenity
DESCRIPTION:
URL:https://meetings.greysheet.org/meeting/southern-serenity/2027-06-24
CATEGORIES:Zoom
ATTACH;FMTTYPE=image/svg+xml:https://meetings.greysheet.org/wp-content/uploads/2025/05/desktop.svg
LOCATION:Zoom ID: Contact Us, Passcode: Contact Us, Camera: Required
END:VEVENT
BEGIN:VEVENT
DTSTART;TZID=America/New_York:20270701T190000
DTEND;TZID=America/New_York:20270701T200000
DTSTAMP:20260421T090811
CREATED:20250504T220133Z
LAST-MODIFIED:20260413T213759Z
UID:10045263-1814468400-1814472000@meetings.greysheet.org
SUMMARY:Southern Serenity
DESCRIPTION:
URL:https://meetings.greysheet.org/meeting/southern-serenity/2027-07-01
CATEGORIES:Zoom
ATTACH;FMTTYPE=image/svg+xml:https://meetings.greysheet.org/wp-content/uploads/2025/05/desktop.svg
LOCATION:Zoom ID: Contact Us, Passcode: Contact Us, Camera: Required
END:VEVENT
BEGIN:VEVENT
DTSTART;TZID=America/New_York:20270708T190000
DTEND;TZID=America/New_York:20270708T200000
DTSTAMP:20260421T090811
CREATED:20250504T220133Z
LAST-MODIFIED:20260413T213759Z
UID:10045264-1815073200-1815076800@meetings.greysheet.org
SUMMARY:Southern Serenity
DESCRIPTION:
URL:https://meetings.greysheet.org/meeting/southern-serenity/2027-07-08
CATEGORIES:Zoom
ATTACH;FMTTYPE=image/svg+xml:https://meetings.greysheet.org/wp-content/uploads/2025/05/desktop.svg
LOCATION:Zoom ID: Contact Us, Passcode: Contact Us, Camera: Required
END:VEVENT
BEGIN:VEVENT
DTSTART;TZID=America/New_York:20270715T190000
DTEND;TZID=America/New_York:20270715T200000
DTSTAMP:20260421T090811
CREATED:20250504T220133Z
LAST-MODIFIED:20260413T213759Z
UID:10045265-1815678000-1815681600@meetings.greysheet.org
SUMMARY:Southern Serenity
DESCRIPTION:
URL:https://meetings.greysheet.org/meeting/southern-serenity/2027-07-15
CATEGORIES:Zoom
ATTACH;FMTTYPE=image/svg+xml:https://meetings.greysheet.org/wp-content/uploads/2025/05/desktop.svg
LOCATION:Zoom ID: Contact Us, Passcode: Contact Us, Camera: Required
END:VEVENT
BEGIN:VEVENT
DTSTART;TZID=America/New_York:20270722T190000
DTEND;TZID=America/New_York:20270722T200000
DTSTAMP:20260421T090811
CREATED:20250504T220133Z
LAST-MODIFIED:20260413T213759Z
UID:10045266-1816282800-1816286400@meetings.greysheet.org
SUMMARY:Southern Serenity
DESCRIPTION:
URL:https://meetings.greysheet.org/meeting/southern-serenity/2027-07-22
CATEGORIES:Zoom
ATTACH;FMTTYPE=image/svg+xml:https://meetings.greysheet.org/wp-content/uploads/2025/05/desktop.svg
LOCATION:Zoom ID: Contact Us, Passcode: Contact Us, Camera: Required
END:VEVENT
END:VCALENDAR