BEGIN:VCALENDAR
VERSION:2.0
PRODID:-//GreySheeters Anonymous World Services - ECPv6.15.20//NONSGML v1.0//EN
CALSCALE:GREGORIAN
METHOD:PUBLISH
X-ORIGINAL-URL:https://meetings.greysheet.org
X-WR-CALDESC:Events for GreySheeters Anonymous World Services
REFRESH-INTERVAL;VALUE=DURATION:PT1H
X-Robots-Tag:noindex
X-PUBLISHED-TTL:PT1H
BEGIN:VTIMEZONE
TZID:America/New_York
BEGIN:DAYLIGHT
TZOFFSETFROM:-0500
TZOFFSETTO:-0400
TZNAME:EDT
DTSTART:20260308T070000
END:DAYLIGHT
BEGIN:STANDARD
TZOFFSETFROM:-0400
TZOFFSETTO:-0500
TZNAME:EST
DTSTART:20261101T060000
END:STANDARD
BEGIN:DAYLIGHT
TZOFFSETFROM:-0500
TZOFFSETTO:-0400
TZNAME:EDT
DTSTART:20270314T070000
END:DAYLIGHT
BEGIN:STANDARD
TZOFFSETFROM:-0400
TZOFFSETTO:-0500
TZNAME:EST
DTSTART:20271107T060000
END:STANDARD
BEGIN:DAYLIGHT
TZOFFSETFROM:-0500
TZOFFSETTO:-0400
TZNAME:EDT
DTSTART:20280312T070000
END:DAYLIGHT
BEGIN:STANDARD
TZOFFSETFROM:-0400
TZOFFSETTO:-0500
TZNAME:EST
DTSTART:20281105T060000
END:STANDARD
END:VTIMEZONE
BEGIN:VEVENT
DTSTART;TZID=America/New_York:20270102T084500
DTEND;TZID=America/New_York:20270102T100000
DTSTAMP:20260422T131249
CREATED:20250122T174101Z
LAST-MODIFIED:20260115T223845Z
UID:10048545-1798879500-1798884000@meetings.greysheet.org
SUMMARY:Westport CT
DESCRIPTION:
URL:https://meetings.greysheet.org/meeting/westport-ct/2027-01-02
LOCATION:Saugatuck Church\, 245 Post Road East\, Westport\, CT\, 06880\, United States
CATEGORIES:In Person
ATTACH;FMTTYPE=image/svg+xml:https://meetings.greysheet.org/wp-content/uploads/2025/05/map-pin.svg
GEO:41.1420255;-73.356758
X-APPLE-STRUCTURED-LOCATION;VALUE=URI;X-ADDRESS=Saugatuck Church 245 Post Road East Westport CT 06880 United States;X-APPLE-RADIUS=500;X-TITLE=245 Post Road East:geo:-73.356758,41.1420255
END:VEVENT
BEGIN:VEVENT
DTSTART;TZID=America/New_York:20270109T084500
DTEND;TZID=America/New_York:20270109T100000
DTSTAMP:20260422T131249
CREATED:20250122T174101Z
LAST-MODIFIED:20260115T223845Z
UID:10048546-1799484300-1799488800@meetings.greysheet.org
SUMMARY:Westport CT
DESCRIPTION:
URL:https://meetings.greysheet.org/meeting/westport-ct/2027-01-09
LOCATION:Saugatuck Church\, 245 Post Road East\, Westport\, CT\, 06880\, United States
CATEGORIES:In Person
ATTACH;FMTTYPE=image/svg+xml:https://meetings.greysheet.org/wp-content/uploads/2025/05/map-pin.svg
GEO:41.1420255;-73.356758
X-APPLE-STRUCTURED-LOCATION;VALUE=URI;X-ADDRESS=Saugatuck Church 245 Post Road East Westport CT 06880 United States;X-APPLE-RADIUS=500;X-TITLE=245 Post Road East:geo:-73.356758,41.1420255
END:VEVENT
BEGIN:VEVENT
DTSTART;TZID=America/New_York:20270116T084500
DTEND;TZID=America/New_York:20270116T100000
DTSTAMP:20260422T131249
CREATED:20250122T174101Z
LAST-MODIFIED:20260115T223845Z
UID:10048547-1800089100-1800093600@meetings.greysheet.org
SUMMARY:Westport CT
DESCRIPTION:
URL:https://meetings.greysheet.org/meeting/westport-ct/2027-01-16
LOCATION:Saugatuck Church\, 245 Post Road East\, Westport\, CT\, 06880\, United States
CATEGORIES:In Person
ATTACH;FMTTYPE=image/svg+xml:https://meetings.greysheet.org/wp-content/uploads/2025/05/map-pin.svg
GEO:41.1420255;-73.356758
X-APPLE-STRUCTURED-LOCATION;VALUE=URI;X-ADDRESS=Saugatuck Church 245 Post Road East Westport CT 06880 United States;X-APPLE-RADIUS=500;X-TITLE=245 Post Road East:geo:-73.356758,41.1420255
END:VEVENT
BEGIN:VEVENT
DTSTART;TZID=America/New_York:20270123T084500
DTEND;TZID=America/New_York:20270123T100000
DTSTAMP:20260422T131249
CREATED:20250122T174101Z
LAST-MODIFIED:20260115T223845Z
UID:10048548-1800693900-1800698400@meetings.greysheet.org
SUMMARY:Westport CT
DESCRIPTION:
URL:https://meetings.greysheet.org/meeting/westport-ct/2027-01-23
LOCATION:Saugatuck Church\, 245 Post Road East\, Westport\, CT\, 06880\, United States
CATEGORIES:In Person
ATTACH;FMTTYPE=image/svg+xml:https://meetings.greysheet.org/wp-content/uploads/2025/05/map-pin.svg
GEO:41.1420255;-73.356758
X-APPLE-STRUCTURED-LOCATION;VALUE=URI;X-ADDRESS=Saugatuck Church 245 Post Road East Westport CT 06880 United States;X-APPLE-RADIUS=500;X-TITLE=245 Post Road East:geo:-73.356758,41.1420255
END:VEVENT
BEGIN:VEVENT
DTSTART;TZID=America/New_York:20270130T084500
DTEND;TZID=America/New_York:20270130T100000
DTSTAMP:20260422T131249
CREATED:20250122T174101Z
LAST-MODIFIED:20260115T223845Z
UID:10048549-1801298700-1801303200@meetings.greysheet.org
SUMMARY:Westport CT
DESCRIPTION:
URL:https://meetings.greysheet.org/meeting/westport-ct/2027-01-30
LOCATION:Saugatuck Church\, 245 Post Road East\, Westport\, CT\, 06880\, United States
CATEGORIES:In Person
ATTACH;FMTTYPE=image/svg+xml:https://meetings.greysheet.org/wp-content/uploads/2025/05/map-pin.svg
GEO:41.1420255;-73.356758
X-APPLE-STRUCTURED-LOCATION;VALUE=URI;X-ADDRESS=Saugatuck Church 245 Post Road East Westport CT 06880 United States;X-APPLE-RADIUS=500;X-TITLE=245 Post Road East:geo:-73.356758,41.1420255
END:VEVENT
BEGIN:VEVENT
DTSTART;TZID=America/New_York:20270206T084500
DTEND;TZID=America/New_York:20270206T100000
DTSTAMP:20260422T131249
CREATED:20250122T174101Z
LAST-MODIFIED:20260115T223845Z
UID:10048550-1801903500-1801908000@meetings.greysheet.org
SUMMARY:Westport CT
DESCRIPTION:
URL:https://meetings.greysheet.org/meeting/westport-ct/2027-02-06
LOCATION:Saugatuck Church\, 245 Post Road East\, Westport\, CT\, 06880\, United States
CATEGORIES:In Person
ATTACH;FMTTYPE=image/svg+xml:https://meetings.greysheet.org/wp-content/uploads/2025/05/map-pin.svg
GEO:41.1420255;-73.356758
X-APPLE-STRUCTURED-LOCATION;VALUE=URI;X-ADDRESS=Saugatuck Church 245 Post Road East Westport CT 06880 United States;X-APPLE-RADIUS=500;X-TITLE=245 Post Road East:geo:-73.356758,41.1420255
END:VEVENT
BEGIN:VEVENT
DTSTART;TZID=America/New_York:20270213T084500
DTEND;TZID=America/New_York:20270213T100000
DTSTAMP:20260422T131249
CREATED:20250122T174101Z
LAST-MODIFIED:20260115T223845Z
UID:10048551-1802508300-1802512800@meetings.greysheet.org
SUMMARY:Westport CT
DESCRIPTION:
URL:https://meetings.greysheet.org/meeting/westport-ct/2027-02-13
LOCATION:Saugatuck Church\, 245 Post Road East\, Westport\, CT\, 06880\, United States
CATEGORIES:In Person
ATTACH;FMTTYPE=image/svg+xml:https://meetings.greysheet.org/wp-content/uploads/2025/05/map-pin.svg
GEO:41.1420255;-73.356758
X-APPLE-STRUCTURED-LOCATION;VALUE=URI;X-ADDRESS=Saugatuck Church 245 Post Road East Westport CT 06880 United States;X-APPLE-RADIUS=500;X-TITLE=245 Post Road East:geo:-73.356758,41.1420255
END:VEVENT
BEGIN:VEVENT
DTSTART;TZID=America/New_York:20270220T084500
DTEND;TZID=America/New_York:20270220T100000
DTSTAMP:20260422T131249
CREATED:20250122T174101Z
LAST-MODIFIED:20260115T223845Z
UID:10048552-1803113100-1803117600@meetings.greysheet.org
SUMMARY:Westport CT
DESCRIPTION:
URL:https://meetings.greysheet.org/meeting/westport-ct/2027-02-20
LOCATION:Saugatuck Church\, 245 Post Road East\, Westport\, CT\, 06880\, United States
CATEGORIES:In Person
ATTACH;FMTTYPE=image/svg+xml:https://meetings.greysheet.org/wp-content/uploads/2025/05/map-pin.svg
GEO:41.1420255;-73.356758
X-APPLE-STRUCTURED-LOCATION;VALUE=URI;X-ADDRESS=Saugatuck Church 245 Post Road East Westport CT 06880 United States;X-APPLE-RADIUS=500;X-TITLE=245 Post Road East:geo:-73.356758,41.1420255
END:VEVENT
BEGIN:VEVENT
DTSTART;TZID=America/New_York:20270227T084500
DTEND;TZID=America/New_York:20270227T100000
DTSTAMP:20260422T131249
CREATED:20250122T174101Z
LAST-MODIFIED:20260115T223845Z
UID:10048553-1803717900-1803722400@meetings.greysheet.org
SUMMARY:Westport CT
DESCRIPTION:
URL:https://meetings.greysheet.org/meeting/westport-ct/2027-02-27
LOCATION:Saugatuck Church\, 245 Post Road East\, Westport\, CT\, 06880\, United States
CATEGORIES:In Person
ATTACH;FMTTYPE=image/svg+xml:https://meetings.greysheet.org/wp-content/uploads/2025/05/map-pin.svg
GEO:41.1420255;-73.356758
X-APPLE-STRUCTURED-LOCATION;VALUE=URI;X-ADDRESS=Saugatuck Church 245 Post Road East Westport CT 06880 United States;X-APPLE-RADIUS=500;X-TITLE=245 Post Road East:geo:-73.356758,41.1420255
END:VEVENT
BEGIN:VEVENT
DTSTART;TZID=America/New_York:20270306T084500
DTEND;TZID=America/New_York:20270306T100000
DTSTAMP:20260422T131249
CREATED:20250122T174101Z
LAST-MODIFIED:20260115T223845Z
UID:10048554-1804322700-1804327200@meetings.greysheet.org
SUMMARY:Westport CT
DESCRIPTION:
URL:https://meetings.greysheet.org/meeting/westport-ct/2027-03-06
LOCATION:Saugatuck Church\, 245 Post Road East\, Westport\, CT\, 06880\, United States
CATEGORIES:In Person
ATTACH;FMTTYPE=image/svg+xml:https://meetings.greysheet.org/wp-content/uploads/2025/05/map-pin.svg
GEO:41.1420255;-73.356758
X-APPLE-STRUCTURED-LOCATION;VALUE=URI;X-ADDRESS=Saugatuck Church 245 Post Road East Westport CT 06880 United States;X-APPLE-RADIUS=500;X-TITLE=245 Post Road East:geo:-73.356758,41.1420255
END:VEVENT
BEGIN:VEVENT
DTSTART;TZID=America/New_York:20270313T084500
DTEND;TZID=America/New_York:20270313T100000
DTSTAMP:20260422T131249
CREATED:20250122T174101Z
LAST-MODIFIED:20260115T223845Z
UID:10048555-1804927500-1804932000@meetings.greysheet.org
SUMMARY:Westport CT
DESCRIPTION:
URL:https://meetings.greysheet.org/meeting/westport-ct/2027-03-13
LOCATION:Saugatuck Church\, 245 Post Road East\, Westport\, CT\, 06880\, United States
CATEGORIES:In Person
ATTACH;FMTTYPE=image/svg+xml:https://meetings.greysheet.org/wp-content/uploads/2025/05/map-pin.svg
GEO:41.1420255;-73.356758
X-APPLE-STRUCTURED-LOCATION;VALUE=URI;X-ADDRESS=Saugatuck Church 245 Post Road East Westport CT 06880 United States;X-APPLE-RADIUS=500;X-TITLE=245 Post Road East:geo:-73.356758,41.1420255
END:VEVENT
BEGIN:VEVENT
DTSTART;TZID=America/New_York:20270320T084500
DTEND;TZID=America/New_York:20270320T100000
DTSTAMP:20260422T131249
CREATED:20250122T174101Z
LAST-MODIFIED:20260115T223845Z
UID:10048556-1805532300-1805536800@meetings.greysheet.org
SUMMARY:Westport CT
DESCRIPTION:
URL:https://meetings.greysheet.org/meeting/westport-ct/2027-03-20
LOCATION:Saugatuck Church\, 245 Post Road East\, Westport\, CT\, 06880\, United States
CATEGORIES:In Person
ATTACH;FMTTYPE=image/svg+xml:https://meetings.greysheet.org/wp-content/uploads/2025/05/map-pin.svg
GEO:41.1420255;-73.356758
X-APPLE-STRUCTURED-LOCATION;VALUE=URI;X-ADDRESS=Saugatuck Church 245 Post Road East Westport CT 06880 United States;X-APPLE-RADIUS=500;X-TITLE=245 Post Road East:geo:-73.356758,41.1420255
END:VEVENT
BEGIN:VEVENT
DTSTART;TZID=America/New_York:20270327T084500
DTEND;TZID=America/New_York:20270327T100000
DTSTAMP:20260422T131249
CREATED:20250122T174101Z
LAST-MODIFIED:20260115T223845Z
UID:10048557-1806137100-1806141600@meetings.greysheet.org
SUMMARY:Westport CT
DESCRIPTION:
URL:https://meetings.greysheet.org/meeting/westport-ct/2027-03-27
LOCATION:Saugatuck Church\, 245 Post Road East\, Westport\, CT\, 06880\, United States
CATEGORIES:In Person
ATTACH;FMTTYPE=image/svg+xml:https://meetings.greysheet.org/wp-content/uploads/2025/05/map-pin.svg
GEO:41.1420255;-73.356758
X-APPLE-STRUCTURED-LOCATION;VALUE=URI;X-ADDRESS=Saugatuck Church 245 Post Road East Westport CT 06880 United States;X-APPLE-RADIUS=500;X-TITLE=245 Post Road East:geo:-73.356758,41.1420255
END:VEVENT
BEGIN:VEVENT
DTSTART;TZID=America/New_York:20270403T084500
DTEND;TZID=America/New_York:20270403T100000
DTSTAMP:20260422T131249
CREATED:20250122T174101Z
LAST-MODIFIED:20260115T223845Z
UID:10048558-1806741900-1806746400@meetings.greysheet.org
SUMMARY:Westport CT
DESCRIPTION:
URL:https://meetings.greysheet.org/meeting/westport-ct/2027-04-03
LOCATION:Saugatuck Church\, 245 Post Road East\, Westport\, CT\, 06880\, United States
CATEGORIES:In Person
ATTACH;FMTTYPE=image/svg+xml:https://meetings.greysheet.org/wp-content/uploads/2025/05/map-pin.svg
GEO:41.1420255;-73.356758
X-APPLE-STRUCTURED-LOCATION;VALUE=URI;X-ADDRESS=Saugatuck Church 245 Post Road East Westport CT 06880 United States;X-APPLE-RADIUS=500;X-TITLE=245 Post Road East:geo:-73.356758,41.1420255
END:VEVENT
BEGIN:VEVENT
DTSTART;TZID=America/New_York:20270410T084500
DTEND;TZID=America/New_York:20270410T100000
DTSTAMP:20260422T131249
CREATED:20250122T174101Z
LAST-MODIFIED:20260115T223845Z
UID:10048559-1807346700-1807351200@meetings.greysheet.org
SUMMARY:Westport CT
DESCRIPTION:
URL:https://meetings.greysheet.org/meeting/westport-ct/2027-04-10
LOCATION:Saugatuck Church\, 245 Post Road East\, Westport\, CT\, 06880\, United States
CATEGORIES:In Person
ATTACH;FMTTYPE=image/svg+xml:https://meetings.greysheet.org/wp-content/uploads/2025/05/map-pin.svg
GEO:41.1420255;-73.356758
X-APPLE-STRUCTURED-LOCATION;VALUE=URI;X-ADDRESS=Saugatuck Church 245 Post Road East Westport CT 06880 United States;X-APPLE-RADIUS=500;X-TITLE=245 Post Road East:geo:-73.356758,41.1420255
END:VEVENT
BEGIN:VEVENT
DTSTART;TZID=America/New_York:20270417T084500
DTEND;TZID=America/New_York:20270417T100000
DTSTAMP:20260422T131249
CREATED:20250122T174101Z
LAST-MODIFIED:20260115T223845Z
UID:10048560-1807951500-1807956000@meetings.greysheet.org
SUMMARY:Westport CT
DESCRIPTION:
URL:https://meetings.greysheet.org/meeting/westport-ct/2027-04-17
LOCATION:Saugatuck Church\, 245 Post Road East\, Westport\, CT\, 06880\, United States
CATEGORIES:In Person
ATTACH;FMTTYPE=image/svg+xml:https://meetings.greysheet.org/wp-content/uploads/2025/05/map-pin.svg
GEO:41.1420255;-73.356758
X-APPLE-STRUCTURED-LOCATION;VALUE=URI;X-ADDRESS=Saugatuck Church 245 Post Road East Westport CT 06880 United States;X-APPLE-RADIUS=500;X-TITLE=245 Post Road East:geo:-73.356758,41.1420255
END:VEVENT
BEGIN:VEVENT
DTSTART;TZID=America/New_York:20270424T084500
DTEND;TZID=America/New_York:20270424T100000
DTSTAMP:20260422T131249
CREATED:20250122T174101Z
LAST-MODIFIED:20260115T223845Z
UID:10048561-1808556300-1808560800@meetings.greysheet.org
SUMMARY:Westport CT
DESCRIPTION:
URL:https://meetings.greysheet.org/meeting/westport-ct/2027-04-24
LOCATION:Saugatuck Church\, 245 Post Road East\, Westport\, CT\, 06880\, United States
CATEGORIES:In Person
ATTACH;FMTTYPE=image/svg+xml:https://meetings.greysheet.org/wp-content/uploads/2025/05/map-pin.svg
GEO:41.1420255;-73.356758
X-APPLE-STRUCTURED-LOCATION;VALUE=URI;X-ADDRESS=Saugatuck Church 245 Post Road East Westport CT 06880 United States;X-APPLE-RADIUS=500;X-TITLE=245 Post Road East:geo:-73.356758,41.1420255
END:VEVENT
BEGIN:VEVENT
DTSTART;TZID=America/New_York:20270501T084500
DTEND;TZID=America/New_York:20270501T100000
DTSTAMP:20260422T131249
CREATED:20250122T174101Z
LAST-MODIFIED:20260115T223845Z
UID:10048562-1809161100-1809165600@meetings.greysheet.org
SUMMARY:Westport CT
DESCRIPTION:
URL:https://meetings.greysheet.org/meeting/westport-ct/2027-05-01
LOCATION:Saugatuck Church\, 245 Post Road East\, Westport\, CT\, 06880\, United States
CATEGORIES:In Person
ATTACH;FMTTYPE=image/svg+xml:https://meetings.greysheet.org/wp-content/uploads/2025/05/map-pin.svg
GEO:41.1420255;-73.356758
X-APPLE-STRUCTURED-LOCATION;VALUE=URI;X-ADDRESS=Saugatuck Church 245 Post Road East Westport CT 06880 United States;X-APPLE-RADIUS=500;X-TITLE=245 Post Road East:geo:-73.356758,41.1420255
END:VEVENT
BEGIN:VEVENT
DTSTART;TZID=America/New_York:20270508T084500
DTEND;TZID=America/New_York:20270508T100000
DTSTAMP:20260422T131249
CREATED:20250122T174101Z
LAST-MODIFIED:20260115T223845Z
UID:10048563-1809765900-1809770400@meetings.greysheet.org
SUMMARY:Westport CT
DESCRIPTION:
URL:https://meetings.greysheet.org/meeting/westport-ct/2027-05-08
LOCATION:Saugatuck Church\, 245 Post Road East\, Westport\, CT\, 06880\, United States
CATEGORIES:In Person
ATTACH;FMTTYPE=image/svg+xml:https://meetings.greysheet.org/wp-content/uploads/2025/05/map-pin.svg
GEO:41.1420255;-73.356758
X-APPLE-STRUCTURED-LOCATION;VALUE=URI;X-ADDRESS=Saugatuck Church 245 Post Road East Westport CT 06880 United States;X-APPLE-RADIUS=500;X-TITLE=245 Post Road East:geo:-73.356758,41.1420255
END:VEVENT
BEGIN:VEVENT
DTSTART;TZID=America/New_York:20270515T084500
DTEND;TZID=America/New_York:20270515T100000
DTSTAMP:20260422T131249
CREATED:20250122T174101Z
LAST-MODIFIED:20260115T223845Z
UID:10048564-1810370700-1810375200@meetings.greysheet.org
SUMMARY:Westport CT
DESCRIPTION:
URL:https://meetings.greysheet.org/meeting/westport-ct/2027-05-15
LOCATION:Saugatuck Church\, 245 Post Road East\, Westport\, CT\, 06880\, United States
CATEGORIES:In Person
ATTACH;FMTTYPE=image/svg+xml:https://meetings.greysheet.org/wp-content/uploads/2025/05/map-pin.svg
GEO:41.1420255;-73.356758
X-APPLE-STRUCTURED-LOCATION;VALUE=URI;X-ADDRESS=Saugatuck Church 245 Post Road East Westport CT 06880 United States;X-APPLE-RADIUS=500;X-TITLE=245 Post Road East:geo:-73.356758,41.1420255
END:VEVENT
BEGIN:VEVENT
DTSTART;TZID=America/New_York:20270522T084500
DTEND;TZID=America/New_York:20270522T100000
DTSTAMP:20260422T131249
CREATED:20250122T174101Z
LAST-MODIFIED:20260115T223845Z
UID:10048565-1810975500-1810980000@meetings.greysheet.org
SUMMARY:Westport CT
DESCRIPTION:
URL:https://meetings.greysheet.org/meeting/westport-ct/2027-05-22
LOCATION:Saugatuck Church\, 245 Post Road East\, Westport\, CT\, 06880\, United States
CATEGORIES:In Person
ATTACH;FMTTYPE=image/svg+xml:https://meetings.greysheet.org/wp-content/uploads/2025/05/map-pin.svg
GEO:41.1420255;-73.356758
X-APPLE-STRUCTURED-LOCATION;VALUE=URI;X-ADDRESS=Saugatuck Church 245 Post Road East Westport CT 06880 United States;X-APPLE-RADIUS=500;X-TITLE=245 Post Road East:geo:-73.356758,41.1420255
END:VEVENT
BEGIN:VEVENT
DTSTART;TZID=America/New_York:20270529T084500
DTEND;TZID=America/New_York:20270529T100000
DTSTAMP:20260422T131249
CREATED:20250122T174101Z
LAST-MODIFIED:20260115T223845Z
UID:10048566-1811580300-1811584800@meetings.greysheet.org
SUMMARY:Westport CT
DESCRIPTION:
URL:https://meetings.greysheet.org/meeting/westport-ct/2027-05-29
LOCATION:Saugatuck Church\, 245 Post Road East\, Westport\, CT\, 06880\, United States
CATEGORIES:In Person
ATTACH;FMTTYPE=image/svg+xml:https://meetings.greysheet.org/wp-content/uploads/2025/05/map-pin.svg
GEO:41.1420255;-73.356758
X-APPLE-STRUCTURED-LOCATION;VALUE=URI;X-ADDRESS=Saugatuck Church 245 Post Road East Westport CT 06880 United States;X-APPLE-RADIUS=500;X-TITLE=245 Post Road East:geo:-73.356758,41.1420255
END:VEVENT
BEGIN:VEVENT
DTSTART;TZID=America/New_York:20270605T084500
DTEND;TZID=America/New_York:20270605T100000
DTSTAMP:20260422T131249
CREATED:20250122T174101Z
LAST-MODIFIED:20260115T223845Z
UID:10048567-1812185100-1812189600@meetings.greysheet.org
SUMMARY:Westport CT
DESCRIPTION:
URL:https://meetings.greysheet.org/meeting/westport-ct/2027-06-05
LOCATION:Saugatuck Church\, 245 Post Road East\, Westport\, CT\, 06880\, United States
CATEGORIES:In Person
ATTACH;FMTTYPE=image/svg+xml:https://meetings.greysheet.org/wp-content/uploads/2025/05/map-pin.svg
GEO:41.1420255;-73.356758
X-APPLE-STRUCTURED-LOCATION;VALUE=URI;X-ADDRESS=Saugatuck Church 245 Post Road East Westport CT 06880 United States;X-APPLE-RADIUS=500;X-TITLE=245 Post Road East:geo:-73.356758,41.1420255
END:VEVENT
BEGIN:VEVENT
DTSTART;TZID=America/New_York:20270612T084500
DTEND;TZID=America/New_York:20270612T100000
DTSTAMP:20260422T131249
CREATED:20250122T174101Z
LAST-MODIFIED:20260115T223845Z
UID:10048568-1812789900-1812794400@meetings.greysheet.org
SUMMARY:Westport CT
DESCRIPTION:
URL:https://meetings.greysheet.org/meeting/westport-ct/2027-06-12
LOCATION:Saugatuck Church\, 245 Post Road East\, Westport\, CT\, 06880\, United States
CATEGORIES:In Person
ATTACH;FMTTYPE=image/svg+xml:https://meetings.greysheet.org/wp-content/uploads/2025/05/map-pin.svg
GEO:41.1420255;-73.356758
X-APPLE-STRUCTURED-LOCATION;VALUE=URI;X-ADDRESS=Saugatuck Church 245 Post Road East Westport CT 06880 United States;X-APPLE-RADIUS=500;X-TITLE=245 Post Road East:geo:-73.356758,41.1420255
END:VEVENT
BEGIN:VEVENT
DTSTART;TZID=America/New_York:20270619T084500
DTEND;TZID=America/New_York:20270619T100000
DTSTAMP:20260422T131249
CREATED:20250122T174101Z
LAST-MODIFIED:20260115T223845Z
UID:10048569-1813394700-1813399200@meetings.greysheet.org
SUMMARY:Westport CT
DESCRIPTION:
URL:https://meetings.greysheet.org/meeting/westport-ct/2027-06-19
LOCATION:Saugatuck Church\, 245 Post Road East\, Westport\, CT\, 06880\, United States
CATEGORIES:In Person
ATTACH;FMTTYPE=image/svg+xml:https://meetings.greysheet.org/wp-content/uploads/2025/05/map-pin.svg
GEO:41.1420255;-73.356758
X-APPLE-STRUCTURED-LOCATION;VALUE=URI;X-ADDRESS=Saugatuck Church 245 Post Road East Westport CT 06880 United States;X-APPLE-RADIUS=500;X-TITLE=245 Post Road East:geo:-73.356758,41.1420255
END:VEVENT
BEGIN:VEVENT
DTSTART;TZID=America/New_York:20270626T084500
DTEND;TZID=America/New_York:20270626T100000
DTSTAMP:20260422T131249
CREATED:20250122T174101Z
LAST-MODIFIED:20260115T223845Z
UID:10048570-1813999500-1814004000@meetings.greysheet.org
SUMMARY:Westport CT
DESCRIPTION:
URL:https://meetings.greysheet.org/meeting/westport-ct/2027-06-26
LOCATION:Saugatuck Church\, 245 Post Road East\, Westport\, CT\, 06880\, United States
CATEGORIES:In Person
ATTACH;FMTTYPE=image/svg+xml:https://meetings.greysheet.org/wp-content/uploads/2025/05/map-pin.svg
GEO:41.1420255;-73.356758
X-APPLE-STRUCTURED-LOCATION;VALUE=URI;X-ADDRESS=Saugatuck Church 245 Post Road East Westport CT 06880 United States;X-APPLE-RADIUS=500;X-TITLE=245 Post Road East:geo:-73.356758,41.1420255
END:VEVENT
BEGIN:VEVENT
DTSTART;TZID=America/New_York:20270703T084500
DTEND;TZID=America/New_York:20270703T100000
DTSTAMP:20260422T131249
CREATED:20250122T174101Z
LAST-MODIFIED:20260115T223845Z
UID:10048571-1814604300-1814608800@meetings.greysheet.org
SUMMARY:Westport CT
DESCRIPTION:
URL:https://meetings.greysheet.org/meeting/westport-ct/2027-07-03
LOCATION:Saugatuck Church\, 245 Post Road East\, Westport\, CT\, 06880\, United States
CATEGORIES:In Person
ATTACH;FMTTYPE=image/svg+xml:https://meetings.greysheet.org/wp-content/uploads/2025/05/map-pin.svg
GEO:41.1420255;-73.356758
X-APPLE-STRUCTURED-LOCATION;VALUE=URI;X-ADDRESS=Saugatuck Church 245 Post Road East Westport CT 06880 United States;X-APPLE-RADIUS=500;X-TITLE=245 Post Road East:geo:-73.356758,41.1420255
END:VEVENT
BEGIN:VEVENT
DTSTART;TZID=America/New_York:20270710T084500
DTEND;TZID=America/New_York:20270710T100000
DTSTAMP:20260422T131249
CREATED:20250122T174101Z
LAST-MODIFIED:20260115T223845Z
UID:10048572-1815209100-1815213600@meetings.greysheet.org
SUMMARY:Westport CT
DESCRIPTION:
URL:https://meetings.greysheet.org/meeting/westport-ct/2027-07-10
LOCATION:Saugatuck Church\, 245 Post Road East\, Westport\, CT\, 06880\, United States
CATEGORIES:In Person
ATTACH;FMTTYPE=image/svg+xml:https://meetings.greysheet.org/wp-content/uploads/2025/05/map-pin.svg
GEO:41.1420255;-73.356758
X-APPLE-STRUCTURED-LOCATION;VALUE=URI;X-ADDRESS=Saugatuck Church 245 Post Road East Westport CT 06880 United States;X-APPLE-RADIUS=500;X-TITLE=245 Post Road East:geo:-73.356758,41.1420255
END:VEVENT
BEGIN:VEVENT
DTSTART;TZID=America/New_York:20270717T084500
DTEND;TZID=America/New_York:20270717T100000
DTSTAMP:20260422T131249
CREATED:20250122T174101Z
LAST-MODIFIED:20260115T223845Z
UID:10048573-1815813900-1815818400@meetings.greysheet.org
SUMMARY:Westport CT
DESCRIPTION:
URL:https://meetings.greysheet.org/meeting/westport-ct/2027-07-17
LOCATION:Saugatuck Church\, 245 Post Road East\, Westport\, CT\, 06880\, United States
CATEGORIES:In Person
ATTACH;FMTTYPE=image/svg+xml:https://meetings.greysheet.org/wp-content/uploads/2025/05/map-pin.svg
GEO:41.1420255;-73.356758
X-APPLE-STRUCTURED-LOCATION;VALUE=URI;X-ADDRESS=Saugatuck Church 245 Post Road East Westport CT 06880 United States;X-APPLE-RADIUS=500;X-TITLE=245 Post Road East:geo:-73.356758,41.1420255
END:VEVENT
BEGIN:VEVENT
DTSTART;TZID=America/New_York:20270724T084500
DTEND;TZID=America/New_York:20270724T100000
DTSTAMP:20260422T131249
CREATED:20250122T174101Z
LAST-MODIFIED:20260115T223845Z
UID:10048574-1816418700-1816423200@meetings.greysheet.org
SUMMARY:Westport CT
DESCRIPTION:
URL:https://meetings.greysheet.org/meeting/westport-ct/2027-07-24
LOCATION:Saugatuck Church\, 245 Post Road East\, Westport\, CT\, 06880\, United States
CATEGORIES:In Person
ATTACH;FMTTYPE=image/svg+xml:https://meetings.greysheet.org/wp-content/uploads/2025/05/map-pin.svg
GEO:41.1420255;-73.356758
X-APPLE-STRUCTURED-LOCATION;VALUE=URI;X-ADDRESS=Saugatuck Church 245 Post Road East Westport CT 06880 United States;X-APPLE-RADIUS=500;X-TITLE=245 Post Road East:geo:-73.356758,41.1420255
END:VEVENT
END:VCALENDAR