BEGIN:VCALENDAR
VERSION:2.0
PRODID:-//GreySheeters Anonymous World Services - ECPv6.15.20//NONSGML v1.0//EN
CALSCALE:GREGORIAN
METHOD:PUBLISH
X-WR-CALNAME:GreySheeters Anonymous World Services
X-ORIGINAL-URL:https://meetings.greysheet.org
X-WR-CALDESC:Events for GreySheeters Anonymous World Services
REFRESH-INTERVAL;VALUE=DURATION:PT1H
X-Robots-Tag:noindex
X-PUBLISHED-TTL:PT1H
BEGIN:VTIMEZONE
TZID:America/Los_Angeles
BEGIN:DAYLIGHT
TZOFFSETFROM:-0800
TZOFFSETTO:-0700
TZNAME:PDT
DTSTART:20250309T100000
END:DAYLIGHT
BEGIN:STANDARD
TZOFFSETFROM:-0700
TZOFFSETTO:-0800
TZNAME:PST
DTSTART:20251102T090000
END:STANDARD
BEGIN:DAYLIGHT
TZOFFSETFROM:-0800
TZOFFSETTO:-0700
TZNAME:PDT
DTSTART:20260308T100000
END:DAYLIGHT
BEGIN:STANDARD
TZOFFSETFROM:-0700
TZOFFSETTO:-0800
TZNAME:PST
DTSTART:20261101T090000
END:STANDARD
BEGIN:DAYLIGHT
TZOFFSETFROM:-0800
TZOFFSETTO:-0700
TZNAME:PDT
DTSTART:20270314T100000
END:DAYLIGHT
BEGIN:STANDARD
TZOFFSETFROM:-0700
TZOFFSETTO:-0800
TZNAME:PST
DTSTART:20271107T090000
END:STANDARD
END:VTIMEZONE
BEGIN:VEVENT
DTSTART;TZID=America/Los_Angeles:20260426T103000
DTEND;TZID=America/Los_Angeles:20260426T113000
DTSTAMP:20260422T134240
CREATED:20250504T220133Z
LAST-MODIFIED:20260308T195013Z
UID:10044415-1777199400-1777203000@meetings.greysheet.org
SUMMARY:Weigh 2 Freedom
DESCRIPTION:This meeting begins with a short reading from GSA or AA Conference approved literature\, followed by 5 minutes of meditation and then discussion on the topic of the reading.
URL:https://meetings.greysheet.org/meeting/weigh-2-freedom/2026-04-26
CATEGORIES:Zoom
ATTACH;FMTTYPE=image/svg+xml:https://meetings.greysheet.org/wp-content/uploads/2025/05/desktop.svg
LOCATION:Zoom ID: 519853984, Passcode: Universal, Camera: Required
END:VEVENT
BEGIN:VEVENT
DTSTART;TZID=America/Los_Angeles:20260503T103000
DTEND;TZID=America/Los_Angeles:20260503T113000
DTSTAMP:20260422T134240
CREATED:20250504T220133Z
LAST-MODIFIED:20260308T195013Z
UID:10044416-1777804200-1777807800@meetings.greysheet.org
SUMMARY:Weigh 2 Freedom
DESCRIPTION:This meeting begins with a short reading from GSA or AA Conference approved literature\, followed by 5 minutes of meditation and then discussion on the topic of the reading.
URL:https://meetings.greysheet.org/meeting/weigh-2-freedom/2026-05-03
CATEGORIES:Zoom
ATTACH;FMTTYPE=image/svg+xml:https://meetings.greysheet.org/wp-content/uploads/2025/05/desktop.svg
LOCATION:Zoom ID: 519853984, Passcode: Universal, Camera: Required
END:VEVENT
BEGIN:VEVENT
DTSTART;TZID=America/Los_Angeles:20260510T103000
DTEND;TZID=America/Los_Angeles:20260510T113000
DTSTAMP:20260422T134240
CREATED:20250504T220133Z
LAST-MODIFIED:20260308T195013Z
UID:10044417-1778409000-1778412600@meetings.greysheet.org
SUMMARY:Weigh 2 Freedom
DESCRIPTION:This meeting begins with a short reading from GSA or AA Conference approved literature\, followed by 5 minutes of meditation and then discussion on the topic of the reading.
URL:https://meetings.greysheet.org/meeting/weigh-2-freedom/2026-05-10
CATEGORIES:Zoom
ATTACH;FMTTYPE=image/svg+xml:https://meetings.greysheet.org/wp-content/uploads/2025/05/desktop.svg
LOCATION:Zoom ID: 519853984, Passcode: Universal, Camera: Required
END:VEVENT
BEGIN:VEVENT
DTSTART;TZID=America/Los_Angeles:20260517T103000
DTEND;TZID=America/Los_Angeles:20260517T113000
DTSTAMP:20260422T134240
CREATED:20250504T220133Z
LAST-MODIFIED:20260308T195013Z
UID:10044418-1779013800-1779017400@meetings.greysheet.org
SUMMARY:Weigh 2 Freedom
DESCRIPTION:This meeting begins with a short reading from GSA or AA Conference approved literature\, followed by 5 minutes of meditation and then discussion on the topic of the reading.
URL:https://meetings.greysheet.org/meeting/weigh-2-freedom/2026-05-17
CATEGORIES:Zoom
ATTACH;FMTTYPE=image/svg+xml:https://meetings.greysheet.org/wp-content/uploads/2025/05/desktop.svg
LOCATION:Zoom ID: 519853984, Passcode: Universal, Camera: Required
END:VEVENT
BEGIN:VEVENT
DTSTART;TZID=America/Los_Angeles:20260524T103000
DTEND;TZID=America/Los_Angeles:20260524T113000
DTSTAMP:20260422T134240
CREATED:20250504T220133Z
LAST-MODIFIED:20260308T195013Z
UID:10044419-1779618600-1779622200@meetings.greysheet.org
SUMMARY:Weigh 2 Freedom
DESCRIPTION:This meeting begins with a short reading from GSA or AA Conference approved literature\, followed by 5 minutes of meditation and then discussion on the topic of the reading.
URL:https://meetings.greysheet.org/meeting/weigh-2-freedom/2026-05-24
CATEGORIES:Zoom
ATTACH;FMTTYPE=image/svg+xml:https://meetings.greysheet.org/wp-content/uploads/2025/05/desktop.svg
LOCATION:Zoom ID: 519853984, Passcode: Universal, Camera: Required
END:VEVENT
BEGIN:VEVENT
DTSTART;TZID=America/Los_Angeles:20260531T103000
DTEND;TZID=America/Los_Angeles:20260531T113000
DTSTAMP:20260422T134240
CREATED:20250504T220133Z
LAST-MODIFIED:20260308T195013Z
UID:10044420-1780223400-1780227000@meetings.greysheet.org
SUMMARY:Weigh 2 Freedom
DESCRIPTION:This meeting begins with a short reading from GSA or AA Conference approved literature\, followed by 5 minutes of meditation and then discussion on the topic of the reading.
URL:https://meetings.greysheet.org/meeting/weigh-2-freedom/2026-05-31
CATEGORIES:Zoom
ATTACH;FMTTYPE=image/svg+xml:https://meetings.greysheet.org/wp-content/uploads/2025/05/desktop.svg
LOCATION:Zoom ID: 519853984, Passcode: Universal, Camera: Required
END:VEVENT
BEGIN:VEVENT
DTSTART;TZID=America/Los_Angeles:20260607T103000
DTEND;TZID=America/Los_Angeles:20260607T113000
DTSTAMP:20260422T134240
CREATED:20250504T220133Z
LAST-MODIFIED:20260308T195013Z
UID:10044421-1780828200-1780831800@meetings.greysheet.org
SUMMARY:Weigh 2 Freedom
DESCRIPTION:This meeting begins with a short reading from GSA or AA Conference approved literature\, followed by 5 minutes of meditation and then discussion on the topic of the reading.
URL:https://meetings.greysheet.org/meeting/weigh-2-freedom/2026-06-07
CATEGORIES:Zoom
ATTACH;FMTTYPE=image/svg+xml:https://meetings.greysheet.org/wp-content/uploads/2025/05/desktop.svg
LOCATION:Zoom ID: 519853984, Passcode: Universal, Camera: Required
END:VEVENT
BEGIN:VEVENT
DTSTART;TZID=America/Los_Angeles:20260614T103000
DTEND;TZID=America/Los_Angeles:20260614T113000
DTSTAMP:20260422T134240
CREATED:20250504T220133Z
LAST-MODIFIED:20260308T195013Z
UID:10044422-1781433000-1781436600@meetings.greysheet.org
SUMMARY:Weigh 2 Freedom
DESCRIPTION:This meeting begins with a short reading from GSA or AA Conference approved literature\, followed by 5 minutes of meditation and then discussion on the topic of the reading.
URL:https://meetings.greysheet.org/meeting/weigh-2-freedom/2026-06-14
CATEGORIES:Zoom
ATTACH;FMTTYPE=image/svg+xml:https://meetings.greysheet.org/wp-content/uploads/2025/05/desktop.svg
LOCATION:Zoom ID: 519853984, Passcode: Universal, Camera: Required
END:VEVENT
BEGIN:VEVENT
DTSTART;TZID=America/Los_Angeles:20260621T103000
DTEND;TZID=America/Los_Angeles:20260621T113000
DTSTAMP:20260422T134240
CREATED:20250504T220133Z
LAST-MODIFIED:20260308T195013Z
UID:10044423-1782037800-1782041400@meetings.greysheet.org
SUMMARY:Weigh 2 Freedom
DESCRIPTION:This meeting begins with a short reading from GSA or AA Conference approved literature\, followed by 5 minutes of meditation and then discussion on the topic of the reading.
URL:https://meetings.greysheet.org/meeting/weigh-2-freedom/2026-06-21
CATEGORIES:Zoom
ATTACH;FMTTYPE=image/svg+xml:https://meetings.greysheet.org/wp-content/uploads/2025/05/desktop.svg
LOCATION:Zoom ID: 519853984, Passcode: Universal, Camera: Required
END:VEVENT
BEGIN:VEVENT
DTSTART;TZID=America/Los_Angeles:20260628T103000
DTEND;TZID=America/Los_Angeles:20260628T113000
DTSTAMP:20260422T134240
CREATED:20250504T220133Z
LAST-MODIFIED:20260308T195013Z
UID:10044424-1782642600-1782646200@meetings.greysheet.org
SUMMARY:Weigh 2 Freedom
DESCRIPTION:This meeting begins with a short reading from GSA or AA Conference approved literature\, followed by 5 minutes of meditation and then discussion on the topic of the reading.
URL:https://meetings.greysheet.org/meeting/weigh-2-freedom/2026-06-28
CATEGORIES:Zoom
ATTACH;FMTTYPE=image/svg+xml:https://meetings.greysheet.org/wp-content/uploads/2025/05/desktop.svg
LOCATION:Zoom ID: 519853984, Passcode: Universal, Camera: Required
END:VEVENT
BEGIN:VEVENT
DTSTART;TZID=America/Los_Angeles:20260705T103000
DTEND;TZID=America/Los_Angeles:20260705T113000
DTSTAMP:20260422T134240
CREATED:20250504T220133Z
LAST-MODIFIED:20260308T195013Z
UID:10044425-1783247400-1783251000@meetings.greysheet.org
SUMMARY:Weigh 2 Freedom
DESCRIPTION:This meeting begins with a short reading from GSA or AA Conference approved literature\, followed by 5 minutes of meditation and then discussion on the topic of the reading.
URL:https://meetings.greysheet.org/meeting/weigh-2-freedom/2026-07-05
CATEGORIES:Zoom
ATTACH;FMTTYPE=image/svg+xml:https://meetings.greysheet.org/wp-content/uploads/2025/05/desktop.svg
LOCATION:Zoom ID: 519853984, Passcode: Universal, Camera: Required
END:VEVENT
BEGIN:VEVENT
DTSTART;TZID=America/Los_Angeles:20260712T103000
DTEND;TZID=America/Los_Angeles:20260712T113000
DTSTAMP:20260422T134240
CREATED:20250504T220133Z
LAST-MODIFIED:20260308T195013Z
UID:10044426-1783852200-1783855800@meetings.greysheet.org
SUMMARY:Weigh 2 Freedom
DESCRIPTION:This meeting begins with a short reading from GSA or AA Conference approved literature\, followed by 5 minutes of meditation and then discussion on the topic of the reading.
URL:https://meetings.greysheet.org/meeting/weigh-2-freedom/2026-07-12
CATEGORIES:Zoom
ATTACH;FMTTYPE=image/svg+xml:https://meetings.greysheet.org/wp-content/uploads/2025/05/desktop.svg
LOCATION:Zoom ID: 519853984, Passcode: Universal, Camera: Required
END:VEVENT
BEGIN:VEVENT
DTSTART;TZID=America/Los_Angeles:20260719T103000
DTEND;TZID=America/Los_Angeles:20260719T113000
DTSTAMP:20260422T134240
CREATED:20250504T220133Z
LAST-MODIFIED:20260308T195013Z
UID:10044427-1784457000-1784460600@meetings.greysheet.org
SUMMARY:Weigh 2 Freedom
DESCRIPTION:This meeting begins with a short reading from GSA or AA Conference approved literature\, followed by 5 minutes of meditation and then discussion on the topic of the reading.
URL:https://meetings.greysheet.org/meeting/weigh-2-freedom/2026-07-19
CATEGORIES:Zoom
ATTACH;FMTTYPE=image/svg+xml:https://meetings.greysheet.org/wp-content/uploads/2025/05/desktop.svg
LOCATION:Zoom ID: 519853984, Passcode: Universal, Camera: Required
END:VEVENT
BEGIN:VEVENT
DTSTART;TZID=America/Los_Angeles:20260726T103000
DTEND;TZID=America/Los_Angeles:20260726T113000
DTSTAMP:20260422T134240
CREATED:20250504T220133Z
LAST-MODIFIED:20260308T195013Z
UID:10044428-1785061800-1785065400@meetings.greysheet.org
SUMMARY:Weigh 2 Freedom
DESCRIPTION:This meeting begins with a short reading from GSA or AA Conference approved literature\, followed by 5 minutes of meditation and then discussion on the topic of the reading.
URL:https://meetings.greysheet.org/meeting/weigh-2-freedom/2026-07-26
CATEGORIES:Zoom
ATTACH;FMTTYPE=image/svg+xml:https://meetings.greysheet.org/wp-content/uploads/2025/05/desktop.svg
LOCATION:Zoom ID: 519853984, Passcode: Universal, Camera: Required
END:VEVENT
BEGIN:VEVENT
DTSTART;TZID=America/Los_Angeles:20260802T103000
DTEND;TZID=America/Los_Angeles:20260802T113000
DTSTAMP:20260422T134240
CREATED:20250504T220133Z
LAST-MODIFIED:20260308T195013Z
UID:10044429-1785666600-1785670200@meetings.greysheet.org
SUMMARY:Weigh 2 Freedom
DESCRIPTION:This meeting begins with a short reading from GSA or AA Conference approved literature\, followed by 5 minutes of meditation and then discussion on the topic of the reading.
URL:https://meetings.greysheet.org/meeting/weigh-2-freedom/2026-08-02
CATEGORIES:Zoom
ATTACH;FMTTYPE=image/svg+xml:https://meetings.greysheet.org/wp-content/uploads/2025/05/desktop.svg
LOCATION:Zoom ID: 519853984, Passcode: Universal, Camera: Required
END:VEVENT
BEGIN:VEVENT
DTSTART;TZID=America/Los_Angeles:20260809T103000
DTEND;TZID=America/Los_Angeles:20260809T113000
DTSTAMP:20260422T134240
CREATED:20250504T220133Z
LAST-MODIFIED:20260308T195013Z
UID:10044430-1786271400-1786275000@meetings.greysheet.org
SUMMARY:Weigh 2 Freedom
DESCRIPTION:This meeting begins with a short reading from GSA or AA Conference approved literature\, followed by 5 minutes of meditation and then discussion on the topic of the reading.
URL:https://meetings.greysheet.org/meeting/weigh-2-freedom/2026-08-09
CATEGORIES:Zoom
ATTACH;FMTTYPE=image/svg+xml:https://meetings.greysheet.org/wp-content/uploads/2025/05/desktop.svg
LOCATION:Zoom ID: 519853984, Passcode: Universal, Camera: Required
END:VEVENT
BEGIN:VEVENT
DTSTART;TZID=America/Los_Angeles:20260816T103000
DTEND;TZID=America/Los_Angeles:20260816T113000
DTSTAMP:20260422T134240
CREATED:20250504T220133Z
LAST-MODIFIED:20260308T195013Z
UID:10044431-1786876200-1786879800@meetings.greysheet.org
SUMMARY:Weigh 2 Freedom
DESCRIPTION:This meeting begins with a short reading from GSA or AA Conference approved literature\, followed by 5 minutes of meditation and then discussion on the topic of the reading.
URL:https://meetings.greysheet.org/meeting/weigh-2-freedom/2026-08-16
CATEGORIES:Zoom
ATTACH;FMTTYPE=image/svg+xml:https://meetings.greysheet.org/wp-content/uploads/2025/05/desktop.svg
LOCATION:Zoom ID: 519853984, Passcode: Universal, Camera: Required
END:VEVENT
BEGIN:VEVENT
DTSTART;TZID=America/Los_Angeles:20260823T103000
DTEND;TZID=America/Los_Angeles:20260823T113000
DTSTAMP:20260422T134240
CREATED:20250504T220133Z
LAST-MODIFIED:20260308T195013Z
UID:10044432-1787481000-1787484600@meetings.greysheet.org
SUMMARY:Weigh 2 Freedom
DESCRIPTION:This meeting begins with a short reading from GSA or AA Conference approved literature\, followed by 5 minutes of meditation and then discussion on the topic of the reading.
URL:https://meetings.greysheet.org/meeting/weigh-2-freedom/2026-08-23
CATEGORIES:Zoom
ATTACH;FMTTYPE=image/svg+xml:https://meetings.greysheet.org/wp-content/uploads/2025/05/desktop.svg
LOCATION:Zoom ID: 519853984, Passcode: Universal, Camera: Required
END:VEVENT
BEGIN:VEVENT
DTSTART;TZID=America/Los_Angeles:20260830T103000
DTEND;TZID=America/Los_Angeles:20260830T113000
DTSTAMP:20260422T134240
CREATED:20250504T220133Z
LAST-MODIFIED:20260308T195013Z
UID:10044433-1788085800-1788089400@meetings.greysheet.org
SUMMARY:Weigh 2 Freedom
DESCRIPTION:This meeting begins with a short reading from GSA or AA Conference approved literature\, followed by 5 minutes of meditation and then discussion on the topic of the reading.
URL:https://meetings.greysheet.org/meeting/weigh-2-freedom/2026-08-30
CATEGORIES:Zoom
ATTACH;FMTTYPE=image/svg+xml:https://meetings.greysheet.org/wp-content/uploads/2025/05/desktop.svg
LOCATION:Zoom ID: 519853984, Passcode: Universal, Camera: Required
END:VEVENT
BEGIN:VEVENT
DTSTART;TZID=America/Los_Angeles:20260906T103000
DTEND;TZID=America/Los_Angeles:20260906T113000
DTSTAMP:20260422T134240
CREATED:20250504T220133Z
LAST-MODIFIED:20260308T195013Z
UID:10044434-1788690600-1788694200@meetings.greysheet.org
SUMMARY:Weigh 2 Freedom
DESCRIPTION:This meeting begins with a short reading from GSA or AA Conference approved literature\, followed by 5 minutes of meditation and then discussion on the topic of the reading.
URL:https://meetings.greysheet.org/meeting/weigh-2-freedom/2026-09-06
CATEGORIES:Zoom
ATTACH;FMTTYPE=image/svg+xml:https://meetings.greysheet.org/wp-content/uploads/2025/05/desktop.svg
LOCATION:Zoom ID: 519853984, Passcode: Universal, Camera: Required
END:VEVENT
BEGIN:VEVENT
DTSTART;TZID=America/Los_Angeles:20260913T103000
DTEND;TZID=America/Los_Angeles:20260913T113000
DTSTAMP:20260422T134240
CREATED:20250504T220133Z
LAST-MODIFIED:20260308T195013Z
UID:10044435-1789295400-1789299000@meetings.greysheet.org
SUMMARY:Weigh 2 Freedom
DESCRIPTION:This meeting begins with a short reading from GSA or AA Conference approved literature\, followed by 5 minutes of meditation and then discussion on the topic of the reading.
URL:https://meetings.greysheet.org/meeting/weigh-2-freedom/2026-09-13
CATEGORIES:Zoom
ATTACH;FMTTYPE=image/svg+xml:https://meetings.greysheet.org/wp-content/uploads/2025/05/desktop.svg
LOCATION:Zoom ID: 519853984, Passcode: Universal, Camera: Required
END:VEVENT
BEGIN:VEVENT
DTSTART;TZID=America/Los_Angeles:20260920T103000
DTEND;TZID=America/Los_Angeles:20260920T113000
DTSTAMP:20260422T134240
CREATED:20250504T220133Z
LAST-MODIFIED:20260308T195013Z
UID:10044436-1789900200-1789903800@meetings.greysheet.org
SUMMARY:Weigh 2 Freedom
DESCRIPTION:This meeting begins with a short reading from GSA or AA Conference approved literature\, followed by 5 minutes of meditation and then discussion on the topic of the reading.
URL:https://meetings.greysheet.org/meeting/weigh-2-freedom/2026-09-20
CATEGORIES:Zoom
ATTACH;FMTTYPE=image/svg+xml:https://meetings.greysheet.org/wp-content/uploads/2025/05/desktop.svg
LOCATION:Zoom ID: 519853984, Passcode: Universal, Camera: Required
END:VEVENT
BEGIN:VEVENT
DTSTART;TZID=America/Los_Angeles:20260927T103000
DTEND;TZID=America/Los_Angeles:20260927T113000
DTSTAMP:20260422T134240
CREATED:20250504T220133Z
LAST-MODIFIED:20260308T195013Z
UID:10044437-1790505000-1790508600@meetings.greysheet.org
SUMMARY:Weigh 2 Freedom
DESCRIPTION:This meeting begins with a short reading from GSA or AA Conference approved literature\, followed by 5 minutes of meditation and then discussion on the topic of the reading.
URL:https://meetings.greysheet.org/meeting/weigh-2-freedom/2026-09-27
CATEGORIES:Zoom
ATTACH;FMTTYPE=image/svg+xml:https://meetings.greysheet.org/wp-content/uploads/2025/05/desktop.svg
LOCATION:Zoom ID: 519853984, Passcode: Universal, Camera: Required
END:VEVENT
BEGIN:VEVENT
DTSTART;TZID=America/Los_Angeles:20261004T103000
DTEND;TZID=America/Los_Angeles:20261004T113000
DTSTAMP:20260422T134240
CREATED:20250504T220133Z
LAST-MODIFIED:20260308T195013Z
UID:10044438-1791109800-1791113400@meetings.greysheet.org
SUMMARY:Weigh 2 Freedom
DESCRIPTION:This meeting begins with a short reading from GSA or AA Conference approved literature\, followed by 5 minutes of meditation and then discussion on the topic of the reading.
URL:https://meetings.greysheet.org/meeting/weigh-2-freedom/2026-10-04
CATEGORIES:Zoom
ATTACH;FMTTYPE=image/svg+xml:https://meetings.greysheet.org/wp-content/uploads/2025/05/desktop.svg
LOCATION:Zoom ID: 519853984, Passcode: Universal, Camera: Required
END:VEVENT
BEGIN:VEVENT
DTSTART;TZID=America/Los_Angeles:20261011T103000
DTEND;TZID=America/Los_Angeles:20261011T113000
DTSTAMP:20260422T134240
CREATED:20250504T220133Z
LAST-MODIFIED:20260308T195013Z
UID:10044439-1791714600-1791718200@meetings.greysheet.org
SUMMARY:Weigh 2 Freedom
DESCRIPTION:This meeting begins with a short reading from GSA or AA Conference approved literature\, followed by 5 minutes of meditation and then discussion on the topic of the reading.
URL:https://meetings.greysheet.org/meeting/weigh-2-freedom/2026-10-11
CATEGORIES:Zoom
ATTACH;FMTTYPE=image/svg+xml:https://meetings.greysheet.org/wp-content/uploads/2025/05/desktop.svg
LOCATION:Zoom ID: 519853984, Passcode: Universal, Camera: Required
END:VEVENT
BEGIN:VEVENT
DTSTART;TZID=America/Los_Angeles:20261018T103000
DTEND;TZID=America/Los_Angeles:20261018T113000
DTSTAMP:20260422T134240
CREATED:20250504T220133Z
LAST-MODIFIED:20260308T195013Z
UID:10044440-1792319400-1792323000@meetings.greysheet.org
SUMMARY:Weigh 2 Freedom
DESCRIPTION:This meeting begins with a short reading from GSA or AA Conference approved literature\, followed by 5 minutes of meditation and then discussion on the topic of the reading.
URL:https://meetings.greysheet.org/meeting/weigh-2-freedom/2026-10-18
CATEGORIES:Zoom
ATTACH;FMTTYPE=image/svg+xml:https://meetings.greysheet.org/wp-content/uploads/2025/05/desktop.svg
LOCATION:Zoom ID: 519853984, Passcode: Universal, Camera: Required
END:VEVENT
BEGIN:VEVENT
DTSTART;TZID=America/Los_Angeles:20261025T103000
DTEND;TZID=America/Los_Angeles:20261025T113000
DTSTAMP:20260422T134240
CREATED:20250504T220133Z
LAST-MODIFIED:20260308T195013Z
UID:10044441-1792924200-1792927800@meetings.greysheet.org
SUMMARY:Weigh 2 Freedom
DESCRIPTION:This meeting begins with a short reading from GSA or AA Conference approved literature\, followed by 5 minutes of meditation and then discussion on the topic of the reading.
URL:https://meetings.greysheet.org/meeting/weigh-2-freedom/2026-10-25
CATEGORIES:Zoom
ATTACH;FMTTYPE=image/svg+xml:https://meetings.greysheet.org/wp-content/uploads/2025/05/desktop.svg
LOCATION:Zoom ID: 519853984, Passcode: Universal, Camera: Required
END:VEVENT
BEGIN:VEVENT
DTSTART;TZID=America/Los_Angeles:20261101T103000
DTEND;TZID=America/Los_Angeles:20261101T113000
DTSTAMP:20260422T134240
CREATED:20250504T220133Z
LAST-MODIFIED:20260308T195013Z
UID:10044442-1793529000-1793532600@meetings.greysheet.org
SUMMARY:Weigh 2 Freedom
DESCRIPTION:This meeting begins with a short reading from GSA or AA Conference approved literature\, followed by 5 minutes of meditation and then discussion on the topic of the reading.
URL:https://meetings.greysheet.org/meeting/weigh-2-freedom/2026-11-01
CATEGORIES:Zoom
ATTACH;FMTTYPE=image/svg+xml:https://meetings.greysheet.org/wp-content/uploads/2025/05/desktop.svg
LOCATION:Zoom ID: 519853984, Passcode: Universal, Camera: Required
END:VEVENT
BEGIN:VEVENT
DTSTART;TZID=America/Los_Angeles:20261108T103000
DTEND;TZID=America/Los_Angeles:20261108T113000
DTSTAMP:20260422T134240
CREATED:20250504T220133Z
LAST-MODIFIED:20260308T195013Z
UID:10044443-1794133800-1794137400@meetings.greysheet.org
SUMMARY:Weigh 2 Freedom
DESCRIPTION:This meeting begins with a short reading from GSA or AA Conference approved literature\, followed by 5 minutes of meditation and then discussion on the topic of the reading.
URL:https://meetings.greysheet.org/meeting/weigh-2-freedom/2026-11-08
CATEGORIES:Zoom
ATTACH;FMTTYPE=image/svg+xml:https://meetings.greysheet.org/wp-content/uploads/2025/05/desktop.svg
LOCATION:Zoom ID: 519853984, Passcode: Universal, Camera: Required
END:VEVENT
BEGIN:VEVENT
DTSTART;TZID=America/Los_Angeles:20261115T103000
DTEND;TZID=America/Los_Angeles:20261115T113000
DTSTAMP:20260422T134240
CREATED:20250504T220133Z
LAST-MODIFIED:20260308T195013Z
UID:10044444-1794738600-1794742200@meetings.greysheet.org
SUMMARY:Weigh 2 Freedom
DESCRIPTION:This meeting begins with a short reading from GSA or AA Conference approved literature\, followed by 5 minutes of meditation and then discussion on the topic of the reading.
URL:https://meetings.greysheet.org/meeting/weigh-2-freedom/2026-11-15
CATEGORIES:Zoom
ATTACH;FMTTYPE=image/svg+xml:https://meetings.greysheet.org/wp-content/uploads/2025/05/desktop.svg
LOCATION:Zoom ID: 519853984, Passcode: Universal, Camera: Required
END:VEVENT
END:VCALENDAR