BEGIN:VCALENDAR
VERSION:2.0
PRODID:-//GreySheeters Anonymous World Services - ECPv6.15.20//NONSGML v1.0//EN
CALSCALE:GREGORIAN
METHOD:PUBLISH
X-WR-CALNAME:GreySheeters Anonymous World Services
X-ORIGINAL-URL:https://meetings.greysheet.org
X-WR-CALDESC:Events for GreySheeters Anonymous World Services
REFRESH-INTERVAL;VALUE=DURATION:PT1H
X-Robots-Tag:noindex
X-PUBLISHED-TTL:PT1H
BEGIN:VTIMEZONE
TZID:Atlantic/Reykjavik
BEGIN:STANDARD
TZOFFSETFROM:+0000
TZOFFSETTO:+0000
TZNAME:GMT
DTSTART:20260101T000000
END:STANDARD
END:VTIMEZONE
BEGIN:VEVENT
DTSTART;TZID=Atlantic/Reykjavik:20270330T122000
DTEND;TZID=Atlantic/Reykjavik:20270330T132000
DTSTAMP:20260424T163324
CREATED:20250504T220119Z
LAST-MODIFIED:20260214T205953Z
UID:10038344-1806409200-1806412800@meetings.greysheet.org
SUMMARY:Þriðjudagshádegisdeild
DESCRIPTION:An hour GSA meeting in Icelandic.
URL:https://meetings.greysheet.org/meeting/thridjudagshadegisdeild/2027-03-30
CATEGORIES:Zoom
ATTACH;FMTTYPE=image/svg+xml:https://meetings.greysheet.org/wp-content/uploads/2025/05/desktop.svg
LOCATION:Zoom ID: 3099135318, Passcode: Universal, Camera: Required
END:VEVENT
BEGIN:VEVENT
DTSTART;TZID=Atlantic/Reykjavik:20270406T122000
DTEND;TZID=Atlantic/Reykjavik:20270406T132000
DTSTAMP:20260424T163324
CREATED:20250504T220119Z
LAST-MODIFIED:20260214T205953Z
UID:10038345-1807014000-1807017600@meetings.greysheet.org
SUMMARY:Þriðjudagshádegisdeild
DESCRIPTION:An hour GSA meeting in Icelandic.
URL:https://meetings.greysheet.org/meeting/thridjudagshadegisdeild/2027-04-06
CATEGORIES:Zoom
ATTACH;FMTTYPE=image/svg+xml:https://meetings.greysheet.org/wp-content/uploads/2025/05/desktop.svg
LOCATION:Zoom ID: 3099135318, Passcode: Universal, Camera: Required
END:VEVENT
BEGIN:VEVENT
DTSTART;TZID=Atlantic/Reykjavik:20270413T122000
DTEND;TZID=Atlantic/Reykjavik:20270413T132000
DTSTAMP:20260424T163324
CREATED:20250504T220119Z
LAST-MODIFIED:20260214T205953Z
UID:10038346-1807618800-1807622400@meetings.greysheet.org
SUMMARY:Þriðjudagshádegisdeild
DESCRIPTION:An hour GSA meeting in Icelandic.
URL:https://meetings.greysheet.org/meeting/thridjudagshadegisdeild/2027-04-13
CATEGORIES:Zoom
ATTACH;FMTTYPE=image/svg+xml:https://meetings.greysheet.org/wp-content/uploads/2025/05/desktop.svg
LOCATION:Zoom ID: 3099135318, Passcode: Universal, Camera: Required
END:VEVENT
BEGIN:VEVENT
DTSTART;TZID=Atlantic/Reykjavik:20270420T122000
DTEND;TZID=Atlantic/Reykjavik:20270420T132000
DTSTAMP:20260424T163324
CREATED:20250504T220119Z
LAST-MODIFIED:20260214T205953Z
UID:10038347-1808223600-1808227200@meetings.greysheet.org
SUMMARY:Þriðjudagshádegisdeild
DESCRIPTION:An hour GSA meeting in Icelandic.
URL:https://meetings.greysheet.org/meeting/thridjudagshadegisdeild/2027-04-20
CATEGORIES:Zoom
ATTACH;FMTTYPE=image/svg+xml:https://meetings.greysheet.org/wp-content/uploads/2025/05/desktop.svg
LOCATION:Zoom ID: 3099135318, Passcode: Universal, Camera: Required
END:VEVENT
BEGIN:VEVENT
DTSTART;TZID=Atlantic/Reykjavik:20270427T122000
DTEND;TZID=Atlantic/Reykjavik:20270427T132000
DTSTAMP:20260424T163324
CREATED:20250504T220119Z
LAST-MODIFIED:20260214T205953Z
UID:10038348-1808828400-1808832000@meetings.greysheet.org
SUMMARY:Þriðjudagshádegisdeild
DESCRIPTION:An hour GSA meeting in Icelandic.
URL:https://meetings.greysheet.org/meeting/thridjudagshadegisdeild/2027-04-27
CATEGORIES:Zoom
ATTACH;FMTTYPE=image/svg+xml:https://meetings.greysheet.org/wp-content/uploads/2025/05/desktop.svg
LOCATION:Zoom ID: 3099135318, Passcode: Universal, Camera: Required
END:VEVENT
BEGIN:VEVENT
DTSTART;TZID=Atlantic/Reykjavik:20270504T122000
DTEND;TZID=Atlantic/Reykjavik:20270504T132000
DTSTAMP:20260424T163324
CREATED:20250504T220119Z
LAST-MODIFIED:20260214T205953Z
UID:10038349-1809433200-1809436800@meetings.greysheet.org
SUMMARY:Þriðjudagshádegisdeild
DESCRIPTION:An hour GSA meeting in Icelandic.
URL:https://meetings.greysheet.org/meeting/thridjudagshadegisdeild/2027-05-04
CATEGORIES:Zoom
ATTACH;FMTTYPE=image/svg+xml:https://meetings.greysheet.org/wp-content/uploads/2025/05/desktop.svg
LOCATION:Zoom ID: 3099135318, Passcode: Universal, Camera: Required
END:VEVENT
BEGIN:VEVENT
DTSTART;TZID=Atlantic/Reykjavik:20270511T122000
DTEND;TZID=Atlantic/Reykjavik:20270511T132000
DTSTAMP:20260424T163324
CREATED:20250504T220119Z
LAST-MODIFIED:20260214T205953Z
UID:10038350-1810038000-1810041600@meetings.greysheet.org
SUMMARY:Þriðjudagshádegisdeild
DESCRIPTION:An hour GSA meeting in Icelandic.
URL:https://meetings.greysheet.org/meeting/thridjudagshadegisdeild/2027-05-11
CATEGORIES:Zoom
ATTACH;FMTTYPE=image/svg+xml:https://meetings.greysheet.org/wp-content/uploads/2025/05/desktop.svg
LOCATION:Zoom ID: 3099135318, Passcode: Universal, Camera: Required
END:VEVENT
BEGIN:VEVENT
DTSTART;TZID=Atlantic/Reykjavik:20270518T122000
DTEND;TZID=Atlantic/Reykjavik:20270518T132000
DTSTAMP:20260424T163324
CREATED:20250504T220119Z
LAST-MODIFIED:20260214T205953Z
UID:10038351-1810642800-1810646400@meetings.greysheet.org
SUMMARY:Þriðjudagshádegisdeild
DESCRIPTION:An hour GSA meeting in Icelandic.
URL:https://meetings.greysheet.org/meeting/thridjudagshadegisdeild/2027-05-18
CATEGORIES:Zoom
ATTACH;FMTTYPE=image/svg+xml:https://meetings.greysheet.org/wp-content/uploads/2025/05/desktop.svg
LOCATION:Zoom ID: 3099135318, Passcode: Universal, Camera: Required
END:VEVENT
BEGIN:VEVENT
DTSTART;TZID=Atlantic/Reykjavik:20270525T122000
DTEND;TZID=Atlantic/Reykjavik:20270525T132000
DTSTAMP:20260424T163324
CREATED:20250504T220119Z
LAST-MODIFIED:20260214T205953Z
UID:10038352-1811247600-1811251200@meetings.greysheet.org
SUMMARY:Þriðjudagshádegisdeild
DESCRIPTION:An hour GSA meeting in Icelandic.
URL:https://meetings.greysheet.org/meeting/thridjudagshadegisdeild/2027-05-25
CATEGORIES:Zoom
ATTACH;FMTTYPE=image/svg+xml:https://meetings.greysheet.org/wp-content/uploads/2025/05/desktop.svg
LOCATION:Zoom ID: 3099135318, Passcode: Universal, Camera: Required
END:VEVENT
BEGIN:VEVENT
DTSTART;TZID=Atlantic/Reykjavik:20270601T122000
DTEND;TZID=Atlantic/Reykjavik:20270601T132000
DTSTAMP:20260424T163324
CREATED:20250504T220119Z
LAST-MODIFIED:20260214T205953Z
UID:10038353-1811852400-1811856000@meetings.greysheet.org
SUMMARY:Þriðjudagshádegisdeild
DESCRIPTION:An hour GSA meeting in Icelandic.
URL:https://meetings.greysheet.org/meeting/thridjudagshadegisdeild/2027-06-01
CATEGORIES:Zoom
ATTACH;FMTTYPE=image/svg+xml:https://meetings.greysheet.org/wp-content/uploads/2025/05/desktop.svg
LOCATION:Zoom ID: 3099135318, Passcode: Universal, Camera: Required
END:VEVENT
BEGIN:VEVENT
DTSTART;TZID=Atlantic/Reykjavik:20270608T122000
DTEND;TZID=Atlantic/Reykjavik:20270608T132000
DTSTAMP:20260424T163324
CREATED:20250504T220119Z
LAST-MODIFIED:20260214T205953Z
UID:10038354-1812457200-1812460800@meetings.greysheet.org
SUMMARY:Þriðjudagshádegisdeild
DESCRIPTION:An hour GSA meeting in Icelandic.
URL:https://meetings.greysheet.org/meeting/thridjudagshadegisdeild/2027-06-08
CATEGORIES:Zoom
ATTACH;FMTTYPE=image/svg+xml:https://meetings.greysheet.org/wp-content/uploads/2025/05/desktop.svg
LOCATION:Zoom ID: 3099135318, Passcode: Universal, Camera: Required
END:VEVENT
BEGIN:VEVENT
DTSTART;TZID=Atlantic/Reykjavik:20270615T122000
DTEND;TZID=Atlantic/Reykjavik:20270615T132000
DTSTAMP:20260424T163324
CREATED:20250504T220119Z
LAST-MODIFIED:20260214T205953Z
UID:10038355-1813062000-1813065600@meetings.greysheet.org
SUMMARY:Þriðjudagshádegisdeild
DESCRIPTION:An hour GSA meeting in Icelandic.
URL:https://meetings.greysheet.org/meeting/thridjudagshadegisdeild/2027-06-15
CATEGORIES:Zoom
ATTACH;FMTTYPE=image/svg+xml:https://meetings.greysheet.org/wp-content/uploads/2025/05/desktop.svg
LOCATION:Zoom ID: 3099135318, Passcode: Universal, Camera: Required
END:VEVENT
BEGIN:VEVENT
DTSTART;TZID=Atlantic/Reykjavik:20270622T122000
DTEND;TZID=Atlantic/Reykjavik:20270622T132000
DTSTAMP:20260424T163324
CREATED:20250504T220119Z
LAST-MODIFIED:20260214T205953Z
UID:10038356-1813666800-1813670400@meetings.greysheet.org
SUMMARY:Þriðjudagshádegisdeild
DESCRIPTION:An hour GSA meeting in Icelandic.
URL:https://meetings.greysheet.org/meeting/thridjudagshadegisdeild/2027-06-22
CATEGORIES:Zoom
ATTACH;FMTTYPE=image/svg+xml:https://meetings.greysheet.org/wp-content/uploads/2025/05/desktop.svg
LOCATION:Zoom ID: 3099135318, Passcode: Universal, Camera: Required
END:VEVENT
BEGIN:VEVENT
DTSTART;TZID=Atlantic/Reykjavik:20270629T122000
DTEND;TZID=Atlantic/Reykjavik:20270629T132000
DTSTAMP:20260424T163324
CREATED:20250504T220119Z
LAST-MODIFIED:20260214T205953Z
UID:10038357-1814271600-1814275200@meetings.greysheet.org
SUMMARY:Þriðjudagshádegisdeild
DESCRIPTION:An hour GSA meeting in Icelandic.
URL:https://meetings.greysheet.org/meeting/thridjudagshadegisdeild/2027-06-29
CATEGORIES:Zoom
ATTACH;FMTTYPE=image/svg+xml:https://meetings.greysheet.org/wp-content/uploads/2025/05/desktop.svg
LOCATION:Zoom ID: 3099135318, Passcode: Universal, Camera: Required
END:VEVENT
BEGIN:VEVENT
DTSTART;TZID=Atlantic/Reykjavik:20270706T122000
DTEND;TZID=Atlantic/Reykjavik:20270706T132000
DTSTAMP:20260424T163324
CREATED:20250504T220119Z
LAST-MODIFIED:20260214T205953Z
UID:10038358-1814876400-1814880000@meetings.greysheet.org
SUMMARY:Þriðjudagshádegisdeild
DESCRIPTION:An hour GSA meeting in Icelandic.
URL:https://meetings.greysheet.org/meeting/thridjudagshadegisdeild/2027-07-06
CATEGORIES:Zoom
ATTACH;FMTTYPE=image/svg+xml:https://meetings.greysheet.org/wp-content/uploads/2025/05/desktop.svg
LOCATION:Zoom ID: 3099135318, Passcode: Universal, Camera: Required
END:VEVENT
BEGIN:VEVENT
DTSTART;TZID=Atlantic/Reykjavik:20270713T122000
DTEND;TZID=Atlantic/Reykjavik:20270713T132000
DTSTAMP:20260424T163324
CREATED:20250504T220119Z
LAST-MODIFIED:20260214T205953Z
UID:10038359-1815481200-1815484800@meetings.greysheet.org
SUMMARY:Þriðjudagshádegisdeild
DESCRIPTION:An hour GSA meeting in Icelandic.
URL:https://meetings.greysheet.org/meeting/thridjudagshadegisdeild/2027-07-13
CATEGORIES:Zoom
ATTACH;FMTTYPE=image/svg+xml:https://meetings.greysheet.org/wp-content/uploads/2025/05/desktop.svg
LOCATION:Zoom ID: 3099135318, Passcode: Universal, Camera: Required
END:VEVENT
BEGIN:VEVENT
DTSTART;TZID=Atlantic/Reykjavik:20270720T122000
DTEND;TZID=Atlantic/Reykjavik:20270720T132000
DTSTAMP:20260424T163324
CREATED:20250504T220119Z
LAST-MODIFIED:20260214T205953Z
UID:10038360-1816086000-1816089600@meetings.greysheet.org
SUMMARY:Þriðjudagshádegisdeild
DESCRIPTION:An hour GSA meeting in Icelandic.
URL:https://meetings.greysheet.org/meeting/thridjudagshadegisdeild/2027-07-20
CATEGORIES:Zoom
ATTACH;FMTTYPE=image/svg+xml:https://meetings.greysheet.org/wp-content/uploads/2025/05/desktop.svg
LOCATION:Zoom ID: 3099135318, Passcode: Universal, Camera: Required
END:VEVENT
BEGIN:VEVENT
DTSTART;TZID=Atlantic/Reykjavik:20270727T122000
DTEND;TZID=Atlantic/Reykjavik:20270727T132000
DTSTAMP:20260424T163324
CREATED:20250504T220119Z
LAST-MODIFIED:20260214T205953Z
UID:10038361-1816690800-1816694400@meetings.greysheet.org
SUMMARY:Þriðjudagshádegisdeild
DESCRIPTION:An hour GSA meeting in Icelandic.
URL:https://meetings.greysheet.org/meeting/thridjudagshadegisdeild/2027-07-27
CATEGORIES:Zoom
ATTACH;FMTTYPE=image/svg+xml:https://meetings.greysheet.org/wp-content/uploads/2025/05/desktop.svg
LOCATION:Zoom ID: 3099135318, Passcode: Universal, Camera: Required
END:VEVENT
BEGIN:VEVENT
DTSTART;TZID=Atlantic/Reykjavik:20270803T122000
DTEND;TZID=Atlantic/Reykjavik:20270803T132000
DTSTAMP:20260424T163324
CREATED:20250504T220119Z
LAST-MODIFIED:20260214T205953Z
UID:10038362-1817295600-1817299200@meetings.greysheet.org
SUMMARY:Þriðjudagshádegisdeild
DESCRIPTION:An hour GSA meeting in Icelandic.
URL:https://meetings.greysheet.org/meeting/thridjudagshadegisdeild/2027-08-03
CATEGORIES:Zoom
ATTACH;FMTTYPE=image/svg+xml:https://meetings.greysheet.org/wp-content/uploads/2025/05/desktop.svg
LOCATION:Zoom ID: 3099135318, Passcode: Universal, Camera: Required
END:VEVENT
BEGIN:VEVENT
DTSTART;TZID=Atlantic/Reykjavik:20270810T122000
DTEND;TZID=Atlantic/Reykjavik:20270810T132000
DTSTAMP:20260424T163324
CREATED:20250504T220119Z
LAST-MODIFIED:20260214T205953Z
UID:10038363-1817900400-1817904000@meetings.greysheet.org
SUMMARY:Þriðjudagshádegisdeild
DESCRIPTION:An hour GSA meeting in Icelandic.
URL:https://meetings.greysheet.org/meeting/thridjudagshadegisdeild/2027-08-10
CATEGORIES:Zoom
ATTACH;FMTTYPE=image/svg+xml:https://meetings.greysheet.org/wp-content/uploads/2025/05/desktop.svg
LOCATION:Zoom ID: 3099135318, Passcode: Universal, Camera: Required
END:VEVENT
BEGIN:VEVENT
DTSTART;TZID=Atlantic/Reykjavik:20270817T122000
DTEND;TZID=Atlantic/Reykjavik:20270817T132000
DTSTAMP:20260424T163324
CREATED:20250504T220119Z
LAST-MODIFIED:20260214T205953Z
UID:10038364-1818505200-1818508800@meetings.greysheet.org
SUMMARY:Þriðjudagshádegisdeild
DESCRIPTION:An hour GSA meeting in Icelandic.
URL:https://meetings.greysheet.org/meeting/thridjudagshadegisdeild/2027-08-17
CATEGORIES:Zoom
ATTACH;FMTTYPE=image/svg+xml:https://meetings.greysheet.org/wp-content/uploads/2025/05/desktop.svg
LOCATION:Zoom ID: 3099135318, Passcode: Universal, Camera: Required
END:VEVENT
BEGIN:VEVENT
DTSTART;TZID=Atlantic/Reykjavik:20270824T122000
DTEND;TZID=Atlantic/Reykjavik:20270824T132000
DTSTAMP:20260424T163324
CREATED:20250504T220119Z
LAST-MODIFIED:20260214T205953Z
UID:10038365-1819110000-1819113600@meetings.greysheet.org
SUMMARY:Þriðjudagshádegisdeild
DESCRIPTION:An hour GSA meeting in Icelandic.
URL:https://meetings.greysheet.org/meeting/thridjudagshadegisdeild/2027-08-24
CATEGORIES:Zoom
ATTACH;FMTTYPE=image/svg+xml:https://meetings.greysheet.org/wp-content/uploads/2025/05/desktop.svg
LOCATION:Zoom ID: 3099135318, Passcode: Universal, Camera: Required
END:VEVENT
BEGIN:VEVENT
DTSTART;TZID=Atlantic/Reykjavik:20270831T122000
DTEND;TZID=Atlantic/Reykjavik:20270831T132000
DTSTAMP:20260424T163324
CREATED:20250504T220119Z
LAST-MODIFIED:20260214T205953Z
UID:10038366-1819714800-1819718400@meetings.greysheet.org
SUMMARY:Þriðjudagshádegisdeild
DESCRIPTION:An hour GSA meeting in Icelandic.
URL:https://meetings.greysheet.org/meeting/thridjudagshadegisdeild/2027-08-31
CATEGORIES:Zoom
ATTACH;FMTTYPE=image/svg+xml:https://meetings.greysheet.org/wp-content/uploads/2025/05/desktop.svg
LOCATION:Zoom ID: 3099135318, Passcode: Universal, Camera: Required
END:VEVENT
BEGIN:VEVENT
DTSTART;TZID=Atlantic/Reykjavik:20270907T122000
DTEND;TZID=Atlantic/Reykjavik:20270907T132000
DTSTAMP:20260424T163324
CREATED:20250504T220119Z
LAST-MODIFIED:20260214T205953Z
UID:10038367-1820319600-1820323200@meetings.greysheet.org
SUMMARY:Þriðjudagshádegisdeild
DESCRIPTION:An hour GSA meeting in Icelandic.
URL:https://meetings.greysheet.org/meeting/thridjudagshadegisdeild/2027-09-07
CATEGORIES:Zoom
ATTACH;FMTTYPE=image/svg+xml:https://meetings.greysheet.org/wp-content/uploads/2025/05/desktop.svg
LOCATION:Zoom ID: 3099135318, Passcode: Universal, Camera: Required
END:VEVENT
BEGIN:VEVENT
DTSTART;TZID=Atlantic/Reykjavik:20270914T122000
DTEND;TZID=Atlantic/Reykjavik:20270914T132000
DTSTAMP:20260424T163324
CREATED:20250504T220119Z
LAST-MODIFIED:20260214T205953Z
UID:10038368-1820924400-1820928000@meetings.greysheet.org
SUMMARY:Þriðjudagshádegisdeild
DESCRIPTION:An hour GSA meeting in Icelandic.
URL:https://meetings.greysheet.org/meeting/thridjudagshadegisdeild/2027-09-14
CATEGORIES:Zoom
ATTACH;FMTTYPE=image/svg+xml:https://meetings.greysheet.org/wp-content/uploads/2025/05/desktop.svg
LOCATION:Zoom ID: 3099135318, Passcode: Universal, Camera: Required
END:VEVENT
BEGIN:VEVENT
DTSTART;TZID=Atlantic/Reykjavik:20270921T122000
DTEND;TZID=Atlantic/Reykjavik:20270921T132000
DTSTAMP:20260424T163324
CREATED:20250504T220119Z
LAST-MODIFIED:20260214T205953Z
UID:10038369-1821529200-1821532800@meetings.greysheet.org
SUMMARY:Þriðjudagshádegisdeild
DESCRIPTION:An hour GSA meeting in Icelandic.
URL:https://meetings.greysheet.org/meeting/thridjudagshadegisdeild/2027-09-21
CATEGORIES:Zoom
ATTACH;FMTTYPE=image/svg+xml:https://meetings.greysheet.org/wp-content/uploads/2025/05/desktop.svg
LOCATION:Zoom ID: 3099135318, Passcode: Universal, Camera: Required
END:VEVENT
BEGIN:VEVENT
DTSTART;TZID=Atlantic/Reykjavik:20270928T122000
DTEND;TZID=Atlantic/Reykjavik:20270928T132000
DTSTAMP:20260424T163324
CREATED:20250504T220119Z
LAST-MODIFIED:20260214T205953Z
UID:10038370-1822134000-1822137600@meetings.greysheet.org
SUMMARY:Þriðjudagshádegisdeild
DESCRIPTION:An hour GSA meeting in Icelandic.
URL:https://meetings.greysheet.org/meeting/thridjudagshadegisdeild/2027-09-28
CATEGORIES:Zoom
ATTACH;FMTTYPE=image/svg+xml:https://meetings.greysheet.org/wp-content/uploads/2025/05/desktop.svg
LOCATION:Zoom ID: 3099135318, Passcode: Universal, Camera: Required
END:VEVENT
BEGIN:VEVENT
DTSTART;TZID=Atlantic/Reykjavik:20271005T122000
DTEND;TZID=Atlantic/Reykjavik:20271005T132000
DTSTAMP:20260424T163324
CREATED:20250504T220119Z
LAST-MODIFIED:20260214T205953Z
UID:10038371-1822738800-1822742400@meetings.greysheet.org
SUMMARY:Þriðjudagshádegisdeild
DESCRIPTION:An hour GSA meeting in Icelandic.
URL:https://meetings.greysheet.org/meeting/thridjudagshadegisdeild/2027-10-05
CATEGORIES:Zoom
ATTACH;FMTTYPE=image/svg+xml:https://meetings.greysheet.org/wp-content/uploads/2025/05/desktop.svg
LOCATION:Zoom ID: 3099135318, Passcode: Universal, Camera: Required
END:VEVENT
BEGIN:VEVENT
DTSTART;TZID=Atlantic/Reykjavik:20271012T122000
DTEND;TZID=Atlantic/Reykjavik:20271012T132000
DTSTAMP:20260424T163324
CREATED:20250504T220119Z
LAST-MODIFIED:20260214T205953Z
UID:10038372-1823343600-1823347200@meetings.greysheet.org
SUMMARY:Þriðjudagshádegisdeild
DESCRIPTION:An hour GSA meeting in Icelandic.
URL:https://meetings.greysheet.org/meeting/thridjudagshadegisdeild/2027-10-12
CATEGORIES:Zoom
ATTACH;FMTTYPE=image/svg+xml:https://meetings.greysheet.org/wp-content/uploads/2025/05/desktop.svg
LOCATION:Zoom ID: 3099135318, Passcode: Universal, Camera: Required
END:VEVENT
BEGIN:VEVENT
DTSTART;TZID=Atlantic/Reykjavik:20271019T122000
DTEND;TZID=Atlantic/Reykjavik:20271019T132000
DTSTAMP:20260424T163324
CREATED:20250504T220119Z
LAST-MODIFIED:20260214T205953Z
UID:10038373-1823948400-1823952000@meetings.greysheet.org
SUMMARY:Þriðjudagshádegisdeild
DESCRIPTION:An hour GSA meeting in Icelandic.
URL:https://meetings.greysheet.org/meeting/thridjudagshadegisdeild/2027-10-19
CATEGORIES:Zoom
ATTACH;FMTTYPE=image/svg+xml:https://meetings.greysheet.org/wp-content/uploads/2025/05/desktop.svg
LOCATION:Zoom ID: 3099135318, Passcode: Universal, Camera: Required
END:VEVENT
END:VCALENDAR