BEGIN:VCALENDAR
VERSION:2.0
PRODID:-//GreySheeters Anonymous World Services - ECPv6.15.20//NONSGML v1.0//EN
CALSCALE:GREGORIAN
METHOD:PUBLISH
X-ORIGINAL-URL:https://meetings.greysheet.org
X-WR-CALDESC:Events for GreySheeters Anonymous World Services
REFRESH-INTERVAL;VALUE=DURATION:PT1H
X-Robots-Tag:noindex
X-PUBLISHED-TTL:PT1H
BEGIN:VTIMEZONE
TZID:America/New_York
BEGIN:DAYLIGHT
TZOFFSETFROM:-0500
TZOFFSETTO:-0400
TZNAME:EDT
DTSTART:20240310T070000
END:DAYLIGHT
BEGIN:STANDARD
TZOFFSETFROM:-0400
TZOFFSETTO:-0500
TZNAME:EST
DTSTART:20241103T060000
END:STANDARD
BEGIN:DAYLIGHT
TZOFFSETFROM:-0500
TZOFFSETTO:-0400
TZNAME:EDT
DTSTART:20250309T070000
END:DAYLIGHT
BEGIN:STANDARD
TZOFFSETFROM:-0400
TZOFFSETTO:-0500
TZNAME:EST
DTSTART:20251102T060000
END:STANDARD
BEGIN:DAYLIGHT
TZOFFSETFROM:-0500
TZOFFSETTO:-0400
TZNAME:EDT
DTSTART:20260308T070000
END:DAYLIGHT
BEGIN:STANDARD
TZOFFSETFROM:-0400
TZOFFSETTO:-0500
TZNAME:EST
DTSTART:20261101T060000
END:STANDARD
END:VTIMEZONE
BEGIN:VEVENT
DTSTART;TZID=America/New_York:20250810T080000
DTEND;TZID=America/New_York:20250810T091500
DTSTAMP:20260425T135753
CREATED:20250504T220126Z
LAST-MODIFIED:20260309T140604Z
UID:10032432-1754812800-1754817300@meetings.greysheet.org
SUMMARY:Soldiers & Sailors 12 & 12
DESCRIPTION:Step study meeting using the A.A. Twelve Steps and Twelve Traditions.
URL:https://meetings.greysheet.org/meeting/12-12-step/2025-08-10
CATEGORIES:Zoom
ATTACH;FMTTYPE=image/svg+xml:https://meetings.greysheet.org/wp-content/uploads/2025/05/desktop.svg
LOCATION:Zoom ID: 989206585, Passcode: Universal, Camera: Optional
END:VEVENT
BEGIN:VEVENT
DTSTART;TZID=America/New_York:20250803T080000
DTEND;TZID=America/New_York:20250803T091500
DTSTAMP:20260425T135753
CREATED:20250504T220126Z
LAST-MODIFIED:20260309T140604Z
UID:10032431-1754208000-1754212500@meetings.greysheet.org
SUMMARY:Soldiers & Sailors 12 & 12
DESCRIPTION:Step study meeting using the A.A. Twelve Steps and Twelve Traditions.
URL:https://meetings.greysheet.org/meeting/12-12-step/2025-08-03
CATEGORIES:Zoom
ATTACH;FMTTYPE=image/svg+xml:https://meetings.greysheet.org/wp-content/uploads/2025/05/desktop.svg
LOCATION:Zoom ID: 989206585, Passcode: Universal, Camera: Optional
END:VEVENT
BEGIN:VEVENT
DTSTART;TZID=America/New_York:20250727T080000
DTEND;TZID=America/New_York:20250727T091500
DTSTAMP:20260425T135753
CREATED:20250504T220126Z
LAST-MODIFIED:20260309T140604Z
UID:10032430-1753603200-1753607700@meetings.greysheet.org
SUMMARY:Soldiers & Sailors 12 & 12
DESCRIPTION:Step study meeting using the A.A. Twelve Steps and Twelve Traditions.
URL:https://meetings.greysheet.org/meeting/12-12-step/2025-07-27
CATEGORIES:Zoom
ATTACH;FMTTYPE=image/svg+xml:https://meetings.greysheet.org/wp-content/uploads/2025/05/desktop.svg
LOCATION:Zoom ID: 989206585, Passcode: Universal, Camera: Optional
END:VEVENT
BEGIN:VEVENT
DTSTART;TZID=America/New_York:20250720T080000
DTEND;TZID=America/New_York:20250720T091500
DTSTAMP:20260425T135753
CREATED:20250504T220126Z
LAST-MODIFIED:20260309T140604Z
UID:10032429-1752998400-1753002900@meetings.greysheet.org
SUMMARY:Soldiers & Sailors 12 & 12
DESCRIPTION:Step study meeting using the A.A. Twelve Steps and Twelve Traditions.
URL:https://meetings.greysheet.org/meeting/12-12-step/2025-07-20
CATEGORIES:Zoom
ATTACH;FMTTYPE=image/svg+xml:https://meetings.greysheet.org/wp-content/uploads/2025/05/desktop.svg
LOCATION:Zoom ID: 989206585, Passcode: Universal, Camera: Optional
END:VEVENT
BEGIN:VEVENT
DTSTART;TZID=America/New_York:20250713T080000
DTEND;TZID=America/New_York:20250713T091500
DTSTAMP:20260425T135753
CREATED:20250504T220126Z
LAST-MODIFIED:20260309T140604Z
UID:10032428-1752393600-1752398100@meetings.greysheet.org
SUMMARY:Soldiers & Sailors 12 & 12
DESCRIPTION:Step study meeting using the A.A. Twelve Steps and Twelve Traditions.
URL:https://meetings.greysheet.org/meeting/12-12-step/2025-07-13
CATEGORIES:Zoom
ATTACH;FMTTYPE=image/svg+xml:https://meetings.greysheet.org/wp-content/uploads/2025/05/desktop.svg
LOCATION:Zoom ID: 989206585, Passcode: Universal, Camera: Optional
END:VEVENT
BEGIN:VEVENT
DTSTART;TZID=America/New_York:20250706T080000
DTEND;TZID=America/New_York:20250706T091500
DTSTAMP:20260425T135753
CREATED:20250504T220126Z
LAST-MODIFIED:20260309T140604Z
UID:10032427-1751788800-1751793300@meetings.greysheet.org
SUMMARY:Soldiers & Sailors 12 & 12
DESCRIPTION:Step study meeting using the A.A. Twelve Steps and Twelve Traditions.
URL:https://meetings.greysheet.org/meeting/12-12-step/2025-07-06
CATEGORIES:Zoom
ATTACH;FMTTYPE=image/svg+xml:https://meetings.greysheet.org/wp-content/uploads/2025/05/desktop.svg
LOCATION:Zoom ID: 989206585, Passcode: Universal, Camera: Optional
END:VEVENT
BEGIN:VEVENT
DTSTART;TZID=America/New_York:20250629T080000
DTEND;TZID=America/New_York:20250629T091500
DTSTAMP:20260425T135753
CREATED:20250504T220126Z
LAST-MODIFIED:20260309T140604Z
UID:10032426-1751184000-1751188500@meetings.greysheet.org
SUMMARY:Soldiers & Sailors 12 & 12
DESCRIPTION:Step study meeting using the A.A. Twelve Steps and Twelve Traditions.
URL:https://meetings.greysheet.org/meeting/12-12-step/2025-06-29
CATEGORIES:Zoom
ATTACH;FMTTYPE=image/svg+xml:https://meetings.greysheet.org/wp-content/uploads/2025/05/desktop.svg
LOCATION:Zoom ID: 989206585, Passcode: Universal, Camera: Optional
END:VEVENT
BEGIN:VEVENT
DTSTART;TZID=America/New_York:20250622T080000
DTEND;TZID=America/New_York:20250622T091500
DTSTAMP:20260425T135753
CREATED:20250504T220126Z
LAST-MODIFIED:20260309T140604Z
UID:10032425-1750579200-1750583700@meetings.greysheet.org
SUMMARY:Soldiers & Sailors 12 & 12
DESCRIPTION:Step study meeting using the A.A. Twelve Steps and Twelve Traditions.
URL:https://meetings.greysheet.org/meeting/12-12-step/2025-06-22
CATEGORIES:Zoom
ATTACH;FMTTYPE=image/svg+xml:https://meetings.greysheet.org/wp-content/uploads/2025/05/desktop.svg
LOCATION:Zoom ID: 989206585, Passcode: Universal, Camera: Optional
END:VEVENT
BEGIN:VEVENT
DTSTART;TZID=America/New_York:20250615T080000
DTEND;TZID=America/New_York:20250615T091500
DTSTAMP:20260425T135753
CREATED:20250504T220126Z
LAST-MODIFIED:20260309T140604Z
UID:10032424-1749974400-1749978900@meetings.greysheet.org
SUMMARY:Soldiers & Sailors 12 & 12
DESCRIPTION:Step study meeting using the A.A. Twelve Steps and Twelve Traditions.
URL:https://meetings.greysheet.org/meeting/12-12-step/2025-06-15
CATEGORIES:Zoom
ATTACH;FMTTYPE=image/svg+xml:https://meetings.greysheet.org/wp-content/uploads/2025/05/desktop.svg
LOCATION:Zoom ID: 989206585, Passcode: Universal, Camera: Optional
END:VEVENT
BEGIN:VEVENT
DTSTART;TZID=America/New_York:20250608T080000
DTEND;TZID=America/New_York:20250608T091500
DTSTAMP:20260425T135753
CREATED:20250504T220126Z
LAST-MODIFIED:20260309T140604Z
UID:10032423-1749369600-1749374100@meetings.greysheet.org
SUMMARY:Soldiers & Sailors 12 & 12
DESCRIPTION:Step study meeting using the A.A. Twelve Steps and Twelve Traditions.
URL:https://meetings.greysheet.org/meeting/12-12-step/2025-06-08
CATEGORIES:Zoom
ATTACH;FMTTYPE=image/svg+xml:https://meetings.greysheet.org/wp-content/uploads/2025/05/desktop.svg
LOCATION:Zoom ID: 989206585, Passcode: Universal, Camera: Optional
END:VEVENT
BEGIN:VEVENT
DTSTART;TZID=America/New_York:20250601T080000
DTEND;TZID=America/New_York:20250601T091500
DTSTAMP:20260425T135753
CREATED:20250504T220126Z
LAST-MODIFIED:20260309T140604Z
UID:10032422-1748764800-1748769300@meetings.greysheet.org
SUMMARY:Soldiers & Sailors 12 & 12
DESCRIPTION:Step study meeting using the A.A. Twelve Steps and Twelve Traditions.
URL:https://meetings.greysheet.org/meeting/12-12-step/2025-06-01
CATEGORIES:Zoom
ATTACH;FMTTYPE=image/svg+xml:https://meetings.greysheet.org/wp-content/uploads/2025/05/desktop.svg
LOCATION:Zoom ID: 989206585, Passcode: Universal, Camera: Optional
END:VEVENT
BEGIN:VEVENT
DTSTART;TZID=America/New_York:20250525T080000
DTEND;TZID=America/New_York:20250525T091500
DTSTAMP:20260425T135753
CREATED:20250504T220126Z
LAST-MODIFIED:20260309T140604Z
UID:10032421-1748160000-1748164500@meetings.greysheet.org
SUMMARY:Soldiers & Sailors 12 & 12
DESCRIPTION:Step study meeting using the A.A. Twelve Steps and Twelve Traditions.
URL:https://meetings.greysheet.org/meeting/12-12-step/2025-05-25
CATEGORIES:Zoom
ATTACH;FMTTYPE=image/svg+xml:https://meetings.greysheet.org/wp-content/uploads/2025/05/desktop.svg
LOCATION:Zoom ID: 989206585, Passcode: Universal, Camera: Optional
END:VEVENT
BEGIN:VEVENT
DTSTART;TZID=America/New_York:20250518T080000
DTEND;TZID=America/New_York:20250518T091500
DTSTAMP:20260425T135753
CREATED:20250504T220126Z
LAST-MODIFIED:20260309T140604Z
UID:10032420-1747555200-1747559700@meetings.greysheet.org
SUMMARY:Soldiers & Sailors 12 & 12
DESCRIPTION:Step study meeting using the A.A. Twelve Steps and Twelve Traditions.
URL:https://meetings.greysheet.org/meeting/12-12-step/2025-05-18
CATEGORIES:Zoom
ATTACH;FMTTYPE=image/svg+xml:https://meetings.greysheet.org/wp-content/uploads/2025/05/desktop.svg
LOCATION:Zoom ID: 989206585, Passcode: Universal, Camera: Optional
END:VEVENT
BEGIN:VEVENT
DTSTART;TZID=America/New_York:20250511T080000
DTEND;TZID=America/New_York:20250511T091500
DTSTAMP:20260425T135753
CREATED:20250504T220126Z
LAST-MODIFIED:20260309T140604Z
UID:10021058-1746950400-1746954900@meetings.greysheet.org
SUMMARY:Soldiers & Sailors 12 & 12
DESCRIPTION:Step study meeting using the A.A. Twelve Steps and Twelve Traditions.
URL:https://meetings.greysheet.org/meeting/12-12-step/2025-05-11
CATEGORIES:Zoom
ATTACH;FMTTYPE=image/svg+xml:https://meetings.greysheet.org/wp-content/uploads/2025/05/desktop.svg
LOCATION:Zoom ID: 989206585, Passcode: Universal, Camera: Optional
END:VEVENT
END:VCALENDAR