BEGIN:VCALENDAR
VERSION:2.0
PRODID:-//GreySheeters Anonymous World Services - ECPv6.15.20//NONSGML v1.0//EN
CALSCALE:GREGORIAN
METHOD:PUBLISH
X-ORIGINAL-URL:https://meetings.greysheet.org
X-WR-CALDESC:Events for GreySheeters Anonymous World Services
REFRESH-INTERVAL;VALUE=DURATION:PT1H
X-Robots-Tag:noindex
X-PUBLISHED-TTL:PT1H
BEGIN:VTIMEZONE
TZID:America/New_York
BEGIN:DAYLIGHT
TZOFFSETFROM:-0500
TZOFFSETTO:-0400
TZNAME:EDT
DTSTART:20250309T070000
END:DAYLIGHT
BEGIN:STANDARD
TZOFFSETFROM:-0400
TZOFFSETTO:-0500
TZNAME:EST
DTSTART:20251102T060000
END:STANDARD
BEGIN:DAYLIGHT
TZOFFSETFROM:-0500
TZOFFSETTO:-0400
TZNAME:EDT
DTSTART:20260308T070000
END:DAYLIGHT
BEGIN:STANDARD
TZOFFSETFROM:-0400
TZOFFSETTO:-0500
TZNAME:EST
DTSTART:20261101T060000
END:STANDARD
BEGIN:DAYLIGHT
TZOFFSETFROM:-0500
TZOFFSETTO:-0400
TZNAME:EDT
DTSTART:20270314T070000
END:DAYLIGHT
BEGIN:STANDARD
TZOFFSETFROM:-0400
TZOFFSETTO:-0500
TZNAME:EST
DTSTART:20271107T060000
END:STANDARD
BEGIN:DAYLIGHT
TZOFFSETFROM:-0500
TZOFFSETTO:-0400
TZNAME:EDT
DTSTART:20280312T070000
END:DAYLIGHT
BEGIN:STANDARD
TZOFFSETFROM:-0400
TZOFFSETTO:-0500
TZNAME:EST
DTSTART:20281105T060000
END:STANDARD
END:VTIMEZONE
BEGIN:VEVENT
DTSTART;TZID=America/New_York:20261011T080000
DTEND;TZID=America/New_York:20261011T091500
DTSTAMP:20260421T105612
CREATED:20250504T220126Z
LAST-MODIFIED:20260309T140604Z
UID:10032493-1791705600-1791710100@meetings.greysheet.org
SUMMARY:Soldiers & Sailors 12 & 12
DESCRIPTION:Step study meeting using the A.A. Twelve Steps and Twelve Traditions.
URL:https://meetings.greysheet.org/meeting/12-12-step/2026-10-11
CATEGORIES:Zoom
ATTACH;FMTTYPE=image/svg+xml:https://meetings.greysheet.org/wp-content/uploads/2025/05/desktop.svg
LOCATION:Zoom ID: 989206585, Passcode: Universal, Camera: Optional
END:VEVENT
BEGIN:VEVENT
DTSTART;TZID=America/New_York:20261018T080000
DTEND;TZID=America/New_York:20261018T091500
DTSTAMP:20260421T105612
CREATED:20250504T220126Z
LAST-MODIFIED:20260309T140604Z
UID:10032494-1792310400-1792314900@meetings.greysheet.org
SUMMARY:Soldiers & Sailors 12 & 12
DESCRIPTION:Step study meeting using the A.A. Twelve Steps and Twelve Traditions.
URL:https://meetings.greysheet.org/meeting/12-12-step/2026-10-18
CATEGORIES:Zoom
ATTACH;FMTTYPE=image/svg+xml:https://meetings.greysheet.org/wp-content/uploads/2025/05/desktop.svg
LOCATION:Zoom ID: 989206585, Passcode: Universal, Camera: Optional
END:VEVENT
BEGIN:VEVENT
DTSTART;TZID=America/New_York:20261025T080000
DTEND;TZID=America/New_York:20261025T091500
DTSTAMP:20260421T105612
CREATED:20250504T220126Z
LAST-MODIFIED:20260309T140604Z
UID:10032495-1792915200-1792919700@meetings.greysheet.org
SUMMARY:Soldiers & Sailors 12 & 12
DESCRIPTION:Step study meeting using the A.A. Twelve Steps and Twelve Traditions.
URL:https://meetings.greysheet.org/meeting/12-12-step/2026-10-25
CATEGORIES:Zoom
ATTACH;FMTTYPE=image/svg+xml:https://meetings.greysheet.org/wp-content/uploads/2025/05/desktop.svg
LOCATION:Zoom ID: 989206585, Passcode: Universal, Camera: Optional
END:VEVENT
BEGIN:VEVENT
DTSTART;TZID=America/New_York:20261101T080000
DTEND;TZID=America/New_York:20261101T091500
DTSTAMP:20260421T105612
CREATED:20250504T220126Z
LAST-MODIFIED:20260309T140604Z
UID:10032496-1793520000-1793524500@meetings.greysheet.org
SUMMARY:Soldiers & Sailors 12 & 12
DESCRIPTION:Step study meeting using the A.A. Twelve Steps and Twelve Traditions.
URL:https://meetings.greysheet.org/meeting/12-12-step/2026-11-01
CATEGORIES:Zoom
ATTACH;FMTTYPE=image/svg+xml:https://meetings.greysheet.org/wp-content/uploads/2025/05/desktop.svg
LOCATION:Zoom ID: 989206585, Passcode: Universal, Camera: Optional
END:VEVENT
BEGIN:VEVENT
DTSTART;TZID=America/New_York:20261108T080000
DTEND;TZID=America/New_York:20261108T091500
DTSTAMP:20260421T105612
CREATED:20250504T220126Z
LAST-MODIFIED:20260309T140604Z
UID:10032497-1794124800-1794129300@meetings.greysheet.org
SUMMARY:Soldiers & Sailors 12 & 12
DESCRIPTION:Step study meeting using the A.A. Twelve Steps and Twelve Traditions.
URL:https://meetings.greysheet.org/meeting/12-12-step/2026-11-08
CATEGORIES:Zoom
ATTACH;FMTTYPE=image/svg+xml:https://meetings.greysheet.org/wp-content/uploads/2025/05/desktop.svg
LOCATION:Zoom ID: 989206585, Passcode: Universal, Camera: Optional
END:VEVENT
BEGIN:VEVENT
DTSTART;TZID=America/New_York:20261115T080000
DTEND;TZID=America/New_York:20261115T091500
DTSTAMP:20260421T105612
CREATED:20250504T220126Z
LAST-MODIFIED:20260309T140604Z
UID:10032498-1794729600-1794734100@meetings.greysheet.org
SUMMARY:Soldiers & Sailors 12 & 12
DESCRIPTION:Step study meeting using the A.A. Twelve Steps and Twelve Traditions.
URL:https://meetings.greysheet.org/meeting/12-12-step/2026-11-15
CATEGORIES:Zoom
ATTACH;FMTTYPE=image/svg+xml:https://meetings.greysheet.org/wp-content/uploads/2025/05/desktop.svg
LOCATION:Zoom ID: 989206585, Passcode: Universal, Camera: Optional
END:VEVENT
BEGIN:VEVENT
DTSTART;TZID=America/New_York:20261122T080000
DTEND;TZID=America/New_York:20261122T091500
DTSTAMP:20260421T105612
CREATED:20250504T220126Z
LAST-MODIFIED:20260309T140604Z
UID:10032499-1795334400-1795338900@meetings.greysheet.org
SUMMARY:Soldiers & Sailors 12 & 12
DESCRIPTION:Step study meeting using the A.A. Twelve Steps and Twelve Traditions.
URL:https://meetings.greysheet.org/meeting/12-12-step/2026-11-22
CATEGORIES:Zoom
ATTACH;FMTTYPE=image/svg+xml:https://meetings.greysheet.org/wp-content/uploads/2025/05/desktop.svg
LOCATION:Zoom ID: 989206585, Passcode: Universal, Camera: Optional
END:VEVENT
BEGIN:VEVENT
DTSTART;TZID=America/New_York:20261129T080000
DTEND;TZID=America/New_York:20261129T091500
DTSTAMP:20260421T105612
CREATED:20250504T220126Z
LAST-MODIFIED:20260309T140604Z
UID:10032500-1795939200-1795943700@meetings.greysheet.org
SUMMARY:Soldiers & Sailors 12 & 12
DESCRIPTION:Step study meeting using the A.A. Twelve Steps and Twelve Traditions.
URL:https://meetings.greysheet.org/meeting/12-12-step/2026-11-29
CATEGORIES:Zoom
ATTACH;FMTTYPE=image/svg+xml:https://meetings.greysheet.org/wp-content/uploads/2025/05/desktop.svg
LOCATION:Zoom ID: 989206585, Passcode: Universal, Camera: Optional
END:VEVENT
BEGIN:VEVENT
DTSTART;TZID=America/New_York:20261206T080000
DTEND;TZID=America/New_York:20261206T091500
DTSTAMP:20260421T105612
CREATED:20250504T220126Z
LAST-MODIFIED:20260309T140604Z
UID:10032501-1796544000-1796548500@meetings.greysheet.org
SUMMARY:Soldiers & Sailors 12 & 12
DESCRIPTION:Step study meeting using the A.A. Twelve Steps and Twelve Traditions.
URL:https://meetings.greysheet.org/meeting/12-12-step/2026-12-06
CATEGORIES:Zoom
ATTACH;FMTTYPE=image/svg+xml:https://meetings.greysheet.org/wp-content/uploads/2025/05/desktop.svg
LOCATION:Zoom ID: 989206585, Passcode: Universal, Camera: Optional
END:VEVENT
BEGIN:VEVENT
DTSTART;TZID=America/New_York:20261213T080000
DTEND;TZID=America/New_York:20261213T091500
DTSTAMP:20260421T105612
CREATED:20250504T220126Z
LAST-MODIFIED:20260309T140604Z
UID:10032502-1797148800-1797153300@meetings.greysheet.org
SUMMARY:Soldiers & Sailors 12 & 12
DESCRIPTION:Step study meeting using the A.A. Twelve Steps and Twelve Traditions.
URL:https://meetings.greysheet.org/meeting/12-12-step/2026-12-13
CATEGORIES:Zoom
ATTACH;FMTTYPE=image/svg+xml:https://meetings.greysheet.org/wp-content/uploads/2025/05/desktop.svg
LOCATION:Zoom ID: 989206585, Passcode: Universal, Camera: Optional
END:VEVENT
BEGIN:VEVENT
DTSTART;TZID=America/New_York:20261220T080000
DTEND;TZID=America/New_York:20261220T091500
DTSTAMP:20260421T105612
CREATED:20250504T220126Z
LAST-MODIFIED:20260309T140604Z
UID:10032503-1797753600-1797758100@meetings.greysheet.org
SUMMARY:Soldiers & Sailors 12 & 12
DESCRIPTION:Step study meeting using the A.A. Twelve Steps and Twelve Traditions.
URL:https://meetings.greysheet.org/meeting/12-12-step/2026-12-20
CATEGORIES:Zoom
ATTACH;FMTTYPE=image/svg+xml:https://meetings.greysheet.org/wp-content/uploads/2025/05/desktop.svg
LOCATION:Zoom ID: 989206585, Passcode: Universal, Camera: Optional
END:VEVENT
BEGIN:VEVENT
DTSTART;TZID=America/New_York:20261227T080000
DTEND;TZID=America/New_York:20261227T091500
DTSTAMP:20260421T105612
CREATED:20250504T220126Z
LAST-MODIFIED:20260309T140604Z
UID:10032504-1798358400-1798362900@meetings.greysheet.org
SUMMARY:Soldiers & Sailors 12 & 12
DESCRIPTION:Step study meeting using the A.A. Twelve Steps and Twelve Traditions.
URL:https://meetings.greysheet.org/meeting/12-12-step/2026-12-27
CATEGORIES:Zoom
ATTACH;FMTTYPE=image/svg+xml:https://meetings.greysheet.org/wp-content/uploads/2025/05/desktop.svg
LOCATION:Zoom ID: 989206585, Passcode: Universal, Camera: Optional
END:VEVENT
BEGIN:VEVENT
DTSTART;TZID=America/New_York:20270103T080000
DTEND;TZID=America/New_York:20270103T091500
DTSTAMP:20260421T105612
CREATED:20250504T220126Z
LAST-MODIFIED:20260309T140604Z
UID:10032505-1798963200-1798967700@meetings.greysheet.org
SUMMARY:Soldiers & Sailors 12 & 12
DESCRIPTION:Step study meeting using the A.A. Twelve Steps and Twelve Traditions.
URL:https://meetings.greysheet.org/meeting/12-12-step/2027-01-03
CATEGORIES:Zoom
ATTACH;FMTTYPE=image/svg+xml:https://meetings.greysheet.org/wp-content/uploads/2025/05/desktop.svg
LOCATION:Zoom ID: 989206585, Passcode: Universal, Camera: Optional
END:VEVENT
BEGIN:VEVENT
DTSTART;TZID=America/New_York:20270110T080000
DTEND;TZID=America/New_York:20270110T091500
DTSTAMP:20260421T105612
CREATED:20250504T220126Z
LAST-MODIFIED:20260309T140604Z
UID:10032506-1799568000-1799572500@meetings.greysheet.org
SUMMARY:Soldiers & Sailors 12 & 12
DESCRIPTION:Step study meeting using the A.A. Twelve Steps and Twelve Traditions.
URL:https://meetings.greysheet.org/meeting/12-12-step/2027-01-10
CATEGORIES:Zoom
ATTACH;FMTTYPE=image/svg+xml:https://meetings.greysheet.org/wp-content/uploads/2025/05/desktop.svg
LOCATION:Zoom ID: 989206585, Passcode: Universal, Camera: Optional
END:VEVENT
BEGIN:VEVENT
DTSTART;TZID=America/New_York:20270117T080000
DTEND;TZID=America/New_York:20270117T091500
DTSTAMP:20260421T105612
CREATED:20250504T220126Z
LAST-MODIFIED:20260309T140604Z
UID:10032507-1800172800-1800177300@meetings.greysheet.org
SUMMARY:Soldiers & Sailors 12 & 12
DESCRIPTION:Step study meeting using the A.A. Twelve Steps and Twelve Traditions.
URL:https://meetings.greysheet.org/meeting/12-12-step/2027-01-17
CATEGORIES:Zoom
ATTACH;FMTTYPE=image/svg+xml:https://meetings.greysheet.org/wp-content/uploads/2025/05/desktop.svg
LOCATION:Zoom ID: 989206585, Passcode: Universal, Camera: Optional
END:VEVENT
BEGIN:VEVENT
DTSTART;TZID=America/New_York:20270124T080000
DTEND;TZID=America/New_York:20270124T091500
DTSTAMP:20260421T105612
CREATED:20250504T220126Z
LAST-MODIFIED:20260309T140604Z
UID:10032508-1800777600-1800782100@meetings.greysheet.org
SUMMARY:Soldiers & Sailors 12 & 12
DESCRIPTION:Step study meeting using the A.A. Twelve Steps and Twelve Traditions.
URL:https://meetings.greysheet.org/meeting/12-12-step/2027-01-24
CATEGORIES:Zoom
ATTACH;FMTTYPE=image/svg+xml:https://meetings.greysheet.org/wp-content/uploads/2025/05/desktop.svg
LOCATION:Zoom ID: 989206585, Passcode: Universal, Camera: Optional
END:VEVENT
BEGIN:VEVENT
DTSTART;TZID=America/New_York:20270131T080000
DTEND;TZID=America/New_York:20270131T091500
DTSTAMP:20260421T105612
CREATED:20250504T220126Z
LAST-MODIFIED:20260309T140604Z
UID:10032509-1801382400-1801386900@meetings.greysheet.org
SUMMARY:Soldiers & Sailors 12 & 12
DESCRIPTION:Step study meeting using the A.A. Twelve Steps and Twelve Traditions.
URL:https://meetings.greysheet.org/meeting/12-12-step/2027-01-31
CATEGORIES:Zoom
ATTACH;FMTTYPE=image/svg+xml:https://meetings.greysheet.org/wp-content/uploads/2025/05/desktop.svg
LOCATION:Zoom ID: 989206585, Passcode: Universal, Camera: Optional
END:VEVENT
BEGIN:VEVENT
DTSTART;TZID=America/New_York:20270207T080000
DTEND;TZID=America/New_York:20270207T091500
DTSTAMP:20260421T105612
CREATED:20250504T220126Z
LAST-MODIFIED:20260309T140604Z
UID:10032510-1801987200-1801991700@meetings.greysheet.org
SUMMARY:Soldiers & Sailors 12 & 12
DESCRIPTION:Step study meeting using the A.A. Twelve Steps and Twelve Traditions.
URL:https://meetings.greysheet.org/meeting/12-12-step/2027-02-07
CATEGORIES:Zoom
ATTACH;FMTTYPE=image/svg+xml:https://meetings.greysheet.org/wp-content/uploads/2025/05/desktop.svg
LOCATION:Zoom ID: 989206585, Passcode: Universal, Camera: Optional
END:VEVENT
BEGIN:VEVENT
DTSTART;TZID=America/New_York:20270214T080000
DTEND;TZID=America/New_York:20270214T091500
DTSTAMP:20260421T105612
CREATED:20250504T220126Z
LAST-MODIFIED:20260309T140604Z
UID:10032511-1802592000-1802596500@meetings.greysheet.org
SUMMARY:Soldiers & Sailors 12 & 12
DESCRIPTION:Step study meeting using the A.A. Twelve Steps and Twelve Traditions.
URL:https://meetings.greysheet.org/meeting/12-12-step/2027-02-14
CATEGORIES:Zoom
ATTACH;FMTTYPE=image/svg+xml:https://meetings.greysheet.org/wp-content/uploads/2025/05/desktop.svg
LOCATION:Zoom ID: 989206585, Passcode: Universal, Camera: Optional
END:VEVENT
BEGIN:VEVENT
DTSTART;TZID=America/New_York:20270221T080000
DTEND;TZID=America/New_York:20270221T091500
DTSTAMP:20260421T105612
CREATED:20250504T220126Z
LAST-MODIFIED:20260309T140604Z
UID:10032512-1803196800-1803201300@meetings.greysheet.org
SUMMARY:Soldiers & Sailors 12 & 12
DESCRIPTION:Step study meeting using the A.A. Twelve Steps and Twelve Traditions.
URL:https://meetings.greysheet.org/meeting/12-12-step/2027-02-21
CATEGORIES:Zoom
ATTACH;FMTTYPE=image/svg+xml:https://meetings.greysheet.org/wp-content/uploads/2025/05/desktop.svg
LOCATION:Zoom ID: 989206585, Passcode: Universal, Camera: Optional
END:VEVENT
BEGIN:VEVENT
DTSTART;TZID=America/New_York:20270228T080000
DTEND;TZID=America/New_York:20270228T091500
DTSTAMP:20260421T105612
CREATED:20250504T220126Z
LAST-MODIFIED:20260309T140604Z
UID:10032513-1803801600-1803806100@meetings.greysheet.org
SUMMARY:Soldiers & Sailors 12 & 12
DESCRIPTION:Step study meeting using the A.A. Twelve Steps and Twelve Traditions.
URL:https://meetings.greysheet.org/meeting/12-12-step/2027-02-28
CATEGORIES:Zoom
ATTACH;FMTTYPE=image/svg+xml:https://meetings.greysheet.org/wp-content/uploads/2025/05/desktop.svg
LOCATION:Zoom ID: 989206585, Passcode: Universal, Camera: Optional
END:VEVENT
BEGIN:VEVENT
DTSTART;TZID=America/New_York:20270307T080000
DTEND;TZID=America/New_York:20270307T091500
DTSTAMP:20260421T105612
CREATED:20250504T220126Z
LAST-MODIFIED:20260309T140604Z
UID:10032514-1804406400-1804410900@meetings.greysheet.org
SUMMARY:Soldiers & Sailors 12 & 12
DESCRIPTION:Step study meeting using the A.A. Twelve Steps and Twelve Traditions.
URL:https://meetings.greysheet.org/meeting/12-12-step/2027-03-07
CATEGORIES:Zoom
ATTACH;FMTTYPE=image/svg+xml:https://meetings.greysheet.org/wp-content/uploads/2025/05/desktop.svg
LOCATION:Zoom ID: 989206585, Passcode: Universal, Camera: Optional
END:VEVENT
BEGIN:VEVENT
DTSTART;TZID=America/New_York:20270314T080000
DTEND;TZID=America/New_York:20270314T091500
DTSTAMP:20260421T105612
CREATED:20250504T220126Z
LAST-MODIFIED:20260309T140604Z
UID:10032515-1805011200-1805015700@meetings.greysheet.org
SUMMARY:Soldiers & Sailors 12 & 12
DESCRIPTION:Step study meeting using the A.A. Twelve Steps and Twelve Traditions.
URL:https://meetings.greysheet.org/meeting/12-12-step/2027-03-14
CATEGORIES:Zoom
ATTACH;FMTTYPE=image/svg+xml:https://meetings.greysheet.org/wp-content/uploads/2025/05/desktop.svg
LOCATION:Zoom ID: 989206585, Passcode: Universal, Camera: Optional
END:VEVENT
BEGIN:VEVENT
DTSTART;TZID=America/New_York:20270321T080000
DTEND;TZID=America/New_York:20270321T091500
DTSTAMP:20260421T105612
CREATED:20250504T220126Z
LAST-MODIFIED:20260309T140604Z
UID:10032516-1805616000-1805620500@meetings.greysheet.org
SUMMARY:Soldiers & Sailors 12 & 12
DESCRIPTION:Step study meeting using the A.A. Twelve Steps and Twelve Traditions.
URL:https://meetings.greysheet.org/meeting/12-12-step/2027-03-21
CATEGORIES:Zoom
ATTACH;FMTTYPE=image/svg+xml:https://meetings.greysheet.org/wp-content/uploads/2025/05/desktop.svg
LOCATION:Zoom ID: 989206585, Passcode: Universal, Camera: Optional
END:VEVENT
BEGIN:VEVENT
DTSTART;TZID=America/New_York:20270328T080000
DTEND;TZID=America/New_York:20270328T091500
DTSTAMP:20260421T105612
CREATED:20250504T220126Z
LAST-MODIFIED:20260309T140604Z
UID:10032517-1806220800-1806225300@meetings.greysheet.org
SUMMARY:Soldiers & Sailors 12 & 12
DESCRIPTION:Step study meeting using the A.A. Twelve Steps and Twelve Traditions.
URL:https://meetings.greysheet.org/meeting/12-12-step/2027-03-28
CATEGORIES:Zoom
ATTACH;FMTTYPE=image/svg+xml:https://meetings.greysheet.org/wp-content/uploads/2025/05/desktop.svg
LOCATION:Zoom ID: 989206585, Passcode: Universal, Camera: Optional
END:VEVENT
BEGIN:VEVENT
DTSTART;TZID=America/New_York:20270404T080000
DTEND;TZID=America/New_York:20270404T091500
DTSTAMP:20260421T105612
CREATED:20250504T220126Z
LAST-MODIFIED:20260309T140604Z
UID:10032518-1806825600-1806830100@meetings.greysheet.org
SUMMARY:Soldiers & Sailors 12 & 12
DESCRIPTION:Step study meeting using the A.A. Twelve Steps and Twelve Traditions.
URL:https://meetings.greysheet.org/meeting/12-12-step/2027-04-04
CATEGORIES:Zoom
ATTACH;FMTTYPE=image/svg+xml:https://meetings.greysheet.org/wp-content/uploads/2025/05/desktop.svg
LOCATION:Zoom ID: 989206585, Passcode: Universal, Camera: Optional
END:VEVENT
BEGIN:VEVENT
DTSTART;TZID=America/New_York:20270411T080000
DTEND;TZID=America/New_York:20270411T091500
DTSTAMP:20260421T105612
CREATED:20250504T220126Z
LAST-MODIFIED:20260309T140604Z
UID:10032519-1807430400-1807434900@meetings.greysheet.org
SUMMARY:Soldiers & Sailors 12 & 12
DESCRIPTION:Step study meeting using the A.A. Twelve Steps and Twelve Traditions.
URL:https://meetings.greysheet.org/meeting/12-12-step/2027-04-11
CATEGORIES:Zoom
ATTACH;FMTTYPE=image/svg+xml:https://meetings.greysheet.org/wp-content/uploads/2025/05/desktop.svg
LOCATION:Zoom ID: 989206585, Passcode: Universal, Camera: Optional
END:VEVENT
BEGIN:VEVENT
DTSTART;TZID=America/New_York:20270418T080000
DTEND;TZID=America/New_York:20270418T091500
DTSTAMP:20260421T105612
CREATED:20250504T220126Z
LAST-MODIFIED:20260309T140604Z
UID:10032520-1808035200-1808039700@meetings.greysheet.org
SUMMARY:Soldiers & Sailors 12 & 12
DESCRIPTION:Step study meeting using the A.A. Twelve Steps and Twelve Traditions.
URL:https://meetings.greysheet.org/meeting/12-12-step/2027-04-18
CATEGORIES:Zoom
ATTACH;FMTTYPE=image/svg+xml:https://meetings.greysheet.org/wp-content/uploads/2025/05/desktop.svg
LOCATION:Zoom ID: 989206585, Passcode: Universal, Camera: Optional
END:VEVENT
BEGIN:VEVENT
DTSTART;TZID=America/New_York:20270425T080000
DTEND;TZID=America/New_York:20270425T091500
DTSTAMP:20260421T105612
CREATED:20250504T220126Z
LAST-MODIFIED:20260309T140604Z
UID:10032521-1808640000-1808644500@meetings.greysheet.org
SUMMARY:Soldiers & Sailors 12 & 12
DESCRIPTION:Step study meeting using the A.A. Twelve Steps and Twelve Traditions.
URL:https://meetings.greysheet.org/meeting/12-12-step/2027-04-25
CATEGORIES:Zoom
ATTACH;FMTTYPE=image/svg+xml:https://meetings.greysheet.org/wp-content/uploads/2025/05/desktop.svg
LOCATION:Zoom ID: 989206585, Passcode: Universal, Camera: Optional
END:VEVENT
BEGIN:VEVENT
DTSTART;TZID=America/New_York:20270502T080000
DTEND;TZID=America/New_York:20270502T091500
DTSTAMP:20260421T105612
CREATED:20250504T220126Z
LAST-MODIFIED:20260309T140604Z
UID:10032522-1809244800-1809249300@meetings.greysheet.org
SUMMARY:Soldiers & Sailors 12 & 12
DESCRIPTION:Step study meeting using the A.A. Twelve Steps and Twelve Traditions.
URL:https://meetings.greysheet.org/meeting/12-12-step/2027-05-02
CATEGORIES:Zoom
ATTACH;FMTTYPE=image/svg+xml:https://meetings.greysheet.org/wp-content/uploads/2025/05/desktop.svg
LOCATION:Zoom ID: 989206585, Passcode: Universal, Camera: Optional
END:VEVENT
END:VCALENDAR