BEGIN:VCALENDAR
VERSION:2.0
PRODID:-//GreySheeters Anonymous World Services - ECPv6.15.20//NONSGML v1.0//EN
CALSCALE:GREGORIAN
METHOD:PUBLISH
X-WR-CALNAME:GreySheeters Anonymous World Services
X-ORIGINAL-URL:https://meetings.greysheet.org
X-WR-CALDESC:Events for GreySheeters Anonymous World Services
REFRESH-INTERVAL;VALUE=DURATION:PT1H
X-Robots-Tag:noindex
X-PUBLISHED-TTL:PT1H
BEGIN:VTIMEZONE
TZID:America/New_York
BEGIN:DAYLIGHT
TZOFFSETFROM:-0500
TZOFFSETTO:-0400
TZNAME:EDT
DTSTART:20260308T070000
END:DAYLIGHT
BEGIN:STANDARD
TZOFFSETFROM:-0400
TZOFFSETTO:-0500
TZNAME:EST
DTSTART:20261101T060000
END:STANDARD
BEGIN:DAYLIGHT
TZOFFSETFROM:-0500
TZOFFSETTO:-0400
TZNAME:EDT
DTSTART:20270314T070000
END:DAYLIGHT
BEGIN:STANDARD
TZOFFSETFROM:-0400
TZOFFSETTO:-0500
TZNAME:EST
DTSTART:20271107T060000
END:STANDARD
BEGIN:DAYLIGHT
TZOFFSETFROM:-0500
TZOFFSETTO:-0400
TZNAME:EDT
DTSTART:20280312T070000
END:DAYLIGHT
BEGIN:STANDARD
TZOFFSETFROM:-0400
TZOFFSETTO:-0500
TZNAME:EST
DTSTART:20281105T060000
END:STANDARD
END:VTIMEZONE
BEGIN:VEVENT
DTSTART;TZID=America/New_York:20270109T100000
DTEND;TZID=America/New_York:20270109T110000
DTSTAMP:20260425T214925
CREATED:20260306T212328Z
LAST-MODIFIED:20260306T212427Z
UID:10065971-1799488800-1799492400@meetings.greysheet.org
SUMMARY:Saturday Seekers GSA
DESCRIPTION:Face-to Face GreySheet meeting for those who seek the Sunlight of the Spirit through GreySheet abstinence.
URL:https://meetings.greysheet.org/meeting/saturday-seekers-gsa/2027-01-09
LOCATION:Good Shepherd Lutheran Church\, 3434 Hempstead Turnpike\, Levittown\, NY\, 11756\, United States
CATEGORIES:In Person
ATTACH;FMTTYPE=image/svg+xml:https://meetings.greysheet.org/wp-content/uploads/2025/05/map-pin.svg
GEO:40.7251737;-73.5092093
X-APPLE-STRUCTURED-LOCATION;VALUE=URI;X-ADDRESS=Good Shepherd Lutheran Church 3434 Hempstead Turnpike Levittown NY 11756 United States;X-APPLE-RADIUS=500;X-TITLE=3434 Hempstead Turnpike:geo:-73.5092093,40.7251737
END:VEVENT
BEGIN:VEVENT
DTSTART;TZID=America/New_York:20270116T100000
DTEND;TZID=America/New_York:20270116T110000
DTSTAMP:20260425T214925
CREATED:20260306T212328Z
LAST-MODIFIED:20260306T212427Z
UID:10065972-1800093600-1800097200@meetings.greysheet.org
SUMMARY:Saturday Seekers GSA
DESCRIPTION:Face-to Face GreySheet meeting for those who seek the Sunlight of the Spirit through GreySheet abstinence.
URL:https://meetings.greysheet.org/meeting/saturday-seekers-gsa/2027-01-16
LOCATION:Good Shepherd Lutheran Church\, 3434 Hempstead Turnpike\, Levittown\, NY\, 11756\, United States
CATEGORIES:In Person
ATTACH;FMTTYPE=image/svg+xml:https://meetings.greysheet.org/wp-content/uploads/2025/05/map-pin.svg
GEO:40.7251737;-73.5092093
X-APPLE-STRUCTURED-LOCATION;VALUE=URI;X-ADDRESS=Good Shepherd Lutheran Church 3434 Hempstead Turnpike Levittown NY 11756 United States;X-APPLE-RADIUS=500;X-TITLE=3434 Hempstead Turnpike:geo:-73.5092093,40.7251737
END:VEVENT
BEGIN:VEVENT
DTSTART;TZID=America/New_York:20270123T100000
DTEND;TZID=America/New_York:20270123T110000
DTSTAMP:20260425T214925
CREATED:20260306T212328Z
LAST-MODIFIED:20260306T212427Z
UID:10065973-1800698400-1800702000@meetings.greysheet.org
SUMMARY:Saturday Seekers GSA
DESCRIPTION:Face-to Face GreySheet meeting for those who seek the Sunlight of the Spirit through GreySheet abstinence.
URL:https://meetings.greysheet.org/meeting/saturday-seekers-gsa/2027-01-23
LOCATION:Good Shepherd Lutheran Church\, 3434 Hempstead Turnpike\, Levittown\, NY\, 11756\, United States
CATEGORIES:In Person
ATTACH;FMTTYPE=image/svg+xml:https://meetings.greysheet.org/wp-content/uploads/2025/05/map-pin.svg
GEO:40.7251737;-73.5092093
X-APPLE-STRUCTURED-LOCATION;VALUE=URI;X-ADDRESS=Good Shepherd Lutheran Church 3434 Hempstead Turnpike Levittown NY 11756 United States;X-APPLE-RADIUS=500;X-TITLE=3434 Hempstead Turnpike:geo:-73.5092093,40.7251737
END:VEVENT
BEGIN:VEVENT
DTSTART;TZID=America/New_York:20270130T100000
DTEND;TZID=America/New_York:20270130T110000
DTSTAMP:20260425T214925
CREATED:20260306T212328Z
LAST-MODIFIED:20260306T212427Z
UID:10065974-1801303200-1801306800@meetings.greysheet.org
SUMMARY:Saturday Seekers GSA
DESCRIPTION:Face-to Face GreySheet meeting for those who seek the Sunlight of the Spirit through GreySheet abstinence.
URL:https://meetings.greysheet.org/meeting/saturday-seekers-gsa/2027-01-30
LOCATION:Good Shepherd Lutheran Church\, 3434 Hempstead Turnpike\, Levittown\, NY\, 11756\, United States
CATEGORIES:In Person
ATTACH;FMTTYPE=image/svg+xml:https://meetings.greysheet.org/wp-content/uploads/2025/05/map-pin.svg
GEO:40.7251737;-73.5092093
X-APPLE-STRUCTURED-LOCATION;VALUE=URI;X-ADDRESS=Good Shepherd Lutheran Church 3434 Hempstead Turnpike Levittown NY 11756 United States;X-APPLE-RADIUS=500;X-TITLE=3434 Hempstead Turnpike:geo:-73.5092093,40.7251737
END:VEVENT
BEGIN:VEVENT
DTSTART;TZID=America/New_York:20270206T100000
DTEND;TZID=America/New_York:20270206T110000
DTSTAMP:20260425T214925
CREATED:20260306T212328Z
LAST-MODIFIED:20260306T212427Z
UID:10065975-1801908000-1801911600@meetings.greysheet.org
SUMMARY:Saturday Seekers GSA
DESCRIPTION:Face-to Face GreySheet meeting for those who seek the Sunlight of the Spirit through GreySheet abstinence.
URL:https://meetings.greysheet.org/meeting/saturday-seekers-gsa/2027-02-06
LOCATION:Good Shepherd Lutheran Church\, 3434 Hempstead Turnpike\, Levittown\, NY\, 11756\, United States
CATEGORIES:In Person
ATTACH;FMTTYPE=image/svg+xml:https://meetings.greysheet.org/wp-content/uploads/2025/05/map-pin.svg
GEO:40.7251737;-73.5092093
X-APPLE-STRUCTURED-LOCATION;VALUE=URI;X-ADDRESS=Good Shepherd Lutheran Church 3434 Hempstead Turnpike Levittown NY 11756 United States;X-APPLE-RADIUS=500;X-TITLE=3434 Hempstead Turnpike:geo:-73.5092093,40.7251737
END:VEVENT
BEGIN:VEVENT
DTSTART;TZID=America/New_York:20270213T100000
DTEND;TZID=America/New_York:20270213T110000
DTSTAMP:20260425T214925
CREATED:20260306T212328Z
LAST-MODIFIED:20260306T212427Z
UID:10065976-1802512800-1802516400@meetings.greysheet.org
SUMMARY:Saturday Seekers GSA
DESCRIPTION:Face-to Face GreySheet meeting for those who seek the Sunlight of the Spirit through GreySheet abstinence.
URL:https://meetings.greysheet.org/meeting/saturday-seekers-gsa/2027-02-13
LOCATION:Good Shepherd Lutheran Church\, 3434 Hempstead Turnpike\, Levittown\, NY\, 11756\, United States
CATEGORIES:In Person
ATTACH;FMTTYPE=image/svg+xml:https://meetings.greysheet.org/wp-content/uploads/2025/05/map-pin.svg
GEO:40.7251737;-73.5092093
X-APPLE-STRUCTURED-LOCATION;VALUE=URI;X-ADDRESS=Good Shepherd Lutheran Church 3434 Hempstead Turnpike Levittown NY 11756 United States;X-APPLE-RADIUS=500;X-TITLE=3434 Hempstead Turnpike:geo:-73.5092093,40.7251737
END:VEVENT
BEGIN:VEVENT
DTSTART;TZID=America/New_York:20270220T100000
DTEND;TZID=America/New_York:20270220T110000
DTSTAMP:20260425T214925
CREATED:20260306T212328Z
LAST-MODIFIED:20260306T212427Z
UID:10065977-1803117600-1803121200@meetings.greysheet.org
SUMMARY:Saturday Seekers GSA
DESCRIPTION:Face-to Face GreySheet meeting for those who seek the Sunlight of the Spirit through GreySheet abstinence.
URL:https://meetings.greysheet.org/meeting/saturday-seekers-gsa/2027-02-20
LOCATION:Good Shepherd Lutheran Church\, 3434 Hempstead Turnpike\, Levittown\, NY\, 11756\, United States
CATEGORIES:In Person
ATTACH;FMTTYPE=image/svg+xml:https://meetings.greysheet.org/wp-content/uploads/2025/05/map-pin.svg
GEO:40.7251737;-73.5092093
X-APPLE-STRUCTURED-LOCATION;VALUE=URI;X-ADDRESS=Good Shepherd Lutheran Church 3434 Hempstead Turnpike Levittown NY 11756 United States;X-APPLE-RADIUS=500;X-TITLE=3434 Hempstead Turnpike:geo:-73.5092093,40.7251737
END:VEVENT
BEGIN:VEVENT
DTSTART;TZID=America/New_York:20270227T100000
DTEND;TZID=America/New_York:20270227T110000
DTSTAMP:20260425T214925
CREATED:20260306T212328Z
LAST-MODIFIED:20260306T212427Z
UID:10065978-1803722400-1803726000@meetings.greysheet.org
SUMMARY:Saturday Seekers GSA
DESCRIPTION:Face-to Face GreySheet meeting for those who seek the Sunlight of the Spirit through GreySheet abstinence.
URL:https://meetings.greysheet.org/meeting/saturday-seekers-gsa/2027-02-27
LOCATION:Good Shepherd Lutheran Church\, 3434 Hempstead Turnpike\, Levittown\, NY\, 11756\, United States
CATEGORIES:In Person
ATTACH;FMTTYPE=image/svg+xml:https://meetings.greysheet.org/wp-content/uploads/2025/05/map-pin.svg
GEO:40.7251737;-73.5092093
X-APPLE-STRUCTURED-LOCATION;VALUE=URI;X-ADDRESS=Good Shepherd Lutheran Church 3434 Hempstead Turnpike Levittown NY 11756 United States;X-APPLE-RADIUS=500;X-TITLE=3434 Hempstead Turnpike:geo:-73.5092093,40.7251737
END:VEVENT
BEGIN:VEVENT
DTSTART;TZID=America/New_York:20270306T100000
DTEND;TZID=America/New_York:20270306T110000
DTSTAMP:20260425T214925
CREATED:20260306T212328Z
LAST-MODIFIED:20260306T212427Z
UID:10065979-1804327200-1804330800@meetings.greysheet.org
SUMMARY:Saturday Seekers GSA
DESCRIPTION:Face-to Face GreySheet meeting for those who seek the Sunlight of the Spirit through GreySheet abstinence.
URL:https://meetings.greysheet.org/meeting/saturday-seekers-gsa/2027-03-06
LOCATION:Good Shepherd Lutheran Church\, 3434 Hempstead Turnpike\, Levittown\, NY\, 11756\, United States
CATEGORIES:In Person
ATTACH;FMTTYPE=image/svg+xml:https://meetings.greysheet.org/wp-content/uploads/2025/05/map-pin.svg
GEO:40.7251737;-73.5092093
X-APPLE-STRUCTURED-LOCATION;VALUE=URI;X-ADDRESS=Good Shepherd Lutheran Church 3434 Hempstead Turnpike Levittown NY 11756 United States;X-APPLE-RADIUS=500;X-TITLE=3434 Hempstead Turnpike:geo:-73.5092093,40.7251737
END:VEVENT
BEGIN:VEVENT
DTSTART;TZID=America/New_York:20270313T100000
DTEND;TZID=America/New_York:20270313T110000
DTSTAMP:20260425T214925
CREATED:20260306T212328Z
LAST-MODIFIED:20260306T212427Z
UID:10065980-1804932000-1804935600@meetings.greysheet.org
SUMMARY:Saturday Seekers GSA
DESCRIPTION:Face-to Face GreySheet meeting for those who seek the Sunlight of the Spirit through GreySheet abstinence.
URL:https://meetings.greysheet.org/meeting/saturday-seekers-gsa/2027-03-13
LOCATION:Good Shepherd Lutheran Church\, 3434 Hempstead Turnpike\, Levittown\, NY\, 11756\, United States
CATEGORIES:In Person
ATTACH;FMTTYPE=image/svg+xml:https://meetings.greysheet.org/wp-content/uploads/2025/05/map-pin.svg
GEO:40.7251737;-73.5092093
X-APPLE-STRUCTURED-LOCATION;VALUE=URI;X-ADDRESS=Good Shepherd Lutheran Church 3434 Hempstead Turnpike Levittown NY 11756 United States;X-APPLE-RADIUS=500;X-TITLE=3434 Hempstead Turnpike:geo:-73.5092093,40.7251737
END:VEVENT
BEGIN:VEVENT
DTSTART;TZID=America/New_York:20270320T100000
DTEND;TZID=America/New_York:20270320T110000
DTSTAMP:20260425T214925
CREATED:20260306T212328Z
LAST-MODIFIED:20260306T212427Z
UID:10065981-1805536800-1805540400@meetings.greysheet.org
SUMMARY:Saturday Seekers GSA
DESCRIPTION:Face-to Face GreySheet meeting for those who seek the Sunlight of the Spirit through GreySheet abstinence.
URL:https://meetings.greysheet.org/meeting/saturday-seekers-gsa/2027-03-20
LOCATION:Good Shepherd Lutheran Church\, 3434 Hempstead Turnpike\, Levittown\, NY\, 11756\, United States
CATEGORIES:In Person
ATTACH;FMTTYPE=image/svg+xml:https://meetings.greysheet.org/wp-content/uploads/2025/05/map-pin.svg
GEO:40.7251737;-73.5092093
X-APPLE-STRUCTURED-LOCATION;VALUE=URI;X-ADDRESS=Good Shepherd Lutheran Church 3434 Hempstead Turnpike Levittown NY 11756 United States;X-APPLE-RADIUS=500;X-TITLE=3434 Hempstead Turnpike:geo:-73.5092093,40.7251737
END:VEVENT
BEGIN:VEVENT
DTSTART;TZID=America/New_York:20270327T100000
DTEND;TZID=America/New_York:20270327T110000
DTSTAMP:20260425T214925
CREATED:20260306T212328Z
LAST-MODIFIED:20260306T212427Z
UID:10065982-1806141600-1806145200@meetings.greysheet.org
SUMMARY:Saturday Seekers GSA
DESCRIPTION:Face-to Face GreySheet meeting for those who seek the Sunlight of the Spirit through GreySheet abstinence.
URL:https://meetings.greysheet.org/meeting/saturday-seekers-gsa/2027-03-27
LOCATION:Good Shepherd Lutheran Church\, 3434 Hempstead Turnpike\, Levittown\, NY\, 11756\, United States
CATEGORIES:In Person
ATTACH;FMTTYPE=image/svg+xml:https://meetings.greysheet.org/wp-content/uploads/2025/05/map-pin.svg
GEO:40.7251737;-73.5092093
X-APPLE-STRUCTURED-LOCATION;VALUE=URI;X-ADDRESS=Good Shepherd Lutheran Church 3434 Hempstead Turnpike Levittown NY 11756 United States;X-APPLE-RADIUS=500;X-TITLE=3434 Hempstead Turnpike:geo:-73.5092093,40.7251737
END:VEVENT
BEGIN:VEVENT
DTSTART;TZID=America/New_York:20270403T100000
DTEND;TZID=America/New_York:20270403T110000
DTSTAMP:20260425T214925
CREATED:20260306T212328Z
LAST-MODIFIED:20260306T212427Z
UID:10065983-1806746400-1806750000@meetings.greysheet.org
SUMMARY:Saturday Seekers GSA
DESCRIPTION:Face-to Face GreySheet meeting for those who seek the Sunlight of the Spirit through GreySheet abstinence.
URL:https://meetings.greysheet.org/meeting/saturday-seekers-gsa/2027-04-03
LOCATION:Good Shepherd Lutheran Church\, 3434 Hempstead Turnpike\, Levittown\, NY\, 11756\, United States
CATEGORIES:In Person
ATTACH;FMTTYPE=image/svg+xml:https://meetings.greysheet.org/wp-content/uploads/2025/05/map-pin.svg
GEO:40.7251737;-73.5092093
X-APPLE-STRUCTURED-LOCATION;VALUE=URI;X-ADDRESS=Good Shepherd Lutheran Church 3434 Hempstead Turnpike Levittown NY 11756 United States;X-APPLE-RADIUS=500;X-TITLE=3434 Hempstead Turnpike:geo:-73.5092093,40.7251737
END:VEVENT
BEGIN:VEVENT
DTSTART;TZID=America/New_York:20270410T100000
DTEND;TZID=America/New_York:20270410T110000
DTSTAMP:20260425T214925
CREATED:20260306T212328Z
LAST-MODIFIED:20260306T212427Z
UID:10065984-1807351200-1807354800@meetings.greysheet.org
SUMMARY:Saturday Seekers GSA
DESCRIPTION:Face-to Face GreySheet meeting for those who seek the Sunlight of the Spirit through GreySheet abstinence.
URL:https://meetings.greysheet.org/meeting/saturday-seekers-gsa/2027-04-10
LOCATION:Good Shepherd Lutheran Church\, 3434 Hempstead Turnpike\, Levittown\, NY\, 11756\, United States
CATEGORIES:In Person
ATTACH;FMTTYPE=image/svg+xml:https://meetings.greysheet.org/wp-content/uploads/2025/05/map-pin.svg
GEO:40.7251737;-73.5092093
X-APPLE-STRUCTURED-LOCATION;VALUE=URI;X-ADDRESS=Good Shepherd Lutheran Church 3434 Hempstead Turnpike Levittown NY 11756 United States;X-APPLE-RADIUS=500;X-TITLE=3434 Hempstead Turnpike:geo:-73.5092093,40.7251737
END:VEVENT
BEGIN:VEVENT
DTSTART;TZID=America/New_York:20270417T100000
DTEND;TZID=America/New_York:20270417T110000
DTSTAMP:20260425T214925
CREATED:20260306T212328Z
LAST-MODIFIED:20260306T212427Z
UID:10065985-1807956000-1807959600@meetings.greysheet.org
SUMMARY:Saturday Seekers GSA
DESCRIPTION:Face-to Face GreySheet meeting for those who seek the Sunlight of the Spirit through GreySheet abstinence.
URL:https://meetings.greysheet.org/meeting/saturday-seekers-gsa/2027-04-17
LOCATION:Good Shepherd Lutheran Church\, 3434 Hempstead Turnpike\, Levittown\, NY\, 11756\, United States
CATEGORIES:In Person
ATTACH;FMTTYPE=image/svg+xml:https://meetings.greysheet.org/wp-content/uploads/2025/05/map-pin.svg
GEO:40.7251737;-73.5092093
X-APPLE-STRUCTURED-LOCATION;VALUE=URI;X-ADDRESS=Good Shepherd Lutheran Church 3434 Hempstead Turnpike Levittown NY 11756 United States;X-APPLE-RADIUS=500;X-TITLE=3434 Hempstead Turnpike:geo:-73.5092093,40.7251737
END:VEVENT
BEGIN:VEVENT
DTSTART;TZID=America/New_York:20270424T100000
DTEND;TZID=America/New_York:20270424T110000
DTSTAMP:20260425T214925
CREATED:20260306T212328Z
LAST-MODIFIED:20260306T212427Z
UID:10065986-1808560800-1808564400@meetings.greysheet.org
SUMMARY:Saturday Seekers GSA
DESCRIPTION:Face-to Face GreySheet meeting for those who seek the Sunlight of the Spirit through GreySheet abstinence.
URL:https://meetings.greysheet.org/meeting/saturday-seekers-gsa/2027-04-24
LOCATION:Good Shepherd Lutheran Church\, 3434 Hempstead Turnpike\, Levittown\, NY\, 11756\, United States
CATEGORIES:In Person
ATTACH;FMTTYPE=image/svg+xml:https://meetings.greysheet.org/wp-content/uploads/2025/05/map-pin.svg
GEO:40.7251737;-73.5092093
X-APPLE-STRUCTURED-LOCATION;VALUE=URI;X-ADDRESS=Good Shepherd Lutheran Church 3434 Hempstead Turnpike Levittown NY 11756 United States;X-APPLE-RADIUS=500;X-TITLE=3434 Hempstead Turnpike:geo:-73.5092093,40.7251737
END:VEVENT
BEGIN:VEVENT
DTSTART;TZID=America/New_York:20270501T100000
DTEND;TZID=America/New_York:20270501T110000
DTSTAMP:20260425T214925
CREATED:20260306T212328Z
LAST-MODIFIED:20260306T212427Z
UID:10065987-1809165600-1809169200@meetings.greysheet.org
SUMMARY:Saturday Seekers GSA
DESCRIPTION:Face-to Face GreySheet meeting for those who seek the Sunlight of the Spirit through GreySheet abstinence.
URL:https://meetings.greysheet.org/meeting/saturday-seekers-gsa/2027-05-01
LOCATION:Good Shepherd Lutheran Church\, 3434 Hempstead Turnpike\, Levittown\, NY\, 11756\, United States
CATEGORIES:In Person
ATTACH;FMTTYPE=image/svg+xml:https://meetings.greysheet.org/wp-content/uploads/2025/05/map-pin.svg
GEO:40.7251737;-73.5092093
X-APPLE-STRUCTURED-LOCATION;VALUE=URI;X-ADDRESS=Good Shepherd Lutheran Church 3434 Hempstead Turnpike Levittown NY 11756 United States;X-APPLE-RADIUS=500;X-TITLE=3434 Hempstead Turnpike:geo:-73.5092093,40.7251737
END:VEVENT
BEGIN:VEVENT
DTSTART;TZID=America/New_York:20270508T100000
DTEND;TZID=America/New_York:20270508T110000
DTSTAMP:20260425T214925
CREATED:20260306T212328Z
LAST-MODIFIED:20260306T212427Z
UID:10065988-1809770400-1809774000@meetings.greysheet.org
SUMMARY:Saturday Seekers GSA
DESCRIPTION:Face-to Face GreySheet meeting for those who seek the Sunlight of the Spirit through GreySheet abstinence.
URL:https://meetings.greysheet.org/meeting/saturday-seekers-gsa/2027-05-08
LOCATION:Good Shepherd Lutheran Church\, 3434 Hempstead Turnpike\, Levittown\, NY\, 11756\, United States
CATEGORIES:In Person
ATTACH;FMTTYPE=image/svg+xml:https://meetings.greysheet.org/wp-content/uploads/2025/05/map-pin.svg
GEO:40.7251737;-73.5092093
X-APPLE-STRUCTURED-LOCATION;VALUE=URI;X-ADDRESS=Good Shepherd Lutheran Church 3434 Hempstead Turnpike Levittown NY 11756 United States;X-APPLE-RADIUS=500;X-TITLE=3434 Hempstead Turnpike:geo:-73.5092093,40.7251737
END:VEVENT
BEGIN:VEVENT
DTSTART;TZID=America/New_York:20270515T100000
DTEND;TZID=America/New_York:20270515T110000
DTSTAMP:20260425T214926
CREATED:20260306T212328Z
LAST-MODIFIED:20260306T212427Z
UID:10065989-1810375200-1810378800@meetings.greysheet.org
SUMMARY:Saturday Seekers GSA
DESCRIPTION:Face-to Face GreySheet meeting for those who seek the Sunlight of the Spirit through GreySheet abstinence.
URL:https://meetings.greysheet.org/meeting/saturday-seekers-gsa/2027-05-15
LOCATION:Good Shepherd Lutheran Church\, 3434 Hempstead Turnpike\, Levittown\, NY\, 11756\, United States
CATEGORIES:In Person
ATTACH;FMTTYPE=image/svg+xml:https://meetings.greysheet.org/wp-content/uploads/2025/05/map-pin.svg
GEO:40.7251737;-73.5092093
X-APPLE-STRUCTURED-LOCATION;VALUE=URI;X-ADDRESS=Good Shepherd Lutheran Church 3434 Hempstead Turnpike Levittown NY 11756 United States;X-APPLE-RADIUS=500;X-TITLE=3434 Hempstead Turnpike:geo:-73.5092093,40.7251737
END:VEVENT
BEGIN:VEVENT
DTSTART;TZID=America/New_York:20270522T100000
DTEND;TZID=America/New_York:20270522T110000
DTSTAMP:20260425T214926
CREATED:20260306T212328Z
LAST-MODIFIED:20260306T212427Z
UID:10065990-1810980000-1810983600@meetings.greysheet.org
SUMMARY:Saturday Seekers GSA
DESCRIPTION:Face-to Face GreySheet meeting for those who seek the Sunlight of the Spirit through GreySheet abstinence.
URL:https://meetings.greysheet.org/meeting/saturday-seekers-gsa/2027-05-22
LOCATION:Good Shepherd Lutheran Church\, 3434 Hempstead Turnpike\, Levittown\, NY\, 11756\, United States
CATEGORIES:In Person
ATTACH;FMTTYPE=image/svg+xml:https://meetings.greysheet.org/wp-content/uploads/2025/05/map-pin.svg
GEO:40.7251737;-73.5092093
X-APPLE-STRUCTURED-LOCATION;VALUE=URI;X-ADDRESS=Good Shepherd Lutheran Church 3434 Hempstead Turnpike Levittown NY 11756 United States;X-APPLE-RADIUS=500;X-TITLE=3434 Hempstead Turnpike:geo:-73.5092093,40.7251737
END:VEVENT
BEGIN:VEVENT
DTSTART;TZID=America/New_York:20270529T100000
DTEND;TZID=America/New_York:20270529T110000
DTSTAMP:20260425T214926
CREATED:20260306T212328Z
LAST-MODIFIED:20260306T212427Z
UID:10065991-1811584800-1811588400@meetings.greysheet.org
SUMMARY:Saturday Seekers GSA
DESCRIPTION:Face-to Face GreySheet meeting for those who seek the Sunlight of the Spirit through GreySheet abstinence.
URL:https://meetings.greysheet.org/meeting/saturday-seekers-gsa/2027-05-29
LOCATION:Good Shepherd Lutheran Church\, 3434 Hempstead Turnpike\, Levittown\, NY\, 11756\, United States
CATEGORIES:In Person
ATTACH;FMTTYPE=image/svg+xml:https://meetings.greysheet.org/wp-content/uploads/2025/05/map-pin.svg
GEO:40.7251737;-73.5092093
X-APPLE-STRUCTURED-LOCATION;VALUE=URI;X-ADDRESS=Good Shepherd Lutheran Church 3434 Hempstead Turnpike Levittown NY 11756 United States;X-APPLE-RADIUS=500;X-TITLE=3434 Hempstead Turnpike:geo:-73.5092093,40.7251737
END:VEVENT
BEGIN:VEVENT
DTSTART;TZID=America/New_York:20270605T100000
DTEND;TZID=America/New_York:20270605T110000
DTSTAMP:20260425T214926
CREATED:20260306T212328Z
LAST-MODIFIED:20260306T212427Z
UID:10065992-1812189600-1812193200@meetings.greysheet.org
SUMMARY:Saturday Seekers GSA
DESCRIPTION:Face-to Face GreySheet meeting for those who seek the Sunlight of the Spirit through GreySheet abstinence.
URL:https://meetings.greysheet.org/meeting/saturday-seekers-gsa/2027-06-05
LOCATION:Good Shepherd Lutheran Church\, 3434 Hempstead Turnpike\, Levittown\, NY\, 11756\, United States
CATEGORIES:In Person
ATTACH;FMTTYPE=image/svg+xml:https://meetings.greysheet.org/wp-content/uploads/2025/05/map-pin.svg
GEO:40.7251737;-73.5092093
X-APPLE-STRUCTURED-LOCATION;VALUE=URI;X-ADDRESS=Good Shepherd Lutheran Church 3434 Hempstead Turnpike Levittown NY 11756 United States;X-APPLE-RADIUS=500;X-TITLE=3434 Hempstead Turnpike:geo:-73.5092093,40.7251737
END:VEVENT
BEGIN:VEVENT
DTSTART;TZID=America/New_York:20270612T100000
DTEND;TZID=America/New_York:20270612T110000
DTSTAMP:20260425T214926
CREATED:20260306T212328Z
LAST-MODIFIED:20260306T212427Z
UID:10065993-1812794400-1812798000@meetings.greysheet.org
SUMMARY:Saturday Seekers GSA
DESCRIPTION:Face-to Face GreySheet meeting for those who seek the Sunlight of the Spirit through GreySheet abstinence.
URL:https://meetings.greysheet.org/meeting/saturday-seekers-gsa/2027-06-12
LOCATION:Good Shepherd Lutheran Church\, 3434 Hempstead Turnpike\, Levittown\, NY\, 11756\, United States
CATEGORIES:In Person
ATTACH;FMTTYPE=image/svg+xml:https://meetings.greysheet.org/wp-content/uploads/2025/05/map-pin.svg
GEO:40.7251737;-73.5092093
X-APPLE-STRUCTURED-LOCATION;VALUE=URI;X-ADDRESS=Good Shepherd Lutheran Church 3434 Hempstead Turnpike Levittown NY 11756 United States;X-APPLE-RADIUS=500;X-TITLE=3434 Hempstead Turnpike:geo:-73.5092093,40.7251737
END:VEVENT
BEGIN:VEVENT
DTSTART;TZID=America/New_York:20270619T100000
DTEND;TZID=America/New_York:20270619T110000
DTSTAMP:20260425T214926
CREATED:20260306T212328Z
LAST-MODIFIED:20260306T212427Z
UID:10065994-1813399200-1813402800@meetings.greysheet.org
SUMMARY:Saturday Seekers GSA
DESCRIPTION:Face-to Face GreySheet meeting for those who seek the Sunlight of the Spirit through GreySheet abstinence.
URL:https://meetings.greysheet.org/meeting/saturday-seekers-gsa/2027-06-19
LOCATION:Good Shepherd Lutheran Church\, 3434 Hempstead Turnpike\, Levittown\, NY\, 11756\, United States
CATEGORIES:In Person
ATTACH;FMTTYPE=image/svg+xml:https://meetings.greysheet.org/wp-content/uploads/2025/05/map-pin.svg
GEO:40.7251737;-73.5092093
X-APPLE-STRUCTURED-LOCATION;VALUE=URI;X-ADDRESS=Good Shepherd Lutheran Church 3434 Hempstead Turnpike Levittown NY 11756 United States;X-APPLE-RADIUS=500;X-TITLE=3434 Hempstead Turnpike:geo:-73.5092093,40.7251737
END:VEVENT
BEGIN:VEVENT
DTSTART;TZID=America/New_York:20270626T100000
DTEND;TZID=America/New_York:20270626T110000
DTSTAMP:20260425T214926
CREATED:20260306T212328Z
LAST-MODIFIED:20260306T212427Z
UID:10065995-1814004000-1814007600@meetings.greysheet.org
SUMMARY:Saturday Seekers GSA
DESCRIPTION:Face-to Face GreySheet meeting for those who seek the Sunlight of the Spirit through GreySheet abstinence.
URL:https://meetings.greysheet.org/meeting/saturday-seekers-gsa/2027-06-26
LOCATION:Good Shepherd Lutheran Church\, 3434 Hempstead Turnpike\, Levittown\, NY\, 11756\, United States
CATEGORIES:In Person
ATTACH;FMTTYPE=image/svg+xml:https://meetings.greysheet.org/wp-content/uploads/2025/05/map-pin.svg
GEO:40.7251737;-73.5092093
X-APPLE-STRUCTURED-LOCATION;VALUE=URI;X-ADDRESS=Good Shepherd Lutheran Church 3434 Hempstead Turnpike Levittown NY 11756 United States;X-APPLE-RADIUS=500;X-TITLE=3434 Hempstead Turnpike:geo:-73.5092093,40.7251737
END:VEVENT
BEGIN:VEVENT
DTSTART;TZID=America/New_York:20270703T100000
DTEND;TZID=America/New_York:20270703T110000
DTSTAMP:20260425T214926
CREATED:20260306T212328Z
LAST-MODIFIED:20260306T212427Z
UID:10065996-1814608800-1814612400@meetings.greysheet.org
SUMMARY:Saturday Seekers GSA
DESCRIPTION:Face-to Face GreySheet meeting for those who seek the Sunlight of the Spirit through GreySheet abstinence.
URL:https://meetings.greysheet.org/meeting/saturday-seekers-gsa/2027-07-03
LOCATION:Good Shepherd Lutheran Church\, 3434 Hempstead Turnpike\, Levittown\, NY\, 11756\, United States
CATEGORIES:In Person
ATTACH;FMTTYPE=image/svg+xml:https://meetings.greysheet.org/wp-content/uploads/2025/05/map-pin.svg
GEO:40.7251737;-73.5092093
X-APPLE-STRUCTURED-LOCATION;VALUE=URI;X-ADDRESS=Good Shepherd Lutheran Church 3434 Hempstead Turnpike Levittown NY 11756 United States;X-APPLE-RADIUS=500;X-TITLE=3434 Hempstead Turnpike:geo:-73.5092093,40.7251737
END:VEVENT
BEGIN:VEVENT
DTSTART;TZID=America/New_York:20270710T100000
DTEND;TZID=America/New_York:20270710T110000
DTSTAMP:20260425T214926
CREATED:20260306T212328Z
LAST-MODIFIED:20260306T212427Z
UID:10065997-1815213600-1815217200@meetings.greysheet.org
SUMMARY:Saturday Seekers GSA
DESCRIPTION:Face-to Face GreySheet meeting for those who seek the Sunlight of the Spirit through GreySheet abstinence.
URL:https://meetings.greysheet.org/meeting/saturday-seekers-gsa/2027-07-10
LOCATION:Good Shepherd Lutheran Church\, 3434 Hempstead Turnpike\, Levittown\, NY\, 11756\, United States
CATEGORIES:In Person
ATTACH;FMTTYPE=image/svg+xml:https://meetings.greysheet.org/wp-content/uploads/2025/05/map-pin.svg
GEO:40.7251737;-73.5092093
X-APPLE-STRUCTURED-LOCATION;VALUE=URI;X-ADDRESS=Good Shepherd Lutheran Church 3434 Hempstead Turnpike Levittown NY 11756 United States;X-APPLE-RADIUS=500;X-TITLE=3434 Hempstead Turnpike:geo:-73.5092093,40.7251737
END:VEVENT
BEGIN:VEVENT
DTSTART;TZID=America/New_York:20270717T100000
DTEND;TZID=America/New_York:20270717T110000
DTSTAMP:20260425T214926
CREATED:20260306T212328Z
LAST-MODIFIED:20260306T212427Z
UID:10065998-1815818400-1815822000@meetings.greysheet.org
SUMMARY:Saturday Seekers GSA
DESCRIPTION:Face-to Face GreySheet meeting for those who seek the Sunlight of the Spirit through GreySheet abstinence.
URL:https://meetings.greysheet.org/meeting/saturday-seekers-gsa/2027-07-17
LOCATION:Good Shepherd Lutheran Church\, 3434 Hempstead Turnpike\, Levittown\, NY\, 11756\, United States
CATEGORIES:In Person
ATTACH;FMTTYPE=image/svg+xml:https://meetings.greysheet.org/wp-content/uploads/2025/05/map-pin.svg
GEO:40.7251737;-73.5092093
X-APPLE-STRUCTURED-LOCATION;VALUE=URI;X-ADDRESS=Good Shepherd Lutheran Church 3434 Hempstead Turnpike Levittown NY 11756 United States;X-APPLE-RADIUS=500;X-TITLE=3434 Hempstead Turnpike:geo:-73.5092093,40.7251737
END:VEVENT
BEGIN:VEVENT
DTSTART;TZID=America/New_York:20270724T100000
DTEND;TZID=America/New_York:20270724T110000
DTSTAMP:20260425T214926
CREATED:20260306T212328Z
LAST-MODIFIED:20260306T212427Z
UID:10065999-1816423200-1816426800@meetings.greysheet.org
SUMMARY:Saturday Seekers GSA
DESCRIPTION:Face-to Face GreySheet meeting for those who seek the Sunlight of the Spirit through GreySheet abstinence.
URL:https://meetings.greysheet.org/meeting/saturday-seekers-gsa/2027-07-24
LOCATION:Good Shepherd Lutheran Church\, 3434 Hempstead Turnpike\, Levittown\, NY\, 11756\, United States
CATEGORIES:In Person
ATTACH;FMTTYPE=image/svg+xml:https://meetings.greysheet.org/wp-content/uploads/2025/05/map-pin.svg
GEO:40.7251737;-73.5092093
X-APPLE-STRUCTURED-LOCATION;VALUE=URI;X-ADDRESS=Good Shepherd Lutheran Church 3434 Hempstead Turnpike Levittown NY 11756 United States;X-APPLE-RADIUS=500;X-TITLE=3434 Hempstead Turnpike:geo:-73.5092093,40.7251737
END:VEVENT
BEGIN:VEVENT
DTSTART;TZID=America/New_York:20270731T100000
DTEND;TZID=America/New_York:20270731T110000
DTSTAMP:20260425T214926
CREATED:20260306T212328Z
LAST-MODIFIED:20260306T212427Z
UID:10066000-1817028000-1817031600@meetings.greysheet.org
SUMMARY:Saturday Seekers GSA
DESCRIPTION:Face-to Face GreySheet meeting for those who seek the Sunlight of the Spirit through GreySheet abstinence.
URL:https://meetings.greysheet.org/meeting/saturday-seekers-gsa/2027-07-31
LOCATION:Good Shepherd Lutheran Church\, 3434 Hempstead Turnpike\, Levittown\, NY\, 11756\, United States
CATEGORIES:In Person
ATTACH;FMTTYPE=image/svg+xml:https://meetings.greysheet.org/wp-content/uploads/2025/05/map-pin.svg
GEO:40.7251737;-73.5092093
X-APPLE-STRUCTURED-LOCATION;VALUE=URI;X-ADDRESS=Good Shepherd Lutheran Church 3434 Hempstead Turnpike Levittown NY 11756 United States;X-APPLE-RADIUS=500;X-TITLE=3434 Hempstead Turnpike:geo:-73.5092093,40.7251737
END:VEVENT
END:VCALENDAR