BEGIN:VCALENDAR
VERSION:2.0
PRODID:-//GreySheeters Anonymous World Services - ECPv6.15.20//NONSGML v1.0//EN
CALSCALE:GREGORIAN
METHOD:PUBLISH
X-ORIGINAL-URL:https://meetings.greysheet.org
X-WR-CALDESC:Events for GreySheeters Anonymous World Services
REFRESH-INTERVAL;VALUE=DURATION:PT1H
X-Robots-Tag:noindex
X-PUBLISHED-TTL:PT1H
BEGIN:VTIMEZONE
TZID:America/New_York
BEGIN:DAYLIGHT
TZOFFSETFROM:-0500
TZOFFSETTO:-0400
TZNAME:EDT
DTSTART:20240310T070000
END:DAYLIGHT
BEGIN:STANDARD
TZOFFSETFROM:-0400
TZOFFSETTO:-0500
TZNAME:EST
DTSTART:20241103T060000
END:STANDARD
BEGIN:DAYLIGHT
TZOFFSETFROM:-0500
TZOFFSETTO:-0400
TZNAME:EDT
DTSTART:20250309T070000
END:DAYLIGHT
BEGIN:STANDARD
TZOFFSETFROM:-0400
TZOFFSETTO:-0500
TZNAME:EST
DTSTART:20251102T060000
END:STANDARD
BEGIN:DAYLIGHT
TZOFFSETFROM:-0500
TZOFFSETTO:-0400
TZNAME:EDT
DTSTART:20260308T070000
END:DAYLIGHT
BEGIN:STANDARD
TZOFFSETFROM:-0400
TZOFFSETTO:-0500
TZNAME:EST
DTSTART:20261101T060000
END:STANDARD
END:VTIMEZONE
BEGIN:VEVENT
DTSTART;TZID=America/New_York:20250806T210000
DTEND;TZID=America/New_York:20250806T220000
DTSTAMP:20260419T214653
CREATED:20250503T164132Z
LAST-MODIFIED:20251117T233009Z
UID:10054894-1754514000-1754517600@meetings.greysheet.org
SUMMARY:Qualification WED 2100
DESCRIPTION:Speakers qualify who have at least 90 days of back-to-back GreySheet abstinence – eating only three weighed and measured meals per day only from foods listed on the GreySheet\, without exception. The Speaker will qualify for approximately 15 to 20 minutes on their Experience\, Strength\, and Hope related to GreySheet abstinence.
URL:https://meetings.greysheet.org/meeting/pbig-wed-2100/2025-08-06
CATEGORIES:Telephone or Audio
ATTACH;FMTTYPE=image/svg+xml:https://meetings.greysheet.org/wp-content/uploads/2025/05/phone.svg
LOCATION:Phone Number: 712 432 5229, PIN: Phone Bridge
END:VEVENT
BEGIN:VEVENT
DTSTART;TZID=America/New_York:20250730T210000
DTEND;TZID=America/New_York:20250730T220000
DTSTAMP:20260419T214653
CREATED:20250503T164132Z
LAST-MODIFIED:20251117T233009Z
UID:10054893-1753909200-1753912800@meetings.greysheet.org
SUMMARY:Qualification WED 2100
DESCRIPTION:Speakers qualify who have at least 90 days of back-to-back GreySheet abstinence – eating only three weighed and measured meals per day only from foods listed on the GreySheet\, without exception. The Speaker will qualify for approximately 15 to 20 minutes on their Experience\, Strength\, and Hope related to GreySheet abstinence.
URL:https://meetings.greysheet.org/meeting/pbig-wed-2100/2025-07-30
CATEGORIES:Telephone or Audio
ATTACH;FMTTYPE=image/svg+xml:https://meetings.greysheet.org/wp-content/uploads/2025/05/phone.svg
LOCATION:Phone Number: 712 432 5229, PIN: Phone Bridge
END:VEVENT
BEGIN:VEVENT
DTSTART;TZID=America/New_York:20250723T210000
DTEND;TZID=America/New_York:20250723T220000
DTSTAMP:20260419T214653
CREATED:20250503T164132Z
LAST-MODIFIED:20251117T233009Z
UID:10054892-1753304400-1753308000@meetings.greysheet.org
SUMMARY:Qualification WED 2100
DESCRIPTION:Speakers qualify who have at least 90 days of back-to-back GreySheet abstinence – eating only three weighed and measured meals per day only from foods listed on the GreySheet\, without exception. The Speaker will qualify for approximately 15 to 20 minutes on their Experience\, Strength\, and Hope related to GreySheet abstinence.
URL:https://meetings.greysheet.org/meeting/pbig-wed-2100/2025-07-23
CATEGORIES:Telephone or Audio
ATTACH;FMTTYPE=image/svg+xml:https://meetings.greysheet.org/wp-content/uploads/2025/05/phone.svg
LOCATION:Phone Number: 712 432 5229, PIN: Phone Bridge
END:VEVENT
BEGIN:VEVENT
DTSTART;TZID=America/New_York:20250716T210000
DTEND;TZID=America/New_York:20250716T220000
DTSTAMP:20260419T214653
CREATED:20250503T164132Z
LAST-MODIFIED:20251117T233009Z
UID:10054891-1752699600-1752703200@meetings.greysheet.org
SUMMARY:Qualification WED 2100
DESCRIPTION:Speakers qualify who have at least 90 days of back-to-back GreySheet abstinence – eating only three weighed and measured meals per day only from foods listed on the GreySheet\, without exception. The Speaker will qualify for approximately 15 to 20 minutes on their Experience\, Strength\, and Hope related to GreySheet abstinence.
URL:https://meetings.greysheet.org/meeting/pbig-wed-2100/2025-07-16
CATEGORIES:Telephone or Audio
ATTACH;FMTTYPE=image/svg+xml:https://meetings.greysheet.org/wp-content/uploads/2025/05/phone.svg
LOCATION:Phone Number: 712 432 5229, PIN: Phone Bridge
END:VEVENT
BEGIN:VEVENT
DTSTART;TZID=America/New_York:20250709T210000
DTEND;TZID=America/New_York:20250709T220000
DTSTAMP:20260419T214653
CREATED:20250503T164132Z
LAST-MODIFIED:20251117T233009Z
UID:10054890-1752094800-1752098400@meetings.greysheet.org
SUMMARY:Qualification WED 2100
DESCRIPTION:Speakers qualify who have at least 90 days of back-to-back GreySheet abstinence – eating only three weighed and measured meals per day only from foods listed on the GreySheet\, without exception. The Speaker will qualify for approximately 15 to 20 minutes on their Experience\, Strength\, and Hope related to GreySheet abstinence.
URL:https://meetings.greysheet.org/meeting/pbig-wed-2100/2025-07-09
CATEGORIES:Telephone or Audio
ATTACH;FMTTYPE=image/svg+xml:https://meetings.greysheet.org/wp-content/uploads/2025/05/phone.svg
LOCATION:Phone Number: 712 432 5229, PIN: Phone Bridge
END:VEVENT
BEGIN:VEVENT
DTSTART;TZID=America/New_York:20250702T210000
DTEND;TZID=America/New_York:20250702T220000
DTSTAMP:20260419T214653
CREATED:20250503T164132Z
LAST-MODIFIED:20251117T233009Z
UID:10054889-1751490000-1751493600@meetings.greysheet.org
SUMMARY:Qualification WED 2100
DESCRIPTION:Speakers qualify who have at least 90 days of back-to-back GreySheet abstinence – eating only three weighed and measured meals per day only from foods listed on the GreySheet\, without exception. The Speaker will qualify for approximately 15 to 20 minutes on their Experience\, Strength\, and Hope related to GreySheet abstinence.
URL:https://meetings.greysheet.org/meeting/pbig-wed-2100/2025-07-02
CATEGORIES:Telephone or Audio
ATTACH;FMTTYPE=image/svg+xml:https://meetings.greysheet.org/wp-content/uploads/2025/05/phone.svg
LOCATION:Phone Number: 712 432 5229, PIN: Phone Bridge
END:VEVENT
BEGIN:VEVENT
DTSTART;TZID=America/New_York:20250625T210000
DTEND;TZID=America/New_York:20250625T220000
DTSTAMP:20260419T214653
CREATED:20250503T164132Z
LAST-MODIFIED:20251117T233009Z
UID:10054888-1750885200-1750888800@meetings.greysheet.org
SUMMARY:Qualification WED 2100
DESCRIPTION:Speakers qualify who have at least 90 days of back-to-back GreySheet abstinence – eating only three weighed and measured meals per day only from foods listed on the GreySheet\, without exception. The Speaker will qualify for approximately 15 to 20 minutes on their Experience\, Strength\, and Hope related to GreySheet abstinence.
URL:https://meetings.greysheet.org/meeting/pbig-wed-2100/2025-06-25
CATEGORIES:Telephone or Audio
ATTACH;FMTTYPE=image/svg+xml:https://meetings.greysheet.org/wp-content/uploads/2025/05/phone.svg
LOCATION:Phone Number: 712 432 5229, PIN: Phone Bridge
END:VEVENT
BEGIN:VEVENT
DTSTART;TZID=America/New_York:20250618T210000
DTEND;TZID=America/New_York:20250618T220000
DTSTAMP:20260419T214653
CREATED:20250503T164132Z
LAST-MODIFIED:20251117T233009Z
UID:10054887-1750280400-1750284000@meetings.greysheet.org
SUMMARY:Qualification WED 2100
DESCRIPTION:Speakers qualify who have at least 90 days of back-to-back GreySheet abstinence – eating only three weighed and measured meals per day only from foods listed on the GreySheet\, without exception. The Speaker will qualify for approximately 15 to 20 minutes on their Experience\, Strength\, and Hope related to GreySheet abstinence.
URL:https://meetings.greysheet.org/meeting/pbig-wed-2100/2025-06-18
CATEGORIES:Telephone or Audio
ATTACH;FMTTYPE=image/svg+xml:https://meetings.greysheet.org/wp-content/uploads/2025/05/phone.svg
LOCATION:Phone Number: 712 432 5229, PIN: Phone Bridge
END:VEVENT
BEGIN:VEVENT
DTSTART;TZID=America/New_York:20250611T210000
DTEND;TZID=America/New_York:20250611T220000
DTSTAMP:20260419T214653
CREATED:20250503T164132Z
LAST-MODIFIED:20251117T233009Z
UID:10054886-1749675600-1749679200@meetings.greysheet.org
SUMMARY:Qualification WED 2100
DESCRIPTION:Speakers qualify who have at least 90 days of back-to-back GreySheet abstinence – eating only three weighed and measured meals per day only from foods listed on the GreySheet\, without exception. The Speaker will qualify for approximately 15 to 20 minutes on their Experience\, Strength\, and Hope related to GreySheet abstinence.
URL:https://meetings.greysheet.org/meeting/pbig-wed-2100/2025-06-11
CATEGORIES:Telephone or Audio
ATTACH;FMTTYPE=image/svg+xml:https://meetings.greysheet.org/wp-content/uploads/2025/05/phone.svg
LOCATION:Phone Number: 712 432 5229, PIN: Phone Bridge
END:VEVENT
BEGIN:VEVENT
DTSTART;TZID=America/New_York:20250604T210000
DTEND;TZID=America/New_York:20250604T220000
DTSTAMP:20260419T214653
CREATED:20250503T164132Z
LAST-MODIFIED:20251117T233009Z
UID:10054885-1749070800-1749074400@meetings.greysheet.org
SUMMARY:Qualification WED 2100
DESCRIPTION:Speakers qualify who have at least 90 days of back-to-back GreySheet abstinence – eating only three weighed and measured meals per day only from foods listed on the GreySheet\, without exception. The Speaker will qualify for approximately 15 to 20 minutes on their Experience\, Strength\, and Hope related to GreySheet abstinence.
URL:https://meetings.greysheet.org/meeting/pbig-wed-2100/2025-06-04
CATEGORIES:Telephone or Audio
ATTACH;FMTTYPE=image/svg+xml:https://meetings.greysheet.org/wp-content/uploads/2025/05/phone.svg
LOCATION:Phone Number: 712 432 5229, PIN: Phone Bridge
END:VEVENT
BEGIN:VEVENT
DTSTART;TZID=America/New_York:20250528T210000
DTEND;TZID=America/New_York:20250528T220000
DTSTAMP:20260419T214653
CREATED:20250503T164132Z
LAST-MODIFIED:20251117T233009Z
UID:10054884-1748466000-1748469600@meetings.greysheet.org
SUMMARY:Qualification WED 2100
DESCRIPTION:Speakers qualify who have at least 90 days of back-to-back GreySheet abstinence – eating only three weighed and measured meals per day only from foods listed on the GreySheet\, without exception. The Speaker will qualify for approximately 15 to 20 minutes on their Experience\, Strength\, and Hope related to GreySheet abstinence.
URL:https://meetings.greysheet.org/meeting/pbig-wed-2100/2025-05-28
CATEGORIES:Telephone or Audio
ATTACH;FMTTYPE=image/svg+xml:https://meetings.greysheet.org/wp-content/uploads/2025/05/phone.svg
LOCATION:Phone Number: 712 432 5229, PIN: Phone Bridge
END:VEVENT
BEGIN:VEVENT
DTSTART;TZID=America/New_York:20250521T210000
DTEND;TZID=America/New_York:20250521T220000
DTSTAMP:20260419T214653
CREATED:20250503T164132Z
LAST-MODIFIED:20251117T233009Z
UID:10054883-1747861200-1747864800@meetings.greysheet.org
SUMMARY:Qualification WED 2100
DESCRIPTION:Speakers qualify who have at least 90 days of back-to-back GreySheet abstinence – eating only three weighed and measured meals per day only from foods listed on the GreySheet\, without exception. The Speaker will qualify for approximately 15 to 20 minutes on their Experience\, Strength\, and Hope related to GreySheet abstinence.
URL:https://meetings.greysheet.org/meeting/pbig-wed-2100/2025-05-21
CATEGORIES:Telephone or Audio
ATTACH;FMTTYPE=image/svg+xml:https://meetings.greysheet.org/wp-content/uploads/2025/05/phone.svg
LOCATION:Phone Number: 712 432 5229, PIN: Phone Bridge
END:VEVENT
BEGIN:VEVENT
DTSTART;TZID=America/New_York:20250514T210000
DTEND;TZID=America/New_York:20250514T220000
DTSTAMP:20260419T214653
CREATED:20250503T164132Z
LAST-MODIFIED:20251117T233009Z
UID:10054882-1747256400-1747260000@meetings.greysheet.org
SUMMARY:Qualification WED 2100
DESCRIPTION:Speakers qualify who have at least 90 days of back-to-back GreySheet abstinence – eating only three weighed and measured meals per day only from foods listed on the GreySheet\, without exception. The Speaker will qualify for approximately 15 to 20 minutes on their Experience\, Strength\, and Hope related to GreySheet abstinence.
URL:https://meetings.greysheet.org/meeting/pbig-wed-2100/2025-05-14
CATEGORIES:Telephone or Audio
ATTACH;FMTTYPE=image/svg+xml:https://meetings.greysheet.org/wp-content/uploads/2025/05/phone.svg
LOCATION:Phone Number: 712 432 5229, PIN: Phone Bridge
END:VEVENT
BEGIN:VEVENT
DTSTART;TZID=America/New_York:20250507T210000
DTEND;TZID=America/New_York:20250507T220000
DTSTAMP:20260419T214653
CREATED:20250503T164132Z
LAST-MODIFIED:20251117T233009Z
UID:10054881-1746651600-1746655200@meetings.greysheet.org
SUMMARY:Qualification WED 2100
DESCRIPTION:Speakers qualify who have at least 90 days of back-to-back GreySheet abstinence – eating only three weighed and measured meals per day only from foods listed on the GreySheet\, without exception. The Speaker will qualify for approximately 15 to 20 minutes on their Experience\, Strength\, and Hope related to GreySheet abstinence.
URL:https://meetings.greysheet.org/meeting/pbig-wed-2100/2025-05-07
CATEGORIES:Telephone or Audio
ATTACH;FMTTYPE=image/svg+xml:https://meetings.greysheet.org/wp-content/uploads/2025/05/phone.svg
LOCATION:Phone Number: 712 432 5229, PIN: Phone Bridge
END:VEVENT
BEGIN:VEVENT
DTSTART;TZID=America/New_York:20250430T210000
DTEND;TZID=America/New_York:20250430T220000
DTSTAMP:20260419T214653
CREATED:20250503T164132Z
LAST-MODIFIED:20251117T233009Z
UID:10054880-1746046800-1746050400@meetings.greysheet.org
SUMMARY:Qualification WED 2100
DESCRIPTION:Speakers qualify who have at least 90 days of back-to-back GreySheet abstinence – eating only three weighed and measured meals per day only from foods listed on the GreySheet\, without exception. The Speaker will qualify for approximately 15 to 20 minutes on their Experience\, Strength\, and Hope related to GreySheet abstinence.
URL:https://meetings.greysheet.org/meeting/pbig-wed-2100/2025-04-30
CATEGORIES:Telephone or Audio
ATTACH;FMTTYPE=image/svg+xml:https://meetings.greysheet.org/wp-content/uploads/2025/05/phone.svg
LOCATION:Phone Number: 712 432 5229, PIN: Phone Bridge
END:VEVENT
BEGIN:VEVENT
DTSTART;TZID=America/New_York:20250423T210000
DTEND;TZID=America/New_York:20250423T220000
DTSTAMP:20260419T214653
CREATED:20250503T164132Z
LAST-MODIFIED:20251117T233009Z
UID:10054879-1745442000-1745445600@meetings.greysheet.org
SUMMARY:Qualification WED 2100
DESCRIPTION:Speakers qualify who have at least 90 days of back-to-back GreySheet abstinence – eating only three weighed and measured meals per day only from foods listed on the GreySheet\, without exception. The Speaker will qualify for approximately 15 to 20 minutes on their Experience\, Strength\, and Hope related to GreySheet abstinence.
URL:https://meetings.greysheet.org/meeting/pbig-wed-2100/2025-04-23
CATEGORIES:Telephone or Audio
ATTACH;FMTTYPE=image/svg+xml:https://meetings.greysheet.org/wp-content/uploads/2025/05/phone.svg
LOCATION:Phone Number: 712 432 5229, PIN: Phone Bridge
END:VEVENT
BEGIN:VEVENT
DTSTART;TZID=America/New_York:20250416T210000
DTEND;TZID=America/New_York:20250416T220000
DTSTAMP:20260419T214653
CREATED:20250503T164132Z
LAST-MODIFIED:20251117T233009Z
UID:10054878-1744837200-1744840800@meetings.greysheet.org
SUMMARY:Qualification WED 2100
DESCRIPTION:Speakers qualify who have at least 90 days of back-to-back GreySheet abstinence – eating only three weighed and measured meals per day only from foods listed on the GreySheet\, without exception. The Speaker will qualify for approximately 15 to 20 minutes on their Experience\, Strength\, and Hope related to GreySheet abstinence.
URL:https://meetings.greysheet.org/meeting/pbig-wed-2100/2025-04-16
CATEGORIES:Telephone or Audio
ATTACH;FMTTYPE=image/svg+xml:https://meetings.greysheet.org/wp-content/uploads/2025/05/phone.svg
LOCATION:Phone Number: 712 432 5229, PIN: Phone Bridge
END:VEVENT
BEGIN:VEVENT
DTSTART;TZID=America/New_York:20250409T210000
DTEND;TZID=America/New_York:20250409T220000
DTSTAMP:20260419T214653
CREATED:20250503T164132Z
LAST-MODIFIED:20251117T233009Z
UID:10054877-1744232400-1744236000@meetings.greysheet.org
SUMMARY:Qualification WED 2100
DESCRIPTION:Speakers qualify who have at least 90 days of back-to-back GreySheet abstinence – eating only three weighed and measured meals per day only from foods listed on the GreySheet\, without exception. The Speaker will qualify for approximately 15 to 20 minutes on their Experience\, Strength\, and Hope related to GreySheet abstinence.
URL:https://meetings.greysheet.org/meeting/pbig-wed-2100/2025-04-09
CATEGORIES:Telephone or Audio
ATTACH;FMTTYPE=image/svg+xml:https://meetings.greysheet.org/wp-content/uploads/2025/05/phone.svg
LOCATION:Phone Number: 712 432 5229, PIN: Phone Bridge
END:VEVENT
BEGIN:VEVENT
DTSTART;TZID=America/New_York:20250402T210000
DTEND;TZID=America/New_York:20250402T220000
DTSTAMP:20260419T214653
CREATED:20250503T164132Z
LAST-MODIFIED:20251117T233009Z
UID:10054876-1743627600-1743631200@meetings.greysheet.org
SUMMARY:Qualification WED 2100
DESCRIPTION:Speakers qualify who have at least 90 days of back-to-back GreySheet abstinence – eating only three weighed and measured meals per day only from foods listed on the GreySheet\, without exception. The Speaker will qualify for approximately 15 to 20 minutes on their Experience\, Strength\, and Hope related to GreySheet abstinence.
URL:https://meetings.greysheet.org/meeting/pbig-wed-2100/2025-04-02
CATEGORIES:Telephone or Audio
ATTACH;FMTTYPE=image/svg+xml:https://meetings.greysheet.org/wp-content/uploads/2025/05/phone.svg
LOCATION:Phone Number: 712 432 5229, PIN: Phone Bridge
END:VEVENT
BEGIN:VEVENT
DTSTART;TZID=America/New_York:20250326T210000
DTEND;TZID=America/New_York:20250326T220000
DTSTAMP:20260419T214653
CREATED:20250503T164132Z
LAST-MODIFIED:20251117T233009Z
UID:10054875-1743022800-1743026400@meetings.greysheet.org
SUMMARY:Qualification WED 2100
DESCRIPTION:Speakers qualify who have at least 90 days of back-to-back GreySheet abstinence – eating only three weighed and measured meals per day only from foods listed on the GreySheet\, without exception. The Speaker will qualify for approximately 15 to 20 minutes on their Experience\, Strength\, and Hope related to GreySheet abstinence.
URL:https://meetings.greysheet.org/meeting/pbig-wed-2100/2025-03-26
CATEGORIES:Telephone or Audio
ATTACH;FMTTYPE=image/svg+xml:https://meetings.greysheet.org/wp-content/uploads/2025/05/phone.svg
LOCATION:Phone Number: 712 432 5229, PIN: Phone Bridge
END:VEVENT
BEGIN:VEVENT
DTSTART;TZID=America/New_York:20250319T210000
DTEND;TZID=America/New_York:20250319T220000
DTSTAMP:20260419T214653
CREATED:20250503T164132Z
LAST-MODIFIED:20251117T233009Z
UID:10054874-1742418000-1742421600@meetings.greysheet.org
SUMMARY:Qualification WED 2100
DESCRIPTION:Speakers qualify who have at least 90 days of back-to-back GreySheet abstinence – eating only three weighed and measured meals per day only from foods listed on the GreySheet\, without exception. The Speaker will qualify for approximately 15 to 20 minutes on their Experience\, Strength\, and Hope related to GreySheet abstinence.
URL:https://meetings.greysheet.org/meeting/pbig-wed-2100/2025-03-19
CATEGORIES:Telephone or Audio
ATTACH;FMTTYPE=image/svg+xml:https://meetings.greysheet.org/wp-content/uploads/2025/05/phone.svg
LOCATION:Phone Number: 712 432 5229, PIN: Phone Bridge
END:VEVENT
BEGIN:VEVENT
DTSTART;TZID=America/New_York:20250312T210000
DTEND;TZID=America/New_York:20250312T220000
DTSTAMP:20260419T214653
CREATED:20250503T164132Z
LAST-MODIFIED:20251117T233009Z
UID:10054873-1741813200-1741816800@meetings.greysheet.org
SUMMARY:Qualification WED 2100
DESCRIPTION:Speakers qualify who have at least 90 days of back-to-back GreySheet abstinence – eating only three weighed and measured meals per day only from foods listed on the GreySheet\, without exception. The Speaker will qualify for approximately 15 to 20 minutes on their Experience\, Strength\, and Hope related to GreySheet abstinence.
URL:https://meetings.greysheet.org/meeting/pbig-wed-2100/2025-03-12
CATEGORIES:Telephone or Audio
ATTACH;FMTTYPE=image/svg+xml:https://meetings.greysheet.org/wp-content/uploads/2025/05/phone.svg
LOCATION:Phone Number: 712 432 5229, PIN: Phone Bridge
END:VEVENT
BEGIN:VEVENT
DTSTART;TZID=America/New_York:20250305T210000
DTEND;TZID=America/New_York:20250305T220000
DTSTAMP:20260419T214653
CREATED:20250503T164132Z
LAST-MODIFIED:20251117T233009Z
UID:10054872-1741208400-1741212000@meetings.greysheet.org
SUMMARY:Qualification WED 2100
DESCRIPTION:Speakers qualify who have at least 90 days of back-to-back GreySheet abstinence – eating only three weighed and measured meals per day only from foods listed on the GreySheet\, without exception. The Speaker will qualify for approximately 15 to 20 minutes on their Experience\, Strength\, and Hope related to GreySheet abstinence.
URL:https://meetings.greysheet.org/meeting/pbig-wed-2100/2025-03-05
CATEGORIES:Telephone or Audio
ATTACH;FMTTYPE=image/svg+xml:https://meetings.greysheet.org/wp-content/uploads/2025/05/phone.svg
LOCATION:Phone Number: 712 432 5229, PIN: Phone Bridge
END:VEVENT
BEGIN:VEVENT
DTSTART;TZID=America/New_York:20250226T210000
DTEND;TZID=America/New_York:20250226T220000
DTSTAMP:20260419T214653
CREATED:20250503T164132Z
LAST-MODIFIED:20251117T233009Z
UID:10054871-1740603600-1740607200@meetings.greysheet.org
SUMMARY:Qualification WED 2100
DESCRIPTION:Speakers qualify who have at least 90 days of back-to-back GreySheet abstinence – eating only three weighed and measured meals per day only from foods listed on the GreySheet\, without exception. The Speaker will qualify for approximately 15 to 20 minutes on their Experience\, Strength\, and Hope related to GreySheet abstinence.
URL:https://meetings.greysheet.org/meeting/pbig-wed-2100/2025-02-26
CATEGORIES:Telephone or Audio
ATTACH;FMTTYPE=image/svg+xml:https://meetings.greysheet.org/wp-content/uploads/2025/05/phone.svg
LOCATION:Phone Number: 712 432 5229, PIN: Phone Bridge
END:VEVENT
BEGIN:VEVENT
DTSTART;TZID=America/New_York:20250219T210000
DTEND;TZID=America/New_York:20250219T220000
DTSTAMP:20260419T214653
CREATED:20250503T164132Z
LAST-MODIFIED:20251117T233009Z
UID:10054870-1739998800-1740002400@meetings.greysheet.org
SUMMARY:Qualification WED 2100
DESCRIPTION:Speakers qualify who have at least 90 days of back-to-back GreySheet abstinence – eating only three weighed and measured meals per day only from foods listed on the GreySheet\, without exception. The Speaker will qualify for approximately 15 to 20 minutes on their Experience\, Strength\, and Hope related to GreySheet abstinence.
URL:https://meetings.greysheet.org/meeting/pbig-wed-2100/2025-02-19
CATEGORIES:Telephone or Audio
ATTACH;FMTTYPE=image/svg+xml:https://meetings.greysheet.org/wp-content/uploads/2025/05/phone.svg
LOCATION:Phone Number: 712 432 5229, PIN: Phone Bridge
END:VEVENT
BEGIN:VEVENT
DTSTART;TZID=America/New_York:20250212T210000
DTEND;TZID=America/New_York:20250212T220000
DTSTAMP:20260419T214653
CREATED:20250503T164132Z
LAST-MODIFIED:20251117T233009Z
UID:10054869-1739394000-1739397600@meetings.greysheet.org
SUMMARY:Qualification WED 2100
DESCRIPTION:Speakers qualify who have at least 90 days of back-to-back GreySheet abstinence – eating only three weighed and measured meals per day only from foods listed on the GreySheet\, without exception. The Speaker will qualify for approximately 15 to 20 minutes on their Experience\, Strength\, and Hope related to GreySheet abstinence.
URL:https://meetings.greysheet.org/meeting/pbig-wed-2100/2025-02-12
CATEGORIES:Telephone or Audio
ATTACH;FMTTYPE=image/svg+xml:https://meetings.greysheet.org/wp-content/uploads/2025/05/phone.svg
LOCATION:Phone Number: 712 432 5229, PIN: Phone Bridge
END:VEVENT
BEGIN:VEVENT
DTSTART;TZID=America/New_York:20250205T210000
DTEND;TZID=America/New_York:20250205T220000
DTSTAMP:20260419T214653
CREATED:20250503T164132Z
LAST-MODIFIED:20251117T233009Z
UID:10054868-1738789200-1738792800@meetings.greysheet.org
SUMMARY:Qualification WED 2100
DESCRIPTION:Speakers qualify who have at least 90 days of back-to-back GreySheet abstinence – eating only three weighed and measured meals per day only from foods listed on the GreySheet\, without exception. The Speaker will qualify for approximately 15 to 20 minutes on their Experience\, Strength\, and Hope related to GreySheet abstinence.
URL:https://meetings.greysheet.org/meeting/pbig-wed-2100/2025-02-05
CATEGORIES:Telephone or Audio
ATTACH;FMTTYPE=image/svg+xml:https://meetings.greysheet.org/wp-content/uploads/2025/05/phone.svg
LOCATION:Phone Number: 712 432 5229, PIN: Phone Bridge
END:VEVENT
BEGIN:VEVENT
DTSTART;TZID=America/New_York:20250129T210000
DTEND;TZID=America/New_York:20250129T220000
DTSTAMP:20260419T214653
CREATED:20250503T164132Z
LAST-MODIFIED:20251117T233009Z
UID:10054867-1738184400-1738188000@meetings.greysheet.org
SUMMARY:Qualification WED 2100
DESCRIPTION:Speakers qualify who have at least 90 days of back-to-back GreySheet abstinence – eating only three weighed and measured meals per day only from foods listed on the GreySheet\, without exception. The Speaker will qualify for approximately 15 to 20 minutes on their Experience\, Strength\, and Hope related to GreySheet abstinence.
URL:https://meetings.greysheet.org/meeting/pbig-wed-2100/2025-01-29
CATEGORIES:Telephone or Audio
ATTACH;FMTTYPE=image/svg+xml:https://meetings.greysheet.org/wp-content/uploads/2025/05/phone.svg
LOCATION:Phone Number: 712 432 5229, PIN: Phone Bridge
END:VEVENT
BEGIN:VEVENT
DTSTART;TZID=America/New_York:20250122T210000
DTEND;TZID=America/New_York:20250122T220000
DTSTAMP:20260419T214653
CREATED:20250503T164132Z
LAST-MODIFIED:20251117T233009Z
UID:10054866-1737579600-1737583200@meetings.greysheet.org
SUMMARY:Qualification WED 2100
DESCRIPTION:Speakers qualify who have at least 90 days of back-to-back GreySheet abstinence – eating only three weighed and measured meals per day only from foods listed on the GreySheet\, without exception. The Speaker will qualify for approximately 15 to 20 minutes on their Experience\, Strength\, and Hope related to GreySheet abstinence.
URL:https://meetings.greysheet.org/meeting/pbig-wed-2100/2025-01-22
CATEGORIES:Telephone or Audio
ATTACH;FMTTYPE=image/svg+xml:https://meetings.greysheet.org/wp-content/uploads/2025/05/phone.svg
LOCATION:Phone Number: 712 432 5229, PIN: Phone Bridge
END:VEVENT
BEGIN:VEVENT
DTSTART;TZID=America/New_York:20250115T210000
DTEND;TZID=America/New_York:20250115T220000
DTSTAMP:20260419T214653
CREATED:20250503T164132Z
LAST-MODIFIED:20251117T233009Z
UID:10054865-1736974800-1736978400@meetings.greysheet.org
SUMMARY:Qualification WED 2100
DESCRIPTION:Speakers qualify who have at least 90 days of back-to-back GreySheet abstinence – eating only three weighed and measured meals per day only from foods listed on the GreySheet\, without exception. The Speaker will qualify for approximately 15 to 20 minutes on their Experience\, Strength\, and Hope related to GreySheet abstinence.
URL:https://meetings.greysheet.org/meeting/pbig-wed-2100/2025-01-15
CATEGORIES:Telephone or Audio
ATTACH;FMTTYPE=image/svg+xml:https://meetings.greysheet.org/wp-content/uploads/2025/05/phone.svg
LOCATION:Phone Number: 712 432 5229, PIN: Phone Bridge
END:VEVENT
END:VCALENDAR