BEGIN:VCALENDAR
VERSION:2.0
PRODID:-//GreySheeters Anonymous World Services - ECPv6.15.20//NONSGML v1.0//EN
CALSCALE:GREGORIAN
METHOD:PUBLISH
X-WR-CALNAME:GreySheeters Anonymous World Services
X-ORIGINAL-URL:https://meetings.greysheet.org
X-WR-CALDESC:Events for GreySheeters Anonymous World Services
REFRESH-INTERVAL;VALUE=DURATION:PT1H
X-Robots-Tag:noindex
X-PUBLISHED-TTL:PT1H
BEGIN:VTIMEZONE
TZID:America/New_York
BEGIN:DAYLIGHT
TZOFFSETFROM:-0500
TZOFFSETTO:-0400
TZNAME:EDT
DTSTART:20250309T070000
END:DAYLIGHT
BEGIN:STANDARD
TZOFFSETFROM:-0400
TZOFFSETTO:-0500
TZNAME:EST
DTSTART:20251102T060000
END:STANDARD
BEGIN:DAYLIGHT
TZOFFSETFROM:-0500
TZOFFSETTO:-0400
TZNAME:EDT
DTSTART:20260308T070000
END:DAYLIGHT
BEGIN:STANDARD
TZOFFSETFROM:-0400
TZOFFSETTO:-0500
TZNAME:EST
DTSTART:20261101T060000
END:STANDARD
BEGIN:DAYLIGHT
TZOFFSETFROM:-0500
TZOFFSETTO:-0400
TZNAME:EDT
DTSTART:20270314T070000
END:DAYLIGHT
BEGIN:STANDARD
TZOFFSETFROM:-0400
TZOFFSETTO:-0500
TZNAME:EST
DTSTART:20271107T060000
END:STANDARD
BEGIN:DAYLIGHT
TZOFFSETFROM:-0500
TZOFFSETTO:-0400
TZNAME:EDT
DTSTART:20280312T070000
END:DAYLIGHT
BEGIN:STANDARD
TZOFFSETFROM:-0400
TZOFFSETTO:-0500
TZNAME:EST
DTSTART:20281105T060000
END:STANDARD
END:VTIMEZONE
BEGIN:VEVENT
DTSTART;TZID=America/New_York:20261230T070000
DTEND;TZID=America/New_York:20261230T083000
DTSTAMP:20260420T233922
CREATED:20250503T164132Z
LAST-MODIFIED:20251117T233452Z
UID:10056213-1798614000-1798619400@meetings.greysheet.org
SUMMARY:Qualification WED 0700
DESCRIPTION:This is a GreySheet Qualification meeting. The Speaker will qualify for approximately 15 to 20 minutes on their Experience\, Strength\, and Hope related to GreySheet abstinence.
URL:https://meetings.greysheet.org/meeting/pbig-wed-0700/2026-12-30
CATEGORIES:Telephone or Audio
ATTACH;FMTTYPE=image/svg+xml:https://meetings.greysheet.org/wp-content/uploads/2025/05/phone.svg
LOCATION:Phone Number: 712 432 5229, PIN: Phone Bridge
END:VEVENT
BEGIN:VEVENT
DTSTART;TZID=America/New_York:20270106T070000
DTEND;TZID=America/New_York:20270106T083000
DTSTAMP:20260420T233922
CREATED:20250503T164132Z
LAST-MODIFIED:20251117T233452Z
UID:10056214-1799218800-1799224200@meetings.greysheet.org
SUMMARY:Qualification WED 0700
DESCRIPTION:This is a GreySheet Qualification meeting. The Speaker will qualify for approximately 15 to 20 minutes on their Experience\, Strength\, and Hope related to GreySheet abstinence.
URL:https://meetings.greysheet.org/meeting/pbig-wed-0700/2027-01-06
CATEGORIES:Telephone or Audio
ATTACH;FMTTYPE=image/svg+xml:https://meetings.greysheet.org/wp-content/uploads/2025/05/phone.svg
LOCATION:Phone Number: 712 432 5229, PIN: Phone Bridge
END:VEVENT
BEGIN:VEVENT
DTSTART;TZID=America/New_York:20270113T070000
DTEND;TZID=America/New_York:20270113T083000
DTSTAMP:20260420T233922
CREATED:20250503T164132Z
LAST-MODIFIED:20251117T233452Z
UID:10056215-1799823600-1799829000@meetings.greysheet.org
SUMMARY:Qualification WED 0700
DESCRIPTION:This is a GreySheet Qualification meeting. The Speaker will qualify for approximately 15 to 20 minutes on their Experience\, Strength\, and Hope related to GreySheet abstinence.
URL:https://meetings.greysheet.org/meeting/pbig-wed-0700/2027-01-13
CATEGORIES:Telephone or Audio
ATTACH;FMTTYPE=image/svg+xml:https://meetings.greysheet.org/wp-content/uploads/2025/05/phone.svg
LOCATION:Phone Number: 712 432 5229, PIN: Phone Bridge
END:VEVENT
BEGIN:VEVENT
DTSTART;TZID=America/New_York:20270120T070000
DTEND;TZID=America/New_York:20270120T083000
DTSTAMP:20260420T233922
CREATED:20250503T164132Z
LAST-MODIFIED:20251117T233452Z
UID:10056216-1800428400-1800433800@meetings.greysheet.org
SUMMARY:Qualification WED 0700
DESCRIPTION:This is a GreySheet Qualification meeting. The Speaker will qualify for approximately 15 to 20 minutes on their Experience\, Strength\, and Hope related to GreySheet abstinence.
URL:https://meetings.greysheet.org/meeting/pbig-wed-0700/2027-01-20
CATEGORIES:Telephone or Audio
ATTACH;FMTTYPE=image/svg+xml:https://meetings.greysheet.org/wp-content/uploads/2025/05/phone.svg
LOCATION:Phone Number: 712 432 5229, PIN: Phone Bridge
END:VEVENT
BEGIN:VEVENT
DTSTART;TZID=America/New_York:20270127T070000
DTEND;TZID=America/New_York:20270127T083000
DTSTAMP:20260420T233922
CREATED:20250503T164132Z
LAST-MODIFIED:20251117T233452Z
UID:10056217-1801033200-1801038600@meetings.greysheet.org
SUMMARY:Qualification WED 0700
DESCRIPTION:This is a GreySheet Qualification meeting. The Speaker will qualify for approximately 15 to 20 minutes on their Experience\, Strength\, and Hope related to GreySheet abstinence.
URL:https://meetings.greysheet.org/meeting/pbig-wed-0700/2027-01-27
CATEGORIES:Telephone or Audio
ATTACH;FMTTYPE=image/svg+xml:https://meetings.greysheet.org/wp-content/uploads/2025/05/phone.svg
LOCATION:Phone Number: 712 432 5229, PIN: Phone Bridge
END:VEVENT
BEGIN:VEVENT
DTSTART;TZID=America/New_York:20270203T070000
DTEND;TZID=America/New_York:20270203T083000
DTSTAMP:20260420T233922
CREATED:20250503T164132Z
LAST-MODIFIED:20251117T233452Z
UID:10056218-1801638000-1801643400@meetings.greysheet.org
SUMMARY:Qualification WED 0700
DESCRIPTION:This is a GreySheet Qualification meeting. The Speaker will qualify for approximately 15 to 20 minutes on their Experience\, Strength\, and Hope related to GreySheet abstinence.
URL:https://meetings.greysheet.org/meeting/pbig-wed-0700/2027-02-03
CATEGORIES:Telephone or Audio
ATTACH;FMTTYPE=image/svg+xml:https://meetings.greysheet.org/wp-content/uploads/2025/05/phone.svg
LOCATION:Phone Number: 712 432 5229, PIN: Phone Bridge
END:VEVENT
BEGIN:VEVENT
DTSTART;TZID=America/New_York:20270210T070000
DTEND;TZID=America/New_York:20270210T083000
DTSTAMP:20260420T233922
CREATED:20250503T164132Z
LAST-MODIFIED:20251117T233452Z
UID:10056219-1802242800-1802248200@meetings.greysheet.org
SUMMARY:Qualification WED 0700
DESCRIPTION:This is a GreySheet Qualification meeting. The Speaker will qualify for approximately 15 to 20 minutes on their Experience\, Strength\, and Hope related to GreySheet abstinence.
URL:https://meetings.greysheet.org/meeting/pbig-wed-0700/2027-02-10
CATEGORIES:Telephone or Audio
ATTACH;FMTTYPE=image/svg+xml:https://meetings.greysheet.org/wp-content/uploads/2025/05/phone.svg
LOCATION:Phone Number: 712 432 5229, PIN: Phone Bridge
END:VEVENT
BEGIN:VEVENT
DTSTART;TZID=America/New_York:20270217T070000
DTEND;TZID=America/New_York:20270217T083000
DTSTAMP:20260420T233922
CREATED:20250503T164132Z
LAST-MODIFIED:20251117T233452Z
UID:10056220-1802847600-1802853000@meetings.greysheet.org
SUMMARY:Qualification WED 0700
DESCRIPTION:This is a GreySheet Qualification meeting. The Speaker will qualify for approximately 15 to 20 minutes on their Experience\, Strength\, and Hope related to GreySheet abstinence.
URL:https://meetings.greysheet.org/meeting/pbig-wed-0700/2027-02-17
CATEGORIES:Telephone or Audio
ATTACH;FMTTYPE=image/svg+xml:https://meetings.greysheet.org/wp-content/uploads/2025/05/phone.svg
LOCATION:Phone Number: 712 432 5229, PIN: Phone Bridge
END:VEVENT
BEGIN:VEVENT
DTSTART;TZID=America/New_York:20270224T070000
DTEND;TZID=America/New_York:20270224T083000
DTSTAMP:20260420T233922
CREATED:20250503T164132Z
LAST-MODIFIED:20251117T233452Z
UID:10056221-1803452400-1803457800@meetings.greysheet.org
SUMMARY:Qualification WED 0700
DESCRIPTION:This is a GreySheet Qualification meeting. The Speaker will qualify for approximately 15 to 20 minutes on their Experience\, Strength\, and Hope related to GreySheet abstinence.
URL:https://meetings.greysheet.org/meeting/pbig-wed-0700/2027-02-24
CATEGORIES:Telephone or Audio
ATTACH;FMTTYPE=image/svg+xml:https://meetings.greysheet.org/wp-content/uploads/2025/05/phone.svg
LOCATION:Phone Number: 712 432 5229, PIN: Phone Bridge
END:VEVENT
BEGIN:VEVENT
DTSTART;TZID=America/New_York:20270303T070000
DTEND;TZID=America/New_York:20270303T083000
DTSTAMP:20260420T233922
CREATED:20250503T164132Z
LAST-MODIFIED:20251117T233452Z
UID:10056222-1804057200-1804062600@meetings.greysheet.org
SUMMARY:Qualification WED 0700
DESCRIPTION:This is a GreySheet Qualification meeting. The Speaker will qualify for approximately 15 to 20 minutes on their Experience\, Strength\, and Hope related to GreySheet abstinence.
URL:https://meetings.greysheet.org/meeting/pbig-wed-0700/2027-03-03
CATEGORIES:Telephone or Audio
ATTACH;FMTTYPE=image/svg+xml:https://meetings.greysheet.org/wp-content/uploads/2025/05/phone.svg
LOCATION:Phone Number: 712 432 5229, PIN: Phone Bridge
END:VEVENT
BEGIN:VEVENT
DTSTART;TZID=America/New_York:20270310T070000
DTEND;TZID=America/New_York:20270310T083000
DTSTAMP:20260420T233923
CREATED:20250503T164132Z
LAST-MODIFIED:20251117T233452Z
UID:10056223-1804662000-1804667400@meetings.greysheet.org
SUMMARY:Qualification WED 0700
DESCRIPTION:This is a GreySheet Qualification meeting. The Speaker will qualify for approximately 15 to 20 minutes on their Experience\, Strength\, and Hope related to GreySheet abstinence.
URL:https://meetings.greysheet.org/meeting/pbig-wed-0700/2027-03-10
CATEGORIES:Telephone or Audio
ATTACH;FMTTYPE=image/svg+xml:https://meetings.greysheet.org/wp-content/uploads/2025/05/phone.svg
LOCATION:Phone Number: 712 432 5229, PIN: Phone Bridge
END:VEVENT
BEGIN:VEVENT
DTSTART;TZID=America/New_York:20270317T070000
DTEND;TZID=America/New_York:20270317T083000
DTSTAMP:20260420T233923
CREATED:20250503T164132Z
LAST-MODIFIED:20251117T233452Z
UID:10056224-1805266800-1805272200@meetings.greysheet.org
SUMMARY:Qualification WED 0700
DESCRIPTION:This is a GreySheet Qualification meeting. The Speaker will qualify for approximately 15 to 20 minutes on their Experience\, Strength\, and Hope related to GreySheet abstinence.
URL:https://meetings.greysheet.org/meeting/pbig-wed-0700/2027-03-17
CATEGORIES:Telephone or Audio
ATTACH;FMTTYPE=image/svg+xml:https://meetings.greysheet.org/wp-content/uploads/2025/05/phone.svg
LOCATION:Phone Number: 712 432 5229, PIN: Phone Bridge
END:VEVENT
BEGIN:VEVENT
DTSTART;TZID=America/New_York:20270324T070000
DTEND;TZID=America/New_York:20270324T083000
DTSTAMP:20260420T233923
CREATED:20250503T164132Z
LAST-MODIFIED:20251117T233452Z
UID:10056225-1805871600-1805877000@meetings.greysheet.org
SUMMARY:Qualification WED 0700
DESCRIPTION:This is a GreySheet Qualification meeting. The Speaker will qualify for approximately 15 to 20 minutes on their Experience\, Strength\, and Hope related to GreySheet abstinence.
URL:https://meetings.greysheet.org/meeting/pbig-wed-0700/2027-03-24
CATEGORIES:Telephone or Audio
ATTACH;FMTTYPE=image/svg+xml:https://meetings.greysheet.org/wp-content/uploads/2025/05/phone.svg
LOCATION:Phone Number: 712 432 5229, PIN: Phone Bridge
END:VEVENT
BEGIN:VEVENT
DTSTART;TZID=America/New_York:20270331T070000
DTEND;TZID=America/New_York:20270331T083000
DTSTAMP:20260420T233923
CREATED:20250503T164132Z
LAST-MODIFIED:20251117T233452Z
UID:10056226-1806476400-1806481800@meetings.greysheet.org
SUMMARY:Qualification WED 0700
DESCRIPTION:This is a GreySheet Qualification meeting. The Speaker will qualify for approximately 15 to 20 minutes on their Experience\, Strength\, and Hope related to GreySheet abstinence.
URL:https://meetings.greysheet.org/meeting/pbig-wed-0700/2027-03-31
CATEGORIES:Telephone or Audio
ATTACH;FMTTYPE=image/svg+xml:https://meetings.greysheet.org/wp-content/uploads/2025/05/phone.svg
LOCATION:Phone Number: 712 432 5229, PIN: Phone Bridge
END:VEVENT
BEGIN:VEVENT
DTSTART;TZID=America/New_York:20270407T070000
DTEND;TZID=America/New_York:20270407T083000
DTSTAMP:20260420T233923
CREATED:20250503T164132Z
LAST-MODIFIED:20251117T233452Z
UID:10056227-1807081200-1807086600@meetings.greysheet.org
SUMMARY:Qualification WED 0700
DESCRIPTION:This is a GreySheet Qualification meeting. The Speaker will qualify for approximately 15 to 20 minutes on their Experience\, Strength\, and Hope related to GreySheet abstinence.
URL:https://meetings.greysheet.org/meeting/pbig-wed-0700/2027-04-07
CATEGORIES:Telephone or Audio
ATTACH;FMTTYPE=image/svg+xml:https://meetings.greysheet.org/wp-content/uploads/2025/05/phone.svg
LOCATION:Phone Number: 712 432 5229, PIN: Phone Bridge
END:VEVENT
BEGIN:VEVENT
DTSTART;TZID=America/New_York:20270414T070000
DTEND;TZID=America/New_York:20270414T083000
DTSTAMP:20260420T233923
CREATED:20250503T164132Z
LAST-MODIFIED:20251117T233452Z
UID:10056228-1807686000-1807691400@meetings.greysheet.org
SUMMARY:Qualification WED 0700
DESCRIPTION:This is a GreySheet Qualification meeting. The Speaker will qualify for approximately 15 to 20 minutes on their Experience\, Strength\, and Hope related to GreySheet abstinence.
URL:https://meetings.greysheet.org/meeting/pbig-wed-0700/2027-04-14
CATEGORIES:Telephone or Audio
ATTACH;FMTTYPE=image/svg+xml:https://meetings.greysheet.org/wp-content/uploads/2025/05/phone.svg
LOCATION:Phone Number: 712 432 5229, PIN: Phone Bridge
END:VEVENT
BEGIN:VEVENT
DTSTART;TZID=America/New_York:20270421T070000
DTEND;TZID=America/New_York:20270421T083000
DTSTAMP:20260420T233923
CREATED:20250503T164132Z
LAST-MODIFIED:20251117T233452Z
UID:10056229-1808290800-1808296200@meetings.greysheet.org
SUMMARY:Qualification WED 0700
DESCRIPTION:This is a GreySheet Qualification meeting. The Speaker will qualify for approximately 15 to 20 minutes on their Experience\, Strength\, and Hope related to GreySheet abstinence.
URL:https://meetings.greysheet.org/meeting/pbig-wed-0700/2027-04-21
CATEGORIES:Telephone or Audio
ATTACH;FMTTYPE=image/svg+xml:https://meetings.greysheet.org/wp-content/uploads/2025/05/phone.svg
LOCATION:Phone Number: 712 432 5229, PIN: Phone Bridge
END:VEVENT
BEGIN:VEVENT
DTSTART;TZID=America/New_York:20270428T070000
DTEND;TZID=America/New_York:20270428T083000
DTSTAMP:20260420T233923
CREATED:20250503T164132Z
LAST-MODIFIED:20251117T233452Z
UID:10056230-1808895600-1808901000@meetings.greysheet.org
SUMMARY:Qualification WED 0700
DESCRIPTION:This is a GreySheet Qualification meeting. The Speaker will qualify for approximately 15 to 20 minutes on their Experience\, Strength\, and Hope related to GreySheet abstinence.
URL:https://meetings.greysheet.org/meeting/pbig-wed-0700/2027-04-28
CATEGORIES:Telephone or Audio
ATTACH;FMTTYPE=image/svg+xml:https://meetings.greysheet.org/wp-content/uploads/2025/05/phone.svg
LOCATION:Phone Number: 712 432 5229, PIN: Phone Bridge
END:VEVENT
BEGIN:VEVENT
DTSTART;TZID=America/New_York:20270505T070000
DTEND;TZID=America/New_York:20270505T083000
DTSTAMP:20260420T233923
CREATED:20250503T164132Z
LAST-MODIFIED:20251117T233452Z
UID:10056231-1809500400-1809505800@meetings.greysheet.org
SUMMARY:Qualification WED 0700
DESCRIPTION:This is a GreySheet Qualification meeting. The Speaker will qualify for approximately 15 to 20 minutes on their Experience\, Strength\, and Hope related to GreySheet abstinence.
URL:https://meetings.greysheet.org/meeting/pbig-wed-0700/2027-05-05
CATEGORIES:Telephone or Audio
ATTACH;FMTTYPE=image/svg+xml:https://meetings.greysheet.org/wp-content/uploads/2025/05/phone.svg
LOCATION:Phone Number: 712 432 5229, PIN: Phone Bridge
END:VEVENT
BEGIN:VEVENT
DTSTART;TZID=America/New_York:20270512T070000
DTEND;TZID=America/New_York:20270512T083000
DTSTAMP:20260420T233923
CREATED:20250503T164132Z
LAST-MODIFIED:20251117T233452Z
UID:10056232-1810105200-1810110600@meetings.greysheet.org
SUMMARY:Qualification WED 0700
DESCRIPTION:This is a GreySheet Qualification meeting. The Speaker will qualify for approximately 15 to 20 minutes on their Experience\, Strength\, and Hope related to GreySheet abstinence.
URL:https://meetings.greysheet.org/meeting/pbig-wed-0700/2027-05-12
CATEGORIES:Telephone or Audio
ATTACH;FMTTYPE=image/svg+xml:https://meetings.greysheet.org/wp-content/uploads/2025/05/phone.svg
LOCATION:Phone Number: 712 432 5229, PIN: Phone Bridge
END:VEVENT
BEGIN:VEVENT
DTSTART;TZID=America/New_York:20270519T070000
DTEND;TZID=America/New_York:20270519T083000
DTSTAMP:20260420T233923
CREATED:20250503T164132Z
LAST-MODIFIED:20251117T233452Z
UID:10056233-1810710000-1810715400@meetings.greysheet.org
SUMMARY:Qualification WED 0700
DESCRIPTION:This is a GreySheet Qualification meeting. The Speaker will qualify for approximately 15 to 20 minutes on their Experience\, Strength\, and Hope related to GreySheet abstinence.
URL:https://meetings.greysheet.org/meeting/pbig-wed-0700/2027-05-19
CATEGORIES:Telephone or Audio
ATTACH;FMTTYPE=image/svg+xml:https://meetings.greysheet.org/wp-content/uploads/2025/05/phone.svg
LOCATION:Phone Number: 712 432 5229, PIN: Phone Bridge
END:VEVENT
BEGIN:VEVENT
DTSTART;TZID=America/New_York:20270526T070000
DTEND;TZID=America/New_York:20270526T083000
DTSTAMP:20260420T233923
CREATED:20250503T164132Z
LAST-MODIFIED:20251117T233452Z
UID:10056234-1811314800-1811320200@meetings.greysheet.org
SUMMARY:Qualification WED 0700
DESCRIPTION:This is a GreySheet Qualification meeting. The Speaker will qualify for approximately 15 to 20 minutes on their Experience\, Strength\, and Hope related to GreySheet abstinence.
URL:https://meetings.greysheet.org/meeting/pbig-wed-0700/2027-05-26
CATEGORIES:Telephone or Audio
ATTACH;FMTTYPE=image/svg+xml:https://meetings.greysheet.org/wp-content/uploads/2025/05/phone.svg
LOCATION:Phone Number: 712 432 5229, PIN: Phone Bridge
END:VEVENT
BEGIN:VEVENT
DTSTART;TZID=America/New_York:20270602T070000
DTEND;TZID=America/New_York:20270602T083000
DTSTAMP:20260420T233923
CREATED:20250503T164132Z
LAST-MODIFIED:20251117T233452Z
UID:10056235-1811919600-1811925000@meetings.greysheet.org
SUMMARY:Qualification WED 0700
DESCRIPTION:This is a GreySheet Qualification meeting. The Speaker will qualify for approximately 15 to 20 minutes on their Experience\, Strength\, and Hope related to GreySheet abstinence.
URL:https://meetings.greysheet.org/meeting/pbig-wed-0700/2027-06-02
CATEGORIES:Telephone or Audio
ATTACH;FMTTYPE=image/svg+xml:https://meetings.greysheet.org/wp-content/uploads/2025/05/phone.svg
LOCATION:Phone Number: 712 432 5229, PIN: Phone Bridge
END:VEVENT
BEGIN:VEVENT
DTSTART;TZID=America/New_York:20270609T070000
DTEND;TZID=America/New_York:20270609T083000
DTSTAMP:20260420T233923
CREATED:20250503T164132Z
LAST-MODIFIED:20251117T233452Z
UID:10056236-1812524400-1812529800@meetings.greysheet.org
SUMMARY:Qualification WED 0700
DESCRIPTION:This is a GreySheet Qualification meeting. The Speaker will qualify for approximately 15 to 20 minutes on their Experience\, Strength\, and Hope related to GreySheet abstinence.
URL:https://meetings.greysheet.org/meeting/pbig-wed-0700/2027-06-09
CATEGORIES:Telephone or Audio
ATTACH;FMTTYPE=image/svg+xml:https://meetings.greysheet.org/wp-content/uploads/2025/05/phone.svg
LOCATION:Phone Number: 712 432 5229, PIN: Phone Bridge
END:VEVENT
BEGIN:VEVENT
DTSTART;TZID=America/New_York:20270616T070000
DTEND;TZID=America/New_York:20270616T083000
DTSTAMP:20260420T233923
CREATED:20250503T164132Z
LAST-MODIFIED:20251117T233452Z
UID:10056237-1813129200-1813134600@meetings.greysheet.org
SUMMARY:Qualification WED 0700
DESCRIPTION:This is a GreySheet Qualification meeting. The Speaker will qualify for approximately 15 to 20 minutes on their Experience\, Strength\, and Hope related to GreySheet abstinence.
URL:https://meetings.greysheet.org/meeting/pbig-wed-0700/2027-06-16
CATEGORIES:Telephone or Audio
ATTACH;FMTTYPE=image/svg+xml:https://meetings.greysheet.org/wp-content/uploads/2025/05/phone.svg
LOCATION:Phone Number: 712 432 5229, PIN: Phone Bridge
END:VEVENT
BEGIN:VEVENT
DTSTART;TZID=America/New_York:20270623T070000
DTEND;TZID=America/New_York:20270623T083000
DTSTAMP:20260420T233923
CREATED:20250503T164132Z
LAST-MODIFIED:20251117T233452Z
UID:10056238-1813734000-1813739400@meetings.greysheet.org
SUMMARY:Qualification WED 0700
DESCRIPTION:This is a GreySheet Qualification meeting. The Speaker will qualify for approximately 15 to 20 minutes on their Experience\, Strength\, and Hope related to GreySheet abstinence.
URL:https://meetings.greysheet.org/meeting/pbig-wed-0700/2027-06-23
CATEGORIES:Telephone or Audio
ATTACH;FMTTYPE=image/svg+xml:https://meetings.greysheet.org/wp-content/uploads/2025/05/phone.svg
LOCATION:Phone Number: 712 432 5229, PIN: Phone Bridge
END:VEVENT
BEGIN:VEVENT
DTSTART;TZID=America/New_York:20270630T070000
DTEND;TZID=America/New_York:20270630T083000
DTSTAMP:20260420T233923
CREATED:20250503T164132Z
LAST-MODIFIED:20251117T233452Z
UID:10056239-1814338800-1814344200@meetings.greysheet.org
SUMMARY:Qualification WED 0700
DESCRIPTION:This is a GreySheet Qualification meeting. The Speaker will qualify for approximately 15 to 20 minutes on their Experience\, Strength\, and Hope related to GreySheet abstinence.
URL:https://meetings.greysheet.org/meeting/pbig-wed-0700/2027-06-30
CATEGORIES:Telephone or Audio
ATTACH;FMTTYPE=image/svg+xml:https://meetings.greysheet.org/wp-content/uploads/2025/05/phone.svg
LOCATION:Phone Number: 712 432 5229, PIN: Phone Bridge
END:VEVENT
BEGIN:VEVENT
DTSTART;TZID=America/New_York:20270707T070000
DTEND;TZID=America/New_York:20270707T083000
DTSTAMP:20260420T233923
CREATED:20250503T164132Z
LAST-MODIFIED:20251117T233452Z
UID:10056240-1814943600-1814949000@meetings.greysheet.org
SUMMARY:Qualification WED 0700
DESCRIPTION:This is a GreySheet Qualification meeting. The Speaker will qualify for approximately 15 to 20 minutes on their Experience\, Strength\, and Hope related to GreySheet abstinence.
URL:https://meetings.greysheet.org/meeting/pbig-wed-0700/2027-07-07
CATEGORIES:Telephone or Audio
ATTACH;FMTTYPE=image/svg+xml:https://meetings.greysheet.org/wp-content/uploads/2025/05/phone.svg
LOCATION:Phone Number: 712 432 5229, PIN: Phone Bridge
END:VEVENT
BEGIN:VEVENT
DTSTART;TZID=America/New_York:20270714T070000
DTEND;TZID=America/New_York:20270714T083000
DTSTAMP:20260420T233923
CREATED:20250503T164132Z
LAST-MODIFIED:20251117T233452Z
UID:10056241-1815548400-1815553800@meetings.greysheet.org
SUMMARY:Qualification WED 0700
DESCRIPTION:This is a GreySheet Qualification meeting. The Speaker will qualify for approximately 15 to 20 minutes on their Experience\, Strength\, and Hope related to GreySheet abstinence.
URL:https://meetings.greysheet.org/meeting/pbig-wed-0700/2027-07-14
CATEGORIES:Telephone or Audio
ATTACH;FMTTYPE=image/svg+xml:https://meetings.greysheet.org/wp-content/uploads/2025/05/phone.svg
LOCATION:Phone Number: 712 432 5229, PIN: Phone Bridge
END:VEVENT
BEGIN:VEVENT
DTSTART;TZID=America/New_York:20270721T070000
DTEND;TZID=America/New_York:20270721T083000
DTSTAMP:20260420T233923
CREATED:20250503T164132Z
LAST-MODIFIED:20251117T233452Z
UID:10056242-1816153200-1816158600@meetings.greysheet.org
SUMMARY:Qualification WED 0700
DESCRIPTION:This is a GreySheet Qualification meeting. The Speaker will qualify for approximately 15 to 20 minutes on their Experience\, Strength\, and Hope related to GreySheet abstinence.
URL:https://meetings.greysheet.org/meeting/pbig-wed-0700/2027-07-21
CATEGORIES:Telephone or Audio
ATTACH;FMTTYPE=image/svg+xml:https://meetings.greysheet.org/wp-content/uploads/2025/05/phone.svg
LOCATION:Phone Number: 712 432 5229, PIN: Phone Bridge
END:VEVENT
END:VCALENDAR