BEGIN:VCALENDAR
VERSION:2.0
PRODID:-//GreySheeters Anonymous World Services - ECPv6.15.20//NONSGML v1.0//EN
CALSCALE:GREGORIAN
METHOD:PUBLISH
X-ORIGINAL-URL:https://meetings.greysheet.org
X-WR-CALDESC:Events for GreySheeters Anonymous World Services
REFRESH-INTERVAL;VALUE=DURATION:PT1H
X-Robots-Tag:noindex
X-PUBLISHED-TTL:PT1H
BEGIN:VTIMEZONE
TZID:America/New_York
BEGIN:DAYLIGHT
TZOFFSETFROM:-0500
TZOFFSETTO:-0400
TZNAME:EDT
DTSTART:20250309T070000
END:DAYLIGHT
BEGIN:STANDARD
TZOFFSETFROM:-0400
TZOFFSETTO:-0500
TZNAME:EST
DTSTART:20251102T060000
END:STANDARD
BEGIN:DAYLIGHT
TZOFFSETFROM:-0500
TZOFFSETTO:-0400
TZNAME:EDT
DTSTART:20260308T070000
END:DAYLIGHT
BEGIN:STANDARD
TZOFFSETFROM:-0400
TZOFFSETTO:-0500
TZNAME:EST
DTSTART:20261101T060000
END:STANDARD
BEGIN:DAYLIGHT
TZOFFSETFROM:-0500
TZOFFSETTO:-0400
TZNAME:EDT
DTSTART:20270314T070000
END:DAYLIGHT
BEGIN:STANDARD
TZOFFSETFROM:-0400
TZOFFSETTO:-0500
TZNAME:EST
DTSTART:20271107T060000
END:STANDARD
BEGIN:DAYLIGHT
TZOFFSETFROM:-0500
TZOFFSETTO:-0400
TZNAME:EDT
DTSTART:20280312T070000
END:DAYLIGHT
BEGIN:STANDARD
TZOFFSETFROM:-0400
TZOFFSETTO:-0500
TZNAME:EST
DTSTART:20281105T060000
END:STANDARD
END:VTIMEZONE
BEGIN:VEVENT
DTSTART;TZID=America/New_York:20260714T120000
DTEND;TZID=America/New_York:20260714T130000
DTSTAMP:20260419T121016
CREATED:20250503T164132Z
LAST-MODIFIED:20251117T233821Z
UID:10057079-1784030400-1784034000@meetings.greysheet.org
SUMMARY:Slogans
DESCRIPTION:Speakers qualify for 5-10 minutes on a slogan or slogans related to GreySheet abstinence\, followed by 3-minute timed shares.
URL:https://meetings.greysheet.org/meeting/slogans/2026-07-14
CATEGORIES:Telephone or Audio
ATTACH;FMTTYPE=image/svg+xml:https://meetings.greysheet.org/wp-content/uploads/2025/05/phone.svg
LOCATION:Phone Number: 712 432 5229, PIN: Phone Bridge
END:VEVENT
BEGIN:VEVENT
DTSTART;TZID=America/New_York:20260721T120000
DTEND;TZID=America/New_York:20260721T130000
DTSTAMP:20260419T121016
CREATED:20250503T164132Z
LAST-MODIFIED:20251117T233821Z
UID:10057080-1784635200-1784638800@meetings.greysheet.org
SUMMARY:Slogans
DESCRIPTION:Speakers qualify for 5-10 minutes on a slogan or slogans related to GreySheet abstinence\, followed by 3-minute timed shares.
URL:https://meetings.greysheet.org/meeting/slogans/2026-07-21
CATEGORIES:Telephone or Audio
ATTACH;FMTTYPE=image/svg+xml:https://meetings.greysheet.org/wp-content/uploads/2025/05/phone.svg
LOCATION:Phone Number: 712 432 5229, PIN: Phone Bridge
END:VEVENT
BEGIN:VEVENT
DTSTART;TZID=America/New_York:20260728T120000
DTEND;TZID=America/New_York:20260728T130000
DTSTAMP:20260419T121016
CREATED:20250503T164132Z
LAST-MODIFIED:20251117T233821Z
UID:10057081-1785240000-1785243600@meetings.greysheet.org
SUMMARY:Slogans
DESCRIPTION:Speakers qualify for 5-10 minutes on a slogan or slogans related to GreySheet abstinence\, followed by 3-minute timed shares.
URL:https://meetings.greysheet.org/meeting/slogans/2026-07-28
CATEGORIES:Telephone or Audio
ATTACH;FMTTYPE=image/svg+xml:https://meetings.greysheet.org/wp-content/uploads/2025/05/phone.svg
LOCATION:Phone Number: 712 432 5229, PIN: Phone Bridge
END:VEVENT
BEGIN:VEVENT
DTSTART;TZID=America/New_York:20260804T120000
DTEND;TZID=America/New_York:20260804T130000
DTSTAMP:20260419T121016
CREATED:20250503T164132Z
LAST-MODIFIED:20251117T233821Z
UID:10057082-1785844800-1785848400@meetings.greysheet.org
SUMMARY:Slogans
DESCRIPTION:Speakers qualify for 5-10 minutes on a slogan or slogans related to GreySheet abstinence\, followed by 3-minute timed shares.
URL:https://meetings.greysheet.org/meeting/slogans/2026-08-04
CATEGORIES:Telephone or Audio
ATTACH;FMTTYPE=image/svg+xml:https://meetings.greysheet.org/wp-content/uploads/2025/05/phone.svg
LOCATION:Phone Number: 712 432 5229, PIN: Phone Bridge
END:VEVENT
BEGIN:VEVENT
DTSTART;TZID=America/New_York:20260811T120000
DTEND;TZID=America/New_York:20260811T130000
DTSTAMP:20260419T121016
CREATED:20250503T164132Z
LAST-MODIFIED:20251117T233821Z
UID:10057083-1786449600-1786453200@meetings.greysheet.org
SUMMARY:Slogans
DESCRIPTION:Speakers qualify for 5-10 minutes on a slogan or slogans related to GreySheet abstinence\, followed by 3-minute timed shares.
URL:https://meetings.greysheet.org/meeting/slogans/2026-08-11
CATEGORIES:Telephone or Audio
ATTACH;FMTTYPE=image/svg+xml:https://meetings.greysheet.org/wp-content/uploads/2025/05/phone.svg
LOCATION:Phone Number: 712 432 5229, PIN: Phone Bridge
END:VEVENT
BEGIN:VEVENT
DTSTART;TZID=America/New_York:20260818T120000
DTEND;TZID=America/New_York:20260818T130000
DTSTAMP:20260419T121016
CREATED:20250503T164132Z
LAST-MODIFIED:20251117T233821Z
UID:10057084-1787054400-1787058000@meetings.greysheet.org
SUMMARY:Slogans
DESCRIPTION:Speakers qualify for 5-10 minutes on a slogan or slogans related to GreySheet abstinence\, followed by 3-minute timed shares.
URL:https://meetings.greysheet.org/meeting/slogans/2026-08-18
CATEGORIES:Telephone or Audio
ATTACH;FMTTYPE=image/svg+xml:https://meetings.greysheet.org/wp-content/uploads/2025/05/phone.svg
LOCATION:Phone Number: 712 432 5229, PIN: Phone Bridge
END:VEVENT
BEGIN:VEVENT
DTSTART;TZID=America/New_York:20260825T120000
DTEND;TZID=America/New_York:20260825T130000
DTSTAMP:20260419T121016
CREATED:20250503T164132Z
LAST-MODIFIED:20251117T233821Z
UID:10057085-1787659200-1787662800@meetings.greysheet.org
SUMMARY:Slogans
DESCRIPTION:Speakers qualify for 5-10 minutes on a slogan or slogans related to GreySheet abstinence\, followed by 3-minute timed shares.
URL:https://meetings.greysheet.org/meeting/slogans/2026-08-25
CATEGORIES:Telephone or Audio
ATTACH;FMTTYPE=image/svg+xml:https://meetings.greysheet.org/wp-content/uploads/2025/05/phone.svg
LOCATION:Phone Number: 712 432 5229, PIN: Phone Bridge
END:VEVENT
BEGIN:VEVENT
DTSTART;TZID=America/New_York:20260901T120000
DTEND;TZID=America/New_York:20260901T130000
DTSTAMP:20260419T121016
CREATED:20250503T164132Z
LAST-MODIFIED:20251117T233821Z
UID:10057086-1788264000-1788267600@meetings.greysheet.org
SUMMARY:Slogans
DESCRIPTION:Speakers qualify for 5-10 minutes on a slogan or slogans related to GreySheet abstinence\, followed by 3-minute timed shares.
URL:https://meetings.greysheet.org/meeting/slogans/2026-09-01
CATEGORIES:Telephone or Audio
ATTACH;FMTTYPE=image/svg+xml:https://meetings.greysheet.org/wp-content/uploads/2025/05/phone.svg
LOCATION:Phone Number: 712 432 5229, PIN: Phone Bridge
END:VEVENT
BEGIN:VEVENT
DTSTART;TZID=America/New_York:20260908T120000
DTEND;TZID=America/New_York:20260908T130000
DTSTAMP:20260419T121016
CREATED:20250503T164132Z
LAST-MODIFIED:20251117T233821Z
UID:10057087-1788868800-1788872400@meetings.greysheet.org
SUMMARY:Slogans
DESCRIPTION:Speakers qualify for 5-10 minutes on a slogan or slogans related to GreySheet abstinence\, followed by 3-minute timed shares.
URL:https://meetings.greysheet.org/meeting/slogans/2026-09-08
CATEGORIES:Telephone or Audio
ATTACH;FMTTYPE=image/svg+xml:https://meetings.greysheet.org/wp-content/uploads/2025/05/phone.svg
LOCATION:Phone Number: 712 432 5229, PIN: Phone Bridge
END:VEVENT
BEGIN:VEVENT
DTSTART;TZID=America/New_York:20260915T120000
DTEND;TZID=America/New_York:20260915T130000
DTSTAMP:20260419T121016
CREATED:20250503T164132Z
LAST-MODIFIED:20251117T233821Z
UID:10057088-1789473600-1789477200@meetings.greysheet.org
SUMMARY:Slogans
DESCRIPTION:Speakers qualify for 5-10 minutes on a slogan or slogans related to GreySheet abstinence\, followed by 3-minute timed shares.
URL:https://meetings.greysheet.org/meeting/slogans/2026-09-15
CATEGORIES:Telephone or Audio
ATTACH;FMTTYPE=image/svg+xml:https://meetings.greysheet.org/wp-content/uploads/2025/05/phone.svg
LOCATION:Phone Number: 712 432 5229, PIN: Phone Bridge
END:VEVENT
BEGIN:VEVENT
DTSTART;TZID=America/New_York:20260922T120000
DTEND;TZID=America/New_York:20260922T130000
DTSTAMP:20260419T121016
CREATED:20250503T164132Z
LAST-MODIFIED:20251117T233821Z
UID:10057089-1790078400-1790082000@meetings.greysheet.org
SUMMARY:Slogans
DESCRIPTION:Speakers qualify for 5-10 minutes on a slogan or slogans related to GreySheet abstinence\, followed by 3-minute timed shares.
URL:https://meetings.greysheet.org/meeting/slogans/2026-09-22
CATEGORIES:Telephone or Audio
ATTACH;FMTTYPE=image/svg+xml:https://meetings.greysheet.org/wp-content/uploads/2025/05/phone.svg
LOCATION:Phone Number: 712 432 5229, PIN: Phone Bridge
END:VEVENT
BEGIN:VEVENT
DTSTART;TZID=America/New_York:20260929T120000
DTEND;TZID=America/New_York:20260929T130000
DTSTAMP:20260419T121016
CREATED:20250503T164132Z
LAST-MODIFIED:20251117T233821Z
UID:10057090-1790683200-1790686800@meetings.greysheet.org
SUMMARY:Slogans
DESCRIPTION:Speakers qualify for 5-10 minutes on a slogan or slogans related to GreySheet abstinence\, followed by 3-minute timed shares.
URL:https://meetings.greysheet.org/meeting/slogans/2026-09-29
CATEGORIES:Telephone or Audio
ATTACH;FMTTYPE=image/svg+xml:https://meetings.greysheet.org/wp-content/uploads/2025/05/phone.svg
LOCATION:Phone Number: 712 432 5229, PIN: Phone Bridge
END:VEVENT
BEGIN:VEVENT
DTSTART;TZID=America/New_York:20261006T120000
DTEND;TZID=America/New_York:20261006T130000
DTSTAMP:20260419T121016
CREATED:20250503T164132Z
LAST-MODIFIED:20251117T233821Z
UID:10057091-1791288000-1791291600@meetings.greysheet.org
SUMMARY:Slogans
DESCRIPTION:Speakers qualify for 5-10 minutes on a slogan or slogans related to GreySheet abstinence\, followed by 3-minute timed shares.
URL:https://meetings.greysheet.org/meeting/slogans/2026-10-06
CATEGORIES:Telephone or Audio
ATTACH;FMTTYPE=image/svg+xml:https://meetings.greysheet.org/wp-content/uploads/2025/05/phone.svg
LOCATION:Phone Number: 712 432 5229, PIN: Phone Bridge
END:VEVENT
BEGIN:VEVENT
DTSTART;TZID=America/New_York:20261013T120000
DTEND;TZID=America/New_York:20261013T130000
DTSTAMP:20260419T121016
CREATED:20250503T164132Z
LAST-MODIFIED:20251117T233821Z
UID:10057092-1791892800-1791896400@meetings.greysheet.org
SUMMARY:Slogans
DESCRIPTION:Speakers qualify for 5-10 minutes on a slogan or slogans related to GreySheet abstinence\, followed by 3-minute timed shares.
URL:https://meetings.greysheet.org/meeting/slogans/2026-10-13
CATEGORIES:Telephone or Audio
ATTACH;FMTTYPE=image/svg+xml:https://meetings.greysheet.org/wp-content/uploads/2025/05/phone.svg
LOCATION:Phone Number: 712 432 5229, PIN: Phone Bridge
END:VEVENT
BEGIN:VEVENT
DTSTART;TZID=America/New_York:20261020T120000
DTEND;TZID=America/New_York:20261020T130000
DTSTAMP:20260419T121016
CREATED:20250503T164132Z
LAST-MODIFIED:20251117T233821Z
UID:10057093-1792497600-1792501200@meetings.greysheet.org
SUMMARY:Slogans
DESCRIPTION:Speakers qualify for 5-10 minutes on a slogan or slogans related to GreySheet abstinence\, followed by 3-minute timed shares.
URL:https://meetings.greysheet.org/meeting/slogans/2026-10-20
CATEGORIES:Telephone or Audio
ATTACH;FMTTYPE=image/svg+xml:https://meetings.greysheet.org/wp-content/uploads/2025/05/phone.svg
LOCATION:Phone Number: 712 432 5229, PIN: Phone Bridge
END:VEVENT
BEGIN:VEVENT
DTSTART;TZID=America/New_York:20261027T120000
DTEND;TZID=America/New_York:20261027T130000
DTSTAMP:20260419T121016
CREATED:20250503T164132Z
LAST-MODIFIED:20251117T233821Z
UID:10057094-1793102400-1793106000@meetings.greysheet.org
SUMMARY:Slogans
DESCRIPTION:Speakers qualify for 5-10 minutes on a slogan or slogans related to GreySheet abstinence\, followed by 3-minute timed shares.
URL:https://meetings.greysheet.org/meeting/slogans/2026-10-27
CATEGORIES:Telephone or Audio
ATTACH;FMTTYPE=image/svg+xml:https://meetings.greysheet.org/wp-content/uploads/2025/05/phone.svg
LOCATION:Phone Number: 712 432 5229, PIN: Phone Bridge
END:VEVENT
BEGIN:VEVENT
DTSTART;TZID=America/New_York:20261103T120000
DTEND;TZID=America/New_York:20261103T130000
DTSTAMP:20260419T121016
CREATED:20250503T164132Z
LAST-MODIFIED:20251117T233821Z
UID:10057095-1793707200-1793710800@meetings.greysheet.org
SUMMARY:Slogans
DESCRIPTION:Speakers qualify for 5-10 minutes on a slogan or slogans related to GreySheet abstinence\, followed by 3-minute timed shares.
URL:https://meetings.greysheet.org/meeting/slogans/2026-11-03
CATEGORIES:Telephone or Audio
ATTACH;FMTTYPE=image/svg+xml:https://meetings.greysheet.org/wp-content/uploads/2025/05/phone.svg
LOCATION:Phone Number: 712 432 5229, PIN: Phone Bridge
END:VEVENT
BEGIN:VEVENT
DTSTART;TZID=America/New_York:20261110T120000
DTEND;TZID=America/New_York:20261110T130000
DTSTAMP:20260419T121016
CREATED:20250503T164132Z
LAST-MODIFIED:20251117T233821Z
UID:10057096-1794312000-1794315600@meetings.greysheet.org
SUMMARY:Slogans
DESCRIPTION:Speakers qualify for 5-10 minutes on a slogan or slogans related to GreySheet abstinence\, followed by 3-minute timed shares.
URL:https://meetings.greysheet.org/meeting/slogans/2026-11-10
CATEGORIES:Telephone or Audio
ATTACH;FMTTYPE=image/svg+xml:https://meetings.greysheet.org/wp-content/uploads/2025/05/phone.svg
LOCATION:Phone Number: 712 432 5229, PIN: Phone Bridge
END:VEVENT
BEGIN:VEVENT
DTSTART;TZID=America/New_York:20261117T120000
DTEND;TZID=America/New_York:20261117T130000
DTSTAMP:20260419T121016
CREATED:20250503T164132Z
LAST-MODIFIED:20251117T233821Z
UID:10057097-1794916800-1794920400@meetings.greysheet.org
SUMMARY:Slogans
DESCRIPTION:Speakers qualify for 5-10 minutes on a slogan or slogans related to GreySheet abstinence\, followed by 3-minute timed shares.
URL:https://meetings.greysheet.org/meeting/slogans/2026-11-17
CATEGORIES:Telephone or Audio
ATTACH;FMTTYPE=image/svg+xml:https://meetings.greysheet.org/wp-content/uploads/2025/05/phone.svg
LOCATION:Phone Number: 712 432 5229, PIN: Phone Bridge
END:VEVENT
BEGIN:VEVENT
DTSTART;TZID=America/New_York:20261124T120000
DTEND;TZID=America/New_York:20261124T130000
DTSTAMP:20260419T121016
CREATED:20250503T164132Z
LAST-MODIFIED:20251117T233821Z
UID:10057098-1795521600-1795525200@meetings.greysheet.org
SUMMARY:Slogans
DESCRIPTION:Speakers qualify for 5-10 minutes on a slogan or slogans related to GreySheet abstinence\, followed by 3-minute timed shares.
URL:https://meetings.greysheet.org/meeting/slogans/2026-11-24
CATEGORIES:Telephone or Audio
ATTACH;FMTTYPE=image/svg+xml:https://meetings.greysheet.org/wp-content/uploads/2025/05/phone.svg
LOCATION:Phone Number: 712 432 5229, PIN: Phone Bridge
END:VEVENT
BEGIN:VEVENT
DTSTART;TZID=America/New_York:20261201T120000
DTEND;TZID=America/New_York:20261201T130000
DTSTAMP:20260419T121016
CREATED:20250503T164132Z
LAST-MODIFIED:20251117T233821Z
UID:10057099-1796126400-1796130000@meetings.greysheet.org
SUMMARY:Slogans
DESCRIPTION:Speakers qualify for 5-10 minutes on a slogan or slogans related to GreySheet abstinence\, followed by 3-minute timed shares.
URL:https://meetings.greysheet.org/meeting/slogans/2026-12-01
CATEGORIES:Telephone or Audio
ATTACH;FMTTYPE=image/svg+xml:https://meetings.greysheet.org/wp-content/uploads/2025/05/phone.svg
LOCATION:Phone Number: 712 432 5229, PIN: Phone Bridge
END:VEVENT
BEGIN:VEVENT
DTSTART;TZID=America/New_York:20261208T120000
DTEND;TZID=America/New_York:20261208T130000
DTSTAMP:20260419T121016
CREATED:20250503T164132Z
LAST-MODIFIED:20251117T233821Z
UID:10057100-1796731200-1796734800@meetings.greysheet.org
SUMMARY:Slogans
DESCRIPTION:Speakers qualify for 5-10 minutes on a slogan or slogans related to GreySheet abstinence\, followed by 3-minute timed shares.
URL:https://meetings.greysheet.org/meeting/slogans/2026-12-08
CATEGORIES:Telephone or Audio
ATTACH;FMTTYPE=image/svg+xml:https://meetings.greysheet.org/wp-content/uploads/2025/05/phone.svg
LOCATION:Phone Number: 712 432 5229, PIN: Phone Bridge
END:VEVENT
BEGIN:VEVENT
DTSTART;TZID=America/New_York:20261215T120000
DTEND;TZID=America/New_York:20261215T130000
DTSTAMP:20260419T121016
CREATED:20250503T164132Z
LAST-MODIFIED:20251117T233821Z
UID:10057101-1797336000-1797339600@meetings.greysheet.org
SUMMARY:Slogans
DESCRIPTION:Speakers qualify for 5-10 minutes on a slogan or slogans related to GreySheet abstinence\, followed by 3-minute timed shares.
URL:https://meetings.greysheet.org/meeting/slogans/2026-12-15
CATEGORIES:Telephone or Audio
ATTACH;FMTTYPE=image/svg+xml:https://meetings.greysheet.org/wp-content/uploads/2025/05/phone.svg
LOCATION:Phone Number: 712 432 5229, PIN: Phone Bridge
END:VEVENT
BEGIN:VEVENT
DTSTART;TZID=America/New_York:20261222T120000
DTEND;TZID=America/New_York:20261222T130000
DTSTAMP:20260419T121016
CREATED:20250503T164132Z
LAST-MODIFIED:20251117T233821Z
UID:10057102-1797940800-1797944400@meetings.greysheet.org
SUMMARY:Slogans
DESCRIPTION:Speakers qualify for 5-10 minutes on a slogan or slogans related to GreySheet abstinence\, followed by 3-minute timed shares.
URL:https://meetings.greysheet.org/meeting/slogans/2026-12-22
CATEGORIES:Telephone or Audio
ATTACH;FMTTYPE=image/svg+xml:https://meetings.greysheet.org/wp-content/uploads/2025/05/phone.svg
LOCATION:Phone Number: 712 432 5229, PIN: Phone Bridge
END:VEVENT
BEGIN:VEVENT
DTSTART;TZID=America/New_York:20261229T120000
DTEND;TZID=America/New_York:20261229T130000
DTSTAMP:20260419T121016
CREATED:20250503T164132Z
LAST-MODIFIED:20251117T233821Z
UID:10057103-1798545600-1798549200@meetings.greysheet.org
SUMMARY:Slogans
DESCRIPTION:Speakers qualify for 5-10 minutes on a slogan or slogans related to GreySheet abstinence\, followed by 3-minute timed shares.
URL:https://meetings.greysheet.org/meeting/slogans/2026-12-29
CATEGORIES:Telephone or Audio
ATTACH;FMTTYPE=image/svg+xml:https://meetings.greysheet.org/wp-content/uploads/2025/05/phone.svg
LOCATION:Phone Number: 712 432 5229, PIN: Phone Bridge
END:VEVENT
BEGIN:VEVENT
DTSTART;TZID=America/New_York:20270105T120000
DTEND;TZID=America/New_York:20270105T130000
DTSTAMP:20260419T121016
CREATED:20250503T164132Z
LAST-MODIFIED:20251117T233821Z
UID:10057104-1799150400-1799154000@meetings.greysheet.org
SUMMARY:Slogans
DESCRIPTION:Speakers qualify for 5-10 minutes on a slogan or slogans related to GreySheet abstinence\, followed by 3-minute timed shares.
URL:https://meetings.greysheet.org/meeting/slogans/2027-01-05
CATEGORIES:Telephone or Audio
ATTACH;FMTTYPE=image/svg+xml:https://meetings.greysheet.org/wp-content/uploads/2025/05/phone.svg
LOCATION:Phone Number: 712 432 5229, PIN: Phone Bridge
END:VEVENT
BEGIN:VEVENT
DTSTART;TZID=America/New_York:20270112T120000
DTEND;TZID=America/New_York:20270112T130000
DTSTAMP:20260419T121016
CREATED:20250503T164132Z
LAST-MODIFIED:20251117T233821Z
UID:10057105-1799755200-1799758800@meetings.greysheet.org
SUMMARY:Slogans
DESCRIPTION:Speakers qualify for 5-10 minutes on a slogan or slogans related to GreySheet abstinence\, followed by 3-minute timed shares.
URL:https://meetings.greysheet.org/meeting/slogans/2027-01-12
CATEGORIES:Telephone or Audio
ATTACH;FMTTYPE=image/svg+xml:https://meetings.greysheet.org/wp-content/uploads/2025/05/phone.svg
LOCATION:Phone Number: 712 432 5229, PIN: Phone Bridge
END:VEVENT
BEGIN:VEVENT
DTSTART;TZID=America/New_York:20270119T120000
DTEND;TZID=America/New_York:20270119T130000
DTSTAMP:20260419T121016
CREATED:20250503T164132Z
LAST-MODIFIED:20251117T233821Z
UID:10057106-1800360000-1800363600@meetings.greysheet.org
SUMMARY:Slogans
DESCRIPTION:Speakers qualify for 5-10 minutes on a slogan or slogans related to GreySheet abstinence\, followed by 3-minute timed shares.
URL:https://meetings.greysheet.org/meeting/slogans/2027-01-19
CATEGORIES:Telephone or Audio
ATTACH;FMTTYPE=image/svg+xml:https://meetings.greysheet.org/wp-content/uploads/2025/05/phone.svg
LOCATION:Phone Number: 712 432 5229, PIN: Phone Bridge
END:VEVENT
BEGIN:VEVENT
DTSTART;TZID=America/New_York:20270126T120000
DTEND;TZID=America/New_York:20270126T130000
DTSTAMP:20260419T121016
CREATED:20250503T164132Z
LAST-MODIFIED:20251117T233821Z
UID:10057107-1800964800-1800968400@meetings.greysheet.org
SUMMARY:Slogans
DESCRIPTION:Speakers qualify for 5-10 minutes on a slogan or slogans related to GreySheet abstinence\, followed by 3-minute timed shares.
URL:https://meetings.greysheet.org/meeting/slogans/2027-01-26
CATEGORIES:Telephone or Audio
ATTACH;FMTTYPE=image/svg+xml:https://meetings.greysheet.org/wp-content/uploads/2025/05/phone.svg
LOCATION:Phone Number: 712 432 5229, PIN: Phone Bridge
END:VEVENT
BEGIN:VEVENT
DTSTART;TZID=America/New_York:20270202T120000
DTEND;TZID=America/New_York:20270202T130000
DTSTAMP:20260419T121016
CREATED:20250503T164132Z
LAST-MODIFIED:20251117T233821Z
UID:10057108-1801569600-1801573200@meetings.greysheet.org
SUMMARY:Slogans
DESCRIPTION:Speakers qualify for 5-10 minutes on a slogan or slogans related to GreySheet abstinence\, followed by 3-minute timed shares.
URL:https://meetings.greysheet.org/meeting/slogans/2027-02-02
CATEGORIES:Telephone or Audio
ATTACH;FMTTYPE=image/svg+xml:https://meetings.greysheet.org/wp-content/uploads/2025/05/phone.svg
LOCATION:Phone Number: 712 432 5229, PIN: Phone Bridge
END:VEVENT
END:VCALENDAR