BEGIN:VCALENDAR
VERSION:2.0
PRODID:-//GreySheeters Anonymous World Services - ECPv6.15.20//NONSGML v1.0//EN
CALSCALE:GREGORIAN
METHOD:PUBLISH
X-WR-CALNAME:GreySheeters Anonymous World Services
X-ORIGINAL-URL:https://meetings.greysheet.org
X-WR-CALDESC:Events for GreySheeters Anonymous World Services
REFRESH-INTERVAL;VALUE=DURATION:PT1H
X-Robots-Tag:noindex
X-PUBLISHED-TTL:PT1H
BEGIN:VTIMEZONE
TZID:America/New_York
BEGIN:DAYLIGHT
TZOFFSETFROM:-0500
TZOFFSETTO:-0400
TZNAME:EDT
DTSTART:20240310T070000
END:DAYLIGHT
BEGIN:STANDARD
TZOFFSETFROM:-0400
TZOFFSETTO:-0500
TZNAME:EST
DTSTART:20241103T060000
END:STANDARD
BEGIN:DAYLIGHT
TZOFFSETFROM:-0500
TZOFFSETTO:-0400
TZNAME:EDT
DTSTART:20250309T070000
END:DAYLIGHT
BEGIN:STANDARD
TZOFFSETFROM:-0400
TZOFFSETTO:-0500
TZNAME:EST
DTSTART:20251102T060000
END:STANDARD
BEGIN:DAYLIGHT
TZOFFSETFROM:-0500
TZOFFSETTO:-0400
TZNAME:EDT
DTSTART:20260308T070000
END:DAYLIGHT
BEGIN:STANDARD
TZOFFSETFROM:-0400
TZOFFSETTO:-0500
TZNAME:EST
DTSTART:20261101T060000
END:STANDARD
BEGIN:DAYLIGHT
TZOFFSETFROM:-0500
TZOFFSETTO:-0400
TZNAME:EDT
DTSTART:20270314T070000
END:DAYLIGHT
BEGIN:STANDARD
TZOFFSETFROM:-0400
TZOFFSETTO:-0500
TZNAME:EST
DTSTART:20271107T060000
END:STANDARD
END:VTIMEZONE
BEGIN:VEVENT
DTSTART;TZID=America/New_York:20260416T120000
DTEND;TZID=America/New_York:20260416T130000
DTSTAMP:20260419T133428
CREATED:20250503T164132Z
LAST-MODIFIED:20251117T232641Z
UID:10054045-1776340800-1776344400@meetings.greysheet.org
SUMMARY:Women Age 50 and Over
DESCRIPTION:Since we are women of age approximately 50 years and older\, we request that our sharing at this meeting be focused on overcoming the obstacles of aging and on the experience of the joy of our position in life.  Note that anyone may attend the meeting but sharing is limited to women age 50 and older.
URL:https://meetings.greysheet.org/meeting/women-age-50-and-over/2026-04-16
CATEGORIES:Telephone or Audio
ATTACH;FMTTYPE=image/svg+xml:https://meetings.greysheet.org/wp-content/uploads/2025/05/phone.svg
LOCATION:Phone Number: 712 432 5229, PIN: Phone Bridge
END:VEVENT
BEGIN:VEVENT
DTSTART;TZID=America/New_York:20260409T120000
DTEND;TZID=America/New_York:20260409T130000
DTSTAMP:20260419T133428
CREATED:20250503T164132Z
LAST-MODIFIED:20251117T232641Z
UID:10054044-1775736000-1775739600@meetings.greysheet.org
SUMMARY:Women Age 50 and Over
DESCRIPTION:Since we are women of age approximately 50 years and older\, we request that our sharing at this meeting be focused on overcoming the obstacles of aging and on the experience of the joy of our position in life.  Note that anyone may attend the meeting but sharing is limited to women age 50 and older.
URL:https://meetings.greysheet.org/meeting/women-age-50-and-over/2026-04-09
CATEGORIES:Telephone or Audio
ATTACH;FMTTYPE=image/svg+xml:https://meetings.greysheet.org/wp-content/uploads/2025/05/phone.svg
LOCATION:Phone Number: 712 432 5229, PIN: Phone Bridge
END:VEVENT
BEGIN:VEVENT
DTSTART;TZID=America/New_York:20260402T120000
DTEND;TZID=America/New_York:20260402T130000
DTSTAMP:20260419T133428
CREATED:20250503T164132Z
LAST-MODIFIED:20251117T232641Z
UID:10054043-1775131200-1775134800@meetings.greysheet.org
SUMMARY:Women Age 50 and Over
DESCRIPTION:Since we are women of age approximately 50 years and older\, we request that our sharing at this meeting be focused on overcoming the obstacles of aging and on the experience of the joy of our position in life.  Note that anyone may attend the meeting but sharing is limited to women age 50 and older.
URL:https://meetings.greysheet.org/meeting/women-age-50-and-over/2026-04-02
CATEGORIES:Telephone or Audio
ATTACH;FMTTYPE=image/svg+xml:https://meetings.greysheet.org/wp-content/uploads/2025/05/phone.svg
LOCATION:Phone Number: 712 432 5229, PIN: Phone Bridge
END:VEVENT
BEGIN:VEVENT
DTSTART;TZID=America/New_York:20260326T120000
DTEND;TZID=America/New_York:20260326T130000
DTSTAMP:20260419T133428
CREATED:20250503T164132Z
LAST-MODIFIED:20251117T232641Z
UID:10054042-1774526400-1774530000@meetings.greysheet.org
SUMMARY:Women Age 50 and Over
DESCRIPTION:Since we are women of age approximately 50 years and older\, we request that our sharing at this meeting be focused on overcoming the obstacles of aging and on the experience of the joy of our position in life.  Note that anyone may attend the meeting but sharing is limited to women age 50 and older.
URL:https://meetings.greysheet.org/meeting/women-age-50-and-over/2026-03-26
CATEGORIES:Telephone or Audio
ATTACH;FMTTYPE=image/svg+xml:https://meetings.greysheet.org/wp-content/uploads/2025/05/phone.svg
LOCATION:Phone Number: 712 432 5229, PIN: Phone Bridge
END:VEVENT
BEGIN:VEVENT
DTSTART;TZID=America/New_York:20260319T120000
DTEND;TZID=America/New_York:20260319T130000
DTSTAMP:20260419T133428
CREATED:20250503T164132Z
LAST-MODIFIED:20251117T232641Z
UID:10054041-1773921600-1773925200@meetings.greysheet.org
SUMMARY:Women Age 50 and Over
DESCRIPTION:Since we are women of age approximately 50 years and older\, we request that our sharing at this meeting be focused on overcoming the obstacles of aging and on the experience of the joy of our position in life.  Note that anyone may attend the meeting but sharing is limited to women age 50 and older.
URL:https://meetings.greysheet.org/meeting/women-age-50-and-over/2026-03-19
CATEGORIES:Telephone or Audio
ATTACH;FMTTYPE=image/svg+xml:https://meetings.greysheet.org/wp-content/uploads/2025/05/phone.svg
LOCATION:Phone Number: 712 432 5229, PIN: Phone Bridge
END:VEVENT
BEGIN:VEVENT
DTSTART;TZID=America/New_York:20260312T120000
DTEND;TZID=America/New_York:20260312T130000
DTSTAMP:20260419T133428
CREATED:20250503T164132Z
LAST-MODIFIED:20251117T232641Z
UID:10054040-1773316800-1773320400@meetings.greysheet.org
SUMMARY:Women Age 50 and Over
DESCRIPTION:Since we are women of age approximately 50 years and older\, we request that our sharing at this meeting be focused on overcoming the obstacles of aging and on the experience of the joy of our position in life.  Note that anyone may attend the meeting but sharing is limited to women age 50 and older.
URL:https://meetings.greysheet.org/meeting/women-age-50-and-over/2026-03-12
CATEGORIES:Telephone or Audio
ATTACH;FMTTYPE=image/svg+xml:https://meetings.greysheet.org/wp-content/uploads/2025/05/phone.svg
LOCATION:Phone Number: 712 432 5229, PIN: Phone Bridge
END:VEVENT
BEGIN:VEVENT
DTSTART;TZID=America/New_York:20260305T120000
DTEND;TZID=America/New_York:20260305T130000
DTSTAMP:20260419T133428
CREATED:20250503T164132Z
LAST-MODIFIED:20251117T232641Z
UID:10054039-1772712000-1772715600@meetings.greysheet.org
SUMMARY:Women Age 50 and Over
DESCRIPTION:Since we are women of age approximately 50 years and older\, we request that our sharing at this meeting be focused on overcoming the obstacles of aging and on the experience of the joy of our position in life.  Note that anyone may attend the meeting but sharing is limited to women age 50 and older.
URL:https://meetings.greysheet.org/meeting/women-age-50-and-over/2026-03-05
CATEGORIES:Telephone or Audio
ATTACH;FMTTYPE=image/svg+xml:https://meetings.greysheet.org/wp-content/uploads/2025/05/phone.svg
LOCATION:Phone Number: 712 432 5229, PIN: Phone Bridge
END:VEVENT
BEGIN:VEVENT
DTSTART;TZID=America/New_York:20260226T120000
DTEND;TZID=America/New_York:20260226T130000
DTSTAMP:20260419T133428
CREATED:20250503T164132Z
LAST-MODIFIED:20251117T232641Z
UID:10054038-1772107200-1772110800@meetings.greysheet.org
SUMMARY:Women Age 50 and Over
DESCRIPTION:Since we are women of age approximately 50 years and older\, we request that our sharing at this meeting be focused on overcoming the obstacles of aging and on the experience of the joy of our position in life.  Note that anyone may attend the meeting but sharing is limited to women age 50 and older.
URL:https://meetings.greysheet.org/meeting/women-age-50-and-over/2026-02-26
CATEGORIES:Telephone or Audio
ATTACH;FMTTYPE=image/svg+xml:https://meetings.greysheet.org/wp-content/uploads/2025/05/phone.svg
LOCATION:Phone Number: 712 432 5229, PIN: Phone Bridge
END:VEVENT
BEGIN:VEVENT
DTSTART;TZID=America/New_York:20260219T120000
DTEND;TZID=America/New_York:20260219T130000
DTSTAMP:20260419T133428
CREATED:20250503T164132Z
LAST-MODIFIED:20251117T232641Z
UID:10054037-1771502400-1771506000@meetings.greysheet.org
SUMMARY:Women Age 50 and Over
DESCRIPTION:Since we are women of age approximately 50 years and older\, we request that our sharing at this meeting be focused on overcoming the obstacles of aging and on the experience of the joy of our position in life.  Note that anyone may attend the meeting but sharing is limited to women age 50 and older.
URL:https://meetings.greysheet.org/meeting/women-age-50-and-over/2026-02-19
CATEGORIES:Telephone or Audio
ATTACH;FMTTYPE=image/svg+xml:https://meetings.greysheet.org/wp-content/uploads/2025/05/phone.svg
LOCATION:Phone Number: 712 432 5229, PIN: Phone Bridge
END:VEVENT
BEGIN:VEVENT
DTSTART;TZID=America/New_York:20260212T120000
DTEND;TZID=America/New_York:20260212T130000
DTSTAMP:20260419T133428
CREATED:20250503T164132Z
LAST-MODIFIED:20251117T232641Z
UID:10054036-1770897600-1770901200@meetings.greysheet.org
SUMMARY:Women Age 50 and Over
DESCRIPTION:Since we are women of age approximately 50 years and older\, we request that our sharing at this meeting be focused on overcoming the obstacles of aging and on the experience of the joy of our position in life.  Note that anyone may attend the meeting but sharing is limited to women age 50 and older.
URL:https://meetings.greysheet.org/meeting/women-age-50-and-over/2026-02-12
CATEGORIES:Telephone or Audio
ATTACH;FMTTYPE=image/svg+xml:https://meetings.greysheet.org/wp-content/uploads/2025/05/phone.svg
LOCATION:Phone Number: 712 432 5229, PIN: Phone Bridge
END:VEVENT
BEGIN:VEVENT
DTSTART;TZID=America/New_York:20260205T120000
DTEND;TZID=America/New_York:20260205T130000
DTSTAMP:20260419T133428
CREATED:20250503T164132Z
LAST-MODIFIED:20251117T232641Z
UID:10054035-1770292800-1770296400@meetings.greysheet.org
SUMMARY:Women Age 50 and Over
DESCRIPTION:Since we are women of age approximately 50 years and older\, we request that our sharing at this meeting be focused on overcoming the obstacles of aging and on the experience of the joy of our position in life.  Note that anyone may attend the meeting but sharing is limited to women age 50 and older.
URL:https://meetings.greysheet.org/meeting/women-age-50-and-over/2026-02-05
CATEGORIES:Telephone or Audio
ATTACH;FMTTYPE=image/svg+xml:https://meetings.greysheet.org/wp-content/uploads/2025/05/phone.svg
LOCATION:Phone Number: 712 432 5229, PIN: Phone Bridge
END:VEVENT
BEGIN:VEVENT
DTSTART;TZID=America/New_York:20260129T120000
DTEND;TZID=America/New_York:20260129T130000
DTSTAMP:20260419T133428
CREATED:20250503T164132Z
LAST-MODIFIED:20251117T232641Z
UID:10054034-1769688000-1769691600@meetings.greysheet.org
SUMMARY:Women Age 50 and Over
DESCRIPTION:Since we are women of age approximately 50 years and older\, we request that our sharing at this meeting be focused on overcoming the obstacles of aging and on the experience of the joy of our position in life.  Note that anyone may attend the meeting but sharing is limited to women age 50 and older.
URL:https://meetings.greysheet.org/meeting/women-age-50-and-over/2026-01-29
CATEGORIES:Telephone or Audio
ATTACH;FMTTYPE=image/svg+xml:https://meetings.greysheet.org/wp-content/uploads/2025/05/phone.svg
LOCATION:Phone Number: 712 432 5229, PIN: Phone Bridge
END:VEVENT
BEGIN:VEVENT
DTSTART;TZID=America/New_York:20260122T120000
DTEND;TZID=America/New_York:20260122T130000
DTSTAMP:20260419T133428
CREATED:20250503T164132Z
LAST-MODIFIED:20251117T232641Z
UID:10054033-1769083200-1769086800@meetings.greysheet.org
SUMMARY:Women Age 50 and Over
DESCRIPTION:Since we are women of age approximately 50 years and older\, we request that our sharing at this meeting be focused on overcoming the obstacles of aging and on the experience of the joy of our position in life.  Note that anyone may attend the meeting but sharing is limited to women age 50 and older.
URL:https://meetings.greysheet.org/meeting/women-age-50-and-over/2026-01-22
CATEGORIES:Telephone or Audio
ATTACH;FMTTYPE=image/svg+xml:https://meetings.greysheet.org/wp-content/uploads/2025/05/phone.svg
LOCATION:Phone Number: 712 432 5229, PIN: Phone Bridge
END:VEVENT
BEGIN:VEVENT
DTSTART;TZID=America/New_York:20260115T120000
DTEND;TZID=America/New_York:20260115T130000
DTSTAMP:20260419T133428
CREATED:20250503T164132Z
LAST-MODIFIED:20251117T232641Z
UID:10054032-1768478400-1768482000@meetings.greysheet.org
SUMMARY:Women Age 50 and Over
DESCRIPTION:Since we are women of age approximately 50 years and older\, we request that our sharing at this meeting be focused on overcoming the obstacles of aging and on the experience of the joy of our position in life.  Note that anyone may attend the meeting but sharing is limited to women age 50 and older.
URL:https://meetings.greysheet.org/meeting/women-age-50-and-over/2026-01-15
CATEGORIES:Telephone or Audio
ATTACH;FMTTYPE=image/svg+xml:https://meetings.greysheet.org/wp-content/uploads/2025/05/phone.svg
LOCATION:Phone Number: 712 432 5229, PIN: Phone Bridge
END:VEVENT
BEGIN:VEVENT
DTSTART;TZID=America/New_York:20260108T120000
DTEND;TZID=America/New_York:20260108T130000
DTSTAMP:20260419T133428
CREATED:20250503T164132Z
LAST-MODIFIED:20251117T232641Z
UID:10054031-1767873600-1767877200@meetings.greysheet.org
SUMMARY:Women Age 50 and Over
DESCRIPTION:Since we are women of age approximately 50 years and older\, we request that our sharing at this meeting be focused on overcoming the obstacles of aging and on the experience of the joy of our position in life.  Note that anyone may attend the meeting but sharing is limited to women age 50 and older.
URL:https://meetings.greysheet.org/meeting/women-age-50-and-over/2026-01-08
CATEGORIES:Telephone or Audio
ATTACH;FMTTYPE=image/svg+xml:https://meetings.greysheet.org/wp-content/uploads/2025/05/phone.svg
LOCATION:Phone Number: 712 432 5229, PIN: Phone Bridge
END:VEVENT
BEGIN:VEVENT
DTSTART;TZID=America/New_York:20260101T120000
DTEND;TZID=America/New_York:20260101T130000
DTSTAMP:20260419T133428
CREATED:20250503T164132Z
LAST-MODIFIED:20251117T232641Z
UID:10054030-1767268800-1767272400@meetings.greysheet.org
SUMMARY:Women Age 50 and Over
DESCRIPTION:Since we are women of age approximately 50 years and older\, we request that our sharing at this meeting be focused on overcoming the obstacles of aging and on the experience of the joy of our position in life.  Note that anyone may attend the meeting but sharing is limited to women age 50 and older.
URL:https://meetings.greysheet.org/meeting/women-age-50-and-over/2026-01-01
CATEGORIES:Telephone or Audio
ATTACH;FMTTYPE=image/svg+xml:https://meetings.greysheet.org/wp-content/uploads/2025/05/phone.svg
LOCATION:Phone Number: 712 432 5229, PIN: Phone Bridge
END:VEVENT
BEGIN:VEVENT
DTSTART;TZID=America/New_York:20251225T120000
DTEND;TZID=America/New_York:20251225T130000
DTSTAMP:20260419T133428
CREATED:20250503T164132Z
LAST-MODIFIED:20251117T232641Z
UID:10054029-1766664000-1766667600@meetings.greysheet.org
SUMMARY:Women Age 50 and Over
DESCRIPTION:Since we are women of age approximately 50 years and older\, we request that our sharing at this meeting be focused on overcoming the obstacles of aging and on the experience of the joy of our position in life.  Note that anyone may attend the meeting but sharing is limited to women age 50 and older.
URL:https://meetings.greysheet.org/meeting/women-age-50-and-over/2025-12-25
CATEGORIES:Telephone or Audio
ATTACH;FMTTYPE=image/svg+xml:https://meetings.greysheet.org/wp-content/uploads/2025/05/phone.svg
LOCATION:Phone Number: 712 432 5229, PIN: Phone Bridge
END:VEVENT
BEGIN:VEVENT
DTSTART;TZID=America/New_York:20251218T120000
DTEND;TZID=America/New_York:20251218T130000
DTSTAMP:20260419T133428
CREATED:20250503T164132Z
LAST-MODIFIED:20251117T232641Z
UID:10054028-1766059200-1766062800@meetings.greysheet.org
SUMMARY:Women Age 50 and Over
DESCRIPTION:Since we are women of age approximately 50 years and older\, we request that our sharing at this meeting be focused on overcoming the obstacles of aging and on the experience of the joy of our position in life.  Note that anyone may attend the meeting but sharing is limited to women age 50 and older.
URL:https://meetings.greysheet.org/meeting/women-age-50-and-over/2025-12-18
CATEGORIES:Telephone or Audio
ATTACH;FMTTYPE=image/svg+xml:https://meetings.greysheet.org/wp-content/uploads/2025/05/phone.svg
LOCATION:Phone Number: 712 432 5229, PIN: Phone Bridge
END:VEVENT
BEGIN:VEVENT
DTSTART;TZID=America/New_York:20251211T120000
DTEND;TZID=America/New_York:20251211T130000
DTSTAMP:20260419T133428
CREATED:20250503T164132Z
LAST-MODIFIED:20251117T232641Z
UID:10054027-1765454400-1765458000@meetings.greysheet.org
SUMMARY:Women Age 50 and Over
DESCRIPTION:Since we are women of age approximately 50 years and older\, we request that our sharing at this meeting be focused on overcoming the obstacles of aging and on the experience of the joy of our position in life.  Note that anyone may attend the meeting but sharing is limited to women age 50 and older.
URL:https://meetings.greysheet.org/meeting/women-age-50-and-over/2025-12-11
CATEGORIES:Telephone or Audio
ATTACH;FMTTYPE=image/svg+xml:https://meetings.greysheet.org/wp-content/uploads/2025/05/phone.svg
LOCATION:Phone Number: 712 432 5229, PIN: Phone Bridge
END:VEVENT
BEGIN:VEVENT
DTSTART;TZID=America/New_York:20251204T120000
DTEND;TZID=America/New_York:20251204T130000
DTSTAMP:20260419T133428
CREATED:20250503T164132Z
LAST-MODIFIED:20251117T232641Z
UID:10054026-1764849600-1764853200@meetings.greysheet.org
SUMMARY:Women Age 50 and Over
DESCRIPTION:Since we are women of age approximately 50 years and older\, we request that our sharing at this meeting be focused on overcoming the obstacles of aging and on the experience of the joy of our position in life.  Note that anyone may attend the meeting but sharing is limited to women age 50 and older.
URL:https://meetings.greysheet.org/meeting/women-age-50-and-over/2025-12-04
CATEGORIES:Telephone or Audio
ATTACH;FMTTYPE=image/svg+xml:https://meetings.greysheet.org/wp-content/uploads/2025/05/phone.svg
LOCATION:Phone Number: 712 432 5229, PIN: Phone Bridge
END:VEVENT
BEGIN:VEVENT
DTSTART;TZID=America/New_York:20251127T120000
DTEND;TZID=America/New_York:20251127T130000
DTSTAMP:20260419T133428
CREATED:20250503T164132Z
LAST-MODIFIED:20251117T232641Z
UID:10054025-1764244800-1764248400@meetings.greysheet.org
SUMMARY:Women Age 50 and Over
DESCRIPTION:Since we are women of age approximately 50 years and older\, we request that our sharing at this meeting be focused on overcoming the obstacles of aging and on the experience of the joy of our position in life.  Note that anyone may attend the meeting but sharing is limited to women age 50 and older.
URL:https://meetings.greysheet.org/meeting/women-age-50-and-over/2025-11-27
CATEGORIES:Telephone or Audio
ATTACH;FMTTYPE=image/svg+xml:https://meetings.greysheet.org/wp-content/uploads/2025/05/phone.svg
LOCATION:Phone Number: 712 432 5229, PIN: Phone Bridge
END:VEVENT
BEGIN:VEVENT
DTSTART;TZID=America/New_York:20251120T120000
DTEND;TZID=America/New_York:20251120T130000
DTSTAMP:20260419T133428
CREATED:20250503T164132Z
LAST-MODIFIED:20251117T232641Z
UID:10054024-1763640000-1763643600@meetings.greysheet.org
SUMMARY:Women Age 50 and Over
DESCRIPTION:Since we are women of age approximately 50 years and older\, we request that our sharing at this meeting be focused on overcoming the obstacles of aging and on the experience of the joy of our position in life.  Note that anyone may attend the meeting but sharing is limited to women age 50 and older.
URL:https://meetings.greysheet.org/meeting/women-age-50-and-over/2025-11-20
CATEGORIES:Telephone or Audio
ATTACH;FMTTYPE=image/svg+xml:https://meetings.greysheet.org/wp-content/uploads/2025/05/phone.svg
LOCATION:Phone Number: 712 432 5229, PIN: Phone Bridge
END:VEVENT
BEGIN:VEVENT
DTSTART;TZID=America/New_York:20251113T120000
DTEND;TZID=America/New_York:20251113T130000
DTSTAMP:20260419T133428
CREATED:20250503T164132Z
LAST-MODIFIED:20251117T232641Z
UID:10054023-1763035200-1763038800@meetings.greysheet.org
SUMMARY:Women Age 50 and Over
DESCRIPTION:Since we are women of age approximately 50 years and older\, we request that our sharing at this meeting be focused on overcoming the obstacles of aging and on the experience of the joy of our position in life.  Note that anyone may attend the meeting but sharing is limited to women age 50 and older.
URL:https://meetings.greysheet.org/meeting/women-age-50-and-over/2025-11-13
CATEGORIES:Telephone or Audio
ATTACH;FMTTYPE=image/svg+xml:https://meetings.greysheet.org/wp-content/uploads/2025/05/phone.svg
LOCATION:Phone Number: 712 432 5229, PIN: Phone Bridge
END:VEVENT
BEGIN:VEVENT
DTSTART;TZID=America/New_York:20251106T120000
DTEND;TZID=America/New_York:20251106T130000
DTSTAMP:20260419T133428
CREATED:20250503T164132Z
LAST-MODIFIED:20251117T232641Z
UID:10054022-1762430400-1762434000@meetings.greysheet.org
SUMMARY:Women Age 50 and Over
DESCRIPTION:Since we are women of age approximately 50 years and older\, we request that our sharing at this meeting be focused on overcoming the obstacles of aging and on the experience of the joy of our position in life.  Note that anyone may attend the meeting but sharing is limited to women age 50 and older.
URL:https://meetings.greysheet.org/meeting/women-age-50-and-over/2025-11-06
CATEGORIES:Telephone or Audio
ATTACH;FMTTYPE=image/svg+xml:https://meetings.greysheet.org/wp-content/uploads/2025/05/phone.svg
LOCATION:Phone Number: 712 432 5229, PIN: Phone Bridge
END:VEVENT
BEGIN:VEVENT
DTSTART;TZID=America/New_York:20251030T120000
DTEND;TZID=America/New_York:20251030T130000
DTSTAMP:20260419T133428
CREATED:20250503T164132Z
LAST-MODIFIED:20251117T232641Z
UID:10054021-1761825600-1761829200@meetings.greysheet.org
SUMMARY:Women Age 50 and Over
DESCRIPTION:Since we are women of age approximately 50 years and older\, we request that our sharing at this meeting be focused on overcoming the obstacles of aging and on the experience of the joy of our position in life.  Note that anyone may attend the meeting but sharing is limited to women age 50 and older.
URL:https://meetings.greysheet.org/meeting/women-age-50-and-over/2025-10-30
CATEGORIES:Telephone or Audio
ATTACH;FMTTYPE=image/svg+xml:https://meetings.greysheet.org/wp-content/uploads/2025/05/phone.svg
LOCATION:Phone Number: 712 432 5229, PIN: Phone Bridge
END:VEVENT
BEGIN:VEVENT
DTSTART;TZID=America/New_York:20251023T120000
DTEND;TZID=America/New_York:20251023T130000
DTSTAMP:20260419T133428
CREATED:20250503T164132Z
LAST-MODIFIED:20251117T232641Z
UID:10054020-1761220800-1761224400@meetings.greysheet.org
SUMMARY:Women Age 50 and Over
DESCRIPTION:Since we are women of age approximately 50 years and older\, we request that our sharing at this meeting be focused on overcoming the obstacles of aging and on the experience of the joy of our position in life.  Note that anyone may attend the meeting but sharing is limited to women age 50 and older.
URL:https://meetings.greysheet.org/meeting/women-age-50-and-over/2025-10-23
CATEGORIES:Telephone or Audio
ATTACH;FMTTYPE=image/svg+xml:https://meetings.greysheet.org/wp-content/uploads/2025/05/phone.svg
LOCATION:Phone Number: 712 432 5229, PIN: Phone Bridge
END:VEVENT
BEGIN:VEVENT
DTSTART;TZID=America/New_York:20251016T120000
DTEND;TZID=America/New_York:20251016T130000
DTSTAMP:20260419T133428
CREATED:20250503T164132Z
LAST-MODIFIED:20251117T232641Z
UID:10054019-1760616000-1760619600@meetings.greysheet.org
SUMMARY:Women Age 50 and Over
DESCRIPTION:Since we are women of age approximately 50 years and older\, we request that our sharing at this meeting be focused on overcoming the obstacles of aging and on the experience of the joy of our position in life.  Note that anyone may attend the meeting but sharing is limited to women age 50 and older.
URL:https://meetings.greysheet.org/meeting/women-age-50-and-over/2025-10-16
CATEGORIES:Telephone or Audio
ATTACH;FMTTYPE=image/svg+xml:https://meetings.greysheet.org/wp-content/uploads/2025/05/phone.svg
LOCATION:Phone Number: 712 432 5229, PIN: Phone Bridge
END:VEVENT
BEGIN:VEVENT
DTSTART;TZID=America/New_York:20251009T120000
DTEND;TZID=America/New_York:20251009T130000
DTSTAMP:20260419T133428
CREATED:20250503T164132Z
LAST-MODIFIED:20251117T232641Z
UID:10054018-1760011200-1760014800@meetings.greysheet.org
SUMMARY:Women Age 50 and Over
DESCRIPTION:Since we are women of age approximately 50 years and older\, we request that our sharing at this meeting be focused on overcoming the obstacles of aging and on the experience of the joy of our position in life.  Note that anyone may attend the meeting but sharing is limited to women age 50 and older.
URL:https://meetings.greysheet.org/meeting/women-age-50-and-over/2025-10-09
CATEGORIES:Telephone or Audio
ATTACH;FMTTYPE=image/svg+xml:https://meetings.greysheet.org/wp-content/uploads/2025/05/phone.svg
LOCATION:Phone Number: 712 432 5229, PIN: Phone Bridge
END:VEVENT
BEGIN:VEVENT
DTSTART;TZID=America/New_York:20251002T120000
DTEND;TZID=America/New_York:20251002T130000
DTSTAMP:20260419T133428
CREATED:20250503T164132Z
LAST-MODIFIED:20251117T232641Z
UID:10054017-1759406400-1759410000@meetings.greysheet.org
SUMMARY:Women Age 50 and Over
DESCRIPTION:Since we are women of age approximately 50 years and older\, we request that our sharing at this meeting be focused on overcoming the obstacles of aging and on the experience of the joy of our position in life.  Note that anyone may attend the meeting but sharing is limited to women age 50 and older.
URL:https://meetings.greysheet.org/meeting/women-age-50-and-over/2025-10-02
CATEGORIES:Telephone or Audio
ATTACH;FMTTYPE=image/svg+xml:https://meetings.greysheet.org/wp-content/uploads/2025/05/phone.svg
LOCATION:Phone Number: 712 432 5229, PIN: Phone Bridge
END:VEVENT
BEGIN:VEVENT
DTSTART;TZID=America/New_York:20250925T120000
DTEND;TZID=America/New_York:20250925T130000
DTSTAMP:20260419T133428
CREATED:20250503T164132Z
LAST-MODIFIED:20251117T232641Z
UID:10054016-1758801600-1758805200@meetings.greysheet.org
SUMMARY:Women Age 50 and Over
DESCRIPTION:Since we are women of age approximately 50 years and older\, we request that our sharing at this meeting be focused on overcoming the obstacles of aging and on the experience of the joy of our position in life.  Note that anyone may attend the meeting but sharing is limited to women age 50 and older.
URL:https://meetings.greysheet.org/meeting/women-age-50-and-over/2025-09-25
CATEGORIES:Telephone or Audio
ATTACH;FMTTYPE=image/svg+xml:https://meetings.greysheet.org/wp-content/uploads/2025/05/phone.svg
LOCATION:Phone Number: 712 432 5229, PIN: Phone Bridge
END:VEVENT
END:VCALENDAR