BEGIN:VCALENDAR
VERSION:2.0
PRODID:-//GreySheeters Anonymous World Services - ECPv6.15.20//NONSGML v1.0//EN
CALSCALE:GREGORIAN
METHOD:PUBLISH
X-WR-CALNAME:GreySheeters Anonymous World Services
X-ORIGINAL-URL:https://meetings.greysheet.org
X-WR-CALDESC:Events for GreySheeters Anonymous World Services
REFRESH-INTERVAL;VALUE=DURATION:PT1H
X-Robots-Tag:noindex
X-PUBLISHED-TTL:PT1H
BEGIN:VTIMEZONE
TZID:America/New_York
BEGIN:DAYLIGHT
TZOFFSETFROM:-0500
TZOFFSETTO:-0400
TZNAME:EDT
DTSTART:20240310T070000
END:DAYLIGHT
BEGIN:STANDARD
TZOFFSETFROM:-0400
TZOFFSETTO:-0500
TZNAME:EST
DTSTART:20241103T060000
END:STANDARD
BEGIN:DAYLIGHT
TZOFFSETFROM:-0500
TZOFFSETTO:-0400
TZNAME:EDT
DTSTART:20250309T070000
END:DAYLIGHT
BEGIN:STANDARD
TZOFFSETFROM:-0400
TZOFFSETTO:-0500
TZNAME:EST
DTSTART:20251102T060000
END:STANDARD
BEGIN:DAYLIGHT
TZOFFSETFROM:-0500
TZOFFSETTO:-0400
TZNAME:EDT
DTSTART:20260308T070000
END:DAYLIGHT
BEGIN:STANDARD
TZOFFSETFROM:-0400
TZOFFSETTO:-0500
TZNAME:EST
DTSTART:20261101T060000
END:STANDARD
BEGIN:DAYLIGHT
TZOFFSETFROM:-0500
TZOFFSETTO:-0400
TZNAME:EDT
DTSTART:20270314T070000
END:DAYLIGHT
BEGIN:STANDARD
TZOFFSETFROM:-0400
TZOFFSETTO:-0500
TZNAME:EST
DTSTART:20271107T060000
END:STANDARD
END:VTIMEZONE
BEGIN:VEVENT
DTSTART;TZID=America/New_York:20260122T100000
DTEND;TZID=America/New_York:20260122T110000
DTSTAMP:20260419T124857
CREATED:20250503T164202Z
LAST-MODIFIED:20251117T232702Z
UID:10054210-1769076000-1769079600@meetings.greysheet.org
SUMMARY:Qualification THU 1000
DESCRIPTION:Speakers qualify who have at least 90 days of back-to-back GreySheet abstinence – eating only three weighed and measured meals per day only from foods listed on the GreySheet\, without exception. The Speaker will qualify for approximately 15 to 20 minutes on their Experience\, Strength\, and Hope related to GreySheet abstinence.
URL:https://meetings.greysheet.org/meeting/pbig-thu-1000/2026-01-22
CATEGORIES:Telephone or Audio
ATTACH;FMTTYPE=image/svg+xml:https://meetings.greysheet.org/wp-content/uploads/2025/05/phone.svg
LOCATION:Phone Number: 712 432 5229, PIN: Phone Bridge
END:VEVENT
BEGIN:VEVENT
DTSTART;TZID=America/New_York:20260115T100000
DTEND;TZID=America/New_York:20260115T110000
DTSTAMP:20260419T124857
CREATED:20250503T164202Z
LAST-MODIFIED:20251117T232702Z
UID:10054209-1768471200-1768474800@meetings.greysheet.org
SUMMARY:Qualification THU 1000
DESCRIPTION:Speakers qualify who have at least 90 days of back-to-back GreySheet abstinence – eating only three weighed and measured meals per day only from foods listed on the GreySheet\, without exception. The Speaker will qualify for approximately 15 to 20 minutes on their Experience\, Strength\, and Hope related to GreySheet abstinence.
URL:https://meetings.greysheet.org/meeting/pbig-thu-1000/2026-01-15
CATEGORIES:Telephone or Audio
ATTACH;FMTTYPE=image/svg+xml:https://meetings.greysheet.org/wp-content/uploads/2025/05/phone.svg
LOCATION:Phone Number: 712 432 5229, PIN: Phone Bridge
END:VEVENT
BEGIN:VEVENT
DTSTART;TZID=America/New_York:20260108T100000
DTEND;TZID=America/New_York:20260108T110000
DTSTAMP:20260419T124857
CREATED:20250503T164202Z
LAST-MODIFIED:20251117T232702Z
UID:10054208-1767866400-1767870000@meetings.greysheet.org
SUMMARY:Qualification THU 1000
DESCRIPTION:Speakers qualify who have at least 90 days of back-to-back GreySheet abstinence – eating only three weighed and measured meals per day only from foods listed on the GreySheet\, without exception. The Speaker will qualify for approximately 15 to 20 minutes on their Experience\, Strength\, and Hope related to GreySheet abstinence.
URL:https://meetings.greysheet.org/meeting/pbig-thu-1000/2026-01-08
CATEGORIES:Telephone or Audio
ATTACH;FMTTYPE=image/svg+xml:https://meetings.greysheet.org/wp-content/uploads/2025/05/phone.svg
LOCATION:Phone Number: 712 432 5229, PIN: Phone Bridge
END:VEVENT
BEGIN:VEVENT
DTSTART;TZID=America/New_York:20260101T100000
DTEND;TZID=America/New_York:20260101T110000
DTSTAMP:20260419T124857
CREATED:20250503T164202Z
LAST-MODIFIED:20251117T232702Z
UID:10054207-1767261600-1767265200@meetings.greysheet.org
SUMMARY:Qualification THU 1000
DESCRIPTION:Speakers qualify who have at least 90 days of back-to-back GreySheet abstinence – eating only three weighed and measured meals per day only from foods listed on the GreySheet\, without exception. The Speaker will qualify for approximately 15 to 20 minutes on their Experience\, Strength\, and Hope related to GreySheet abstinence.
URL:https://meetings.greysheet.org/meeting/pbig-thu-1000/2026-01-01
CATEGORIES:Telephone or Audio
ATTACH;FMTTYPE=image/svg+xml:https://meetings.greysheet.org/wp-content/uploads/2025/05/phone.svg
LOCATION:Phone Number: 712 432 5229, PIN: Phone Bridge
END:VEVENT
BEGIN:VEVENT
DTSTART;TZID=America/New_York:20251225T100000
DTEND;TZID=America/New_York:20251225T110000
DTSTAMP:20260419T124857
CREATED:20250503T164202Z
LAST-MODIFIED:20251117T232702Z
UID:10054206-1766656800-1766660400@meetings.greysheet.org
SUMMARY:Qualification THU 1000
DESCRIPTION:Speakers qualify who have at least 90 days of back-to-back GreySheet abstinence – eating only three weighed and measured meals per day only from foods listed on the GreySheet\, without exception. The Speaker will qualify for approximately 15 to 20 minutes on their Experience\, Strength\, and Hope related to GreySheet abstinence.
URL:https://meetings.greysheet.org/meeting/pbig-thu-1000/2025-12-25
CATEGORIES:Telephone or Audio
ATTACH;FMTTYPE=image/svg+xml:https://meetings.greysheet.org/wp-content/uploads/2025/05/phone.svg
LOCATION:Phone Number: 712 432 5229, PIN: Phone Bridge
END:VEVENT
BEGIN:VEVENT
DTSTART;TZID=America/New_York:20251218T100000
DTEND;TZID=America/New_York:20251218T110000
DTSTAMP:20260419T124857
CREATED:20250503T164202Z
LAST-MODIFIED:20251117T232702Z
UID:10054205-1766052000-1766055600@meetings.greysheet.org
SUMMARY:Qualification THU 1000
DESCRIPTION:Speakers qualify who have at least 90 days of back-to-back GreySheet abstinence – eating only three weighed and measured meals per day only from foods listed on the GreySheet\, without exception. The Speaker will qualify for approximately 15 to 20 minutes on their Experience\, Strength\, and Hope related to GreySheet abstinence.
URL:https://meetings.greysheet.org/meeting/pbig-thu-1000/2025-12-18
CATEGORIES:Telephone or Audio
ATTACH;FMTTYPE=image/svg+xml:https://meetings.greysheet.org/wp-content/uploads/2025/05/phone.svg
LOCATION:Phone Number: 712 432 5229, PIN: Phone Bridge
END:VEVENT
BEGIN:VEVENT
DTSTART;TZID=America/New_York:20251211T100000
DTEND;TZID=America/New_York:20251211T110000
DTSTAMP:20260419T124857
CREATED:20250503T164202Z
LAST-MODIFIED:20251117T232702Z
UID:10054204-1765447200-1765450800@meetings.greysheet.org
SUMMARY:Qualification THU 1000
DESCRIPTION:Speakers qualify who have at least 90 days of back-to-back GreySheet abstinence – eating only three weighed and measured meals per day only from foods listed on the GreySheet\, without exception. The Speaker will qualify for approximately 15 to 20 minutes on their Experience\, Strength\, and Hope related to GreySheet abstinence.
URL:https://meetings.greysheet.org/meeting/pbig-thu-1000/2025-12-11
CATEGORIES:Telephone or Audio
ATTACH;FMTTYPE=image/svg+xml:https://meetings.greysheet.org/wp-content/uploads/2025/05/phone.svg
LOCATION:Phone Number: 712 432 5229, PIN: Phone Bridge
END:VEVENT
BEGIN:VEVENT
DTSTART;TZID=America/New_York:20251204T100000
DTEND;TZID=America/New_York:20251204T110000
DTSTAMP:20260419T124857
CREATED:20250503T164202Z
LAST-MODIFIED:20251117T232702Z
UID:10054203-1764842400-1764846000@meetings.greysheet.org
SUMMARY:Qualification THU 1000
DESCRIPTION:Speakers qualify who have at least 90 days of back-to-back GreySheet abstinence – eating only three weighed and measured meals per day only from foods listed on the GreySheet\, without exception. The Speaker will qualify for approximately 15 to 20 minutes on their Experience\, Strength\, and Hope related to GreySheet abstinence.
URL:https://meetings.greysheet.org/meeting/pbig-thu-1000/2025-12-04
CATEGORIES:Telephone or Audio
ATTACH;FMTTYPE=image/svg+xml:https://meetings.greysheet.org/wp-content/uploads/2025/05/phone.svg
LOCATION:Phone Number: 712 432 5229, PIN: Phone Bridge
END:VEVENT
BEGIN:VEVENT
DTSTART;TZID=America/New_York:20251127T100000
DTEND;TZID=America/New_York:20251127T110000
DTSTAMP:20260419T124857
CREATED:20250503T164202Z
LAST-MODIFIED:20251117T232702Z
UID:10054202-1764237600-1764241200@meetings.greysheet.org
SUMMARY:Qualification THU 1000
DESCRIPTION:Speakers qualify who have at least 90 days of back-to-back GreySheet abstinence – eating only three weighed and measured meals per day only from foods listed on the GreySheet\, without exception. The Speaker will qualify for approximately 15 to 20 minutes on their Experience\, Strength\, and Hope related to GreySheet abstinence.
URL:https://meetings.greysheet.org/meeting/pbig-thu-1000/2025-11-27
CATEGORIES:Telephone or Audio
ATTACH;FMTTYPE=image/svg+xml:https://meetings.greysheet.org/wp-content/uploads/2025/05/phone.svg
LOCATION:Phone Number: 712 432 5229, PIN: Phone Bridge
END:VEVENT
BEGIN:VEVENT
DTSTART;TZID=America/New_York:20251120T100000
DTEND;TZID=America/New_York:20251120T110000
DTSTAMP:20260419T124857
CREATED:20250503T164202Z
LAST-MODIFIED:20251117T232702Z
UID:10054201-1763632800-1763636400@meetings.greysheet.org
SUMMARY:Qualification THU 1000
DESCRIPTION:Speakers qualify who have at least 90 days of back-to-back GreySheet abstinence – eating only three weighed and measured meals per day only from foods listed on the GreySheet\, without exception. The Speaker will qualify for approximately 15 to 20 minutes on their Experience\, Strength\, and Hope related to GreySheet abstinence.
URL:https://meetings.greysheet.org/meeting/pbig-thu-1000/2025-11-20
CATEGORIES:Telephone or Audio
ATTACH;FMTTYPE=image/svg+xml:https://meetings.greysheet.org/wp-content/uploads/2025/05/phone.svg
LOCATION:Phone Number: 712 432 5229, PIN: Phone Bridge
END:VEVENT
BEGIN:VEVENT
DTSTART;TZID=America/New_York:20251113T100000
DTEND;TZID=America/New_York:20251113T110000
DTSTAMP:20260419T124857
CREATED:20250503T164202Z
LAST-MODIFIED:20251117T232702Z
UID:10054200-1763028000-1763031600@meetings.greysheet.org
SUMMARY:Qualification THU 1000
DESCRIPTION:Speakers qualify who have at least 90 days of back-to-back GreySheet abstinence – eating only three weighed and measured meals per day only from foods listed on the GreySheet\, without exception. The Speaker will qualify for approximately 15 to 20 minutes on their Experience\, Strength\, and Hope related to GreySheet abstinence.
URL:https://meetings.greysheet.org/meeting/pbig-thu-1000/2025-11-13
CATEGORIES:Telephone or Audio
ATTACH;FMTTYPE=image/svg+xml:https://meetings.greysheet.org/wp-content/uploads/2025/05/phone.svg
LOCATION:Phone Number: 712 432 5229, PIN: Phone Bridge
END:VEVENT
BEGIN:VEVENT
DTSTART;TZID=America/New_York:20251106T100000
DTEND;TZID=America/New_York:20251106T110000
DTSTAMP:20260419T124857
CREATED:20250503T164202Z
LAST-MODIFIED:20251117T232702Z
UID:10054199-1762423200-1762426800@meetings.greysheet.org
SUMMARY:Qualification THU 1000
DESCRIPTION:Speakers qualify who have at least 90 days of back-to-back GreySheet abstinence – eating only three weighed and measured meals per day only from foods listed on the GreySheet\, without exception. The Speaker will qualify for approximately 15 to 20 minutes on their Experience\, Strength\, and Hope related to GreySheet abstinence.
URL:https://meetings.greysheet.org/meeting/pbig-thu-1000/2025-11-06
CATEGORIES:Telephone or Audio
ATTACH;FMTTYPE=image/svg+xml:https://meetings.greysheet.org/wp-content/uploads/2025/05/phone.svg
LOCATION:Phone Number: 712 432 5229, PIN: Phone Bridge
END:VEVENT
BEGIN:VEVENT
DTSTART;TZID=America/New_York:20251030T100000
DTEND;TZID=America/New_York:20251030T110000
DTSTAMP:20260419T124857
CREATED:20250503T164202Z
LAST-MODIFIED:20251117T232702Z
UID:10054198-1761818400-1761822000@meetings.greysheet.org
SUMMARY:Qualification THU 1000
DESCRIPTION:Speakers qualify who have at least 90 days of back-to-back GreySheet abstinence – eating only three weighed and measured meals per day only from foods listed on the GreySheet\, without exception. The Speaker will qualify for approximately 15 to 20 minutes on their Experience\, Strength\, and Hope related to GreySheet abstinence.
URL:https://meetings.greysheet.org/meeting/pbig-thu-1000/2025-10-30
CATEGORIES:Telephone or Audio
ATTACH;FMTTYPE=image/svg+xml:https://meetings.greysheet.org/wp-content/uploads/2025/05/phone.svg
LOCATION:Phone Number: 712 432 5229, PIN: Phone Bridge
END:VEVENT
BEGIN:VEVENT
DTSTART;TZID=America/New_York:20251023T100000
DTEND;TZID=America/New_York:20251023T110000
DTSTAMP:20260419T124857
CREATED:20250503T164202Z
LAST-MODIFIED:20251117T232702Z
UID:10054197-1761213600-1761217200@meetings.greysheet.org
SUMMARY:Qualification THU 1000
DESCRIPTION:Speakers qualify who have at least 90 days of back-to-back GreySheet abstinence – eating only three weighed and measured meals per day only from foods listed on the GreySheet\, without exception. The Speaker will qualify for approximately 15 to 20 minutes on their Experience\, Strength\, and Hope related to GreySheet abstinence.
URL:https://meetings.greysheet.org/meeting/pbig-thu-1000/2025-10-23
CATEGORIES:Telephone or Audio
ATTACH;FMTTYPE=image/svg+xml:https://meetings.greysheet.org/wp-content/uploads/2025/05/phone.svg
LOCATION:Phone Number: 712 432 5229, PIN: Phone Bridge
END:VEVENT
BEGIN:VEVENT
DTSTART;TZID=America/New_York:20251016T100000
DTEND;TZID=America/New_York:20251016T110000
DTSTAMP:20260419T124857
CREATED:20250503T164202Z
LAST-MODIFIED:20251117T232702Z
UID:10054196-1760608800-1760612400@meetings.greysheet.org
SUMMARY:Qualification THU 1000
DESCRIPTION:Speakers qualify who have at least 90 days of back-to-back GreySheet abstinence – eating only three weighed and measured meals per day only from foods listed on the GreySheet\, without exception. The Speaker will qualify for approximately 15 to 20 minutes on their Experience\, Strength\, and Hope related to GreySheet abstinence.
URL:https://meetings.greysheet.org/meeting/pbig-thu-1000/2025-10-16
CATEGORIES:Telephone or Audio
ATTACH;FMTTYPE=image/svg+xml:https://meetings.greysheet.org/wp-content/uploads/2025/05/phone.svg
LOCATION:Phone Number: 712 432 5229, PIN: Phone Bridge
END:VEVENT
BEGIN:VEVENT
DTSTART;TZID=America/New_York:20251009T100000
DTEND;TZID=America/New_York:20251009T110000
DTSTAMP:20260419T124857
CREATED:20250503T164202Z
LAST-MODIFIED:20251117T232702Z
UID:10054195-1760004000-1760007600@meetings.greysheet.org
SUMMARY:Qualification THU 1000
DESCRIPTION:Speakers qualify who have at least 90 days of back-to-back GreySheet abstinence – eating only three weighed and measured meals per day only from foods listed on the GreySheet\, without exception. The Speaker will qualify for approximately 15 to 20 minutes on their Experience\, Strength\, and Hope related to GreySheet abstinence.
URL:https://meetings.greysheet.org/meeting/pbig-thu-1000/2025-10-09
CATEGORIES:Telephone or Audio
ATTACH;FMTTYPE=image/svg+xml:https://meetings.greysheet.org/wp-content/uploads/2025/05/phone.svg
LOCATION:Phone Number: 712 432 5229, PIN: Phone Bridge
END:VEVENT
BEGIN:VEVENT
DTSTART;TZID=America/New_York:20251002T100000
DTEND;TZID=America/New_York:20251002T110000
DTSTAMP:20260419T124857
CREATED:20250503T164202Z
LAST-MODIFIED:20251117T232702Z
UID:10054194-1759399200-1759402800@meetings.greysheet.org
SUMMARY:Qualification THU 1000
DESCRIPTION:Speakers qualify who have at least 90 days of back-to-back GreySheet abstinence – eating only three weighed and measured meals per day only from foods listed on the GreySheet\, without exception. The Speaker will qualify for approximately 15 to 20 minutes on their Experience\, Strength\, and Hope related to GreySheet abstinence.
URL:https://meetings.greysheet.org/meeting/pbig-thu-1000/2025-10-02
CATEGORIES:Telephone or Audio
ATTACH;FMTTYPE=image/svg+xml:https://meetings.greysheet.org/wp-content/uploads/2025/05/phone.svg
LOCATION:Phone Number: 712 432 5229, PIN: Phone Bridge
END:VEVENT
BEGIN:VEVENT
DTSTART;TZID=America/New_York:20250925T100000
DTEND;TZID=America/New_York:20250925T110000
DTSTAMP:20260419T124857
CREATED:20250503T164202Z
LAST-MODIFIED:20251117T232702Z
UID:10054193-1758794400-1758798000@meetings.greysheet.org
SUMMARY:Qualification THU 1000
DESCRIPTION:Speakers qualify who have at least 90 days of back-to-back GreySheet abstinence – eating only three weighed and measured meals per day only from foods listed on the GreySheet\, without exception. The Speaker will qualify for approximately 15 to 20 minutes on their Experience\, Strength\, and Hope related to GreySheet abstinence.
URL:https://meetings.greysheet.org/meeting/pbig-thu-1000/2025-09-25
CATEGORIES:Telephone or Audio
ATTACH;FMTTYPE=image/svg+xml:https://meetings.greysheet.org/wp-content/uploads/2025/05/phone.svg
LOCATION:Phone Number: 712 432 5229, PIN: Phone Bridge
END:VEVENT
BEGIN:VEVENT
DTSTART;TZID=America/New_York:20250918T100000
DTEND;TZID=America/New_York:20250918T110000
DTSTAMP:20260419T124857
CREATED:20250503T164202Z
LAST-MODIFIED:20251117T232702Z
UID:10054192-1758189600-1758193200@meetings.greysheet.org
SUMMARY:Qualification THU 1000
DESCRIPTION:Speakers qualify who have at least 90 days of back-to-back GreySheet abstinence – eating only three weighed and measured meals per day only from foods listed on the GreySheet\, without exception. The Speaker will qualify for approximately 15 to 20 minutes on their Experience\, Strength\, and Hope related to GreySheet abstinence.
URL:https://meetings.greysheet.org/meeting/pbig-thu-1000/2025-09-18
CATEGORIES:Telephone or Audio
ATTACH;FMTTYPE=image/svg+xml:https://meetings.greysheet.org/wp-content/uploads/2025/05/phone.svg
LOCATION:Phone Number: 712 432 5229, PIN: Phone Bridge
END:VEVENT
BEGIN:VEVENT
DTSTART;TZID=America/New_York:20250911T100000
DTEND;TZID=America/New_York:20250911T110000
DTSTAMP:20260419T124857
CREATED:20250503T164202Z
LAST-MODIFIED:20251117T232702Z
UID:10054191-1757584800-1757588400@meetings.greysheet.org
SUMMARY:Qualification THU 1000
DESCRIPTION:Speakers qualify who have at least 90 days of back-to-back GreySheet abstinence – eating only three weighed and measured meals per day only from foods listed on the GreySheet\, without exception. The Speaker will qualify for approximately 15 to 20 minutes on their Experience\, Strength\, and Hope related to GreySheet abstinence.
URL:https://meetings.greysheet.org/meeting/pbig-thu-1000/2025-09-11
CATEGORIES:Telephone or Audio
ATTACH;FMTTYPE=image/svg+xml:https://meetings.greysheet.org/wp-content/uploads/2025/05/phone.svg
LOCATION:Phone Number: 712 432 5229, PIN: Phone Bridge
END:VEVENT
BEGIN:VEVENT
DTSTART;TZID=America/New_York:20250904T100000
DTEND;TZID=America/New_York:20250904T110000
DTSTAMP:20260419T124857
CREATED:20250503T164202Z
LAST-MODIFIED:20251117T232702Z
UID:10054190-1756980000-1756983600@meetings.greysheet.org
SUMMARY:Qualification THU 1000
DESCRIPTION:Speakers qualify who have at least 90 days of back-to-back GreySheet abstinence – eating only three weighed and measured meals per day only from foods listed on the GreySheet\, without exception. The Speaker will qualify for approximately 15 to 20 minutes on their Experience\, Strength\, and Hope related to GreySheet abstinence.
URL:https://meetings.greysheet.org/meeting/pbig-thu-1000/2025-09-04
CATEGORIES:Telephone or Audio
ATTACH;FMTTYPE=image/svg+xml:https://meetings.greysheet.org/wp-content/uploads/2025/05/phone.svg
LOCATION:Phone Number: 712 432 5229, PIN: Phone Bridge
END:VEVENT
BEGIN:VEVENT
DTSTART;TZID=America/New_York:20250828T100000
DTEND;TZID=America/New_York:20250828T110000
DTSTAMP:20260419T124857
CREATED:20250503T164202Z
LAST-MODIFIED:20251117T232702Z
UID:10054189-1756375200-1756378800@meetings.greysheet.org
SUMMARY:Qualification THU 1000
DESCRIPTION:Speakers qualify who have at least 90 days of back-to-back GreySheet abstinence – eating only three weighed and measured meals per day only from foods listed on the GreySheet\, without exception. The Speaker will qualify for approximately 15 to 20 minutes on their Experience\, Strength\, and Hope related to GreySheet abstinence.
URL:https://meetings.greysheet.org/meeting/pbig-thu-1000/2025-08-28
CATEGORIES:Telephone or Audio
ATTACH;FMTTYPE=image/svg+xml:https://meetings.greysheet.org/wp-content/uploads/2025/05/phone.svg
LOCATION:Phone Number: 712 432 5229, PIN: Phone Bridge
END:VEVENT
BEGIN:VEVENT
DTSTART;TZID=America/New_York:20250821T100000
DTEND;TZID=America/New_York:20250821T110000
DTSTAMP:20260419T124857
CREATED:20250503T164202Z
LAST-MODIFIED:20251117T232702Z
UID:10054188-1755770400-1755774000@meetings.greysheet.org
SUMMARY:Qualification THU 1000
DESCRIPTION:Speakers qualify who have at least 90 days of back-to-back GreySheet abstinence – eating only three weighed and measured meals per day only from foods listed on the GreySheet\, without exception. The Speaker will qualify for approximately 15 to 20 minutes on their Experience\, Strength\, and Hope related to GreySheet abstinence.
URL:https://meetings.greysheet.org/meeting/pbig-thu-1000/2025-08-21
CATEGORIES:Telephone or Audio
ATTACH;FMTTYPE=image/svg+xml:https://meetings.greysheet.org/wp-content/uploads/2025/05/phone.svg
LOCATION:Phone Number: 712 432 5229, PIN: Phone Bridge
END:VEVENT
BEGIN:VEVENT
DTSTART;TZID=America/New_York:20250814T100000
DTEND;TZID=America/New_York:20250814T110000
DTSTAMP:20260419T124857
CREATED:20250503T164202Z
LAST-MODIFIED:20251117T232702Z
UID:10054187-1755165600-1755169200@meetings.greysheet.org
SUMMARY:Qualification THU 1000
DESCRIPTION:Speakers qualify who have at least 90 days of back-to-back GreySheet abstinence – eating only three weighed and measured meals per day only from foods listed on the GreySheet\, without exception. The Speaker will qualify for approximately 15 to 20 minutes on their Experience\, Strength\, and Hope related to GreySheet abstinence.
URL:https://meetings.greysheet.org/meeting/pbig-thu-1000/2025-08-14
CATEGORIES:Telephone or Audio
ATTACH;FMTTYPE=image/svg+xml:https://meetings.greysheet.org/wp-content/uploads/2025/05/phone.svg
LOCATION:Phone Number: 712 432 5229, PIN: Phone Bridge
END:VEVENT
BEGIN:VEVENT
DTSTART;TZID=America/New_York:20250807T100000
DTEND;TZID=America/New_York:20250807T110000
DTSTAMP:20260419T124857
CREATED:20250503T164202Z
LAST-MODIFIED:20251117T232702Z
UID:10054186-1754560800-1754564400@meetings.greysheet.org
SUMMARY:Qualification THU 1000
DESCRIPTION:Speakers qualify who have at least 90 days of back-to-back GreySheet abstinence – eating only three weighed and measured meals per day only from foods listed on the GreySheet\, without exception. The Speaker will qualify for approximately 15 to 20 minutes on their Experience\, Strength\, and Hope related to GreySheet abstinence.
URL:https://meetings.greysheet.org/meeting/pbig-thu-1000/2025-08-07
CATEGORIES:Telephone or Audio
ATTACH;FMTTYPE=image/svg+xml:https://meetings.greysheet.org/wp-content/uploads/2025/05/phone.svg
LOCATION:Phone Number: 712 432 5229, PIN: Phone Bridge
END:VEVENT
BEGIN:VEVENT
DTSTART;TZID=America/New_York:20250731T100000
DTEND;TZID=America/New_York:20250731T110000
DTSTAMP:20260419T124857
CREATED:20250503T164202Z
LAST-MODIFIED:20251117T232702Z
UID:10054185-1753956000-1753959600@meetings.greysheet.org
SUMMARY:Qualification THU 1000
DESCRIPTION:Speakers qualify who have at least 90 days of back-to-back GreySheet abstinence – eating only three weighed and measured meals per day only from foods listed on the GreySheet\, without exception. The Speaker will qualify for approximately 15 to 20 minutes on their Experience\, Strength\, and Hope related to GreySheet abstinence.
URL:https://meetings.greysheet.org/meeting/pbig-thu-1000/2025-07-31
CATEGORIES:Telephone or Audio
ATTACH;FMTTYPE=image/svg+xml:https://meetings.greysheet.org/wp-content/uploads/2025/05/phone.svg
LOCATION:Phone Number: 712 432 5229, PIN: Phone Bridge
END:VEVENT
BEGIN:VEVENT
DTSTART;TZID=America/New_York:20250724T100000
DTEND;TZID=America/New_York:20250724T110000
DTSTAMP:20260419T124857
CREATED:20250503T164202Z
LAST-MODIFIED:20251117T232702Z
UID:10054184-1753351200-1753354800@meetings.greysheet.org
SUMMARY:Qualification THU 1000
DESCRIPTION:Speakers qualify who have at least 90 days of back-to-back GreySheet abstinence – eating only three weighed and measured meals per day only from foods listed on the GreySheet\, without exception. The Speaker will qualify for approximately 15 to 20 minutes on their Experience\, Strength\, and Hope related to GreySheet abstinence.
URL:https://meetings.greysheet.org/meeting/pbig-thu-1000/2025-07-24
CATEGORIES:Telephone or Audio
ATTACH;FMTTYPE=image/svg+xml:https://meetings.greysheet.org/wp-content/uploads/2025/05/phone.svg
LOCATION:Phone Number: 712 432 5229, PIN: Phone Bridge
END:VEVENT
BEGIN:VEVENT
DTSTART;TZID=America/New_York:20250717T100000
DTEND;TZID=America/New_York:20250717T110000
DTSTAMP:20260419T124857
CREATED:20250503T164202Z
LAST-MODIFIED:20251117T232702Z
UID:10054183-1752746400-1752750000@meetings.greysheet.org
SUMMARY:Qualification THU 1000
DESCRIPTION:Speakers qualify who have at least 90 days of back-to-back GreySheet abstinence – eating only three weighed and measured meals per day only from foods listed on the GreySheet\, without exception. The Speaker will qualify for approximately 15 to 20 minutes on their Experience\, Strength\, and Hope related to GreySheet abstinence.
URL:https://meetings.greysheet.org/meeting/pbig-thu-1000/2025-07-17
CATEGORIES:Telephone or Audio
ATTACH;FMTTYPE=image/svg+xml:https://meetings.greysheet.org/wp-content/uploads/2025/05/phone.svg
LOCATION:Phone Number: 712 432 5229, PIN: Phone Bridge
END:VEVENT
BEGIN:VEVENT
DTSTART;TZID=America/New_York:20250710T100000
DTEND;TZID=America/New_York:20250710T110000
DTSTAMP:20260419T124857
CREATED:20250503T164202Z
LAST-MODIFIED:20251117T232702Z
UID:10054182-1752141600-1752145200@meetings.greysheet.org
SUMMARY:Qualification THU 1000
DESCRIPTION:Speakers qualify who have at least 90 days of back-to-back GreySheet abstinence – eating only three weighed and measured meals per day only from foods listed on the GreySheet\, without exception. The Speaker will qualify for approximately 15 to 20 minutes on their Experience\, Strength\, and Hope related to GreySheet abstinence.
URL:https://meetings.greysheet.org/meeting/pbig-thu-1000/2025-07-10
CATEGORIES:Telephone or Audio
ATTACH;FMTTYPE=image/svg+xml:https://meetings.greysheet.org/wp-content/uploads/2025/05/phone.svg
LOCATION:Phone Number: 712 432 5229, PIN: Phone Bridge
END:VEVENT
BEGIN:VEVENT
DTSTART;TZID=America/New_York:20250703T100000
DTEND;TZID=America/New_York:20250703T110000
DTSTAMP:20260419T124857
CREATED:20250503T164202Z
LAST-MODIFIED:20251117T232702Z
UID:10054181-1751536800-1751540400@meetings.greysheet.org
SUMMARY:Qualification THU 1000
DESCRIPTION:Speakers qualify who have at least 90 days of back-to-back GreySheet abstinence – eating only three weighed and measured meals per day only from foods listed on the GreySheet\, without exception. The Speaker will qualify for approximately 15 to 20 minutes on their Experience\, Strength\, and Hope related to GreySheet abstinence.
URL:https://meetings.greysheet.org/meeting/pbig-thu-1000/2025-07-03
CATEGORIES:Telephone or Audio
ATTACH;FMTTYPE=image/svg+xml:https://meetings.greysheet.org/wp-content/uploads/2025/05/phone.svg
LOCATION:Phone Number: 712 432 5229, PIN: Phone Bridge
END:VEVENT
END:VCALENDAR