BEGIN:VCALENDAR
VERSION:2.0
PRODID:-//GreySheeters Anonymous World Services - ECPv6.15.20//NONSGML v1.0//EN
CALSCALE:GREGORIAN
METHOD:PUBLISH
X-WR-CALNAME:GreySheeters Anonymous World Services
X-ORIGINAL-URL:https://meetings.greysheet.org
X-WR-CALDESC:Events for GreySheeters Anonymous World Services
REFRESH-INTERVAL;VALUE=DURATION:PT1H
X-Robots-Tag:noindex
X-PUBLISHED-TTL:PT1H
BEGIN:VTIMEZONE
TZID:America/New_York
BEGIN:DAYLIGHT
TZOFFSETFROM:-0500
TZOFFSETTO:-0400
TZNAME:EDT
DTSTART:20250309T070000
END:DAYLIGHT
BEGIN:STANDARD
TZOFFSETFROM:-0400
TZOFFSETTO:-0500
TZNAME:EST
DTSTART:20251102T060000
END:STANDARD
BEGIN:DAYLIGHT
TZOFFSETFROM:-0500
TZOFFSETTO:-0400
TZNAME:EDT
DTSTART:20260308T070000
END:DAYLIGHT
BEGIN:STANDARD
TZOFFSETFROM:-0400
TZOFFSETTO:-0500
TZNAME:EST
DTSTART:20261101T060000
END:STANDARD
BEGIN:DAYLIGHT
TZOFFSETFROM:-0500
TZOFFSETTO:-0400
TZNAME:EDT
DTSTART:20270314T070000
END:DAYLIGHT
BEGIN:STANDARD
TZOFFSETFROM:-0400
TZOFFSETTO:-0500
TZNAME:EST
DTSTART:20271107T060000
END:STANDARD
BEGIN:DAYLIGHT
TZOFFSETFROM:-0500
TZOFFSETTO:-0400
TZNAME:EDT
DTSTART:20280312T070000
END:DAYLIGHT
BEGIN:STANDARD
TZOFFSETFROM:-0400
TZOFFSETTO:-0500
TZNAME:EST
DTSTART:20281105T060000
END:STANDARD
END:VTIMEZONE
BEGIN:VEVENT
DTSTART;TZID=America/New_York:20261008T070000
DTEND;TZID=America/New_York:20261008T083000
DTSTAMP:20260419T135315
CREATED:20250503T164142Z
LAST-MODIFIED:20251117T232953Z
UID:10054778-1791442800-1791448200@meetings.greysheet.org
SUMMARY:Qualification THU 0700
DESCRIPTION:This is a GreySheet Qualification meeting. The Speaker will qualify for approximately 15 to 20 minutes on their Experience\, Strength\, and Hope related to GreySheet abstinence.
URL:https://meetings.greysheet.org/meeting/pbig-thu-0700/2026-10-08
CATEGORIES:Telephone or Audio
ATTACH;FMTTYPE=image/svg+xml:https://meetings.greysheet.org/wp-content/uploads/2025/05/phone.svg
LOCATION:Phone Number: 712 432 5229, PIN: Phone Bridge
END:VEVENT
BEGIN:VEVENT
DTSTART;TZID=America/New_York:20261015T070000
DTEND;TZID=America/New_York:20261015T083000
DTSTAMP:20260419T135315
CREATED:20250503T164142Z
LAST-MODIFIED:20251117T232953Z
UID:10054779-1792047600-1792053000@meetings.greysheet.org
SUMMARY:Qualification THU 0700
DESCRIPTION:This is a GreySheet Qualification meeting. The Speaker will qualify for approximately 15 to 20 minutes on their Experience\, Strength\, and Hope related to GreySheet abstinence.
URL:https://meetings.greysheet.org/meeting/pbig-thu-0700/2026-10-15
CATEGORIES:Telephone or Audio
ATTACH;FMTTYPE=image/svg+xml:https://meetings.greysheet.org/wp-content/uploads/2025/05/phone.svg
LOCATION:Phone Number: 712 432 5229, PIN: Phone Bridge
END:VEVENT
BEGIN:VEVENT
DTSTART;TZID=America/New_York:20261022T070000
DTEND;TZID=America/New_York:20261022T083000
DTSTAMP:20260419T135315
CREATED:20250503T164142Z
LAST-MODIFIED:20251117T232953Z
UID:10054780-1792652400-1792657800@meetings.greysheet.org
SUMMARY:Qualification THU 0700
DESCRIPTION:This is a GreySheet Qualification meeting. The Speaker will qualify for approximately 15 to 20 minutes on their Experience\, Strength\, and Hope related to GreySheet abstinence.
URL:https://meetings.greysheet.org/meeting/pbig-thu-0700/2026-10-22
CATEGORIES:Telephone or Audio
ATTACH;FMTTYPE=image/svg+xml:https://meetings.greysheet.org/wp-content/uploads/2025/05/phone.svg
LOCATION:Phone Number: 712 432 5229, PIN: Phone Bridge
END:VEVENT
BEGIN:VEVENT
DTSTART;TZID=America/New_York:20261029T070000
DTEND;TZID=America/New_York:20261029T083000
DTSTAMP:20260419T135315
CREATED:20250503T164142Z
LAST-MODIFIED:20251117T232953Z
UID:10054781-1793257200-1793262600@meetings.greysheet.org
SUMMARY:Qualification THU 0700
DESCRIPTION:This is a GreySheet Qualification meeting. The Speaker will qualify for approximately 15 to 20 minutes on their Experience\, Strength\, and Hope related to GreySheet abstinence.
URL:https://meetings.greysheet.org/meeting/pbig-thu-0700/2026-10-29
CATEGORIES:Telephone or Audio
ATTACH;FMTTYPE=image/svg+xml:https://meetings.greysheet.org/wp-content/uploads/2025/05/phone.svg
LOCATION:Phone Number: 712 432 5229, PIN: Phone Bridge
END:VEVENT
BEGIN:VEVENT
DTSTART;TZID=America/New_York:20261105T070000
DTEND;TZID=America/New_York:20261105T083000
DTSTAMP:20260419T135315
CREATED:20250503T164142Z
LAST-MODIFIED:20251117T232953Z
UID:10054782-1793862000-1793867400@meetings.greysheet.org
SUMMARY:Qualification THU 0700
DESCRIPTION:This is a GreySheet Qualification meeting. The Speaker will qualify for approximately 15 to 20 minutes on their Experience\, Strength\, and Hope related to GreySheet abstinence.
URL:https://meetings.greysheet.org/meeting/pbig-thu-0700/2026-11-05
CATEGORIES:Telephone or Audio
ATTACH;FMTTYPE=image/svg+xml:https://meetings.greysheet.org/wp-content/uploads/2025/05/phone.svg
LOCATION:Phone Number: 712 432 5229, PIN: Phone Bridge
END:VEVENT
BEGIN:VEVENT
DTSTART;TZID=America/New_York:20261112T070000
DTEND;TZID=America/New_York:20261112T083000
DTSTAMP:20260419T135315
CREATED:20250503T164142Z
LAST-MODIFIED:20251117T232953Z
UID:10054783-1794466800-1794472200@meetings.greysheet.org
SUMMARY:Qualification THU 0700
DESCRIPTION:This is a GreySheet Qualification meeting. The Speaker will qualify for approximately 15 to 20 minutes on their Experience\, Strength\, and Hope related to GreySheet abstinence.
URL:https://meetings.greysheet.org/meeting/pbig-thu-0700/2026-11-12
CATEGORIES:Telephone or Audio
ATTACH;FMTTYPE=image/svg+xml:https://meetings.greysheet.org/wp-content/uploads/2025/05/phone.svg
LOCATION:Phone Number: 712 432 5229, PIN: Phone Bridge
END:VEVENT
BEGIN:VEVENT
DTSTART;TZID=America/New_York:20261119T070000
DTEND;TZID=America/New_York:20261119T083000
DTSTAMP:20260419T135315
CREATED:20250503T164142Z
LAST-MODIFIED:20251117T232953Z
UID:10054784-1795071600-1795077000@meetings.greysheet.org
SUMMARY:Qualification THU 0700
DESCRIPTION:This is a GreySheet Qualification meeting. The Speaker will qualify for approximately 15 to 20 minutes on their Experience\, Strength\, and Hope related to GreySheet abstinence.
URL:https://meetings.greysheet.org/meeting/pbig-thu-0700/2026-11-19
CATEGORIES:Telephone or Audio
ATTACH;FMTTYPE=image/svg+xml:https://meetings.greysheet.org/wp-content/uploads/2025/05/phone.svg
LOCATION:Phone Number: 712 432 5229, PIN: Phone Bridge
END:VEVENT
BEGIN:VEVENT
DTSTART;TZID=America/New_York:20261126T070000
DTEND;TZID=America/New_York:20261126T083000
DTSTAMP:20260419T135315
CREATED:20250503T164142Z
LAST-MODIFIED:20251117T232953Z
UID:10054785-1795676400-1795681800@meetings.greysheet.org
SUMMARY:Qualification THU 0700
DESCRIPTION:This is a GreySheet Qualification meeting. The Speaker will qualify for approximately 15 to 20 minutes on their Experience\, Strength\, and Hope related to GreySheet abstinence.
URL:https://meetings.greysheet.org/meeting/pbig-thu-0700/2026-11-26
CATEGORIES:Telephone or Audio
ATTACH;FMTTYPE=image/svg+xml:https://meetings.greysheet.org/wp-content/uploads/2025/05/phone.svg
LOCATION:Phone Number: 712 432 5229, PIN: Phone Bridge
END:VEVENT
BEGIN:VEVENT
DTSTART;TZID=America/New_York:20261203T070000
DTEND;TZID=America/New_York:20261203T083000
DTSTAMP:20260419T135315
CREATED:20250503T164142Z
LAST-MODIFIED:20251117T232953Z
UID:10054786-1796281200-1796286600@meetings.greysheet.org
SUMMARY:Qualification THU 0700
DESCRIPTION:This is a GreySheet Qualification meeting. The Speaker will qualify for approximately 15 to 20 minutes on their Experience\, Strength\, and Hope related to GreySheet abstinence.
URL:https://meetings.greysheet.org/meeting/pbig-thu-0700/2026-12-03
CATEGORIES:Telephone or Audio
ATTACH;FMTTYPE=image/svg+xml:https://meetings.greysheet.org/wp-content/uploads/2025/05/phone.svg
LOCATION:Phone Number: 712 432 5229, PIN: Phone Bridge
END:VEVENT
BEGIN:VEVENT
DTSTART;TZID=America/New_York:20261210T070000
DTEND;TZID=America/New_York:20261210T083000
DTSTAMP:20260419T135315
CREATED:20250503T164142Z
LAST-MODIFIED:20251117T232953Z
UID:10054787-1796886000-1796891400@meetings.greysheet.org
SUMMARY:Qualification THU 0700
DESCRIPTION:This is a GreySheet Qualification meeting. The Speaker will qualify for approximately 15 to 20 minutes on their Experience\, Strength\, and Hope related to GreySheet abstinence.
URL:https://meetings.greysheet.org/meeting/pbig-thu-0700/2026-12-10
CATEGORIES:Telephone or Audio
ATTACH;FMTTYPE=image/svg+xml:https://meetings.greysheet.org/wp-content/uploads/2025/05/phone.svg
LOCATION:Phone Number: 712 432 5229, PIN: Phone Bridge
END:VEVENT
BEGIN:VEVENT
DTSTART;TZID=America/New_York:20261217T070000
DTEND;TZID=America/New_York:20261217T083000
DTSTAMP:20260419T135315
CREATED:20250503T164142Z
LAST-MODIFIED:20251117T232953Z
UID:10054788-1797490800-1797496200@meetings.greysheet.org
SUMMARY:Qualification THU 0700
DESCRIPTION:This is a GreySheet Qualification meeting. The Speaker will qualify for approximately 15 to 20 minutes on their Experience\, Strength\, and Hope related to GreySheet abstinence.
URL:https://meetings.greysheet.org/meeting/pbig-thu-0700/2026-12-17
CATEGORIES:Telephone or Audio
ATTACH;FMTTYPE=image/svg+xml:https://meetings.greysheet.org/wp-content/uploads/2025/05/phone.svg
LOCATION:Phone Number: 712 432 5229, PIN: Phone Bridge
END:VEVENT
BEGIN:VEVENT
DTSTART;TZID=America/New_York:20261224T070000
DTEND;TZID=America/New_York:20261224T083000
DTSTAMP:20260419T135315
CREATED:20250503T164142Z
LAST-MODIFIED:20251117T232953Z
UID:10054789-1798095600-1798101000@meetings.greysheet.org
SUMMARY:Qualification THU 0700
DESCRIPTION:This is a GreySheet Qualification meeting. The Speaker will qualify for approximately 15 to 20 minutes on their Experience\, Strength\, and Hope related to GreySheet abstinence.
URL:https://meetings.greysheet.org/meeting/pbig-thu-0700/2026-12-24
CATEGORIES:Telephone or Audio
ATTACH;FMTTYPE=image/svg+xml:https://meetings.greysheet.org/wp-content/uploads/2025/05/phone.svg
LOCATION:Phone Number: 712 432 5229, PIN: Phone Bridge
END:VEVENT
BEGIN:VEVENT
DTSTART;TZID=America/New_York:20261231T070000
DTEND;TZID=America/New_York:20261231T083000
DTSTAMP:20260419T135315
CREATED:20250503T164142Z
LAST-MODIFIED:20251117T232953Z
UID:10054790-1798700400-1798705800@meetings.greysheet.org
SUMMARY:Qualification THU 0700
DESCRIPTION:This is a GreySheet Qualification meeting. The Speaker will qualify for approximately 15 to 20 minutes on their Experience\, Strength\, and Hope related to GreySheet abstinence.
URL:https://meetings.greysheet.org/meeting/pbig-thu-0700/2026-12-31
CATEGORIES:Telephone or Audio
ATTACH;FMTTYPE=image/svg+xml:https://meetings.greysheet.org/wp-content/uploads/2025/05/phone.svg
LOCATION:Phone Number: 712 432 5229, PIN: Phone Bridge
END:VEVENT
BEGIN:VEVENT
DTSTART;TZID=America/New_York:20270107T070000
DTEND;TZID=America/New_York:20270107T083000
DTSTAMP:20260419T135315
CREATED:20250503T164142Z
LAST-MODIFIED:20251117T232953Z
UID:10054791-1799305200-1799310600@meetings.greysheet.org
SUMMARY:Qualification THU 0700
DESCRIPTION:This is a GreySheet Qualification meeting. The Speaker will qualify for approximately 15 to 20 minutes on their Experience\, Strength\, and Hope related to GreySheet abstinence.
URL:https://meetings.greysheet.org/meeting/pbig-thu-0700/2027-01-07
CATEGORIES:Telephone or Audio
ATTACH;FMTTYPE=image/svg+xml:https://meetings.greysheet.org/wp-content/uploads/2025/05/phone.svg
LOCATION:Phone Number: 712 432 5229, PIN: Phone Bridge
END:VEVENT
BEGIN:VEVENT
DTSTART;TZID=America/New_York:20270114T070000
DTEND;TZID=America/New_York:20270114T083000
DTSTAMP:20260419T135315
CREATED:20250503T164142Z
LAST-MODIFIED:20251117T232953Z
UID:10054792-1799910000-1799915400@meetings.greysheet.org
SUMMARY:Qualification THU 0700
DESCRIPTION:This is a GreySheet Qualification meeting. The Speaker will qualify for approximately 15 to 20 minutes on their Experience\, Strength\, and Hope related to GreySheet abstinence.
URL:https://meetings.greysheet.org/meeting/pbig-thu-0700/2027-01-14
CATEGORIES:Telephone or Audio
ATTACH;FMTTYPE=image/svg+xml:https://meetings.greysheet.org/wp-content/uploads/2025/05/phone.svg
LOCATION:Phone Number: 712 432 5229, PIN: Phone Bridge
END:VEVENT
BEGIN:VEVENT
DTSTART;TZID=America/New_York:20270121T070000
DTEND;TZID=America/New_York:20270121T083000
DTSTAMP:20260419T135315
CREATED:20250503T164142Z
LAST-MODIFIED:20251117T232953Z
UID:10054793-1800514800-1800520200@meetings.greysheet.org
SUMMARY:Qualification THU 0700
DESCRIPTION:This is a GreySheet Qualification meeting. The Speaker will qualify for approximately 15 to 20 minutes on their Experience\, Strength\, and Hope related to GreySheet abstinence.
URL:https://meetings.greysheet.org/meeting/pbig-thu-0700/2027-01-21
CATEGORIES:Telephone or Audio
ATTACH;FMTTYPE=image/svg+xml:https://meetings.greysheet.org/wp-content/uploads/2025/05/phone.svg
LOCATION:Phone Number: 712 432 5229, PIN: Phone Bridge
END:VEVENT
BEGIN:VEVENT
DTSTART;TZID=America/New_York:20270128T070000
DTEND;TZID=America/New_York:20270128T083000
DTSTAMP:20260419T135315
CREATED:20250503T164142Z
LAST-MODIFIED:20251117T232953Z
UID:10054794-1801119600-1801125000@meetings.greysheet.org
SUMMARY:Qualification THU 0700
DESCRIPTION:This is a GreySheet Qualification meeting. The Speaker will qualify for approximately 15 to 20 minutes on their Experience\, Strength\, and Hope related to GreySheet abstinence.
URL:https://meetings.greysheet.org/meeting/pbig-thu-0700/2027-01-28
CATEGORIES:Telephone or Audio
ATTACH;FMTTYPE=image/svg+xml:https://meetings.greysheet.org/wp-content/uploads/2025/05/phone.svg
LOCATION:Phone Number: 712 432 5229, PIN: Phone Bridge
END:VEVENT
BEGIN:VEVENT
DTSTART;TZID=America/New_York:20270204T070000
DTEND;TZID=America/New_York:20270204T083000
DTSTAMP:20260419T135315
CREATED:20250503T164142Z
LAST-MODIFIED:20251117T232953Z
UID:10054795-1801724400-1801729800@meetings.greysheet.org
SUMMARY:Qualification THU 0700
DESCRIPTION:This is a GreySheet Qualification meeting. The Speaker will qualify for approximately 15 to 20 minutes on their Experience\, Strength\, and Hope related to GreySheet abstinence.
URL:https://meetings.greysheet.org/meeting/pbig-thu-0700/2027-02-04
CATEGORIES:Telephone or Audio
ATTACH;FMTTYPE=image/svg+xml:https://meetings.greysheet.org/wp-content/uploads/2025/05/phone.svg
LOCATION:Phone Number: 712 432 5229, PIN: Phone Bridge
END:VEVENT
BEGIN:VEVENT
DTSTART;TZID=America/New_York:20270211T070000
DTEND;TZID=America/New_York:20270211T083000
DTSTAMP:20260419T135315
CREATED:20250503T164142Z
LAST-MODIFIED:20251117T232953Z
UID:10054796-1802329200-1802334600@meetings.greysheet.org
SUMMARY:Qualification THU 0700
DESCRIPTION:This is a GreySheet Qualification meeting. The Speaker will qualify for approximately 15 to 20 minutes on their Experience\, Strength\, and Hope related to GreySheet abstinence.
URL:https://meetings.greysheet.org/meeting/pbig-thu-0700/2027-02-11
CATEGORIES:Telephone or Audio
ATTACH;FMTTYPE=image/svg+xml:https://meetings.greysheet.org/wp-content/uploads/2025/05/phone.svg
LOCATION:Phone Number: 712 432 5229, PIN: Phone Bridge
END:VEVENT
BEGIN:VEVENT
DTSTART;TZID=America/New_York:20270218T070000
DTEND;TZID=America/New_York:20270218T083000
DTSTAMP:20260419T135315
CREATED:20250503T164142Z
LAST-MODIFIED:20251117T232953Z
UID:10054797-1802934000-1802939400@meetings.greysheet.org
SUMMARY:Qualification THU 0700
DESCRIPTION:This is a GreySheet Qualification meeting. The Speaker will qualify for approximately 15 to 20 minutes on their Experience\, Strength\, and Hope related to GreySheet abstinence.
URL:https://meetings.greysheet.org/meeting/pbig-thu-0700/2027-02-18
CATEGORIES:Telephone or Audio
ATTACH;FMTTYPE=image/svg+xml:https://meetings.greysheet.org/wp-content/uploads/2025/05/phone.svg
LOCATION:Phone Number: 712 432 5229, PIN: Phone Bridge
END:VEVENT
BEGIN:VEVENT
DTSTART;TZID=America/New_York:20270225T070000
DTEND;TZID=America/New_York:20270225T083000
DTSTAMP:20260419T135315
CREATED:20250503T164142Z
LAST-MODIFIED:20251117T232953Z
UID:10054798-1803538800-1803544200@meetings.greysheet.org
SUMMARY:Qualification THU 0700
DESCRIPTION:This is a GreySheet Qualification meeting. The Speaker will qualify for approximately 15 to 20 minutes on their Experience\, Strength\, and Hope related to GreySheet abstinence.
URL:https://meetings.greysheet.org/meeting/pbig-thu-0700/2027-02-25
CATEGORIES:Telephone or Audio
ATTACH;FMTTYPE=image/svg+xml:https://meetings.greysheet.org/wp-content/uploads/2025/05/phone.svg
LOCATION:Phone Number: 712 432 5229, PIN: Phone Bridge
END:VEVENT
BEGIN:VEVENT
DTSTART;TZID=America/New_York:20270304T070000
DTEND;TZID=America/New_York:20270304T083000
DTSTAMP:20260419T135315
CREATED:20250503T164142Z
LAST-MODIFIED:20251117T232953Z
UID:10054799-1804143600-1804149000@meetings.greysheet.org
SUMMARY:Qualification THU 0700
DESCRIPTION:This is a GreySheet Qualification meeting. The Speaker will qualify for approximately 15 to 20 minutes on their Experience\, Strength\, and Hope related to GreySheet abstinence.
URL:https://meetings.greysheet.org/meeting/pbig-thu-0700/2027-03-04
CATEGORIES:Telephone or Audio
ATTACH;FMTTYPE=image/svg+xml:https://meetings.greysheet.org/wp-content/uploads/2025/05/phone.svg
LOCATION:Phone Number: 712 432 5229, PIN: Phone Bridge
END:VEVENT
BEGIN:VEVENT
DTSTART;TZID=America/New_York:20270311T070000
DTEND;TZID=America/New_York:20270311T083000
DTSTAMP:20260419T135315
CREATED:20250503T164142Z
LAST-MODIFIED:20251117T232953Z
UID:10054800-1804748400-1804753800@meetings.greysheet.org
SUMMARY:Qualification THU 0700
DESCRIPTION:This is a GreySheet Qualification meeting. The Speaker will qualify for approximately 15 to 20 minutes on their Experience\, Strength\, and Hope related to GreySheet abstinence.
URL:https://meetings.greysheet.org/meeting/pbig-thu-0700/2027-03-11
CATEGORIES:Telephone or Audio
ATTACH;FMTTYPE=image/svg+xml:https://meetings.greysheet.org/wp-content/uploads/2025/05/phone.svg
LOCATION:Phone Number: 712 432 5229, PIN: Phone Bridge
END:VEVENT
BEGIN:VEVENT
DTSTART;TZID=America/New_York:20270318T070000
DTEND;TZID=America/New_York:20270318T083000
DTSTAMP:20260419T135315
CREATED:20250503T164142Z
LAST-MODIFIED:20251117T232953Z
UID:10054801-1805353200-1805358600@meetings.greysheet.org
SUMMARY:Qualification THU 0700
DESCRIPTION:This is a GreySheet Qualification meeting. The Speaker will qualify for approximately 15 to 20 minutes on their Experience\, Strength\, and Hope related to GreySheet abstinence.
URL:https://meetings.greysheet.org/meeting/pbig-thu-0700/2027-03-18
CATEGORIES:Telephone or Audio
ATTACH;FMTTYPE=image/svg+xml:https://meetings.greysheet.org/wp-content/uploads/2025/05/phone.svg
LOCATION:Phone Number: 712 432 5229, PIN: Phone Bridge
END:VEVENT
BEGIN:VEVENT
DTSTART;TZID=America/New_York:20270325T070000
DTEND;TZID=America/New_York:20270325T083000
DTSTAMP:20260419T135315
CREATED:20250503T164142Z
LAST-MODIFIED:20251117T232953Z
UID:10054802-1805958000-1805963400@meetings.greysheet.org
SUMMARY:Qualification THU 0700
DESCRIPTION:This is a GreySheet Qualification meeting. The Speaker will qualify for approximately 15 to 20 minutes on their Experience\, Strength\, and Hope related to GreySheet abstinence.
URL:https://meetings.greysheet.org/meeting/pbig-thu-0700/2027-03-25
CATEGORIES:Telephone or Audio
ATTACH;FMTTYPE=image/svg+xml:https://meetings.greysheet.org/wp-content/uploads/2025/05/phone.svg
LOCATION:Phone Number: 712 432 5229, PIN: Phone Bridge
END:VEVENT
BEGIN:VEVENT
DTSTART;TZID=America/New_York:20270401T070000
DTEND;TZID=America/New_York:20270401T083000
DTSTAMP:20260419T135315
CREATED:20250503T164142Z
LAST-MODIFIED:20251117T232953Z
UID:10054803-1806562800-1806568200@meetings.greysheet.org
SUMMARY:Qualification THU 0700
DESCRIPTION:This is a GreySheet Qualification meeting. The Speaker will qualify for approximately 15 to 20 minutes on their Experience\, Strength\, and Hope related to GreySheet abstinence.
URL:https://meetings.greysheet.org/meeting/pbig-thu-0700/2027-04-01
CATEGORIES:Telephone or Audio
ATTACH;FMTTYPE=image/svg+xml:https://meetings.greysheet.org/wp-content/uploads/2025/05/phone.svg
LOCATION:Phone Number: 712 432 5229, PIN: Phone Bridge
END:VEVENT
BEGIN:VEVENT
DTSTART;TZID=America/New_York:20270408T070000
DTEND;TZID=America/New_York:20270408T083000
DTSTAMP:20260419T135315
CREATED:20250503T164142Z
LAST-MODIFIED:20251117T232953Z
UID:10054804-1807167600-1807173000@meetings.greysheet.org
SUMMARY:Qualification THU 0700
DESCRIPTION:This is a GreySheet Qualification meeting. The Speaker will qualify for approximately 15 to 20 minutes on their Experience\, Strength\, and Hope related to GreySheet abstinence.
URL:https://meetings.greysheet.org/meeting/pbig-thu-0700/2027-04-08
CATEGORIES:Telephone or Audio
ATTACH;FMTTYPE=image/svg+xml:https://meetings.greysheet.org/wp-content/uploads/2025/05/phone.svg
LOCATION:Phone Number: 712 432 5229, PIN: Phone Bridge
END:VEVENT
BEGIN:VEVENT
DTSTART;TZID=America/New_York:20270415T070000
DTEND;TZID=America/New_York:20270415T083000
DTSTAMP:20260419T135315
CREATED:20250503T164142Z
LAST-MODIFIED:20251117T232953Z
UID:10054805-1807772400-1807777800@meetings.greysheet.org
SUMMARY:Qualification THU 0700
DESCRIPTION:This is a GreySheet Qualification meeting. The Speaker will qualify for approximately 15 to 20 minutes on their Experience\, Strength\, and Hope related to GreySheet abstinence.
URL:https://meetings.greysheet.org/meeting/pbig-thu-0700/2027-04-15
CATEGORIES:Telephone or Audio
ATTACH;FMTTYPE=image/svg+xml:https://meetings.greysheet.org/wp-content/uploads/2025/05/phone.svg
LOCATION:Phone Number: 712 432 5229, PIN: Phone Bridge
END:VEVENT
BEGIN:VEVENT
DTSTART;TZID=America/New_York:20270422T070000
DTEND;TZID=America/New_York:20270422T083000
DTSTAMP:20260419T135315
CREATED:20250503T164142Z
LAST-MODIFIED:20251117T232953Z
UID:10054806-1808377200-1808382600@meetings.greysheet.org
SUMMARY:Qualification THU 0700
DESCRIPTION:This is a GreySheet Qualification meeting. The Speaker will qualify for approximately 15 to 20 minutes on their Experience\, Strength\, and Hope related to GreySheet abstinence.
URL:https://meetings.greysheet.org/meeting/pbig-thu-0700/2027-04-22
CATEGORIES:Telephone or Audio
ATTACH;FMTTYPE=image/svg+xml:https://meetings.greysheet.org/wp-content/uploads/2025/05/phone.svg
LOCATION:Phone Number: 712 432 5229, PIN: Phone Bridge
END:VEVENT
BEGIN:VEVENT
DTSTART;TZID=America/New_York:20270429T070000
DTEND;TZID=America/New_York:20270429T083000
DTSTAMP:20260419T135315
CREATED:20250503T164142Z
LAST-MODIFIED:20251117T232953Z
UID:10054807-1808982000-1808987400@meetings.greysheet.org
SUMMARY:Qualification THU 0700
DESCRIPTION:This is a GreySheet Qualification meeting. The Speaker will qualify for approximately 15 to 20 minutes on their Experience\, Strength\, and Hope related to GreySheet abstinence.
URL:https://meetings.greysheet.org/meeting/pbig-thu-0700/2027-04-29
CATEGORIES:Telephone or Audio
ATTACH;FMTTYPE=image/svg+xml:https://meetings.greysheet.org/wp-content/uploads/2025/05/phone.svg
LOCATION:Phone Number: 712 432 5229, PIN: Phone Bridge
END:VEVENT
END:VCALENDAR