BEGIN:VCALENDAR
VERSION:2.0
PRODID:-//GreySheeters Anonymous World Services - ECPv6.15.20//NONSGML v1.0//EN
CALSCALE:GREGORIAN
METHOD:PUBLISH
X-WR-CALNAME:GreySheeters Anonymous World Services
X-ORIGINAL-URL:https://meetings.greysheet.org
X-WR-CALDESC:Events for GreySheeters Anonymous World Services
REFRESH-INTERVAL;VALUE=DURATION:PT1H
X-Robots-Tag:noindex
X-PUBLISHED-TTL:PT1H
BEGIN:VTIMEZONE
TZID:America/New_York
BEGIN:DAYLIGHT
TZOFFSETFROM:-0500
TZOFFSETTO:-0400
TZNAME:EDT
DTSTART:20240310T070000
END:DAYLIGHT
BEGIN:STANDARD
TZOFFSETFROM:-0400
TZOFFSETTO:-0500
TZNAME:EST
DTSTART:20241103T060000
END:STANDARD
BEGIN:DAYLIGHT
TZOFFSETFROM:-0500
TZOFFSETTO:-0400
TZNAME:EDT
DTSTART:20250309T070000
END:DAYLIGHT
BEGIN:STANDARD
TZOFFSETFROM:-0400
TZOFFSETTO:-0500
TZNAME:EST
DTSTART:20251102T060000
END:STANDARD
BEGIN:DAYLIGHT
TZOFFSETFROM:-0500
TZOFFSETTO:-0400
TZNAME:EDT
DTSTART:20260308T070000
END:DAYLIGHT
BEGIN:STANDARD
TZOFFSETFROM:-0400
TZOFFSETTO:-0500
TZNAME:EST
DTSTART:20261101T060000
END:STANDARD
BEGIN:DAYLIGHT
TZOFFSETFROM:-0500
TZOFFSETTO:-0400
TZNAME:EDT
DTSTART:20270314T070000
END:DAYLIGHT
BEGIN:STANDARD
TZOFFSETFROM:-0400
TZOFFSETTO:-0500
TZNAME:EST
DTSTART:20271107T060000
END:STANDARD
END:VTIMEZONE
BEGIN:VEVENT
DTSTART;TZID=America/New_York:20260416T070000
DTEND;TZID=America/New_York:20260416T083000
DTSTAMP:20260421T090300
CREATED:20250503T164142Z
LAST-MODIFIED:20251117T232953Z
UID:10054753-1776322800-1776328200@meetings.greysheet.org
SUMMARY:Qualification THU 0700
DESCRIPTION:This is a GreySheet Qualification meeting. The Speaker will qualify for approximately 15 to 20 minutes on their Experience\, Strength\, and Hope related to GreySheet abstinence.
URL:https://meetings.greysheet.org/meeting/pbig-thu-0700/2026-04-16
CATEGORIES:Telephone or Audio
ATTACH;FMTTYPE=image/svg+xml:https://meetings.greysheet.org/wp-content/uploads/2025/05/phone.svg
LOCATION:Phone Number: 712 432 5229, PIN: Phone Bridge
END:VEVENT
BEGIN:VEVENT
DTSTART;TZID=America/New_York:20260409T070000
DTEND;TZID=America/New_York:20260409T083000
DTSTAMP:20260421T090300
CREATED:20250503T164142Z
LAST-MODIFIED:20251117T232953Z
UID:10054752-1775718000-1775723400@meetings.greysheet.org
SUMMARY:Qualification THU 0700
DESCRIPTION:This is a GreySheet Qualification meeting. The Speaker will qualify for approximately 15 to 20 minutes on their Experience\, Strength\, and Hope related to GreySheet abstinence.
URL:https://meetings.greysheet.org/meeting/pbig-thu-0700/2026-04-09
CATEGORIES:Telephone or Audio
ATTACH;FMTTYPE=image/svg+xml:https://meetings.greysheet.org/wp-content/uploads/2025/05/phone.svg
LOCATION:Phone Number: 712 432 5229, PIN: Phone Bridge
END:VEVENT
BEGIN:VEVENT
DTSTART;TZID=America/New_York:20260402T070000
DTEND;TZID=America/New_York:20260402T083000
DTSTAMP:20260421T090300
CREATED:20250503T164142Z
LAST-MODIFIED:20251117T232953Z
UID:10054751-1775113200-1775118600@meetings.greysheet.org
SUMMARY:Qualification THU 0700
DESCRIPTION:This is a GreySheet Qualification meeting. The Speaker will qualify for approximately 15 to 20 minutes on their Experience\, Strength\, and Hope related to GreySheet abstinence.
URL:https://meetings.greysheet.org/meeting/pbig-thu-0700/2026-04-02
CATEGORIES:Telephone or Audio
ATTACH;FMTTYPE=image/svg+xml:https://meetings.greysheet.org/wp-content/uploads/2025/05/phone.svg
LOCATION:Phone Number: 712 432 5229, PIN: Phone Bridge
END:VEVENT
BEGIN:VEVENT
DTSTART;TZID=America/New_York:20260326T070000
DTEND;TZID=America/New_York:20260326T083000
DTSTAMP:20260421T090300
CREATED:20250503T164142Z
LAST-MODIFIED:20251117T232953Z
UID:10054750-1774508400-1774513800@meetings.greysheet.org
SUMMARY:Qualification THU 0700
DESCRIPTION:This is a GreySheet Qualification meeting. The Speaker will qualify for approximately 15 to 20 minutes on their Experience\, Strength\, and Hope related to GreySheet abstinence.
URL:https://meetings.greysheet.org/meeting/pbig-thu-0700/2026-03-26
CATEGORIES:Telephone or Audio
ATTACH;FMTTYPE=image/svg+xml:https://meetings.greysheet.org/wp-content/uploads/2025/05/phone.svg
LOCATION:Phone Number: 712 432 5229, PIN: Phone Bridge
END:VEVENT
BEGIN:VEVENT
DTSTART;TZID=America/New_York:20260319T070000
DTEND;TZID=America/New_York:20260319T083000
DTSTAMP:20260421T090300
CREATED:20250503T164142Z
LAST-MODIFIED:20251117T232953Z
UID:10054749-1773903600-1773909000@meetings.greysheet.org
SUMMARY:Qualification THU 0700
DESCRIPTION:This is a GreySheet Qualification meeting. The Speaker will qualify for approximately 15 to 20 minutes on their Experience\, Strength\, and Hope related to GreySheet abstinence.
URL:https://meetings.greysheet.org/meeting/pbig-thu-0700/2026-03-19
CATEGORIES:Telephone or Audio
ATTACH;FMTTYPE=image/svg+xml:https://meetings.greysheet.org/wp-content/uploads/2025/05/phone.svg
LOCATION:Phone Number: 712 432 5229, PIN: Phone Bridge
END:VEVENT
BEGIN:VEVENT
DTSTART;TZID=America/New_York:20260312T070000
DTEND;TZID=America/New_York:20260312T083000
DTSTAMP:20260421T090300
CREATED:20250503T164142Z
LAST-MODIFIED:20251117T232953Z
UID:10054748-1773298800-1773304200@meetings.greysheet.org
SUMMARY:Qualification THU 0700
DESCRIPTION:This is a GreySheet Qualification meeting. The Speaker will qualify for approximately 15 to 20 minutes on their Experience\, Strength\, and Hope related to GreySheet abstinence.
URL:https://meetings.greysheet.org/meeting/pbig-thu-0700/2026-03-12
CATEGORIES:Telephone or Audio
ATTACH;FMTTYPE=image/svg+xml:https://meetings.greysheet.org/wp-content/uploads/2025/05/phone.svg
LOCATION:Phone Number: 712 432 5229, PIN: Phone Bridge
END:VEVENT
BEGIN:VEVENT
DTSTART;TZID=America/New_York:20260305T070000
DTEND;TZID=America/New_York:20260305T083000
DTSTAMP:20260421T090300
CREATED:20250503T164142Z
LAST-MODIFIED:20251117T232953Z
UID:10054747-1772694000-1772699400@meetings.greysheet.org
SUMMARY:Qualification THU 0700
DESCRIPTION:This is a GreySheet Qualification meeting. The Speaker will qualify for approximately 15 to 20 minutes on their Experience\, Strength\, and Hope related to GreySheet abstinence.
URL:https://meetings.greysheet.org/meeting/pbig-thu-0700/2026-03-05
CATEGORIES:Telephone or Audio
ATTACH;FMTTYPE=image/svg+xml:https://meetings.greysheet.org/wp-content/uploads/2025/05/phone.svg
LOCATION:Phone Number: 712 432 5229, PIN: Phone Bridge
END:VEVENT
BEGIN:VEVENT
DTSTART;TZID=America/New_York:20260226T070000
DTEND;TZID=America/New_York:20260226T083000
DTSTAMP:20260421T090300
CREATED:20250503T164142Z
LAST-MODIFIED:20251117T232953Z
UID:10054746-1772089200-1772094600@meetings.greysheet.org
SUMMARY:Qualification THU 0700
DESCRIPTION:This is a GreySheet Qualification meeting. The Speaker will qualify for approximately 15 to 20 minutes on their Experience\, Strength\, and Hope related to GreySheet abstinence.
URL:https://meetings.greysheet.org/meeting/pbig-thu-0700/2026-02-26
CATEGORIES:Telephone or Audio
ATTACH;FMTTYPE=image/svg+xml:https://meetings.greysheet.org/wp-content/uploads/2025/05/phone.svg
LOCATION:Phone Number: 712 432 5229, PIN: Phone Bridge
END:VEVENT
BEGIN:VEVENT
DTSTART;TZID=America/New_York:20260219T070000
DTEND;TZID=America/New_York:20260219T083000
DTSTAMP:20260421T090300
CREATED:20250503T164142Z
LAST-MODIFIED:20251117T232953Z
UID:10054745-1771484400-1771489800@meetings.greysheet.org
SUMMARY:Qualification THU 0700
DESCRIPTION:This is a GreySheet Qualification meeting. The Speaker will qualify for approximately 15 to 20 minutes on their Experience\, Strength\, and Hope related to GreySheet abstinence.
URL:https://meetings.greysheet.org/meeting/pbig-thu-0700/2026-02-19
CATEGORIES:Telephone or Audio
ATTACH;FMTTYPE=image/svg+xml:https://meetings.greysheet.org/wp-content/uploads/2025/05/phone.svg
LOCATION:Phone Number: 712 432 5229, PIN: Phone Bridge
END:VEVENT
BEGIN:VEVENT
DTSTART;TZID=America/New_York:20260212T070000
DTEND;TZID=America/New_York:20260212T083000
DTSTAMP:20260421T090300
CREATED:20250503T164142Z
LAST-MODIFIED:20251117T232953Z
UID:10054744-1770879600-1770885000@meetings.greysheet.org
SUMMARY:Qualification THU 0700
DESCRIPTION:This is a GreySheet Qualification meeting. The Speaker will qualify for approximately 15 to 20 minutes on their Experience\, Strength\, and Hope related to GreySheet abstinence.
URL:https://meetings.greysheet.org/meeting/pbig-thu-0700/2026-02-12
CATEGORIES:Telephone or Audio
ATTACH;FMTTYPE=image/svg+xml:https://meetings.greysheet.org/wp-content/uploads/2025/05/phone.svg
LOCATION:Phone Number: 712 432 5229, PIN: Phone Bridge
END:VEVENT
BEGIN:VEVENT
DTSTART;TZID=America/New_York:20260205T070000
DTEND;TZID=America/New_York:20260205T083000
DTSTAMP:20260421T090300
CREATED:20250503T164142Z
LAST-MODIFIED:20251117T232953Z
UID:10054743-1770274800-1770280200@meetings.greysheet.org
SUMMARY:Qualification THU 0700
DESCRIPTION:This is a GreySheet Qualification meeting. The Speaker will qualify for approximately 15 to 20 minutes on their Experience\, Strength\, and Hope related to GreySheet abstinence.
URL:https://meetings.greysheet.org/meeting/pbig-thu-0700/2026-02-05
CATEGORIES:Telephone or Audio
ATTACH;FMTTYPE=image/svg+xml:https://meetings.greysheet.org/wp-content/uploads/2025/05/phone.svg
LOCATION:Phone Number: 712 432 5229, PIN: Phone Bridge
END:VEVENT
BEGIN:VEVENT
DTSTART;TZID=America/New_York:20260129T070000
DTEND;TZID=America/New_York:20260129T083000
DTSTAMP:20260421T090300
CREATED:20250503T164142Z
LAST-MODIFIED:20251117T232953Z
UID:10054742-1769670000-1769675400@meetings.greysheet.org
SUMMARY:Qualification THU 0700
DESCRIPTION:This is a GreySheet Qualification meeting. The Speaker will qualify for approximately 15 to 20 minutes on their Experience\, Strength\, and Hope related to GreySheet abstinence.
URL:https://meetings.greysheet.org/meeting/pbig-thu-0700/2026-01-29
CATEGORIES:Telephone or Audio
ATTACH;FMTTYPE=image/svg+xml:https://meetings.greysheet.org/wp-content/uploads/2025/05/phone.svg
LOCATION:Phone Number: 712 432 5229, PIN: Phone Bridge
END:VEVENT
BEGIN:VEVENT
DTSTART;TZID=America/New_York:20260122T070000
DTEND;TZID=America/New_York:20260122T083000
DTSTAMP:20260421T090300
CREATED:20250503T164142Z
LAST-MODIFIED:20251117T232953Z
UID:10054741-1769065200-1769070600@meetings.greysheet.org
SUMMARY:Qualification THU 0700
DESCRIPTION:This is a GreySheet Qualification meeting. The Speaker will qualify for approximately 15 to 20 minutes on their Experience\, Strength\, and Hope related to GreySheet abstinence.
URL:https://meetings.greysheet.org/meeting/pbig-thu-0700/2026-01-22
CATEGORIES:Telephone or Audio
ATTACH;FMTTYPE=image/svg+xml:https://meetings.greysheet.org/wp-content/uploads/2025/05/phone.svg
LOCATION:Phone Number: 712 432 5229, PIN: Phone Bridge
END:VEVENT
BEGIN:VEVENT
DTSTART;TZID=America/New_York:20260115T070000
DTEND;TZID=America/New_York:20260115T083000
DTSTAMP:20260421T090300
CREATED:20250503T164142Z
LAST-MODIFIED:20251117T232953Z
UID:10054740-1768460400-1768465800@meetings.greysheet.org
SUMMARY:Qualification THU 0700
DESCRIPTION:This is a GreySheet Qualification meeting. The Speaker will qualify for approximately 15 to 20 minutes on their Experience\, Strength\, and Hope related to GreySheet abstinence.
URL:https://meetings.greysheet.org/meeting/pbig-thu-0700/2026-01-15
CATEGORIES:Telephone or Audio
ATTACH;FMTTYPE=image/svg+xml:https://meetings.greysheet.org/wp-content/uploads/2025/05/phone.svg
LOCATION:Phone Number: 712 432 5229, PIN: Phone Bridge
END:VEVENT
BEGIN:VEVENT
DTSTART;TZID=America/New_York:20260108T070000
DTEND;TZID=America/New_York:20260108T083000
DTSTAMP:20260421T090300
CREATED:20250503T164142Z
LAST-MODIFIED:20251117T232953Z
UID:10054739-1767855600-1767861000@meetings.greysheet.org
SUMMARY:Qualification THU 0700
DESCRIPTION:This is a GreySheet Qualification meeting. The Speaker will qualify for approximately 15 to 20 minutes on their Experience\, Strength\, and Hope related to GreySheet abstinence.
URL:https://meetings.greysheet.org/meeting/pbig-thu-0700/2026-01-08
CATEGORIES:Telephone or Audio
ATTACH;FMTTYPE=image/svg+xml:https://meetings.greysheet.org/wp-content/uploads/2025/05/phone.svg
LOCATION:Phone Number: 712 432 5229, PIN: Phone Bridge
END:VEVENT
BEGIN:VEVENT
DTSTART;TZID=America/New_York:20260101T070000
DTEND;TZID=America/New_York:20260101T083000
DTSTAMP:20260421T090300
CREATED:20250503T164142Z
LAST-MODIFIED:20251117T232953Z
UID:10054738-1767250800-1767256200@meetings.greysheet.org
SUMMARY:Qualification THU 0700
DESCRIPTION:This is a GreySheet Qualification meeting. The Speaker will qualify for approximately 15 to 20 minutes on their Experience\, Strength\, and Hope related to GreySheet abstinence.
URL:https://meetings.greysheet.org/meeting/pbig-thu-0700/2026-01-01
CATEGORIES:Telephone or Audio
ATTACH;FMTTYPE=image/svg+xml:https://meetings.greysheet.org/wp-content/uploads/2025/05/phone.svg
LOCATION:Phone Number: 712 432 5229, PIN: Phone Bridge
END:VEVENT
BEGIN:VEVENT
DTSTART;TZID=America/New_York:20251225T070000
DTEND;TZID=America/New_York:20251225T083000
DTSTAMP:20260421T090300
CREATED:20250503T164142Z
LAST-MODIFIED:20251117T232953Z
UID:10054737-1766646000-1766651400@meetings.greysheet.org
SUMMARY:Qualification THU 0700
DESCRIPTION:This is a GreySheet Qualification meeting. The Speaker will qualify for approximately 15 to 20 minutes on their Experience\, Strength\, and Hope related to GreySheet abstinence.
URL:https://meetings.greysheet.org/meeting/pbig-thu-0700/2025-12-25
CATEGORIES:Telephone or Audio
ATTACH;FMTTYPE=image/svg+xml:https://meetings.greysheet.org/wp-content/uploads/2025/05/phone.svg
LOCATION:Phone Number: 712 432 5229, PIN: Phone Bridge
END:VEVENT
BEGIN:VEVENT
DTSTART;TZID=America/New_York:20251218T070000
DTEND;TZID=America/New_York:20251218T083000
DTSTAMP:20260421T090300
CREATED:20250503T164142Z
LAST-MODIFIED:20251117T232953Z
UID:10054736-1766041200-1766046600@meetings.greysheet.org
SUMMARY:Qualification THU 0700
DESCRIPTION:This is a GreySheet Qualification meeting. The Speaker will qualify for approximately 15 to 20 minutes on their Experience\, Strength\, and Hope related to GreySheet abstinence.
URL:https://meetings.greysheet.org/meeting/pbig-thu-0700/2025-12-18
CATEGORIES:Telephone or Audio
ATTACH;FMTTYPE=image/svg+xml:https://meetings.greysheet.org/wp-content/uploads/2025/05/phone.svg
LOCATION:Phone Number: 712 432 5229, PIN: Phone Bridge
END:VEVENT
BEGIN:VEVENT
DTSTART;TZID=America/New_York:20251211T070000
DTEND;TZID=America/New_York:20251211T083000
DTSTAMP:20260421T090300
CREATED:20250503T164142Z
LAST-MODIFIED:20251117T232953Z
UID:10054735-1765436400-1765441800@meetings.greysheet.org
SUMMARY:Qualification THU 0700
DESCRIPTION:This is a GreySheet Qualification meeting. The Speaker will qualify for approximately 15 to 20 minutes on their Experience\, Strength\, and Hope related to GreySheet abstinence.
URL:https://meetings.greysheet.org/meeting/pbig-thu-0700/2025-12-11
CATEGORIES:Telephone or Audio
ATTACH;FMTTYPE=image/svg+xml:https://meetings.greysheet.org/wp-content/uploads/2025/05/phone.svg
LOCATION:Phone Number: 712 432 5229, PIN: Phone Bridge
END:VEVENT
BEGIN:VEVENT
DTSTART;TZID=America/New_York:20251204T070000
DTEND;TZID=America/New_York:20251204T083000
DTSTAMP:20260421T090300
CREATED:20250503T164142Z
LAST-MODIFIED:20251117T232953Z
UID:10054734-1764831600-1764837000@meetings.greysheet.org
SUMMARY:Qualification THU 0700
DESCRIPTION:This is a GreySheet Qualification meeting. The Speaker will qualify for approximately 15 to 20 minutes on their Experience\, Strength\, and Hope related to GreySheet abstinence.
URL:https://meetings.greysheet.org/meeting/pbig-thu-0700/2025-12-04
CATEGORIES:Telephone or Audio
ATTACH;FMTTYPE=image/svg+xml:https://meetings.greysheet.org/wp-content/uploads/2025/05/phone.svg
LOCATION:Phone Number: 712 432 5229, PIN: Phone Bridge
END:VEVENT
BEGIN:VEVENT
DTSTART;TZID=America/New_York:20251127T070000
DTEND;TZID=America/New_York:20251127T083000
DTSTAMP:20260421T090300
CREATED:20250503T164142Z
LAST-MODIFIED:20251117T232953Z
UID:10054733-1764226800-1764232200@meetings.greysheet.org
SUMMARY:Qualification THU 0700
DESCRIPTION:This is a GreySheet Qualification meeting. The Speaker will qualify for approximately 15 to 20 minutes on their Experience\, Strength\, and Hope related to GreySheet abstinence.
URL:https://meetings.greysheet.org/meeting/pbig-thu-0700/2025-11-27
CATEGORIES:Telephone or Audio
ATTACH;FMTTYPE=image/svg+xml:https://meetings.greysheet.org/wp-content/uploads/2025/05/phone.svg
LOCATION:Phone Number: 712 432 5229, PIN: Phone Bridge
END:VEVENT
BEGIN:VEVENT
DTSTART;TZID=America/New_York:20251120T070000
DTEND;TZID=America/New_York:20251120T083000
DTSTAMP:20260421T090300
CREATED:20250503T164142Z
LAST-MODIFIED:20251117T232953Z
UID:10054732-1763622000-1763627400@meetings.greysheet.org
SUMMARY:Qualification THU 0700
DESCRIPTION:This is a GreySheet Qualification meeting. The Speaker will qualify for approximately 15 to 20 minutes on their Experience\, Strength\, and Hope related to GreySheet abstinence.
URL:https://meetings.greysheet.org/meeting/pbig-thu-0700/2025-11-20
CATEGORIES:Telephone or Audio
ATTACH;FMTTYPE=image/svg+xml:https://meetings.greysheet.org/wp-content/uploads/2025/05/phone.svg
LOCATION:Phone Number: 712 432 5229, PIN: Phone Bridge
END:VEVENT
BEGIN:VEVENT
DTSTART;TZID=America/New_York:20251113T070000
DTEND;TZID=America/New_York:20251113T083000
DTSTAMP:20260421T090300
CREATED:20250503T164142Z
LAST-MODIFIED:20251117T232953Z
UID:10054731-1763017200-1763022600@meetings.greysheet.org
SUMMARY:Qualification THU 0700
DESCRIPTION:This is a GreySheet Qualification meeting. The Speaker will qualify for approximately 15 to 20 minutes on their Experience\, Strength\, and Hope related to GreySheet abstinence.
URL:https://meetings.greysheet.org/meeting/pbig-thu-0700/2025-11-13
CATEGORIES:Telephone or Audio
ATTACH;FMTTYPE=image/svg+xml:https://meetings.greysheet.org/wp-content/uploads/2025/05/phone.svg
LOCATION:Phone Number: 712 432 5229, PIN: Phone Bridge
END:VEVENT
BEGIN:VEVENT
DTSTART;TZID=America/New_York:20251106T070000
DTEND;TZID=America/New_York:20251106T083000
DTSTAMP:20260421T090300
CREATED:20250503T164142Z
LAST-MODIFIED:20251117T232953Z
UID:10054730-1762412400-1762417800@meetings.greysheet.org
SUMMARY:Qualification THU 0700
DESCRIPTION:This is a GreySheet Qualification meeting. The Speaker will qualify for approximately 15 to 20 minutes on their Experience\, Strength\, and Hope related to GreySheet abstinence.
URL:https://meetings.greysheet.org/meeting/pbig-thu-0700/2025-11-06
CATEGORIES:Telephone or Audio
ATTACH;FMTTYPE=image/svg+xml:https://meetings.greysheet.org/wp-content/uploads/2025/05/phone.svg
LOCATION:Phone Number: 712 432 5229, PIN: Phone Bridge
END:VEVENT
BEGIN:VEVENT
DTSTART;TZID=America/New_York:20251030T070000
DTEND;TZID=America/New_York:20251030T083000
DTSTAMP:20260421T090300
CREATED:20250503T164142Z
LAST-MODIFIED:20251117T232953Z
UID:10054729-1761807600-1761813000@meetings.greysheet.org
SUMMARY:Qualification THU 0700
DESCRIPTION:This is a GreySheet Qualification meeting. The Speaker will qualify for approximately 15 to 20 minutes on their Experience\, Strength\, and Hope related to GreySheet abstinence.
URL:https://meetings.greysheet.org/meeting/pbig-thu-0700/2025-10-30
CATEGORIES:Telephone or Audio
ATTACH;FMTTYPE=image/svg+xml:https://meetings.greysheet.org/wp-content/uploads/2025/05/phone.svg
LOCATION:Phone Number: 712 432 5229, PIN: Phone Bridge
END:VEVENT
BEGIN:VEVENT
DTSTART;TZID=America/New_York:20251023T070000
DTEND;TZID=America/New_York:20251023T083000
DTSTAMP:20260421T090300
CREATED:20250503T164142Z
LAST-MODIFIED:20251117T232953Z
UID:10054728-1761202800-1761208200@meetings.greysheet.org
SUMMARY:Qualification THU 0700
DESCRIPTION:This is a GreySheet Qualification meeting. The Speaker will qualify for approximately 15 to 20 minutes on their Experience\, Strength\, and Hope related to GreySheet abstinence.
URL:https://meetings.greysheet.org/meeting/pbig-thu-0700/2025-10-23
CATEGORIES:Telephone or Audio
ATTACH;FMTTYPE=image/svg+xml:https://meetings.greysheet.org/wp-content/uploads/2025/05/phone.svg
LOCATION:Phone Number: 712 432 5229, PIN: Phone Bridge
END:VEVENT
BEGIN:VEVENT
DTSTART;TZID=America/New_York:20251016T070000
DTEND;TZID=America/New_York:20251016T083000
DTSTAMP:20260421T090300
CREATED:20250503T164142Z
LAST-MODIFIED:20251117T232953Z
UID:10054727-1760598000-1760603400@meetings.greysheet.org
SUMMARY:Qualification THU 0700
DESCRIPTION:This is a GreySheet Qualification meeting. The Speaker will qualify for approximately 15 to 20 minutes on their Experience\, Strength\, and Hope related to GreySheet abstinence.
URL:https://meetings.greysheet.org/meeting/pbig-thu-0700/2025-10-16
CATEGORIES:Telephone or Audio
ATTACH;FMTTYPE=image/svg+xml:https://meetings.greysheet.org/wp-content/uploads/2025/05/phone.svg
LOCATION:Phone Number: 712 432 5229, PIN: Phone Bridge
END:VEVENT
BEGIN:VEVENT
DTSTART;TZID=America/New_York:20251009T070000
DTEND;TZID=America/New_York:20251009T083000
DTSTAMP:20260421T090300
CREATED:20250503T164142Z
LAST-MODIFIED:20251117T232953Z
UID:10054726-1759993200-1759998600@meetings.greysheet.org
SUMMARY:Qualification THU 0700
DESCRIPTION:This is a GreySheet Qualification meeting. The Speaker will qualify for approximately 15 to 20 minutes on their Experience\, Strength\, and Hope related to GreySheet abstinence.
URL:https://meetings.greysheet.org/meeting/pbig-thu-0700/2025-10-09
CATEGORIES:Telephone or Audio
ATTACH;FMTTYPE=image/svg+xml:https://meetings.greysheet.org/wp-content/uploads/2025/05/phone.svg
LOCATION:Phone Number: 712 432 5229, PIN: Phone Bridge
END:VEVENT
BEGIN:VEVENT
DTSTART;TZID=America/New_York:20251002T070000
DTEND;TZID=America/New_York:20251002T083000
DTSTAMP:20260421T090300
CREATED:20250503T164142Z
LAST-MODIFIED:20251117T232953Z
UID:10054725-1759388400-1759393800@meetings.greysheet.org
SUMMARY:Qualification THU 0700
DESCRIPTION:This is a GreySheet Qualification meeting. The Speaker will qualify for approximately 15 to 20 minutes on their Experience\, Strength\, and Hope related to GreySheet abstinence.
URL:https://meetings.greysheet.org/meeting/pbig-thu-0700/2025-10-02
CATEGORIES:Telephone or Audio
ATTACH;FMTTYPE=image/svg+xml:https://meetings.greysheet.org/wp-content/uploads/2025/05/phone.svg
LOCATION:Phone Number: 712 432 5229, PIN: Phone Bridge
END:VEVENT
BEGIN:VEVENT
DTSTART;TZID=America/New_York:20250925T070000
DTEND;TZID=America/New_York:20250925T083000
DTSTAMP:20260421T090300
CREATED:20250503T164142Z
LAST-MODIFIED:20251117T232953Z
UID:10054724-1758783600-1758789000@meetings.greysheet.org
SUMMARY:Qualification THU 0700
DESCRIPTION:This is a GreySheet Qualification meeting. The Speaker will qualify for approximately 15 to 20 minutes on their Experience\, Strength\, and Hope related to GreySheet abstinence.
URL:https://meetings.greysheet.org/meeting/pbig-thu-0700/2025-09-25
CATEGORIES:Telephone or Audio
ATTACH;FMTTYPE=image/svg+xml:https://meetings.greysheet.org/wp-content/uploads/2025/05/phone.svg
LOCATION:Phone Number: 712 432 5229, PIN: Phone Bridge
END:VEVENT
END:VCALENDAR