BEGIN:VCALENDAR
VERSION:2.0
PRODID:-//GreySheeters Anonymous World Services - ECPv6.15.20//NONSGML v1.0//EN
CALSCALE:GREGORIAN
METHOD:PUBLISH
X-WR-CALNAME:GreySheeters Anonymous World Services
X-ORIGINAL-URL:https://meetings.greysheet.org
X-WR-CALDESC:Events for GreySheeters Anonymous World Services
REFRESH-INTERVAL;VALUE=DURATION:PT1H
X-Robots-Tag:noindex
X-PUBLISHED-TTL:PT1H
BEGIN:VTIMEZONE
TZID:America/New_York
BEGIN:DAYLIGHT
TZOFFSETFROM:-0500
TZOFFSETTO:-0400
TZNAME:EDT
DTSTART:20260308T070000
END:DAYLIGHT
BEGIN:STANDARD
TZOFFSETFROM:-0400
TZOFFSETTO:-0500
TZNAME:EST
DTSTART:20261101T060000
END:STANDARD
BEGIN:DAYLIGHT
TZOFFSETFROM:-0500
TZOFFSETTO:-0400
TZNAME:EDT
DTSTART:20270314T070000
END:DAYLIGHT
BEGIN:STANDARD
TZOFFSETFROM:-0400
TZOFFSETTO:-0500
TZNAME:EST
DTSTART:20271107T060000
END:STANDARD
BEGIN:DAYLIGHT
TZOFFSETFROM:-0500
TZOFFSETTO:-0400
TZNAME:EDT
DTSTART:20280312T070000
END:DAYLIGHT
BEGIN:STANDARD
TZOFFSETFROM:-0400
TZOFFSETTO:-0500
TZNAME:EST
DTSTART:20281105T060000
END:STANDARD
END:VTIMEZONE
BEGIN:VEVENT
DTSTART;TZID=America/New_York:20270104T173000
DTEND;TZID=America/New_York:20270104T183000
DTSTAMP:20260422T131254
CREATED:20250503T164132Z
LAST-MODIFIED:20260306T214658Z
UID:10058350-1799083800-1799087400@meetings.greysheet.org
SUMMARY:Living Abstinent MON 1730
DESCRIPTION:Reading and sharing on the book Living Abstinent.
URL:https://meetings.greysheet.org/meeting/living-abstinent/2027-01-04
CATEGORIES:Telephone or Audio
ATTACH;FMTTYPE=image/svg+xml:https://meetings.greysheet.org/wp-content/uploads/2025/05/phone.svg
LOCATION:Phone Number: 712 432 5229, PIN: Phone Bridge
END:VEVENT
BEGIN:VEVENT
DTSTART;TZID=America/New_York:20270111T173000
DTEND;TZID=America/New_York:20270111T183000
DTSTAMP:20260422T131254
CREATED:20250503T164132Z
LAST-MODIFIED:20260306T214658Z
UID:10058351-1799688600-1799692200@meetings.greysheet.org
SUMMARY:Living Abstinent MON 1730
DESCRIPTION:Reading and sharing on the book Living Abstinent.
URL:https://meetings.greysheet.org/meeting/living-abstinent/2027-01-11
CATEGORIES:Telephone or Audio
ATTACH;FMTTYPE=image/svg+xml:https://meetings.greysheet.org/wp-content/uploads/2025/05/phone.svg
LOCATION:Phone Number: 712 432 5229, PIN: Phone Bridge
END:VEVENT
BEGIN:VEVENT
DTSTART;TZID=America/New_York:20270118T173000
DTEND;TZID=America/New_York:20270118T183000
DTSTAMP:20260422T131254
CREATED:20250503T164132Z
LAST-MODIFIED:20260306T214658Z
UID:10058352-1800293400-1800297000@meetings.greysheet.org
SUMMARY:Living Abstinent MON 1730
DESCRIPTION:Reading and sharing on the book Living Abstinent.
URL:https://meetings.greysheet.org/meeting/living-abstinent/2027-01-18
CATEGORIES:Telephone or Audio
ATTACH;FMTTYPE=image/svg+xml:https://meetings.greysheet.org/wp-content/uploads/2025/05/phone.svg
LOCATION:Phone Number: 712 432 5229, PIN: Phone Bridge
END:VEVENT
BEGIN:VEVENT
DTSTART;TZID=America/New_York:20270125T173000
DTEND;TZID=America/New_York:20270125T183000
DTSTAMP:20260422T131254
CREATED:20250503T164132Z
LAST-MODIFIED:20260306T214658Z
UID:10058353-1800898200-1800901800@meetings.greysheet.org
SUMMARY:Living Abstinent MON 1730
DESCRIPTION:Reading and sharing on the book Living Abstinent.
URL:https://meetings.greysheet.org/meeting/living-abstinent/2027-01-25
CATEGORIES:Telephone or Audio
ATTACH;FMTTYPE=image/svg+xml:https://meetings.greysheet.org/wp-content/uploads/2025/05/phone.svg
LOCATION:Phone Number: 712 432 5229, PIN: Phone Bridge
END:VEVENT
BEGIN:VEVENT
DTSTART;TZID=America/New_York:20270201T173000
DTEND;TZID=America/New_York:20270201T183000
DTSTAMP:20260422T131254
CREATED:20250503T164132Z
LAST-MODIFIED:20260306T214658Z
UID:10058354-1801503000-1801506600@meetings.greysheet.org
SUMMARY:Living Abstinent MON 1730
DESCRIPTION:Reading and sharing on the book Living Abstinent.
URL:https://meetings.greysheet.org/meeting/living-abstinent/2027-02-01
CATEGORIES:Telephone or Audio
ATTACH;FMTTYPE=image/svg+xml:https://meetings.greysheet.org/wp-content/uploads/2025/05/phone.svg
LOCATION:Phone Number: 712 432 5229, PIN: Phone Bridge
END:VEVENT
BEGIN:VEVENT
DTSTART;TZID=America/New_York:20270208T173000
DTEND;TZID=America/New_York:20270208T183000
DTSTAMP:20260422T131254
CREATED:20250503T164132Z
LAST-MODIFIED:20260306T214658Z
UID:10058355-1802107800-1802111400@meetings.greysheet.org
SUMMARY:Living Abstinent MON 1730
DESCRIPTION:Reading and sharing on the book Living Abstinent.
URL:https://meetings.greysheet.org/meeting/living-abstinent/2027-02-08
CATEGORIES:Telephone or Audio
ATTACH;FMTTYPE=image/svg+xml:https://meetings.greysheet.org/wp-content/uploads/2025/05/phone.svg
LOCATION:Phone Number: 712 432 5229, PIN: Phone Bridge
END:VEVENT
BEGIN:VEVENT
DTSTART;TZID=America/New_York:20270215T173000
DTEND;TZID=America/New_York:20270215T183000
DTSTAMP:20260422T131254
CREATED:20250503T164132Z
LAST-MODIFIED:20260306T214658Z
UID:10058356-1802712600-1802716200@meetings.greysheet.org
SUMMARY:Living Abstinent MON 1730
DESCRIPTION:Reading and sharing on the book Living Abstinent.
URL:https://meetings.greysheet.org/meeting/living-abstinent/2027-02-15
CATEGORIES:Telephone or Audio
ATTACH;FMTTYPE=image/svg+xml:https://meetings.greysheet.org/wp-content/uploads/2025/05/phone.svg
LOCATION:Phone Number: 712 432 5229, PIN: Phone Bridge
END:VEVENT
BEGIN:VEVENT
DTSTART;TZID=America/New_York:20270222T173000
DTEND;TZID=America/New_York:20270222T183000
DTSTAMP:20260422T131254
CREATED:20250503T164132Z
LAST-MODIFIED:20260306T214658Z
UID:10058357-1803317400-1803321000@meetings.greysheet.org
SUMMARY:Living Abstinent MON 1730
DESCRIPTION:Reading and sharing on the book Living Abstinent.
URL:https://meetings.greysheet.org/meeting/living-abstinent/2027-02-22
CATEGORIES:Telephone or Audio
ATTACH;FMTTYPE=image/svg+xml:https://meetings.greysheet.org/wp-content/uploads/2025/05/phone.svg
LOCATION:Phone Number: 712 432 5229, PIN: Phone Bridge
END:VEVENT
BEGIN:VEVENT
DTSTART;TZID=America/New_York:20270301T173000
DTEND;TZID=America/New_York:20270301T183000
DTSTAMP:20260422T131254
CREATED:20250503T164132Z
LAST-MODIFIED:20260306T214658Z
UID:10058358-1803922200-1803925800@meetings.greysheet.org
SUMMARY:Living Abstinent MON 1730
DESCRIPTION:Reading and sharing on the book Living Abstinent.
URL:https://meetings.greysheet.org/meeting/living-abstinent/2027-03-01
CATEGORIES:Telephone or Audio
ATTACH;FMTTYPE=image/svg+xml:https://meetings.greysheet.org/wp-content/uploads/2025/05/phone.svg
LOCATION:Phone Number: 712 432 5229, PIN: Phone Bridge
END:VEVENT
BEGIN:VEVENT
DTSTART;TZID=America/New_York:20270308T173000
DTEND;TZID=America/New_York:20270308T183000
DTSTAMP:20260422T131254
CREATED:20250503T164132Z
LAST-MODIFIED:20260306T214658Z
UID:10058359-1804527000-1804530600@meetings.greysheet.org
SUMMARY:Living Abstinent MON 1730
DESCRIPTION:Reading and sharing on the book Living Abstinent.
URL:https://meetings.greysheet.org/meeting/living-abstinent/2027-03-08
CATEGORIES:Telephone or Audio
ATTACH;FMTTYPE=image/svg+xml:https://meetings.greysheet.org/wp-content/uploads/2025/05/phone.svg
LOCATION:Phone Number: 712 432 5229, PIN: Phone Bridge
END:VEVENT
BEGIN:VEVENT
DTSTART;TZID=America/New_York:20270315T173000
DTEND;TZID=America/New_York:20270315T183000
DTSTAMP:20260422T131254
CREATED:20250503T164132Z
LAST-MODIFIED:20260306T214658Z
UID:10058360-1805131800-1805135400@meetings.greysheet.org
SUMMARY:Living Abstinent MON 1730
DESCRIPTION:Reading and sharing on the book Living Abstinent.
URL:https://meetings.greysheet.org/meeting/living-abstinent/2027-03-15
CATEGORIES:Telephone or Audio
ATTACH;FMTTYPE=image/svg+xml:https://meetings.greysheet.org/wp-content/uploads/2025/05/phone.svg
LOCATION:Phone Number: 712 432 5229, PIN: Phone Bridge
END:VEVENT
BEGIN:VEVENT
DTSTART;TZID=America/New_York:20270322T173000
DTEND;TZID=America/New_York:20270322T183000
DTSTAMP:20260422T131254
CREATED:20250503T164132Z
LAST-MODIFIED:20260306T214658Z
UID:10058361-1805736600-1805740200@meetings.greysheet.org
SUMMARY:Living Abstinent MON 1730
DESCRIPTION:Reading and sharing on the book Living Abstinent.
URL:https://meetings.greysheet.org/meeting/living-abstinent/2027-03-22
CATEGORIES:Telephone or Audio
ATTACH;FMTTYPE=image/svg+xml:https://meetings.greysheet.org/wp-content/uploads/2025/05/phone.svg
LOCATION:Phone Number: 712 432 5229, PIN: Phone Bridge
END:VEVENT
BEGIN:VEVENT
DTSTART;TZID=America/New_York:20270329T173000
DTEND;TZID=America/New_York:20270329T183000
DTSTAMP:20260422T131254
CREATED:20250503T164132Z
LAST-MODIFIED:20260306T214658Z
UID:10058362-1806341400-1806345000@meetings.greysheet.org
SUMMARY:Living Abstinent MON 1730
DESCRIPTION:Reading and sharing on the book Living Abstinent.
URL:https://meetings.greysheet.org/meeting/living-abstinent/2027-03-29
CATEGORIES:Telephone or Audio
ATTACH;FMTTYPE=image/svg+xml:https://meetings.greysheet.org/wp-content/uploads/2025/05/phone.svg
LOCATION:Phone Number: 712 432 5229, PIN: Phone Bridge
END:VEVENT
BEGIN:VEVENT
DTSTART;TZID=America/New_York:20270405T173000
DTEND;TZID=America/New_York:20270405T183000
DTSTAMP:20260422T131254
CREATED:20250503T164132Z
LAST-MODIFIED:20260306T214658Z
UID:10058363-1806946200-1806949800@meetings.greysheet.org
SUMMARY:Living Abstinent MON 1730
DESCRIPTION:Reading and sharing on the book Living Abstinent.
URL:https://meetings.greysheet.org/meeting/living-abstinent/2027-04-05
CATEGORIES:Telephone or Audio
ATTACH;FMTTYPE=image/svg+xml:https://meetings.greysheet.org/wp-content/uploads/2025/05/phone.svg
LOCATION:Phone Number: 712 432 5229, PIN: Phone Bridge
END:VEVENT
BEGIN:VEVENT
DTSTART;TZID=America/New_York:20270412T173000
DTEND;TZID=America/New_York:20270412T183000
DTSTAMP:20260422T131254
CREATED:20250503T164132Z
LAST-MODIFIED:20260306T214658Z
UID:10058364-1807551000-1807554600@meetings.greysheet.org
SUMMARY:Living Abstinent MON 1730
DESCRIPTION:Reading and sharing on the book Living Abstinent.
URL:https://meetings.greysheet.org/meeting/living-abstinent/2027-04-12
CATEGORIES:Telephone or Audio
ATTACH;FMTTYPE=image/svg+xml:https://meetings.greysheet.org/wp-content/uploads/2025/05/phone.svg
LOCATION:Phone Number: 712 432 5229, PIN: Phone Bridge
END:VEVENT
BEGIN:VEVENT
DTSTART;TZID=America/New_York:20270419T173000
DTEND;TZID=America/New_York:20270419T183000
DTSTAMP:20260422T131254
CREATED:20250503T164132Z
LAST-MODIFIED:20260306T214658Z
UID:10058365-1808155800-1808159400@meetings.greysheet.org
SUMMARY:Living Abstinent MON 1730
DESCRIPTION:Reading and sharing on the book Living Abstinent.
URL:https://meetings.greysheet.org/meeting/living-abstinent/2027-04-19
CATEGORIES:Telephone or Audio
ATTACH;FMTTYPE=image/svg+xml:https://meetings.greysheet.org/wp-content/uploads/2025/05/phone.svg
LOCATION:Phone Number: 712 432 5229, PIN: Phone Bridge
END:VEVENT
BEGIN:VEVENT
DTSTART;TZID=America/New_York:20270426T173000
DTEND;TZID=America/New_York:20270426T183000
DTSTAMP:20260422T131254
CREATED:20250503T164132Z
LAST-MODIFIED:20260306T214658Z
UID:10058366-1808760600-1808764200@meetings.greysheet.org
SUMMARY:Living Abstinent MON 1730
DESCRIPTION:Reading and sharing on the book Living Abstinent.
URL:https://meetings.greysheet.org/meeting/living-abstinent/2027-04-26
CATEGORIES:Telephone or Audio
ATTACH;FMTTYPE=image/svg+xml:https://meetings.greysheet.org/wp-content/uploads/2025/05/phone.svg
LOCATION:Phone Number: 712 432 5229, PIN: Phone Bridge
END:VEVENT
BEGIN:VEVENT
DTSTART;TZID=America/New_York:20270503T173000
DTEND;TZID=America/New_York:20270503T183000
DTSTAMP:20260422T131254
CREATED:20250503T164132Z
LAST-MODIFIED:20260306T214658Z
UID:10058367-1809365400-1809369000@meetings.greysheet.org
SUMMARY:Living Abstinent MON 1730
DESCRIPTION:Reading and sharing on the book Living Abstinent.
URL:https://meetings.greysheet.org/meeting/living-abstinent/2027-05-03
CATEGORIES:Telephone or Audio
ATTACH;FMTTYPE=image/svg+xml:https://meetings.greysheet.org/wp-content/uploads/2025/05/phone.svg
LOCATION:Phone Number: 712 432 5229, PIN: Phone Bridge
END:VEVENT
BEGIN:VEVENT
DTSTART;TZID=America/New_York:20270510T173000
DTEND;TZID=America/New_York:20270510T183000
DTSTAMP:20260422T131254
CREATED:20250503T164132Z
LAST-MODIFIED:20260306T214658Z
UID:10058368-1809970200-1809973800@meetings.greysheet.org
SUMMARY:Living Abstinent MON 1730
DESCRIPTION:Reading and sharing on the book Living Abstinent.
URL:https://meetings.greysheet.org/meeting/living-abstinent/2027-05-10
CATEGORIES:Telephone or Audio
ATTACH;FMTTYPE=image/svg+xml:https://meetings.greysheet.org/wp-content/uploads/2025/05/phone.svg
LOCATION:Phone Number: 712 432 5229, PIN: Phone Bridge
END:VEVENT
BEGIN:VEVENT
DTSTART;TZID=America/New_York:20270517T173000
DTEND;TZID=America/New_York:20270517T183000
DTSTAMP:20260422T131254
CREATED:20250503T164132Z
LAST-MODIFIED:20260306T214658Z
UID:10058369-1810575000-1810578600@meetings.greysheet.org
SUMMARY:Living Abstinent MON 1730
DESCRIPTION:Reading and sharing on the book Living Abstinent.
URL:https://meetings.greysheet.org/meeting/living-abstinent/2027-05-17
CATEGORIES:Telephone or Audio
ATTACH;FMTTYPE=image/svg+xml:https://meetings.greysheet.org/wp-content/uploads/2025/05/phone.svg
LOCATION:Phone Number: 712 432 5229, PIN: Phone Bridge
END:VEVENT
BEGIN:VEVENT
DTSTART;TZID=America/New_York:20270524T173000
DTEND;TZID=America/New_York:20270524T183000
DTSTAMP:20260422T131254
CREATED:20250503T164132Z
LAST-MODIFIED:20260306T214658Z
UID:10058370-1811179800-1811183400@meetings.greysheet.org
SUMMARY:Living Abstinent MON 1730
DESCRIPTION:Reading and sharing on the book Living Abstinent.
URL:https://meetings.greysheet.org/meeting/living-abstinent/2027-05-24
CATEGORIES:Telephone or Audio
ATTACH;FMTTYPE=image/svg+xml:https://meetings.greysheet.org/wp-content/uploads/2025/05/phone.svg
LOCATION:Phone Number: 712 432 5229, PIN: Phone Bridge
END:VEVENT
BEGIN:VEVENT
DTSTART;TZID=America/New_York:20270531T173000
DTEND;TZID=America/New_York:20270531T183000
DTSTAMP:20260422T131254
CREATED:20250503T164132Z
LAST-MODIFIED:20260306T214658Z
UID:10058371-1811784600-1811788200@meetings.greysheet.org
SUMMARY:Living Abstinent MON 1730
DESCRIPTION:Reading and sharing on the book Living Abstinent.
URL:https://meetings.greysheet.org/meeting/living-abstinent/2027-05-31
CATEGORIES:Telephone or Audio
ATTACH;FMTTYPE=image/svg+xml:https://meetings.greysheet.org/wp-content/uploads/2025/05/phone.svg
LOCATION:Phone Number: 712 432 5229, PIN: Phone Bridge
END:VEVENT
BEGIN:VEVENT
DTSTART;TZID=America/New_York:20270607T173000
DTEND;TZID=America/New_York:20270607T183000
DTSTAMP:20260422T131254
CREATED:20250503T164132Z
LAST-MODIFIED:20260306T214658Z
UID:10058372-1812389400-1812393000@meetings.greysheet.org
SUMMARY:Living Abstinent MON 1730
DESCRIPTION:Reading and sharing on the book Living Abstinent.
URL:https://meetings.greysheet.org/meeting/living-abstinent/2027-06-07
CATEGORIES:Telephone or Audio
ATTACH;FMTTYPE=image/svg+xml:https://meetings.greysheet.org/wp-content/uploads/2025/05/phone.svg
LOCATION:Phone Number: 712 432 5229, PIN: Phone Bridge
END:VEVENT
BEGIN:VEVENT
DTSTART;TZID=America/New_York:20270614T173000
DTEND;TZID=America/New_York:20270614T183000
DTSTAMP:20260422T131254
CREATED:20250503T164132Z
LAST-MODIFIED:20260306T214658Z
UID:10058373-1812994200-1812997800@meetings.greysheet.org
SUMMARY:Living Abstinent MON 1730
DESCRIPTION:Reading and sharing on the book Living Abstinent.
URL:https://meetings.greysheet.org/meeting/living-abstinent/2027-06-14
CATEGORIES:Telephone or Audio
ATTACH;FMTTYPE=image/svg+xml:https://meetings.greysheet.org/wp-content/uploads/2025/05/phone.svg
LOCATION:Phone Number: 712 432 5229, PIN: Phone Bridge
END:VEVENT
BEGIN:VEVENT
DTSTART;TZID=America/New_York:20270621T173000
DTEND;TZID=America/New_York:20270621T183000
DTSTAMP:20260422T131254
CREATED:20250503T164132Z
LAST-MODIFIED:20260306T214658Z
UID:10058374-1813599000-1813602600@meetings.greysheet.org
SUMMARY:Living Abstinent MON 1730
DESCRIPTION:Reading and sharing on the book Living Abstinent.
URL:https://meetings.greysheet.org/meeting/living-abstinent/2027-06-21
CATEGORIES:Telephone or Audio
ATTACH;FMTTYPE=image/svg+xml:https://meetings.greysheet.org/wp-content/uploads/2025/05/phone.svg
LOCATION:Phone Number: 712 432 5229, PIN: Phone Bridge
END:VEVENT
BEGIN:VEVENT
DTSTART;TZID=America/New_York:20270628T173000
DTEND;TZID=America/New_York:20270628T183000
DTSTAMP:20260422T131254
CREATED:20250503T164132Z
LAST-MODIFIED:20260306T214658Z
UID:10058375-1814203800-1814207400@meetings.greysheet.org
SUMMARY:Living Abstinent MON 1730
DESCRIPTION:Reading and sharing on the book Living Abstinent.
URL:https://meetings.greysheet.org/meeting/living-abstinent/2027-06-28
CATEGORIES:Telephone or Audio
ATTACH;FMTTYPE=image/svg+xml:https://meetings.greysheet.org/wp-content/uploads/2025/05/phone.svg
LOCATION:Phone Number: 712 432 5229, PIN: Phone Bridge
END:VEVENT
BEGIN:VEVENT
DTSTART;TZID=America/New_York:20270705T173000
DTEND;TZID=America/New_York:20270705T183000
DTSTAMP:20260422T131254
CREATED:20250503T164132Z
LAST-MODIFIED:20260306T214658Z
UID:10058376-1814808600-1814812200@meetings.greysheet.org
SUMMARY:Living Abstinent MON 1730
DESCRIPTION:Reading and sharing on the book Living Abstinent.
URL:https://meetings.greysheet.org/meeting/living-abstinent/2027-07-05
CATEGORIES:Telephone or Audio
ATTACH;FMTTYPE=image/svg+xml:https://meetings.greysheet.org/wp-content/uploads/2025/05/phone.svg
LOCATION:Phone Number: 712 432 5229, PIN: Phone Bridge
END:VEVENT
BEGIN:VEVENT
DTSTART;TZID=America/New_York:20270712T173000
DTEND;TZID=America/New_York:20270712T183000
DTSTAMP:20260422T131254
CREATED:20250503T164132Z
LAST-MODIFIED:20260306T214658Z
UID:10058377-1815413400-1815417000@meetings.greysheet.org
SUMMARY:Living Abstinent MON 1730
DESCRIPTION:Reading and sharing on the book Living Abstinent.
URL:https://meetings.greysheet.org/meeting/living-abstinent/2027-07-12
CATEGORIES:Telephone or Audio
ATTACH;FMTTYPE=image/svg+xml:https://meetings.greysheet.org/wp-content/uploads/2025/05/phone.svg
LOCATION:Phone Number: 712 432 5229, PIN: Phone Bridge
END:VEVENT
BEGIN:VEVENT
DTSTART;TZID=America/New_York:20270719T173000
DTEND;TZID=America/New_York:20270719T183000
DTSTAMP:20260422T131254
CREATED:20250503T164132Z
LAST-MODIFIED:20260306T214658Z
UID:10058378-1816018200-1816021800@meetings.greysheet.org
SUMMARY:Living Abstinent MON 1730
DESCRIPTION:Reading and sharing on the book Living Abstinent.
URL:https://meetings.greysheet.org/meeting/living-abstinent/2027-07-19
CATEGORIES:Telephone or Audio
ATTACH;FMTTYPE=image/svg+xml:https://meetings.greysheet.org/wp-content/uploads/2025/05/phone.svg
LOCATION:Phone Number: 712 432 5229, PIN: Phone Bridge
END:VEVENT
BEGIN:VEVENT
DTSTART;TZID=America/New_York:20270726T173000
DTEND;TZID=America/New_York:20270726T183000
DTSTAMP:20260422T131254
CREATED:20250503T164132Z
LAST-MODIFIED:20260306T214658Z
UID:10058379-1816623000-1816626600@meetings.greysheet.org
SUMMARY:Living Abstinent MON 1730
DESCRIPTION:Reading and sharing on the book Living Abstinent.
URL:https://meetings.greysheet.org/meeting/living-abstinent/2027-07-26
CATEGORIES:Telephone or Audio
ATTACH;FMTTYPE=image/svg+xml:https://meetings.greysheet.org/wp-content/uploads/2025/05/phone.svg
LOCATION:Phone Number: 712 432 5229, PIN: Phone Bridge
END:VEVENT
END:VCALENDAR