BEGIN:VCALENDAR
VERSION:2.0
PRODID:-//GreySheeters Anonymous World Services - ECPv6.15.20//NONSGML v1.0//EN
CALSCALE:GREGORIAN
METHOD:PUBLISH
X-WR-CALNAME:GreySheeters Anonymous World Services
X-ORIGINAL-URL:https://meetings.greysheet.org
X-WR-CALDESC:Events for GreySheeters Anonymous World Services
REFRESH-INTERVAL;VALUE=DURATION:PT1H
X-Robots-Tag:noindex
X-PUBLISHED-TTL:PT1H
BEGIN:VTIMEZONE
TZID:America/New_York
BEGIN:DAYLIGHT
TZOFFSETFROM:-0500
TZOFFSETTO:-0400
TZNAME:EDT
DTSTART:20250309T070000
END:DAYLIGHT
BEGIN:STANDARD
TZOFFSETFROM:-0400
TZOFFSETTO:-0500
TZNAME:EST
DTSTART:20251102T060000
END:STANDARD
BEGIN:DAYLIGHT
TZOFFSETFROM:-0500
TZOFFSETTO:-0400
TZNAME:EDT
DTSTART:20260308T070000
END:DAYLIGHT
BEGIN:STANDARD
TZOFFSETFROM:-0400
TZOFFSETTO:-0500
TZNAME:EST
DTSTART:20261101T060000
END:STANDARD
BEGIN:DAYLIGHT
TZOFFSETFROM:-0500
TZOFFSETTO:-0400
TZNAME:EDT
DTSTART:20270314T070000
END:DAYLIGHT
BEGIN:STANDARD
TZOFFSETFROM:-0400
TZOFFSETTO:-0500
TZNAME:EST
DTSTART:20271107T060000
END:STANDARD
BEGIN:DAYLIGHT
TZOFFSETFROM:-0500
TZOFFSETTO:-0400
TZNAME:EDT
DTSTART:20280312T070000
END:DAYLIGHT
BEGIN:STANDARD
TZOFFSETFROM:-0400
TZOFFSETTO:-0500
TZNAME:EST
DTSTART:20281105T060000
END:STANDARD
END:VTIMEZONE
BEGIN:VEVENT
DTSTART;TZID=America/New_York:20261012T070000
DTEND;TZID=America/New_York:20261012T083000
DTSTAMP:20260420T134436
CREATED:20250503T164142Z
LAST-MODIFIED:20260306T221017Z
UID:10059228-1791788400-1791793800@meetings.greysheet.org
SUMMARY:Qualification MON 0700
DESCRIPTION:This is a GreySheet Qualification meeting. The Speaker will qualify for approximately 15 to 20 minutes on their Experience\, Strength\, and Hope related to GreySheet abstinence.
URL:https://meetings.greysheet.org/meeting/pbig-mon-0700/2026-10-12
CATEGORIES:Telephone or Audio
ATTACH;FMTTYPE=image/svg+xml:https://meetings.greysheet.org/wp-content/uploads/2025/05/phone.svg
LOCATION:Phone Number: 712 432 5229, PIN: Phone Bridge
END:VEVENT
BEGIN:VEVENT
DTSTART;TZID=America/New_York:20261019T070000
DTEND;TZID=America/New_York:20261019T083000
DTSTAMP:20260420T134436
CREATED:20250503T164142Z
LAST-MODIFIED:20260306T221017Z
UID:10059229-1792393200-1792398600@meetings.greysheet.org
SUMMARY:Qualification MON 0700
DESCRIPTION:This is a GreySheet Qualification meeting. The Speaker will qualify for approximately 15 to 20 minutes on their Experience\, Strength\, and Hope related to GreySheet abstinence.
URL:https://meetings.greysheet.org/meeting/pbig-mon-0700/2026-10-19
CATEGORIES:Telephone or Audio
ATTACH;FMTTYPE=image/svg+xml:https://meetings.greysheet.org/wp-content/uploads/2025/05/phone.svg
LOCATION:Phone Number: 712 432 5229, PIN: Phone Bridge
END:VEVENT
BEGIN:VEVENT
DTSTART;TZID=America/New_York:20261026T070000
DTEND;TZID=America/New_York:20261026T083000
DTSTAMP:20260420T134436
CREATED:20250503T164142Z
LAST-MODIFIED:20260306T221017Z
UID:10059230-1792998000-1793003400@meetings.greysheet.org
SUMMARY:Qualification MON 0700
DESCRIPTION:This is a GreySheet Qualification meeting. The Speaker will qualify for approximately 15 to 20 minutes on their Experience\, Strength\, and Hope related to GreySheet abstinence.
URL:https://meetings.greysheet.org/meeting/pbig-mon-0700/2026-10-26
CATEGORIES:Telephone or Audio
ATTACH;FMTTYPE=image/svg+xml:https://meetings.greysheet.org/wp-content/uploads/2025/05/phone.svg
LOCATION:Phone Number: 712 432 5229, PIN: Phone Bridge
END:VEVENT
BEGIN:VEVENT
DTSTART;TZID=America/New_York:20261102T070000
DTEND;TZID=America/New_York:20261102T083000
DTSTAMP:20260420T134436
CREATED:20250503T164142Z
LAST-MODIFIED:20260306T221017Z
UID:10059231-1793602800-1793608200@meetings.greysheet.org
SUMMARY:Qualification MON 0700
DESCRIPTION:This is a GreySheet Qualification meeting. The Speaker will qualify for approximately 15 to 20 minutes on their Experience\, Strength\, and Hope related to GreySheet abstinence.
URL:https://meetings.greysheet.org/meeting/pbig-mon-0700/2026-11-02
CATEGORIES:Telephone or Audio
ATTACH;FMTTYPE=image/svg+xml:https://meetings.greysheet.org/wp-content/uploads/2025/05/phone.svg
LOCATION:Phone Number: 712 432 5229, PIN: Phone Bridge
END:VEVENT
BEGIN:VEVENT
DTSTART;TZID=America/New_York:20261109T070000
DTEND;TZID=America/New_York:20261109T083000
DTSTAMP:20260420T134436
CREATED:20250503T164142Z
LAST-MODIFIED:20260306T221017Z
UID:10059232-1794207600-1794213000@meetings.greysheet.org
SUMMARY:Qualification MON 0700
DESCRIPTION:This is a GreySheet Qualification meeting. The Speaker will qualify for approximately 15 to 20 minutes on their Experience\, Strength\, and Hope related to GreySheet abstinence.
URL:https://meetings.greysheet.org/meeting/pbig-mon-0700/2026-11-09
CATEGORIES:Telephone or Audio
ATTACH;FMTTYPE=image/svg+xml:https://meetings.greysheet.org/wp-content/uploads/2025/05/phone.svg
LOCATION:Phone Number: 712 432 5229, PIN: Phone Bridge
END:VEVENT
BEGIN:VEVENT
DTSTART;TZID=America/New_York:20261116T070000
DTEND;TZID=America/New_York:20261116T083000
DTSTAMP:20260420T134436
CREATED:20250503T164142Z
LAST-MODIFIED:20260306T221017Z
UID:10059233-1794812400-1794817800@meetings.greysheet.org
SUMMARY:Qualification MON 0700
DESCRIPTION:This is a GreySheet Qualification meeting. The Speaker will qualify for approximately 15 to 20 minutes on their Experience\, Strength\, and Hope related to GreySheet abstinence.
URL:https://meetings.greysheet.org/meeting/pbig-mon-0700/2026-11-16
CATEGORIES:Telephone or Audio
ATTACH;FMTTYPE=image/svg+xml:https://meetings.greysheet.org/wp-content/uploads/2025/05/phone.svg
LOCATION:Phone Number: 712 432 5229, PIN: Phone Bridge
END:VEVENT
BEGIN:VEVENT
DTSTART;TZID=America/New_York:20261123T070000
DTEND;TZID=America/New_York:20261123T083000
DTSTAMP:20260420T134436
CREATED:20250503T164142Z
LAST-MODIFIED:20260306T221017Z
UID:10059234-1795417200-1795422600@meetings.greysheet.org
SUMMARY:Qualification MON 0700
DESCRIPTION:This is a GreySheet Qualification meeting. The Speaker will qualify for approximately 15 to 20 minutes on their Experience\, Strength\, and Hope related to GreySheet abstinence.
URL:https://meetings.greysheet.org/meeting/pbig-mon-0700/2026-11-23
CATEGORIES:Telephone or Audio
ATTACH;FMTTYPE=image/svg+xml:https://meetings.greysheet.org/wp-content/uploads/2025/05/phone.svg
LOCATION:Phone Number: 712 432 5229, PIN: Phone Bridge
END:VEVENT
BEGIN:VEVENT
DTSTART;TZID=America/New_York:20261130T070000
DTEND;TZID=America/New_York:20261130T083000
DTSTAMP:20260420T134436
CREATED:20250503T164142Z
LAST-MODIFIED:20260306T221017Z
UID:10059235-1796022000-1796027400@meetings.greysheet.org
SUMMARY:Qualification MON 0700
DESCRIPTION:This is a GreySheet Qualification meeting. The Speaker will qualify for approximately 15 to 20 minutes on their Experience\, Strength\, and Hope related to GreySheet abstinence.
URL:https://meetings.greysheet.org/meeting/pbig-mon-0700/2026-11-30
CATEGORIES:Telephone or Audio
ATTACH;FMTTYPE=image/svg+xml:https://meetings.greysheet.org/wp-content/uploads/2025/05/phone.svg
LOCATION:Phone Number: 712 432 5229, PIN: Phone Bridge
END:VEVENT
BEGIN:VEVENT
DTSTART;TZID=America/New_York:20261207T070000
DTEND;TZID=America/New_York:20261207T083000
DTSTAMP:20260420T134436
CREATED:20250503T164142Z
LAST-MODIFIED:20260306T221017Z
UID:10059236-1796626800-1796632200@meetings.greysheet.org
SUMMARY:Qualification MON 0700
DESCRIPTION:This is a GreySheet Qualification meeting. The Speaker will qualify for approximately 15 to 20 minutes on their Experience\, Strength\, and Hope related to GreySheet abstinence.
URL:https://meetings.greysheet.org/meeting/pbig-mon-0700/2026-12-07
CATEGORIES:Telephone or Audio
ATTACH;FMTTYPE=image/svg+xml:https://meetings.greysheet.org/wp-content/uploads/2025/05/phone.svg
LOCATION:Phone Number: 712 432 5229, PIN: Phone Bridge
END:VEVENT
BEGIN:VEVENT
DTSTART;TZID=America/New_York:20261214T070000
DTEND;TZID=America/New_York:20261214T083000
DTSTAMP:20260420T134436
CREATED:20250503T164142Z
LAST-MODIFIED:20260306T221017Z
UID:10059237-1797231600-1797237000@meetings.greysheet.org
SUMMARY:Qualification MON 0700
DESCRIPTION:This is a GreySheet Qualification meeting. The Speaker will qualify for approximately 15 to 20 minutes on their Experience\, Strength\, and Hope related to GreySheet abstinence.
URL:https://meetings.greysheet.org/meeting/pbig-mon-0700/2026-12-14
CATEGORIES:Telephone or Audio
ATTACH;FMTTYPE=image/svg+xml:https://meetings.greysheet.org/wp-content/uploads/2025/05/phone.svg
LOCATION:Phone Number: 712 432 5229, PIN: Phone Bridge
END:VEVENT
BEGIN:VEVENT
DTSTART;TZID=America/New_York:20261221T070000
DTEND;TZID=America/New_York:20261221T083000
DTSTAMP:20260420T134436
CREATED:20250503T164142Z
LAST-MODIFIED:20260306T221017Z
UID:10059238-1797836400-1797841800@meetings.greysheet.org
SUMMARY:Qualification MON 0700
DESCRIPTION:This is a GreySheet Qualification meeting. The Speaker will qualify for approximately 15 to 20 minutes on their Experience\, Strength\, and Hope related to GreySheet abstinence.
URL:https://meetings.greysheet.org/meeting/pbig-mon-0700/2026-12-21
CATEGORIES:Telephone or Audio
ATTACH;FMTTYPE=image/svg+xml:https://meetings.greysheet.org/wp-content/uploads/2025/05/phone.svg
LOCATION:Phone Number: 712 432 5229, PIN: Phone Bridge
END:VEVENT
BEGIN:VEVENT
DTSTART;TZID=America/New_York:20261228T070000
DTEND;TZID=America/New_York:20261228T083000
DTSTAMP:20260420T134436
CREATED:20250503T164142Z
LAST-MODIFIED:20260306T221017Z
UID:10059239-1798441200-1798446600@meetings.greysheet.org
SUMMARY:Qualification MON 0700
DESCRIPTION:This is a GreySheet Qualification meeting. The Speaker will qualify for approximately 15 to 20 minutes on their Experience\, Strength\, and Hope related to GreySheet abstinence.
URL:https://meetings.greysheet.org/meeting/pbig-mon-0700/2026-12-28
CATEGORIES:Telephone or Audio
ATTACH;FMTTYPE=image/svg+xml:https://meetings.greysheet.org/wp-content/uploads/2025/05/phone.svg
LOCATION:Phone Number: 712 432 5229, PIN: Phone Bridge
END:VEVENT
BEGIN:VEVENT
DTSTART;TZID=America/New_York:20270104T070000
DTEND;TZID=America/New_York:20270104T083000
DTSTAMP:20260420T134436
CREATED:20250503T164142Z
LAST-MODIFIED:20260306T221017Z
UID:10059240-1799046000-1799051400@meetings.greysheet.org
SUMMARY:Qualification MON 0700
DESCRIPTION:This is a GreySheet Qualification meeting. The Speaker will qualify for approximately 15 to 20 minutes on their Experience\, Strength\, and Hope related to GreySheet abstinence.
URL:https://meetings.greysheet.org/meeting/pbig-mon-0700/2027-01-04
CATEGORIES:Telephone or Audio
ATTACH;FMTTYPE=image/svg+xml:https://meetings.greysheet.org/wp-content/uploads/2025/05/phone.svg
LOCATION:Phone Number: 712 432 5229, PIN: Phone Bridge
END:VEVENT
BEGIN:VEVENT
DTSTART;TZID=America/New_York:20270111T070000
DTEND;TZID=America/New_York:20270111T083000
DTSTAMP:20260420T134436
CREATED:20250503T164142Z
LAST-MODIFIED:20260306T221017Z
UID:10059241-1799650800-1799656200@meetings.greysheet.org
SUMMARY:Qualification MON 0700
DESCRIPTION:This is a GreySheet Qualification meeting. The Speaker will qualify for approximately 15 to 20 minutes on their Experience\, Strength\, and Hope related to GreySheet abstinence.
URL:https://meetings.greysheet.org/meeting/pbig-mon-0700/2027-01-11
CATEGORIES:Telephone or Audio
ATTACH;FMTTYPE=image/svg+xml:https://meetings.greysheet.org/wp-content/uploads/2025/05/phone.svg
LOCATION:Phone Number: 712 432 5229, PIN: Phone Bridge
END:VEVENT
BEGIN:VEVENT
DTSTART;TZID=America/New_York:20270118T070000
DTEND;TZID=America/New_York:20270118T083000
DTSTAMP:20260420T134436
CREATED:20250503T164142Z
LAST-MODIFIED:20260306T221017Z
UID:10059242-1800255600-1800261000@meetings.greysheet.org
SUMMARY:Qualification MON 0700
DESCRIPTION:This is a GreySheet Qualification meeting. The Speaker will qualify for approximately 15 to 20 minutes on their Experience\, Strength\, and Hope related to GreySheet abstinence.
URL:https://meetings.greysheet.org/meeting/pbig-mon-0700/2027-01-18
CATEGORIES:Telephone or Audio
ATTACH;FMTTYPE=image/svg+xml:https://meetings.greysheet.org/wp-content/uploads/2025/05/phone.svg
LOCATION:Phone Number: 712 432 5229, PIN: Phone Bridge
END:VEVENT
BEGIN:VEVENT
DTSTART;TZID=America/New_York:20270125T070000
DTEND;TZID=America/New_York:20270125T083000
DTSTAMP:20260420T134436
CREATED:20250503T164142Z
LAST-MODIFIED:20260306T221017Z
UID:10059243-1800860400-1800865800@meetings.greysheet.org
SUMMARY:Qualification MON 0700
DESCRIPTION:This is a GreySheet Qualification meeting. The Speaker will qualify for approximately 15 to 20 minutes on their Experience\, Strength\, and Hope related to GreySheet abstinence.
URL:https://meetings.greysheet.org/meeting/pbig-mon-0700/2027-01-25
CATEGORIES:Telephone or Audio
ATTACH;FMTTYPE=image/svg+xml:https://meetings.greysheet.org/wp-content/uploads/2025/05/phone.svg
LOCATION:Phone Number: 712 432 5229, PIN: Phone Bridge
END:VEVENT
BEGIN:VEVENT
DTSTART;TZID=America/New_York:20270201T070000
DTEND;TZID=America/New_York:20270201T083000
DTSTAMP:20260420T134436
CREATED:20250503T164142Z
LAST-MODIFIED:20260306T221017Z
UID:10059244-1801465200-1801470600@meetings.greysheet.org
SUMMARY:Qualification MON 0700
DESCRIPTION:This is a GreySheet Qualification meeting. The Speaker will qualify for approximately 15 to 20 minutes on their Experience\, Strength\, and Hope related to GreySheet abstinence.
URL:https://meetings.greysheet.org/meeting/pbig-mon-0700/2027-02-01
CATEGORIES:Telephone or Audio
ATTACH;FMTTYPE=image/svg+xml:https://meetings.greysheet.org/wp-content/uploads/2025/05/phone.svg
LOCATION:Phone Number: 712 432 5229, PIN: Phone Bridge
END:VEVENT
BEGIN:VEVENT
DTSTART;TZID=America/New_York:20270208T070000
DTEND;TZID=America/New_York:20270208T083000
DTSTAMP:20260420T134436
CREATED:20250503T164142Z
LAST-MODIFIED:20260306T221017Z
UID:10059245-1802070000-1802075400@meetings.greysheet.org
SUMMARY:Qualification MON 0700
DESCRIPTION:This is a GreySheet Qualification meeting. The Speaker will qualify for approximately 15 to 20 minutes on their Experience\, Strength\, and Hope related to GreySheet abstinence.
URL:https://meetings.greysheet.org/meeting/pbig-mon-0700/2027-02-08
CATEGORIES:Telephone or Audio
ATTACH;FMTTYPE=image/svg+xml:https://meetings.greysheet.org/wp-content/uploads/2025/05/phone.svg
LOCATION:Phone Number: 712 432 5229, PIN: Phone Bridge
END:VEVENT
BEGIN:VEVENT
DTSTART;TZID=America/New_York:20270215T070000
DTEND;TZID=America/New_York:20270215T083000
DTSTAMP:20260420T134436
CREATED:20250503T164142Z
LAST-MODIFIED:20260306T221017Z
UID:10059246-1802674800-1802680200@meetings.greysheet.org
SUMMARY:Qualification MON 0700
DESCRIPTION:This is a GreySheet Qualification meeting. The Speaker will qualify for approximately 15 to 20 minutes on their Experience\, Strength\, and Hope related to GreySheet abstinence.
URL:https://meetings.greysheet.org/meeting/pbig-mon-0700/2027-02-15
CATEGORIES:Telephone or Audio
ATTACH;FMTTYPE=image/svg+xml:https://meetings.greysheet.org/wp-content/uploads/2025/05/phone.svg
LOCATION:Phone Number: 712 432 5229, PIN: Phone Bridge
END:VEVENT
BEGIN:VEVENT
DTSTART;TZID=America/New_York:20270222T070000
DTEND;TZID=America/New_York:20270222T083000
DTSTAMP:20260420T134436
CREATED:20250503T164142Z
LAST-MODIFIED:20260306T221017Z
UID:10059247-1803279600-1803285000@meetings.greysheet.org
SUMMARY:Qualification MON 0700
DESCRIPTION:This is a GreySheet Qualification meeting. The Speaker will qualify for approximately 15 to 20 minutes on their Experience\, Strength\, and Hope related to GreySheet abstinence.
URL:https://meetings.greysheet.org/meeting/pbig-mon-0700/2027-02-22
CATEGORIES:Telephone or Audio
ATTACH;FMTTYPE=image/svg+xml:https://meetings.greysheet.org/wp-content/uploads/2025/05/phone.svg
LOCATION:Phone Number: 712 432 5229, PIN: Phone Bridge
END:VEVENT
BEGIN:VEVENT
DTSTART;TZID=America/New_York:20270301T070000
DTEND;TZID=America/New_York:20270301T083000
DTSTAMP:20260420T134436
CREATED:20250503T164142Z
LAST-MODIFIED:20260306T221017Z
UID:10059248-1803884400-1803889800@meetings.greysheet.org
SUMMARY:Qualification MON 0700
DESCRIPTION:This is a GreySheet Qualification meeting. The Speaker will qualify for approximately 15 to 20 minutes on their Experience\, Strength\, and Hope related to GreySheet abstinence.
URL:https://meetings.greysheet.org/meeting/pbig-mon-0700/2027-03-01
CATEGORIES:Telephone or Audio
ATTACH;FMTTYPE=image/svg+xml:https://meetings.greysheet.org/wp-content/uploads/2025/05/phone.svg
LOCATION:Phone Number: 712 432 5229, PIN: Phone Bridge
END:VEVENT
BEGIN:VEVENT
DTSTART;TZID=America/New_York:20270308T070000
DTEND;TZID=America/New_York:20270308T083000
DTSTAMP:20260420T134436
CREATED:20250503T164142Z
LAST-MODIFIED:20260306T221017Z
UID:10059249-1804489200-1804494600@meetings.greysheet.org
SUMMARY:Qualification MON 0700
DESCRIPTION:This is a GreySheet Qualification meeting. The Speaker will qualify for approximately 15 to 20 minutes on their Experience\, Strength\, and Hope related to GreySheet abstinence.
URL:https://meetings.greysheet.org/meeting/pbig-mon-0700/2027-03-08
CATEGORIES:Telephone or Audio
ATTACH;FMTTYPE=image/svg+xml:https://meetings.greysheet.org/wp-content/uploads/2025/05/phone.svg
LOCATION:Phone Number: 712 432 5229, PIN: Phone Bridge
END:VEVENT
BEGIN:VEVENT
DTSTART;TZID=America/New_York:20270315T070000
DTEND;TZID=America/New_York:20270315T083000
DTSTAMP:20260420T134436
CREATED:20250503T164142Z
LAST-MODIFIED:20260306T221017Z
UID:10059250-1805094000-1805099400@meetings.greysheet.org
SUMMARY:Qualification MON 0700
DESCRIPTION:This is a GreySheet Qualification meeting. The Speaker will qualify for approximately 15 to 20 minutes on their Experience\, Strength\, and Hope related to GreySheet abstinence.
URL:https://meetings.greysheet.org/meeting/pbig-mon-0700/2027-03-15
CATEGORIES:Telephone or Audio
ATTACH;FMTTYPE=image/svg+xml:https://meetings.greysheet.org/wp-content/uploads/2025/05/phone.svg
LOCATION:Phone Number: 712 432 5229, PIN: Phone Bridge
END:VEVENT
BEGIN:VEVENT
DTSTART;TZID=America/New_York:20270322T070000
DTEND;TZID=America/New_York:20270322T083000
DTSTAMP:20260420T134436
CREATED:20250503T164142Z
LAST-MODIFIED:20260306T221017Z
UID:10059251-1805698800-1805704200@meetings.greysheet.org
SUMMARY:Qualification MON 0700
DESCRIPTION:This is a GreySheet Qualification meeting. The Speaker will qualify for approximately 15 to 20 minutes on their Experience\, Strength\, and Hope related to GreySheet abstinence.
URL:https://meetings.greysheet.org/meeting/pbig-mon-0700/2027-03-22
CATEGORIES:Telephone or Audio
ATTACH;FMTTYPE=image/svg+xml:https://meetings.greysheet.org/wp-content/uploads/2025/05/phone.svg
LOCATION:Phone Number: 712 432 5229, PIN: Phone Bridge
END:VEVENT
BEGIN:VEVENT
DTSTART;TZID=America/New_York:20270329T070000
DTEND;TZID=America/New_York:20270329T083000
DTSTAMP:20260420T134436
CREATED:20250503T164142Z
LAST-MODIFIED:20260306T221017Z
UID:10059252-1806303600-1806309000@meetings.greysheet.org
SUMMARY:Qualification MON 0700
DESCRIPTION:This is a GreySheet Qualification meeting. The Speaker will qualify for approximately 15 to 20 minutes on their Experience\, Strength\, and Hope related to GreySheet abstinence.
URL:https://meetings.greysheet.org/meeting/pbig-mon-0700/2027-03-29
CATEGORIES:Telephone or Audio
ATTACH;FMTTYPE=image/svg+xml:https://meetings.greysheet.org/wp-content/uploads/2025/05/phone.svg
LOCATION:Phone Number: 712 432 5229, PIN: Phone Bridge
END:VEVENT
BEGIN:VEVENT
DTSTART;TZID=America/New_York:20270405T070000
DTEND;TZID=America/New_York:20270405T083000
DTSTAMP:20260420T134436
CREATED:20250503T164142Z
LAST-MODIFIED:20260306T221017Z
UID:10059253-1806908400-1806913800@meetings.greysheet.org
SUMMARY:Qualification MON 0700
DESCRIPTION:This is a GreySheet Qualification meeting. The Speaker will qualify for approximately 15 to 20 minutes on their Experience\, Strength\, and Hope related to GreySheet abstinence.
URL:https://meetings.greysheet.org/meeting/pbig-mon-0700/2027-04-05
CATEGORIES:Telephone or Audio
ATTACH;FMTTYPE=image/svg+xml:https://meetings.greysheet.org/wp-content/uploads/2025/05/phone.svg
LOCATION:Phone Number: 712 432 5229, PIN: Phone Bridge
END:VEVENT
BEGIN:VEVENT
DTSTART;TZID=America/New_York:20270412T070000
DTEND;TZID=America/New_York:20270412T083000
DTSTAMP:20260420T134436
CREATED:20250503T164142Z
LAST-MODIFIED:20260306T221017Z
UID:10059254-1807513200-1807518600@meetings.greysheet.org
SUMMARY:Qualification MON 0700
DESCRIPTION:This is a GreySheet Qualification meeting. The Speaker will qualify for approximately 15 to 20 minutes on their Experience\, Strength\, and Hope related to GreySheet abstinence.
URL:https://meetings.greysheet.org/meeting/pbig-mon-0700/2027-04-12
CATEGORIES:Telephone or Audio
ATTACH;FMTTYPE=image/svg+xml:https://meetings.greysheet.org/wp-content/uploads/2025/05/phone.svg
LOCATION:Phone Number: 712 432 5229, PIN: Phone Bridge
END:VEVENT
BEGIN:VEVENT
DTSTART;TZID=America/New_York:20270419T070000
DTEND;TZID=America/New_York:20270419T083000
DTSTAMP:20260420T134436
CREATED:20250503T164142Z
LAST-MODIFIED:20260306T221017Z
UID:10059255-1808118000-1808123400@meetings.greysheet.org
SUMMARY:Qualification MON 0700
DESCRIPTION:This is a GreySheet Qualification meeting. The Speaker will qualify for approximately 15 to 20 minutes on their Experience\, Strength\, and Hope related to GreySheet abstinence.
URL:https://meetings.greysheet.org/meeting/pbig-mon-0700/2027-04-19
CATEGORIES:Telephone or Audio
ATTACH;FMTTYPE=image/svg+xml:https://meetings.greysheet.org/wp-content/uploads/2025/05/phone.svg
LOCATION:Phone Number: 712 432 5229, PIN: Phone Bridge
END:VEVENT
BEGIN:VEVENT
DTSTART;TZID=America/New_York:20270426T070000
DTEND;TZID=America/New_York:20270426T083000
DTSTAMP:20260420T134436
CREATED:20250503T164142Z
LAST-MODIFIED:20260306T221017Z
UID:10059256-1808722800-1808728200@meetings.greysheet.org
SUMMARY:Qualification MON 0700
DESCRIPTION:This is a GreySheet Qualification meeting. The Speaker will qualify for approximately 15 to 20 minutes on their Experience\, Strength\, and Hope related to GreySheet abstinence.
URL:https://meetings.greysheet.org/meeting/pbig-mon-0700/2027-04-26
CATEGORIES:Telephone or Audio
ATTACH;FMTTYPE=image/svg+xml:https://meetings.greysheet.org/wp-content/uploads/2025/05/phone.svg
LOCATION:Phone Number: 712 432 5229, PIN: Phone Bridge
END:VEVENT
BEGIN:VEVENT
DTSTART;TZID=America/New_York:20270503T070000
DTEND;TZID=America/New_York:20270503T083000
DTSTAMP:20260420T134436
CREATED:20250503T164142Z
LAST-MODIFIED:20260306T221017Z
UID:10059257-1809327600-1809333000@meetings.greysheet.org
SUMMARY:Qualification MON 0700
DESCRIPTION:This is a GreySheet Qualification meeting. The Speaker will qualify for approximately 15 to 20 minutes on their Experience\, Strength\, and Hope related to GreySheet abstinence.
URL:https://meetings.greysheet.org/meeting/pbig-mon-0700/2027-05-03
CATEGORIES:Telephone or Audio
ATTACH;FMTTYPE=image/svg+xml:https://meetings.greysheet.org/wp-content/uploads/2025/05/phone.svg
LOCATION:Phone Number: 712 432 5229, PIN: Phone Bridge
END:VEVENT
END:VCALENDAR