BEGIN:VCALENDAR
VERSION:2.0
PRODID:-//GreySheeters Anonymous World Services - ECPv6.15.20//NONSGML v1.0//EN
CALSCALE:GREGORIAN
METHOD:PUBLISH
X-ORIGINAL-URL:https://meetings.greysheet.org
X-WR-CALDESC:Events for GreySheeters Anonymous World Services
REFRESH-INTERVAL;VALUE=DURATION:PT1H
X-Robots-Tag:noindex
X-PUBLISHED-TTL:PT1H
BEGIN:VTIMEZONE
TZID:America/New_York
BEGIN:DAYLIGHT
TZOFFSETFROM:-0500
TZOFFSETTO:-0400
TZNAME:EDT
DTSTART:20240310T070000
END:DAYLIGHT
BEGIN:STANDARD
TZOFFSETFROM:-0400
TZOFFSETTO:-0500
TZNAME:EST
DTSTART:20241103T060000
END:STANDARD
BEGIN:DAYLIGHT
TZOFFSETFROM:-0500
TZOFFSETTO:-0400
TZNAME:EDT
DTSTART:20250309T070000
END:DAYLIGHT
BEGIN:STANDARD
TZOFFSETFROM:-0400
TZOFFSETTO:-0500
TZNAME:EST
DTSTART:20251102T060000
END:STANDARD
BEGIN:DAYLIGHT
TZOFFSETFROM:-0500
TZOFFSETTO:-0400
TZNAME:EDT
DTSTART:20260308T070000
END:DAYLIGHT
BEGIN:STANDARD
TZOFFSETFROM:-0400
TZOFFSETTO:-0500
TZNAME:EST
DTSTART:20261101T060000
END:STANDARD
BEGIN:DAYLIGHT
TZOFFSETFROM:-0500
TZOFFSETTO:-0400
TZNAME:EDT
DTSTART:20270314T070000
END:DAYLIGHT
BEGIN:STANDARD
TZOFFSETFROM:-0400
TZOFFSETTO:-0500
TZNAME:EST
DTSTART:20271107T060000
END:STANDARD
END:VTIMEZONE
BEGIN:VEVENT
DTSTART;TZID=America/New_York:20260420T070000
DTEND;TZID=America/New_York:20260420T083000
DTSTAMP:20260421T195243
CREATED:20250503T164142Z
LAST-MODIFIED:20260306T221017Z
UID:10059203-1776668400-1776673800@meetings.greysheet.org
SUMMARY:Qualification MON 0700
DESCRIPTION:This is a GreySheet Qualification meeting. The Speaker will qualify for approximately 15 to 20 minutes on their Experience\, Strength\, and Hope related to GreySheet abstinence.
URL:https://meetings.greysheet.org/meeting/pbig-mon-0700/2026-04-20
CATEGORIES:Telephone or Audio
ATTACH;FMTTYPE=image/svg+xml:https://meetings.greysheet.org/wp-content/uploads/2025/05/phone.svg
LOCATION:Phone Number: 712 432 5229, PIN: Phone Bridge
END:VEVENT
BEGIN:VEVENT
DTSTART;TZID=America/New_York:20260413T070000
DTEND;TZID=America/New_York:20260413T083000
DTSTAMP:20260421T195243
CREATED:20250503T164142Z
LAST-MODIFIED:20260306T221017Z
UID:10059202-1776063600-1776069000@meetings.greysheet.org
SUMMARY:Qualification MON 0700
DESCRIPTION:This is a GreySheet Qualification meeting. The Speaker will qualify for approximately 15 to 20 minutes on their Experience\, Strength\, and Hope related to GreySheet abstinence.
URL:https://meetings.greysheet.org/meeting/pbig-mon-0700/2026-04-13
CATEGORIES:Telephone or Audio
ATTACH;FMTTYPE=image/svg+xml:https://meetings.greysheet.org/wp-content/uploads/2025/05/phone.svg
LOCATION:Phone Number: 712 432 5229, PIN: Phone Bridge
END:VEVENT
BEGIN:VEVENT
DTSTART;TZID=America/New_York:20260406T070000
DTEND;TZID=America/New_York:20260406T083000
DTSTAMP:20260421T195243
CREATED:20250503T164142Z
LAST-MODIFIED:20260306T221017Z
UID:10059201-1775458800-1775464200@meetings.greysheet.org
SUMMARY:Qualification MON 0700
DESCRIPTION:This is a GreySheet Qualification meeting. The Speaker will qualify for approximately 15 to 20 minutes on their Experience\, Strength\, and Hope related to GreySheet abstinence.
URL:https://meetings.greysheet.org/meeting/pbig-mon-0700/2026-04-06
CATEGORIES:Telephone or Audio
ATTACH;FMTTYPE=image/svg+xml:https://meetings.greysheet.org/wp-content/uploads/2025/05/phone.svg
LOCATION:Phone Number: 712 432 5229, PIN: Phone Bridge
END:VEVENT
BEGIN:VEVENT
DTSTART;TZID=America/New_York:20260330T070000
DTEND;TZID=America/New_York:20260330T083000
DTSTAMP:20260421T195243
CREATED:20250503T164142Z
LAST-MODIFIED:20260306T221017Z
UID:10059200-1774854000-1774859400@meetings.greysheet.org
SUMMARY:Qualification MON 0700
DESCRIPTION:This is a GreySheet Qualification meeting. The Speaker will qualify for approximately 15 to 20 minutes on their Experience\, Strength\, and Hope related to GreySheet abstinence.
URL:https://meetings.greysheet.org/meeting/pbig-mon-0700/2026-03-30
CATEGORIES:Telephone or Audio
ATTACH;FMTTYPE=image/svg+xml:https://meetings.greysheet.org/wp-content/uploads/2025/05/phone.svg
LOCATION:Phone Number: 712 432 5229, PIN: Phone Bridge
END:VEVENT
BEGIN:VEVENT
DTSTART;TZID=America/New_York:20260323T070000
DTEND;TZID=America/New_York:20260323T083000
DTSTAMP:20260421T195243
CREATED:20250503T164142Z
LAST-MODIFIED:20260306T221017Z
UID:10059199-1774249200-1774254600@meetings.greysheet.org
SUMMARY:Qualification MON 0700
DESCRIPTION:This is a GreySheet Qualification meeting. The Speaker will qualify for approximately 15 to 20 minutes on their Experience\, Strength\, and Hope related to GreySheet abstinence.
URL:https://meetings.greysheet.org/meeting/pbig-mon-0700/2026-03-23
CATEGORIES:Telephone or Audio
ATTACH;FMTTYPE=image/svg+xml:https://meetings.greysheet.org/wp-content/uploads/2025/05/phone.svg
LOCATION:Phone Number: 712 432 5229, PIN: Phone Bridge
END:VEVENT
BEGIN:VEVENT
DTSTART;TZID=America/New_York:20260316T070000
DTEND;TZID=America/New_York:20260316T083000
DTSTAMP:20260421T195243
CREATED:20250503T164142Z
LAST-MODIFIED:20260306T221017Z
UID:10059198-1773644400-1773649800@meetings.greysheet.org
SUMMARY:Qualification MON 0700
DESCRIPTION:This is a GreySheet Qualification meeting. The Speaker will qualify for approximately 15 to 20 minutes on their Experience\, Strength\, and Hope related to GreySheet abstinence.
URL:https://meetings.greysheet.org/meeting/pbig-mon-0700/2026-03-16
CATEGORIES:Telephone or Audio
ATTACH;FMTTYPE=image/svg+xml:https://meetings.greysheet.org/wp-content/uploads/2025/05/phone.svg
LOCATION:Phone Number: 712 432 5229, PIN: Phone Bridge
END:VEVENT
BEGIN:VEVENT
DTSTART;TZID=America/New_York:20260309T070000
DTEND;TZID=America/New_York:20260309T083000
DTSTAMP:20260421T195243
CREATED:20250503T164142Z
LAST-MODIFIED:20260306T221017Z
UID:10059197-1773039600-1773045000@meetings.greysheet.org
SUMMARY:Qualification MON 0700
DESCRIPTION:This is a GreySheet Qualification meeting. The Speaker will qualify for approximately 15 to 20 minutes on their Experience\, Strength\, and Hope related to GreySheet abstinence.
URL:https://meetings.greysheet.org/meeting/pbig-mon-0700/2026-03-09
CATEGORIES:Telephone or Audio
ATTACH;FMTTYPE=image/svg+xml:https://meetings.greysheet.org/wp-content/uploads/2025/05/phone.svg
LOCATION:Phone Number: 712 432 5229, PIN: Phone Bridge
END:VEVENT
BEGIN:VEVENT
DTSTART;TZID=America/New_York:20260302T070000
DTEND;TZID=America/New_York:20260302T083000
DTSTAMP:20260421T195243
CREATED:20250503T164142Z
LAST-MODIFIED:20260306T221017Z
UID:10059196-1772434800-1772440200@meetings.greysheet.org
SUMMARY:Qualification MON 0700
DESCRIPTION:This is a GreySheet Qualification meeting. The Speaker will qualify for approximately 15 to 20 minutes on their Experience\, Strength\, and Hope related to GreySheet abstinence.
URL:https://meetings.greysheet.org/meeting/pbig-mon-0700/2026-03-02
CATEGORIES:Telephone or Audio
ATTACH;FMTTYPE=image/svg+xml:https://meetings.greysheet.org/wp-content/uploads/2025/05/phone.svg
LOCATION:Phone Number: 712 432 5229, PIN: Phone Bridge
END:VEVENT
BEGIN:VEVENT
DTSTART;TZID=America/New_York:20260223T070000
DTEND;TZID=America/New_York:20260223T083000
DTSTAMP:20260421T195243
CREATED:20250503T164142Z
LAST-MODIFIED:20260306T221017Z
UID:10059195-1771830000-1771835400@meetings.greysheet.org
SUMMARY:Qualification MON 0700
DESCRIPTION:This is a GreySheet Qualification meeting. The Speaker will qualify for approximately 15 to 20 minutes on their Experience\, Strength\, and Hope related to GreySheet abstinence.
URL:https://meetings.greysheet.org/meeting/pbig-mon-0700/2026-02-23
CATEGORIES:Telephone or Audio
ATTACH;FMTTYPE=image/svg+xml:https://meetings.greysheet.org/wp-content/uploads/2025/05/phone.svg
LOCATION:Phone Number: 712 432 5229, PIN: Phone Bridge
END:VEVENT
BEGIN:VEVENT
DTSTART;TZID=America/New_York:20260216T070000
DTEND;TZID=America/New_York:20260216T083000
DTSTAMP:20260421T195243
CREATED:20250503T164142Z
LAST-MODIFIED:20260306T221017Z
UID:10059194-1771225200-1771230600@meetings.greysheet.org
SUMMARY:Qualification MON 0700
DESCRIPTION:This is a GreySheet Qualification meeting. The Speaker will qualify for approximately 15 to 20 minutes on their Experience\, Strength\, and Hope related to GreySheet abstinence.
URL:https://meetings.greysheet.org/meeting/pbig-mon-0700/2026-02-16
CATEGORIES:Telephone or Audio
ATTACH;FMTTYPE=image/svg+xml:https://meetings.greysheet.org/wp-content/uploads/2025/05/phone.svg
LOCATION:Phone Number: 712 432 5229, PIN: Phone Bridge
END:VEVENT
BEGIN:VEVENT
DTSTART;TZID=America/New_York:20260209T070000
DTEND;TZID=America/New_York:20260209T083000
DTSTAMP:20260421T195243
CREATED:20250503T164142Z
LAST-MODIFIED:20260306T221017Z
UID:10059193-1770620400-1770625800@meetings.greysheet.org
SUMMARY:Qualification MON 0700
DESCRIPTION:This is a GreySheet Qualification meeting. The Speaker will qualify for approximately 15 to 20 minutes on their Experience\, Strength\, and Hope related to GreySheet abstinence.
URL:https://meetings.greysheet.org/meeting/pbig-mon-0700/2026-02-09
CATEGORIES:Telephone or Audio
ATTACH;FMTTYPE=image/svg+xml:https://meetings.greysheet.org/wp-content/uploads/2025/05/phone.svg
LOCATION:Phone Number: 712 432 5229, PIN: Phone Bridge
END:VEVENT
BEGIN:VEVENT
DTSTART;TZID=America/New_York:20260202T070000
DTEND;TZID=America/New_York:20260202T083000
DTSTAMP:20260421T195243
CREATED:20250503T164142Z
LAST-MODIFIED:20260306T221017Z
UID:10059192-1770015600-1770021000@meetings.greysheet.org
SUMMARY:Qualification MON 0700
DESCRIPTION:This is a GreySheet Qualification meeting. The Speaker will qualify for approximately 15 to 20 minutes on their Experience\, Strength\, and Hope related to GreySheet abstinence.
URL:https://meetings.greysheet.org/meeting/pbig-mon-0700/2026-02-02
CATEGORIES:Telephone or Audio
ATTACH;FMTTYPE=image/svg+xml:https://meetings.greysheet.org/wp-content/uploads/2025/05/phone.svg
LOCATION:Phone Number: 712 432 5229, PIN: Phone Bridge
END:VEVENT
BEGIN:VEVENT
DTSTART;TZID=America/New_York:20260126T070000
DTEND;TZID=America/New_York:20260126T083000
DTSTAMP:20260421T195243
CREATED:20250503T164142Z
LAST-MODIFIED:20260306T221017Z
UID:10059191-1769410800-1769416200@meetings.greysheet.org
SUMMARY:Qualification MON 0700
DESCRIPTION:This is a GreySheet Qualification meeting. The Speaker will qualify for approximately 15 to 20 minutes on their Experience\, Strength\, and Hope related to GreySheet abstinence.
URL:https://meetings.greysheet.org/meeting/pbig-mon-0700/2026-01-26
CATEGORIES:Telephone or Audio
ATTACH;FMTTYPE=image/svg+xml:https://meetings.greysheet.org/wp-content/uploads/2025/05/phone.svg
LOCATION:Phone Number: 712 432 5229, PIN: Phone Bridge
END:VEVENT
BEGIN:VEVENT
DTSTART;TZID=America/New_York:20260119T070000
DTEND;TZID=America/New_York:20260119T083000
DTSTAMP:20260421T195243
CREATED:20250503T164142Z
LAST-MODIFIED:20260306T221017Z
UID:10059190-1768806000-1768811400@meetings.greysheet.org
SUMMARY:Qualification MON 0700
DESCRIPTION:This is a GreySheet Qualification meeting. The Speaker will qualify for approximately 15 to 20 minutes on their Experience\, Strength\, and Hope related to GreySheet abstinence.
URL:https://meetings.greysheet.org/meeting/pbig-mon-0700/2026-01-19
CATEGORIES:Telephone or Audio
ATTACH;FMTTYPE=image/svg+xml:https://meetings.greysheet.org/wp-content/uploads/2025/05/phone.svg
LOCATION:Phone Number: 712 432 5229, PIN: Phone Bridge
END:VEVENT
BEGIN:VEVENT
DTSTART;TZID=America/New_York:20260112T070000
DTEND;TZID=America/New_York:20260112T083000
DTSTAMP:20260421T195243
CREATED:20250503T164142Z
LAST-MODIFIED:20260306T221017Z
UID:10059189-1768201200-1768206600@meetings.greysheet.org
SUMMARY:Qualification MON 0700
DESCRIPTION:This is a GreySheet Qualification meeting. The Speaker will qualify for approximately 15 to 20 minutes on their Experience\, Strength\, and Hope related to GreySheet abstinence.
URL:https://meetings.greysheet.org/meeting/pbig-mon-0700/2026-01-12
CATEGORIES:Telephone or Audio
ATTACH;FMTTYPE=image/svg+xml:https://meetings.greysheet.org/wp-content/uploads/2025/05/phone.svg
LOCATION:Phone Number: 712 432 5229, PIN: Phone Bridge
END:VEVENT
BEGIN:VEVENT
DTSTART;TZID=America/New_York:20260105T070000
DTEND;TZID=America/New_York:20260105T083000
DTSTAMP:20260421T195243
CREATED:20250503T164142Z
LAST-MODIFIED:20260306T221017Z
UID:10059188-1767596400-1767601800@meetings.greysheet.org
SUMMARY:Qualification MON 0700
DESCRIPTION:This is a GreySheet Qualification meeting. The Speaker will qualify for approximately 15 to 20 minutes on their Experience\, Strength\, and Hope related to GreySheet abstinence.
URL:https://meetings.greysheet.org/meeting/pbig-mon-0700/2026-01-05
CATEGORIES:Telephone or Audio
ATTACH;FMTTYPE=image/svg+xml:https://meetings.greysheet.org/wp-content/uploads/2025/05/phone.svg
LOCATION:Phone Number: 712 432 5229, PIN: Phone Bridge
END:VEVENT
BEGIN:VEVENT
DTSTART;TZID=America/New_York:20251229T070000
DTEND;TZID=America/New_York:20251229T083000
DTSTAMP:20260421T195243
CREATED:20250503T164142Z
LAST-MODIFIED:20260306T221017Z
UID:10059187-1766991600-1766997000@meetings.greysheet.org
SUMMARY:Qualification MON 0700
DESCRIPTION:This is a GreySheet Qualification meeting. The Speaker will qualify for approximately 15 to 20 minutes on their Experience\, Strength\, and Hope related to GreySheet abstinence.
URL:https://meetings.greysheet.org/meeting/pbig-mon-0700/2025-12-29
CATEGORIES:Telephone or Audio
ATTACH;FMTTYPE=image/svg+xml:https://meetings.greysheet.org/wp-content/uploads/2025/05/phone.svg
LOCATION:Phone Number: 712 432 5229, PIN: Phone Bridge
END:VEVENT
BEGIN:VEVENT
DTSTART;TZID=America/New_York:20251222T070000
DTEND;TZID=America/New_York:20251222T083000
DTSTAMP:20260421T195243
CREATED:20250503T164142Z
LAST-MODIFIED:20260306T221017Z
UID:10059186-1766386800-1766392200@meetings.greysheet.org
SUMMARY:Qualification MON 0700
DESCRIPTION:This is a GreySheet Qualification meeting. The Speaker will qualify for approximately 15 to 20 minutes on their Experience\, Strength\, and Hope related to GreySheet abstinence.
URL:https://meetings.greysheet.org/meeting/pbig-mon-0700/2025-12-22
CATEGORIES:Telephone or Audio
ATTACH;FMTTYPE=image/svg+xml:https://meetings.greysheet.org/wp-content/uploads/2025/05/phone.svg
LOCATION:Phone Number: 712 432 5229, PIN: Phone Bridge
END:VEVENT
BEGIN:VEVENT
DTSTART;TZID=America/New_York:20251215T070000
DTEND;TZID=America/New_York:20251215T083000
DTSTAMP:20260421T195243
CREATED:20250503T164142Z
LAST-MODIFIED:20260306T221017Z
UID:10059185-1765782000-1765787400@meetings.greysheet.org
SUMMARY:Qualification MON 0700
DESCRIPTION:This is a GreySheet Qualification meeting. The Speaker will qualify for approximately 15 to 20 minutes on their Experience\, Strength\, and Hope related to GreySheet abstinence.
URL:https://meetings.greysheet.org/meeting/pbig-mon-0700/2025-12-15
CATEGORIES:Telephone or Audio
ATTACH;FMTTYPE=image/svg+xml:https://meetings.greysheet.org/wp-content/uploads/2025/05/phone.svg
LOCATION:Phone Number: 712 432 5229, PIN: Phone Bridge
END:VEVENT
BEGIN:VEVENT
DTSTART;TZID=America/New_York:20251208T070000
DTEND;TZID=America/New_York:20251208T083000
DTSTAMP:20260421T195243
CREATED:20250503T164142Z
LAST-MODIFIED:20260306T221017Z
UID:10059184-1765177200-1765182600@meetings.greysheet.org
SUMMARY:Qualification MON 0700
DESCRIPTION:This is a GreySheet Qualification meeting. The Speaker will qualify for approximately 15 to 20 minutes on their Experience\, Strength\, and Hope related to GreySheet abstinence.
URL:https://meetings.greysheet.org/meeting/pbig-mon-0700/2025-12-08
CATEGORIES:Telephone or Audio
ATTACH;FMTTYPE=image/svg+xml:https://meetings.greysheet.org/wp-content/uploads/2025/05/phone.svg
LOCATION:Phone Number: 712 432 5229, PIN: Phone Bridge
END:VEVENT
BEGIN:VEVENT
DTSTART;TZID=America/New_York:20251201T070000
DTEND;TZID=America/New_York:20251201T083000
DTSTAMP:20260421T195243
CREATED:20250503T164142Z
LAST-MODIFIED:20260306T221017Z
UID:10059183-1764572400-1764577800@meetings.greysheet.org
SUMMARY:Qualification MON 0700
DESCRIPTION:This is a GreySheet Qualification meeting. The Speaker will qualify for approximately 15 to 20 minutes on their Experience\, Strength\, and Hope related to GreySheet abstinence.
URL:https://meetings.greysheet.org/meeting/pbig-mon-0700/2025-12-01
CATEGORIES:Telephone or Audio
ATTACH;FMTTYPE=image/svg+xml:https://meetings.greysheet.org/wp-content/uploads/2025/05/phone.svg
LOCATION:Phone Number: 712 432 5229, PIN: Phone Bridge
END:VEVENT
BEGIN:VEVENT
DTSTART;TZID=America/New_York:20251124T070000
DTEND;TZID=America/New_York:20251124T083000
DTSTAMP:20260421T195243
CREATED:20250503T164142Z
LAST-MODIFIED:20260306T221017Z
UID:10059182-1763967600-1763973000@meetings.greysheet.org
SUMMARY:Qualification MON 0700
DESCRIPTION:This is a GreySheet Qualification meeting. The Speaker will qualify for approximately 15 to 20 minutes on their Experience\, Strength\, and Hope related to GreySheet abstinence.
URL:https://meetings.greysheet.org/meeting/pbig-mon-0700/2025-11-24
CATEGORIES:Telephone or Audio
ATTACH;FMTTYPE=image/svg+xml:https://meetings.greysheet.org/wp-content/uploads/2025/05/phone.svg
LOCATION:Phone Number: 712 432 5229, PIN: Phone Bridge
END:VEVENT
BEGIN:VEVENT
DTSTART;TZID=America/New_York:20251117T070000
DTEND;TZID=America/New_York:20251117T083000
DTSTAMP:20260421T195243
CREATED:20250503T164142Z
LAST-MODIFIED:20260306T221017Z
UID:10059181-1763362800-1763368200@meetings.greysheet.org
SUMMARY:Qualification MON 0700
DESCRIPTION:This is a GreySheet Qualification meeting. The Speaker will qualify for approximately 15 to 20 minutes on their Experience\, Strength\, and Hope related to GreySheet abstinence.
URL:https://meetings.greysheet.org/meeting/pbig-mon-0700/2025-11-17
CATEGORIES:Telephone or Audio
ATTACH;FMTTYPE=image/svg+xml:https://meetings.greysheet.org/wp-content/uploads/2025/05/phone.svg
LOCATION:Phone Number: 712 432 5229, PIN: Phone Bridge
END:VEVENT
BEGIN:VEVENT
DTSTART;TZID=America/New_York:20251110T070000
DTEND;TZID=America/New_York:20251110T083000
DTSTAMP:20260421T195243
CREATED:20250503T164142Z
LAST-MODIFIED:20260306T221017Z
UID:10059180-1762758000-1762763400@meetings.greysheet.org
SUMMARY:Qualification MON 0700
DESCRIPTION:This is a GreySheet Qualification meeting. The Speaker will qualify for approximately 15 to 20 minutes on their Experience\, Strength\, and Hope related to GreySheet abstinence.
URL:https://meetings.greysheet.org/meeting/pbig-mon-0700/2025-11-10
CATEGORIES:Telephone or Audio
ATTACH;FMTTYPE=image/svg+xml:https://meetings.greysheet.org/wp-content/uploads/2025/05/phone.svg
LOCATION:Phone Number: 712 432 5229, PIN: Phone Bridge
END:VEVENT
BEGIN:VEVENT
DTSTART;TZID=America/New_York:20251103T070000
DTEND;TZID=America/New_York:20251103T083000
DTSTAMP:20260421T195243
CREATED:20250503T164142Z
LAST-MODIFIED:20260306T221017Z
UID:10059179-1762153200-1762158600@meetings.greysheet.org
SUMMARY:Qualification MON 0700
DESCRIPTION:This is a GreySheet Qualification meeting. The Speaker will qualify for approximately 15 to 20 minutes on their Experience\, Strength\, and Hope related to GreySheet abstinence.
URL:https://meetings.greysheet.org/meeting/pbig-mon-0700/2025-11-03
CATEGORIES:Telephone or Audio
ATTACH;FMTTYPE=image/svg+xml:https://meetings.greysheet.org/wp-content/uploads/2025/05/phone.svg
LOCATION:Phone Number: 712 432 5229, PIN: Phone Bridge
END:VEVENT
BEGIN:VEVENT
DTSTART;TZID=America/New_York:20251027T070000
DTEND;TZID=America/New_York:20251027T083000
DTSTAMP:20260421T195243
CREATED:20250503T164142Z
LAST-MODIFIED:20260306T221017Z
UID:10059178-1761548400-1761553800@meetings.greysheet.org
SUMMARY:Qualification MON 0700
DESCRIPTION:This is a GreySheet Qualification meeting. The Speaker will qualify for approximately 15 to 20 minutes on their Experience\, Strength\, and Hope related to GreySheet abstinence.
URL:https://meetings.greysheet.org/meeting/pbig-mon-0700/2025-10-27
CATEGORIES:Telephone or Audio
ATTACH;FMTTYPE=image/svg+xml:https://meetings.greysheet.org/wp-content/uploads/2025/05/phone.svg
LOCATION:Phone Number: 712 432 5229, PIN: Phone Bridge
END:VEVENT
BEGIN:VEVENT
DTSTART;TZID=America/New_York:20251020T070000
DTEND;TZID=America/New_York:20251020T083000
DTSTAMP:20260421T195243
CREATED:20250503T164142Z
LAST-MODIFIED:20260306T221017Z
UID:10059177-1760943600-1760949000@meetings.greysheet.org
SUMMARY:Qualification MON 0700
DESCRIPTION:This is a GreySheet Qualification meeting. The Speaker will qualify for approximately 15 to 20 minutes on their Experience\, Strength\, and Hope related to GreySheet abstinence.
URL:https://meetings.greysheet.org/meeting/pbig-mon-0700/2025-10-20
CATEGORIES:Telephone or Audio
ATTACH;FMTTYPE=image/svg+xml:https://meetings.greysheet.org/wp-content/uploads/2025/05/phone.svg
LOCATION:Phone Number: 712 432 5229, PIN: Phone Bridge
END:VEVENT
BEGIN:VEVENT
DTSTART;TZID=America/New_York:20251013T070000
DTEND;TZID=America/New_York:20251013T083000
DTSTAMP:20260421T195243
CREATED:20250503T164142Z
LAST-MODIFIED:20260306T221017Z
UID:10059176-1760338800-1760344200@meetings.greysheet.org
SUMMARY:Qualification MON 0700
DESCRIPTION:This is a GreySheet Qualification meeting. The Speaker will qualify for approximately 15 to 20 minutes on their Experience\, Strength\, and Hope related to GreySheet abstinence.
URL:https://meetings.greysheet.org/meeting/pbig-mon-0700/2025-10-13
CATEGORIES:Telephone or Audio
ATTACH;FMTTYPE=image/svg+xml:https://meetings.greysheet.org/wp-content/uploads/2025/05/phone.svg
LOCATION:Phone Number: 712 432 5229, PIN: Phone Bridge
END:VEVENT
BEGIN:VEVENT
DTSTART;TZID=America/New_York:20251006T070000
DTEND;TZID=America/New_York:20251006T083000
DTSTAMP:20260421T195243
CREATED:20250503T164142Z
LAST-MODIFIED:20260306T221017Z
UID:10059175-1759734000-1759739400@meetings.greysheet.org
SUMMARY:Qualification MON 0700
DESCRIPTION:This is a GreySheet Qualification meeting. The Speaker will qualify for approximately 15 to 20 minutes on their Experience\, Strength\, and Hope related to GreySheet abstinence.
URL:https://meetings.greysheet.org/meeting/pbig-mon-0700/2025-10-06
CATEGORIES:Telephone or Audio
ATTACH;FMTTYPE=image/svg+xml:https://meetings.greysheet.org/wp-content/uploads/2025/05/phone.svg
LOCATION:Phone Number: 712 432 5229, PIN: Phone Bridge
END:VEVENT
BEGIN:VEVENT
DTSTART;TZID=America/New_York:20250929T070000
DTEND;TZID=America/New_York:20250929T083000
DTSTAMP:20260421T195243
CREATED:20250503T164142Z
LAST-MODIFIED:20260306T221017Z
UID:10059174-1759129200-1759134600@meetings.greysheet.org
SUMMARY:Qualification MON 0700
DESCRIPTION:This is a GreySheet Qualification meeting. The Speaker will qualify for approximately 15 to 20 minutes on their Experience\, Strength\, and Hope related to GreySheet abstinence.
URL:https://meetings.greysheet.org/meeting/pbig-mon-0700/2025-09-29
CATEGORIES:Telephone or Audio
ATTACH;FMTTYPE=image/svg+xml:https://meetings.greysheet.org/wp-content/uploads/2025/05/phone.svg
LOCATION:Phone Number: 712 432 5229, PIN: Phone Bridge
END:VEVENT
END:VCALENDAR