BEGIN:VCALENDAR
VERSION:2.0
PRODID:-//GreySheeters Anonymous World Services - ECPv6.15.20//NONSGML v1.0//EN
CALSCALE:GREGORIAN
METHOD:PUBLISH
X-ORIGINAL-URL:https://meetings.greysheet.org
X-WR-CALDESC:Events for GreySheeters Anonymous World Services
REFRESH-INTERVAL;VALUE=DURATION:PT1H
X-Robots-Tag:noindex
X-PUBLISHED-TTL:PT1H
BEGIN:VTIMEZONE
TZID:America/New_York
BEGIN:DAYLIGHT
TZOFFSETFROM:-0500
TZOFFSETTO:-0400
TZNAME:EDT
DTSTART:20250309T070000
END:DAYLIGHT
BEGIN:STANDARD
TZOFFSETFROM:-0400
TZOFFSETTO:-0500
TZNAME:EST
DTSTART:20251102T060000
END:STANDARD
BEGIN:DAYLIGHT
TZOFFSETFROM:-0500
TZOFFSETTO:-0400
TZNAME:EDT
DTSTART:20260308T070000
END:DAYLIGHT
BEGIN:STANDARD
TZOFFSETFROM:-0400
TZOFFSETTO:-0500
TZNAME:EST
DTSTART:20261101T060000
END:STANDARD
BEGIN:DAYLIGHT
TZOFFSETFROM:-0500
TZOFFSETTO:-0400
TZNAME:EDT
DTSTART:20270314T070000
END:DAYLIGHT
BEGIN:STANDARD
TZOFFSETFROM:-0400
TZOFFSETTO:-0500
TZNAME:EST
DTSTART:20271107T060000
END:STANDARD
BEGIN:DAYLIGHT
TZOFFSETFROM:-0500
TZOFFSETTO:-0400
TZNAME:EDT
DTSTART:20280312T070000
END:DAYLIGHT
BEGIN:STANDARD
TZOFFSETFROM:-0400
TZOFFSETTO:-0500
TZNAME:EST
DTSTART:20281105T060000
END:STANDARD
END:VTIMEZONE
BEGIN:VEVENT
DTSTART;TZID=America/New_York:20261016T173000
DTEND;TZID=America/New_York:20261016T183000
DTSTAMP:20260425T215731
CREATED:20250503T164132Z
LAST-MODIFIED:20260306T220411Z
UID:10051947-1792171800-1792175400@meetings.greysheet.org
SUMMARY:WE: Without Exception
DESCRIPTION:This is a GreySheet Qualification meeting. The Speaker will qualify for approximately 15 to 20 minutes on their Experience\, Strength\, and Hope related to GreySheet abstinence.
URL:https://meetings.greysheet.org/meeting/we-without-exception/2026-10-16
CATEGORIES:Telephone or Audio
ATTACH;FMTTYPE=image/svg+xml:https://meetings.greysheet.org/wp-content/uploads/2025/05/phone.svg
LOCATION:Phone Number: 712 432 5229, PIN: Phone Bridge
END:VEVENT
BEGIN:VEVENT
DTSTART;TZID=America/New_York:20261023T173000
DTEND;TZID=America/New_York:20261023T183000
DTSTAMP:20260425T215731
CREATED:20250503T164132Z
LAST-MODIFIED:20260306T220411Z
UID:10051948-1792776600-1792780200@meetings.greysheet.org
SUMMARY:WE: Without Exception
DESCRIPTION:This is a GreySheet Qualification meeting. The Speaker will qualify for approximately 15 to 20 minutes on their Experience\, Strength\, and Hope related to GreySheet abstinence.
URL:https://meetings.greysheet.org/meeting/we-without-exception/2026-10-23
CATEGORIES:Telephone or Audio
ATTACH;FMTTYPE=image/svg+xml:https://meetings.greysheet.org/wp-content/uploads/2025/05/phone.svg
LOCATION:Phone Number: 712 432 5229, PIN: Phone Bridge
END:VEVENT
BEGIN:VEVENT
DTSTART;TZID=America/New_York:20261030T173000
DTEND;TZID=America/New_York:20261030T183000
DTSTAMP:20260425T215731
CREATED:20250503T164132Z
LAST-MODIFIED:20260306T220411Z
UID:10051949-1793381400-1793385000@meetings.greysheet.org
SUMMARY:WE: Without Exception
DESCRIPTION:This is a GreySheet Qualification meeting. The Speaker will qualify for approximately 15 to 20 minutes on their Experience\, Strength\, and Hope related to GreySheet abstinence.
URL:https://meetings.greysheet.org/meeting/we-without-exception/2026-10-30
CATEGORIES:Telephone or Audio
ATTACH;FMTTYPE=image/svg+xml:https://meetings.greysheet.org/wp-content/uploads/2025/05/phone.svg
LOCATION:Phone Number: 712 432 5229, PIN: Phone Bridge
END:VEVENT
BEGIN:VEVENT
DTSTART;TZID=America/New_York:20261106T173000
DTEND;TZID=America/New_York:20261106T183000
DTSTAMP:20260425T215731
CREATED:20250503T164132Z
LAST-MODIFIED:20260306T220411Z
UID:10051950-1793986200-1793989800@meetings.greysheet.org
SUMMARY:WE: Without Exception
DESCRIPTION:This is a GreySheet Qualification meeting. The Speaker will qualify for approximately 15 to 20 minutes on their Experience\, Strength\, and Hope related to GreySheet abstinence.
URL:https://meetings.greysheet.org/meeting/we-without-exception/2026-11-06
CATEGORIES:Telephone or Audio
ATTACH;FMTTYPE=image/svg+xml:https://meetings.greysheet.org/wp-content/uploads/2025/05/phone.svg
LOCATION:Phone Number: 712 432 5229, PIN: Phone Bridge
END:VEVENT
BEGIN:VEVENT
DTSTART;TZID=America/New_York:20261113T173000
DTEND;TZID=America/New_York:20261113T183000
DTSTAMP:20260425T215731
CREATED:20250503T164132Z
LAST-MODIFIED:20260306T220411Z
UID:10051951-1794591000-1794594600@meetings.greysheet.org
SUMMARY:WE: Without Exception
DESCRIPTION:This is a GreySheet Qualification meeting. The Speaker will qualify for approximately 15 to 20 minutes on their Experience\, Strength\, and Hope related to GreySheet abstinence.
URL:https://meetings.greysheet.org/meeting/we-without-exception/2026-11-13
CATEGORIES:Telephone or Audio
ATTACH;FMTTYPE=image/svg+xml:https://meetings.greysheet.org/wp-content/uploads/2025/05/phone.svg
LOCATION:Phone Number: 712 432 5229, PIN: Phone Bridge
END:VEVENT
BEGIN:VEVENT
DTSTART;TZID=America/New_York:20261120T173000
DTEND;TZID=America/New_York:20261120T183000
DTSTAMP:20260425T215731
CREATED:20250503T164132Z
LAST-MODIFIED:20260306T220411Z
UID:10051952-1795195800-1795199400@meetings.greysheet.org
SUMMARY:WE: Without Exception
DESCRIPTION:This is a GreySheet Qualification meeting. The Speaker will qualify for approximately 15 to 20 minutes on their Experience\, Strength\, and Hope related to GreySheet abstinence.
URL:https://meetings.greysheet.org/meeting/we-without-exception/2026-11-20
CATEGORIES:Telephone or Audio
ATTACH;FMTTYPE=image/svg+xml:https://meetings.greysheet.org/wp-content/uploads/2025/05/phone.svg
LOCATION:Phone Number: 712 432 5229, PIN: Phone Bridge
END:VEVENT
BEGIN:VEVENT
DTSTART;TZID=America/New_York:20261127T173000
DTEND;TZID=America/New_York:20261127T183000
DTSTAMP:20260425T215731
CREATED:20250503T164132Z
LAST-MODIFIED:20260306T220411Z
UID:10051953-1795800600-1795804200@meetings.greysheet.org
SUMMARY:WE: Without Exception
DESCRIPTION:This is a GreySheet Qualification meeting. The Speaker will qualify for approximately 15 to 20 minutes on their Experience\, Strength\, and Hope related to GreySheet abstinence.
URL:https://meetings.greysheet.org/meeting/we-without-exception/2026-11-27
CATEGORIES:Telephone or Audio
ATTACH;FMTTYPE=image/svg+xml:https://meetings.greysheet.org/wp-content/uploads/2025/05/phone.svg
LOCATION:Phone Number: 712 432 5229, PIN: Phone Bridge
END:VEVENT
BEGIN:VEVENT
DTSTART;TZID=America/New_York:20261204T173000
DTEND;TZID=America/New_York:20261204T183000
DTSTAMP:20260425T215731
CREATED:20250503T164132Z
LAST-MODIFIED:20260306T220411Z
UID:10051954-1796405400-1796409000@meetings.greysheet.org
SUMMARY:WE: Without Exception
DESCRIPTION:This is a GreySheet Qualification meeting. The Speaker will qualify for approximately 15 to 20 minutes on their Experience\, Strength\, and Hope related to GreySheet abstinence.
URL:https://meetings.greysheet.org/meeting/we-without-exception/2026-12-04
CATEGORIES:Telephone or Audio
ATTACH;FMTTYPE=image/svg+xml:https://meetings.greysheet.org/wp-content/uploads/2025/05/phone.svg
LOCATION:Phone Number: 712 432 5229, PIN: Phone Bridge
END:VEVENT
BEGIN:VEVENT
DTSTART;TZID=America/New_York:20261211T173000
DTEND;TZID=America/New_York:20261211T183000
DTSTAMP:20260425T215731
CREATED:20250503T164132Z
LAST-MODIFIED:20260306T220411Z
UID:10051955-1797010200-1797013800@meetings.greysheet.org
SUMMARY:WE: Without Exception
DESCRIPTION:This is a GreySheet Qualification meeting. The Speaker will qualify for approximately 15 to 20 minutes on their Experience\, Strength\, and Hope related to GreySheet abstinence.
URL:https://meetings.greysheet.org/meeting/we-without-exception/2026-12-11
CATEGORIES:Telephone or Audio
ATTACH;FMTTYPE=image/svg+xml:https://meetings.greysheet.org/wp-content/uploads/2025/05/phone.svg
LOCATION:Phone Number: 712 432 5229, PIN: Phone Bridge
END:VEVENT
BEGIN:VEVENT
DTSTART;TZID=America/New_York:20261218T173000
DTEND;TZID=America/New_York:20261218T183000
DTSTAMP:20260425T215731
CREATED:20250503T164132Z
LAST-MODIFIED:20260306T220411Z
UID:10051956-1797615000-1797618600@meetings.greysheet.org
SUMMARY:WE: Without Exception
DESCRIPTION:This is a GreySheet Qualification meeting. The Speaker will qualify for approximately 15 to 20 minutes on their Experience\, Strength\, and Hope related to GreySheet abstinence.
URL:https://meetings.greysheet.org/meeting/we-without-exception/2026-12-18
CATEGORIES:Telephone or Audio
ATTACH;FMTTYPE=image/svg+xml:https://meetings.greysheet.org/wp-content/uploads/2025/05/phone.svg
LOCATION:Phone Number: 712 432 5229, PIN: Phone Bridge
END:VEVENT
BEGIN:VEVENT
DTSTART;TZID=America/New_York:20261225T173000
DTEND;TZID=America/New_York:20261225T183000
DTSTAMP:20260425T215731
CREATED:20250503T164132Z
LAST-MODIFIED:20260306T220411Z
UID:10051957-1798219800-1798223400@meetings.greysheet.org
SUMMARY:WE: Without Exception
DESCRIPTION:This is a GreySheet Qualification meeting. The Speaker will qualify for approximately 15 to 20 minutes on their Experience\, Strength\, and Hope related to GreySheet abstinence.
URL:https://meetings.greysheet.org/meeting/we-without-exception/2026-12-25
CATEGORIES:Telephone or Audio
ATTACH;FMTTYPE=image/svg+xml:https://meetings.greysheet.org/wp-content/uploads/2025/05/phone.svg
LOCATION:Phone Number: 712 432 5229, PIN: Phone Bridge
END:VEVENT
BEGIN:VEVENT
DTSTART;TZID=America/New_York:20270101T173000
DTEND;TZID=America/New_York:20270101T183000
DTSTAMP:20260425T215731
CREATED:20250503T164132Z
LAST-MODIFIED:20260306T220411Z
UID:10051958-1798824600-1798828200@meetings.greysheet.org
SUMMARY:WE: Without Exception
DESCRIPTION:This is a GreySheet Qualification meeting. The Speaker will qualify for approximately 15 to 20 minutes on their Experience\, Strength\, and Hope related to GreySheet abstinence.
URL:https://meetings.greysheet.org/meeting/we-without-exception/2027-01-01
CATEGORIES:Telephone or Audio
ATTACH;FMTTYPE=image/svg+xml:https://meetings.greysheet.org/wp-content/uploads/2025/05/phone.svg
LOCATION:Phone Number: 712 432 5229, PIN: Phone Bridge
END:VEVENT
BEGIN:VEVENT
DTSTART;TZID=America/New_York:20270108T173000
DTEND;TZID=America/New_York:20270108T183000
DTSTAMP:20260425T215731
CREATED:20250503T164132Z
LAST-MODIFIED:20260306T220411Z
UID:10051959-1799429400-1799433000@meetings.greysheet.org
SUMMARY:WE: Without Exception
DESCRIPTION:This is a GreySheet Qualification meeting. The Speaker will qualify for approximately 15 to 20 minutes on their Experience\, Strength\, and Hope related to GreySheet abstinence.
URL:https://meetings.greysheet.org/meeting/we-without-exception/2027-01-08
CATEGORIES:Telephone or Audio
ATTACH;FMTTYPE=image/svg+xml:https://meetings.greysheet.org/wp-content/uploads/2025/05/phone.svg
LOCATION:Phone Number: 712 432 5229, PIN: Phone Bridge
END:VEVENT
BEGIN:VEVENT
DTSTART;TZID=America/New_York:20270115T173000
DTEND;TZID=America/New_York:20270115T183000
DTSTAMP:20260425T215731
CREATED:20250503T164132Z
LAST-MODIFIED:20260306T220411Z
UID:10051960-1800034200-1800037800@meetings.greysheet.org
SUMMARY:WE: Without Exception
DESCRIPTION:This is a GreySheet Qualification meeting. The Speaker will qualify for approximately 15 to 20 minutes on their Experience\, Strength\, and Hope related to GreySheet abstinence.
URL:https://meetings.greysheet.org/meeting/we-without-exception/2027-01-15
CATEGORIES:Telephone or Audio
ATTACH;FMTTYPE=image/svg+xml:https://meetings.greysheet.org/wp-content/uploads/2025/05/phone.svg
LOCATION:Phone Number: 712 432 5229, PIN: Phone Bridge
END:VEVENT
BEGIN:VEVENT
DTSTART;TZID=America/New_York:20270122T173000
DTEND;TZID=America/New_York:20270122T183000
DTSTAMP:20260425T215731
CREATED:20250503T164132Z
LAST-MODIFIED:20260306T220411Z
UID:10051961-1800639000-1800642600@meetings.greysheet.org
SUMMARY:WE: Without Exception
DESCRIPTION:This is a GreySheet Qualification meeting. The Speaker will qualify for approximately 15 to 20 minutes on their Experience\, Strength\, and Hope related to GreySheet abstinence.
URL:https://meetings.greysheet.org/meeting/we-without-exception/2027-01-22
CATEGORIES:Telephone or Audio
ATTACH;FMTTYPE=image/svg+xml:https://meetings.greysheet.org/wp-content/uploads/2025/05/phone.svg
LOCATION:Phone Number: 712 432 5229, PIN: Phone Bridge
END:VEVENT
BEGIN:VEVENT
DTSTART;TZID=America/New_York:20270129T173000
DTEND;TZID=America/New_York:20270129T183000
DTSTAMP:20260425T215731
CREATED:20250503T164132Z
LAST-MODIFIED:20260306T220411Z
UID:10051962-1801243800-1801247400@meetings.greysheet.org
SUMMARY:WE: Without Exception
DESCRIPTION:This is a GreySheet Qualification meeting. The Speaker will qualify for approximately 15 to 20 minutes on their Experience\, Strength\, and Hope related to GreySheet abstinence.
URL:https://meetings.greysheet.org/meeting/we-without-exception/2027-01-29
CATEGORIES:Telephone or Audio
ATTACH;FMTTYPE=image/svg+xml:https://meetings.greysheet.org/wp-content/uploads/2025/05/phone.svg
LOCATION:Phone Number: 712 432 5229, PIN: Phone Bridge
END:VEVENT
BEGIN:VEVENT
DTSTART;TZID=America/New_York:20270205T173000
DTEND;TZID=America/New_York:20270205T183000
DTSTAMP:20260425T215731
CREATED:20250503T164132Z
LAST-MODIFIED:20260306T220411Z
UID:10051963-1801848600-1801852200@meetings.greysheet.org
SUMMARY:WE: Without Exception
DESCRIPTION:This is a GreySheet Qualification meeting. The Speaker will qualify for approximately 15 to 20 minutes on their Experience\, Strength\, and Hope related to GreySheet abstinence.
URL:https://meetings.greysheet.org/meeting/we-without-exception/2027-02-05
CATEGORIES:Telephone or Audio
ATTACH;FMTTYPE=image/svg+xml:https://meetings.greysheet.org/wp-content/uploads/2025/05/phone.svg
LOCATION:Phone Number: 712 432 5229, PIN: Phone Bridge
END:VEVENT
BEGIN:VEVENT
DTSTART;TZID=America/New_York:20270212T173000
DTEND;TZID=America/New_York:20270212T183000
DTSTAMP:20260425T215731
CREATED:20250503T164132Z
LAST-MODIFIED:20260306T220411Z
UID:10051964-1802453400-1802457000@meetings.greysheet.org
SUMMARY:WE: Without Exception
DESCRIPTION:This is a GreySheet Qualification meeting. The Speaker will qualify for approximately 15 to 20 minutes on their Experience\, Strength\, and Hope related to GreySheet abstinence.
URL:https://meetings.greysheet.org/meeting/we-without-exception/2027-02-12
CATEGORIES:Telephone or Audio
ATTACH;FMTTYPE=image/svg+xml:https://meetings.greysheet.org/wp-content/uploads/2025/05/phone.svg
LOCATION:Phone Number: 712 432 5229, PIN: Phone Bridge
END:VEVENT
BEGIN:VEVENT
DTSTART;TZID=America/New_York:20270219T173000
DTEND;TZID=America/New_York:20270219T183000
DTSTAMP:20260425T215731
CREATED:20250503T164132Z
LAST-MODIFIED:20260306T220411Z
UID:10051965-1803058200-1803061800@meetings.greysheet.org
SUMMARY:WE: Without Exception
DESCRIPTION:This is a GreySheet Qualification meeting. The Speaker will qualify for approximately 15 to 20 minutes on their Experience\, Strength\, and Hope related to GreySheet abstinence.
URL:https://meetings.greysheet.org/meeting/we-without-exception/2027-02-19
CATEGORIES:Telephone or Audio
ATTACH;FMTTYPE=image/svg+xml:https://meetings.greysheet.org/wp-content/uploads/2025/05/phone.svg
LOCATION:Phone Number: 712 432 5229, PIN: Phone Bridge
END:VEVENT
BEGIN:VEVENT
DTSTART;TZID=America/New_York:20270226T173000
DTEND;TZID=America/New_York:20270226T183000
DTSTAMP:20260425T215731
CREATED:20250503T164132Z
LAST-MODIFIED:20260306T220411Z
UID:10051966-1803663000-1803666600@meetings.greysheet.org
SUMMARY:WE: Without Exception
DESCRIPTION:This is a GreySheet Qualification meeting. The Speaker will qualify for approximately 15 to 20 minutes on their Experience\, Strength\, and Hope related to GreySheet abstinence.
URL:https://meetings.greysheet.org/meeting/we-without-exception/2027-02-26
CATEGORIES:Telephone or Audio
ATTACH;FMTTYPE=image/svg+xml:https://meetings.greysheet.org/wp-content/uploads/2025/05/phone.svg
LOCATION:Phone Number: 712 432 5229, PIN: Phone Bridge
END:VEVENT
BEGIN:VEVENT
DTSTART;TZID=America/New_York:20270305T173000
DTEND;TZID=America/New_York:20270305T183000
DTSTAMP:20260425T215731
CREATED:20250503T164132Z
LAST-MODIFIED:20260306T220411Z
UID:10051967-1804267800-1804271400@meetings.greysheet.org
SUMMARY:WE: Without Exception
DESCRIPTION:This is a GreySheet Qualification meeting. The Speaker will qualify for approximately 15 to 20 minutes on their Experience\, Strength\, and Hope related to GreySheet abstinence.
URL:https://meetings.greysheet.org/meeting/we-without-exception/2027-03-05
CATEGORIES:Telephone or Audio
ATTACH;FMTTYPE=image/svg+xml:https://meetings.greysheet.org/wp-content/uploads/2025/05/phone.svg
LOCATION:Phone Number: 712 432 5229, PIN: Phone Bridge
END:VEVENT
BEGIN:VEVENT
DTSTART;TZID=America/New_York:20270312T173000
DTEND;TZID=America/New_York:20270312T183000
DTSTAMP:20260425T215731
CREATED:20250503T164132Z
LAST-MODIFIED:20260306T220411Z
UID:10051968-1804872600-1804876200@meetings.greysheet.org
SUMMARY:WE: Without Exception
DESCRIPTION:This is a GreySheet Qualification meeting. The Speaker will qualify for approximately 15 to 20 minutes on their Experience\, Strength\, and Hope related to GreySheet abstinence.
URL:https://meetings.greysheet.org/meeting/we-without-exception/2027-03-12
CATEGORIES:Telephone or Audio
ATTACH;FMTTYPE=image/svg+xml:https://meetings.greysheet.org/wp-content/uploads/2025/05/phone.svg
LOCATION:Phone Number: 712 432 5229, PIN: Phone Bridge
END:VEVENT
BEGIN:VEVENT
DTSTART;TZID=America/New_York:20270319T173000
DTEND;TZID=America/New_York:20270319T183000
DTSTAMP:20260425T215731
CREATED:20250503T164132Z
LAST-MODIFIED:20260306T220411Z
UID:10051969-1805477400-1805481000@meetings.greysheet.org
SUMMARY:WE: Without Exception
DESCRIPTION:This is a GreySheet Qualification meeting. The Speaker will qualify for approximately 15 to 20 minutes on their Experience\, Strength\, and Hope related to GreySheet abstinence.
URL:https://meetings.greysheet.org/meeting/we-without-exception/2027-03-19
CATEGORIES:Telephone or Audio
ATTACH;FMTTYPE=image/svg+xml:https://meetings.greysheet.org/wp-content/uploads/2025/05/phone.svg
LOCATION:Phone Number: 712 432 5229, PIN: Phone Bridge
END:VEVENT
BEGIN:VEVENT
DTSTART;TZID=America/New_York:20270326T173000
DTEND;TZID=America/New_York:20270326T183000
DTSTAMP:20260425T215731
CREATED:20250503T164132Z
LAST-MODIFIED:20260306T220411Z
UID:10051970-1806082200-1806085800@meetings.greysheet.org
SUMMARY:WE: Without Exception
DESCRIPTION:This is a GreySheet Qualification meeting. The Speaker will qualify for approximately 15 to 20 minutes on their Experience\, Strength\, and Hope related to GreySheet abstinence.
URL:https://meetings.greysheet.org/meeting/we-without-exception/2027-03-26
CATEGORIES:Telephone or Audio
ATTACH;FMTTYPE=image/svg+xml:https://meetings.greysheet.org/wp-content/uploads/2025/05/phone.svg
LOCATION:Phone Number: 712 432 5229, PIN: Phone Bridge
END:VEVENT
BEGIN:VEVENT
DTSTART;TZID=America/New_York:20270402T173000
DTEND;TZID=America/New_York:20270402T183000
DTSTAMP:20260425T215731
CREATED:20250503T164132Z
LAST-MODIFIED:20260306T220411Z
UID:10051971-1806687000-1806690600@meetings.greysheet.org
SUMMARY:WE: Without Exception
DESCRIPTION:This is a GreySheet Qualification meeting. The Speaker will qualify for approximately 15 to 20 minutes on their Experience\, Strength\, and Hope related to GreySheet abstinence.
URL:https://meetings.greysheet.org/meeting/we-without-exception/2027-04-02
CATEGORIES:Telephone or Audio
ATTACH;FMTTYPE=image/svg+xml:https://meetings.greysheet.org/wp-content/uploads/2025/05/phone.svg
LOCATION:Phone Number: 712 432 5229, PIN: Phone Bridge
END:VEVENT
BEGIN:VEVENT
DTSTART;TZID=America/New_York:20270409T173000
DTEND;TZID=America/New_York:20270409T183000
DTSTAMP:20260425T215731
CREATED:20250503T164132Z
LAST-MODIFIED:20260306T220411Z
UID:10051972-1807291800-1807295400@meetings.greysheet.org
SUMMARY:WE: Without Exception
DESCRIPTION:This is a GreySheet Qualification meeting. The Speaker will qualify for approximately 15 to 20 minutes on their Experience\, Strength\, and Hope related to GreySheet abstinence.
URL:https://meetings.greysheet.org/meeting/we-without-exception/2027-04-09
CATEGORIES:Telephone or Audio
ATTACH;FMTTYPE=image/svg+xml:https://meetings.greysheet.org/wp-content/uploads/2025/05/phone.svg
LOCATION:Phone Number: 712 432 5229, PIN: Phone Bridge
END:VEVENT
BEGIN:VEVENT
DTSTART;TZID=America/New_York:20270416T173000
DTEND;TZID=America/New_York:20270416T183000
DTSTAMP:20260425T215731
CREATED:20250503T164132Z
LAST-MODIFIED:20260306T220411Z
UID:10051973-1807896600-1807900200@meetings.greysheet.org
SUMMARY:WE: Without Exception
DESCRIPTION:This is a GreySheet Qualification meeting. The Speaker will qualify for approximately 15 to 20 minutes on their Experience\, Strength\, and Hope related to GreySheet abstinence.
URL:https://meetings.greysheet.org/meeting/we-without-exception/2027-04-16
CATEGORIES:Telephone or Audio
ATTACH;FMTTYPE=image/svg+xml:https://meetings.greysheet.org/wp-content/uploads/2025/05/phone.svg
LOCATION:Phone Number: 712 432 5229, PIN: Phone Bridge
END:VEVENT
BEGIN:VEVENT
DTSTART;TZID=America/New_York:20270423T173000
DTEND;TZID=America/New_York:20270423T183000
DTSTAMP:20260425T215731
CREATED:20250503T164132Z
LAST-MODIFIED:20260306T220411Z
UID:10051974-1808501400-1808505000@meetings.greysheet.org
SUMMARY:WE: Without Exception
DESCRIPTION:This is a GreySheet Qualification meeting. The Speaker will qualify for approximately 15 to 20 minutes on their Experience\, Strength\, and Hope related to GreySheet abstinence.
URL:https://meetings.greysheet.org/meeting/we-without-exception/2027-04-23
CATEGORIES:Telephone or Audio
ATTACH;FMTTYPE=image/svg+xml:https://meetings.greysheet.org/wp-content/uploads/2025/05/phone.svg
LOCATION:Phone Number: 712 432 5229, PIN: Phone Bridge
END:VEVENT
BEGIN:VEVENT
DTSTART;TZID=America/New_York:20270430T173000
DTEND;TZID=America/New_York:20270430T183000
DTSTAMP:20260425T215731
CREATED:20250503T164132Z
LAST-MODIFIED:20260306T220411Z
UID:10051975-1809106200-1809109800@meetings.greysheet.org
SUMMARY:WE: Without Exception
DESCRIPTION:This is a GreySheet Qualification meeting. The Speaker will qualify for approximately 15 to 20 minutes on their Experience\, Strength\, and Hope related to GreySheet abstinence.
URL:https://meetings.greysheet.org/meeting/we-without-exception/2027-04-30
CATEGORIES:Telephone or Audio
ATTACH;FMTTYPE=image/svg+xml:https://meetings.greysheet.org/wp-content/uploads/2025/05/phone.svg
LOCATION:Phone Number: 712 432 5229, PIN: Phone Bridge
END:VEVENT
BEGIN:VEVENT
DTSTART;TZID=America/New_York:20270507T173000
DTEND;TZID=America/New_York:20270507T183000
DTSTAMP:20260425T215731
CREATED:20250503T164132Z
LAST-MODIFIED:20260306T220411Z
UID:10051976-1809711000-1809714600@meetings.greysheet.org
SUMMARY:WE: Without Exception
DESCRIPTION:This is a GreySheet Qualification meeting. The Speaker will qualify for approximately 15 to 20 minutes on their Experience\, Strength\, and Hope related to GreySheet abstinence.
URL:https://meetings.greysheet.org/meeting/we-without-exception/2027-05-07
CATEGORIES:Telephone or Audio
ATTACH;FMTTYPE=image/svg+xml:https://meetings.greysheet.org/wp-content/uploads/2025/05/phone.svg
LOCATION:Phone Number: 712 432 5229, PIN: Phone Bridge
END:VEVENT
END:VCALENDAR