BEGIN:VCALENDAR
VERSION:2.0
PRODID:-//GreySheeters Anonymous World Services - ECPv6.15.20//NONSGML v1.0//EN
CALSCALE:GREGORIAN
METHOD:PUBLISH
X-ORIGINAL-URL:https://meetings.greysheet.org
X-WR-CALDESC:Events for GreySheeters Anonymous World Services
REFRESH-INTERVAL;VALUE=DURATION:PT1H
X-Robots-Tag:noindex
X-PUBLISHED-TTL:PT1H
BEGIN:VTIMEZONE
TZID:America/New_York
BEGIN:DAYLIGHT
TZOFFSETFROM:-0500
TZOFFSETTO:-0400
TZNAME:EDT
DTSTART:20240310T070000
END:DAYLIGHT
BEGIN:STANDARD
TZOFFSETFROM:-0400
TZOFFSETTO:-0500
TZNAME:EST
DTSTART:20241103T060000
END:STANDARD
BEGIN:DAYLIGHT
TZOFFSETFROM:-0500
TZOFFSETTO:-0400
TZNAME:EDT
DTSTART:20250309T070000
END:DAYLIGHT
BEGIN:STANDARD
TZOFFSETFROM:-0400
TZOFFSETTO:-0500
TZNAME:EST
DTSTART:20251102T060000
END:STANDARD
BEGIN:DAYLIGHT
TZOFFSETFROM:-0500
TZOFFSETTO:-0400
TZNAME:EDT
DTSTART:20260308T070000
END:DAYLIGHT
BEGIN:STANDARD
TZOFFSETFROM:-0400
TZOFFSETTO:-0500
TZNAME:EST
DTSTART:20261101T060000
END:STANDARD
BEGIN:DAYLIGHT
TZOFFSETFROM:-0500
TZOFFSETTO:-0400
TZNAME:EDT
DTSTART:20270314T070000
END:DAYLIGHT
BEGIN:STANDARD
TZOFFSETFROM:-0400
TZOFFSETTO:-0500
TZNAME:EST
DTSTART:20271107T060000
END:STANDARD
END:VTIMEZONE
BEGIN:VEVENT
DTSTART;TZID=America/New_York:20260417T120000
DTEND;TZID=America/New_York:20260417T130000
DTSTAMP:20260419T201027
CREATED:20250503T164202Z
LAST-MODIFIED:20260308T160532Z
UID:10052452-1776427200-1776430800@meetings.greysheet.org
SUMMARY:Living Abstinent FRI 1200
DESCRIPTION:We read one chapter from Living Abstinent each week\, followed by a ten minute qualification\, followed by 2 minute timed shares.
URL:https://meetings.greysheet.org/meeting/living-abstinent-fri/2026-04-17
CATEGORIES:Telephone or Audio
ATTACH;FMTTYPE=image/svg+xml:https://meetings.greysheet.org/wp-content/uploads/2025/05/phone.svg
LOCATION:Phone Number: 712 432 5229, PIN: Phone Bridge
END:VEVENT
BEGIN:VEVENT
DTSTART;TZID=America/New_York:20260410T120000
DTEND;TZID=America/New_York:20260410T130000
DTSTAMP:20260419T201027
CREATED:20250503T164202Z
LAST-MODIFIED:20260308T160532Z
UID:10052451-1775822400-1775826000@meetings.greysheet.org
SUMMARY:Living Abstinent FRI 1200
DESCRIPTION:We read one chapter from Living Abstinent each week\, followed by a ten minute qualification\, followed by 2 minute timed shares.
URL:https://meetings.greysheet.org/meeting/living-abstinent-fri/2026-04-10
CATEGORIES:Telephone or Audio
ATTACH;FMTTYPE=image/svg+xml:https://meetings.greysheet.org/wp-content/uploads/2025/05/phone.svg
LOCATION:Phone Number: 712 432 5229, PIN: Phone Bridge
END:VEVENT
BEGIN:VEVENT
DTSTART;TZID=America/New_York:20260403T120000
DTEND;TZID=America/New_York:20260403T130000
DTSTAMP:20260419T201027
CREATED:20250503T164202Z
LAST-MODIFIED:20260308T160532Z
UID:10052450-1775217600-1775221200@meetings.greysheet.org
SUMMARY:Living Abstinent FRI 1200
DESCRIPTION:We read one chapter from Living Abstinent each week\, followed by a ten minute qualification\, followed by 2 minute timed shares.
URL:https://meetings.greysheet.org/meeting/living-abstinent-fri/2026-04-03
CATEGORIES:Telephone or Audio
ATTACH;FMTTYPE=image/svg+xml:https://meetings.greysheet.org/wp-content/uploads/2025/05/phone.svg
LOCATION:Phone Number: 712 432 5229, PIN: Phone Bridge
END:VEVENT
BEGIN:VEVENT
DTSTART;TZID=America/New_York:20260327T120000
DTEND;TZID=America/New_York:20260327T130000
DTSTAMP:20260419T201027
CREATED:20250503T164202Z
LAST-MODIFIED:20260308T160532Z
UID:10052449-1774612800-1774616400@meetings.greysheet.org
SUMMARY:Living Abstinent FRI 1200
DESCRIPTION:We read one chapter from Living Abstinent each week\, followed by a ten minute qualification\, followed by 2 minute timed shares.
URL:https://meetings.greysheet.org/meeting/living-abstinent-fri/2026-03-27
CATEGORIES:Telephone or Audio
ATTACH;FMTTYPE=image/svg+xml:https://meetings.greysheet.org/wp-content/uploads/2025/05/phone.svg
LOCATION:Phone Number: 712 432 5229, PIN: Phone Bridge
END:VEVENT
BEGIN:VEVENT
DTSTART;TZID=America/New_York:20260320T120000
DTEND;TZID=America/New_York:20260320T130000
DTSTAMP:20260419T201027
CREATED:20250503T164202Z
LAST-MODIFIED:20260308T160532Z
UID:10052448-1774008000-1774011600@meetings.greysheet.org
SUMMARY:Living Abstinent FRI 1200
DESCRIPTION:We read one chapter from Living Abstinent each week\, followed by a ten minute qualification\, followed by 2 minute timed shares.
URL:https://meetings.greysheet.org/meeting/living-abstinent-fri/2026-03-20
CATEGORIES:Telephone or Audio
ATTACH;FMTTYPE=image/svg+xml:https://meetings.greysheet.org/wp-content/uploads/2025/05/phone.svg
LOCATION:Phone Number: 712 432 5229, PIN: Phone Bridge
END:VEVENT
BEGIN:VEVENT
DTSTART;TZID=America/New_York:20260313T120000
DTEND;TZID=America/New_York:20260313T130000
DTSTAMP:20260419T201027
CREATED:20250503T164202Z
LAST-MODIFIED:20260308T160532Z
UID:10052447-1773403200-1773406800@meetings.greysheet.org
SUMMARY:Living Abstinent FRI 1200
DESCRIPTION:We read one chapter from Living Abstinent each week\, followed by a ten minute qualification\, followed by 2 minute timed shares.
URL:https://meetings.greysheet.org/meeting/living-abstinent-fri/2026-03-13
CATEGORIES:Telephone or Audio
ATTACH;FMTTYPE=image/svg+xml:https://meetings.greysheet.org/wp-content/uploads/2025/05/phone.svg
LOCATION:Phone Number: 712 432 5229, PIN: Phone Bridge
END:VEVENT
BEGIN:VEVENT
DTSTART;TZID=America/New_York:20260306T120000
DTEND;TZID=America/New_York:20260306T130000
DTSTAMP:20260419T201027
CREATED:20250503T164202Z
LAST-MODIFIED:20260308T160532Z
UID:10052446-1772798400-1772802000@meetings.greysheet.org
SUMMARY:Living Abstinent FRI 1200
DESCRIPTION:We read one chapter from Living Abstinent each week\, followed by a ten minute qualification\, followed by 2 minute timed shares.
URL:https://meetings.greysheet.org/meeting/living-abstinent-fri/2026-03-06
CATEGORIES:Telephone or Audio
ATTACH;FMTTYPE=image/svg+xml:https://meetings.greysheet.org/wp-content/uploads/2025/05/phone.svg
LOCATION:Phone Number: 712 432 5229, PIN: Phone Bridge
END:VEVENT
BEGIN:VEVENT
DTSTART;TZID=America/New_York:20260227T120000
DTEND;TZID=America/New_York:20260227T130000
DTSTAMP:20260419T201027
CREATED:20250503T164202Z
LAST-MODIFIED:20260308T160532Z
UID:10052445-1772193600-1772197200@meetings.greysheet.org
SUMMARY:Living Abstinent FRI 1200
DESCRIPTION:We read one chapter from Living Abstinent each week\, followed by a ten minute qualification\, followed by 2 minute timed shares.
URL:https://meetings.greysheet.org/meeting/living-abstinent-fri/2026-02-27
CATEGORIES:Telephone or Audio
ATTACH;FMTTYPE=image/svg+xml:https://meetings.greysheet.org/wp-content/uploads/2025/05/phone.svg
LOCATION:Phone Number: 712 432 5229, PIN: Phone Bridge
END:VEVENT
BEGIN:VEVENT
DTSTART;TZID=America/New_York:20260220T120000
DTEND;TZID=America/New_York:20260220T130000
DTSTAMP:20260419T201027
CREATED:20250503T164202Z
LAST-MODIFIED:20260308T160532Z
UID:10052444-1771588800-1771592400@meetings.greysheet.org
SUMMARY:Living Abstinent FRI 1200
DESCRIPTION:We read one chapter from Living Abstinent each week\, followed by a ten minute qualification\, followed by 2 minute timed shares.
URL:https://meetings.greysheet.org/meeting/living-abstinent-fri/2026-02-20
CATEGORIES:Telephone or Audio
ATTACH;FMTTYPE=image/svg+xml:https://meetings.greysheet.org/wp-content/uploads/2025/05/phone.svg
LOCATION:Phone Number: 712 432 5229, PIN: Phone Bridge
END:VEVENT
BEGIN:VEVENT
DTSTART;TZID=America/New_York:20260213T120000
DTEND;TZID=America/New_York:20260213T130000
DTSTAMP:20260419T201027
CREATED:20250503T164202Z
LAST-MODIFIED:20260308T160532Z
UID:10052443-1770984000-1770987600@meetings.greysheet.org
SUMMARY:Living Abstinent FRI 1200
DESCRIPTION:We read one chapter from Living Abstinent each week\, followed by a ten minute qualification\, followed by 2 minute timed shares.
URL:https://meetings.greysheet.org/meeting/living-abstinent-fri/2026-02-13
CATEGORIES:Telephone or Audio
ATTACH;FMTTYPE=image/svg+xml:https://meetings.greysheet.org/wp-content/uploads/2025/05/phone.svg
LOCATION:Phone Number: 712 432 5229, PIN: Phone Bridge
END:VEVENT
BEGIN:VEVENT
DTSTART;TZID=America/New_York:20260206T120000
DTEND;TZID=America/New_York:20260206T130000
DTSTAMP:20260419T201027
CREATED:20250503T164202Z
LAST-MODIFIED:20260308T160532Z
UID:10052442-1770379200-1770382800@meetings.greysheet.org
SUMMARY:Living Abstinent FRI 1200
DESCRIPTION:We read one chapter from Living Abstinent each week\, followed by a ten minute qualification\, followed by 2 minute timed shares.
URL:https://meetings.greysheet.org/meeting/living-abstinent-fri/2026-02-06
CATEGORIES:Telephone or Audio
ATTACH;FMTTYPE=image/svg+xml:https://meetings.greysheet.org/wp-content/uploads/2025/05/phone.svg
LOCATION:Phone Number: 712 432 5229, PIN: Phone Bridge
END:VEVENT
BEGIN:VEVENT
DTSTART;TZID=America/New_York:20260130T120000
DTEND;TZID=America/New_York:20260130T130000
DTSTAMP:20260419T201027
CREATED:20250503T164202Z
LAST-MODIFIED:20260308T160532Z
UID:10052441-1769774400-1769778000@meetings.greysheet.org
SUMMARY:Living Abstinent FRI 1200
DESCRIPTION:We read one chapter from Living Abstinent each week\, followed by a ten minute qualification\, followed by 2 minute timed shares.
URL:https://meetings.greysheet.org/meeting/living-abstinent-fri/2026-01-30
CATEGORIES:Telephone or Audio
ATTACH;FMTTYPE=image/svg+xml:https://meetings.greysheet.org/wp-content/uploads/2025/05/phone.svg
LOCATION:Phone Number: 712 432 5229, PIN: Phone Bridge
END:VEVENT
BEGIN:VEVENT
DTSTART;TZID=America/New_York:20260123T120000
DTEND;TZID=America/New_York:20260123T130000
DTSTAMP:20260419T201027
CREATED:20250503T164202Z
LAST-MODIFIED:20260308T160532Z
UID:10052440-1769169600-1769173200@meetings.greysheet.org
SUMMARY:Living Abstinent FRI 1200
DESCRIPTION:We read one chapter from Living Abstinent each week\, followed by a ten minute qualification\, followed by 2 minute timed shares.
URL:https://meetings.greysheet.org/meeting/living-abstinent-fri/2026-01-23
CATEGORIES:Telephone or Audio
ATTACH;FMTTYPE=image/svg+xml:https://meetings.greysheet.org/wp-content/uploads/2025/05/phone.svg
LOCATION:Phone Number: 712 432 5229, PIN: Phone Bridge
END:VEVENT
BEGIN:VEVENT
DTSTART;TZID=America/New_York:20260116T120000
DTEND;TZID=America/New_York:20260116T130000
DTSTAMP:20260419T201027
CREATED:20250503T164202Z
LAST-MODIFIED:20260308T160532Z
UID:10052439-1768564800-1768568400@meetings.greysheet.org
SUMMARY:Living Abstinent FRI 1200
DESCRIPTION:We read one chapter from Living Abstinent each week\, followed by a ten minute qualification\, followed by 2 minute timed shares.
URL:https://meetings.greysheet.org/meeting/living-abstinent-fri/2026-01-16
CATEGORIES:Telephone or Audio
ATTACH;FMTTYPE=image/svg+xml:https://meetings.greysheet.org/wp-content/uploads/2025/05/phone.svg
LOCATION:Phone Number: 712 432 5229, PIN: Phone Bridge
END:VEVENT
BEGIN:VEVENT
DTSTART;TZID=America/New_York:20260109T120000
DTEND;TZID=America/New_York:20260109T130000
DTSTAMP:20260419T201027
CREATED:20250503T164202Z
LAST-MODIFIED:20260308T160532Z
UID:10052438-1767960000-1767963600@meetings.greysheet.org
SUMMARY:Living Abstinent FRI 1200
DESCRIPTION:We read one chapter from Living Abstinent each week\, followed by a ten minute qualification\, followed by 2 minute timed shares.
URL:https://meetings.greysheet.org/meeting/living-abstinent-fri/2026-01-09
CATEGORIES:Telephone or Audio
ATTACH;FMTTYPE=image/svg+xml:https://meetings.greysheet.org/wp-content/uploads/2025/05/phone.svg
LOCATION:Phone Number: 712 432 5229, PIN: Phone Bridge
END:VEVENT
BEGIN:VEVENT
DTSTART;TZID=America/New_York:20260102T120000
DTEND;TZID=America/New_York:20260102T130000
DTSTAMP:20260419T201027
CREATED:20250503T164202Z
LAST-MODIFIED:20260308T160532Z
UID:10052437-1767355200-1767358800@meetings.greysheet.org
SUMMARY:Living Abstinent FRI 1200
DESCRIPTION:We read one chapter from Living Abstinent each week\, followed by a ten minute qualification\, followed by 2 minute timed shares.
URL:https://meetings.greysheet.org/meeting/living-abstinent-fri/2026-01-02
CATEGORIES:Telephone or Audio
ATTACH;FMTTYPE=image/svg+xml:https://meetings.greysheet.org/wp-content/uploads/2025/05/phone.svg
LOCATION:Phone Number: 712 432 5229, PIN: Phone Bridge
END:VEVENT
BEGIN:VEVENT
DTSTART;TZID=America/New_York:20251226T120000
DTEND;TZID=America/New_York:20251226T130000
DTSTAMP:20260419T201027
CREATED:20250503T164202Z
LAST-MODIFIED:20260308T160532Z
UID:10052436-1766750400-1766754000@meetings.greysheet.org
SUMMARY:Living Abstinent FRI 1200
DESCRIPTION:We read one chapter from Living Abstinent each week\, followed by a ten minute qualification\, followed by 2 minute timed shares.
URL:https://meetings.greysheet.org/meeting/living-abstinent-fri/2025-12-26
CATEGORIES:Telephone or Audio
ATTACH;FMTTYPE=image/svg+xml:https://meetings.greysheet.org/wp-content/uploads/2025/05/phone.svg
LOCATION:Phone Number: 712 432 5229, PIN: Phone Bridge
END:VEVENT
BEGIN:VEVENT
DTSTART;TZID=America/New_York:20251219T120000
DTEND;TZID=America/New_York:20251219T130000
DTSTAMP:20260419T201027
CREATED:20250503T164202Z
LAST-MODIFIED:20260308T160532Z
UID:10052435-1766145600-1766149200@meetings.greysheet.org
SUMMARY:Living Abstinent FRI 1200
DESCRIPTION:We read one chapter from Living Abstinent each week\, followed by a ten minute qualification\, followed by 2 minute timed shares.
URL:https://meetings.greysheet.org/meeting/living-abstinent-fri/2025-12-19
CATEGORIES:Telephone or Audio
ATTACH;FMTTYPE=image/svg+xml:https://meetings.greysheet.org/wp-content/uploads/2025/05/phone.svg
LOCATION:Phone Number: 712 432 5229, PIN: Phone Bridge
END:VEVENT
BEGIN:VEVENT
DTSTART;TZID=America/New_York:20251212T120000
DTEND;TZID=America/New_York:20251212T130000
DTSTAMP:20260419T201027
CREATED:20250503T164202Z
LAST-MODIFIED:20260308T160532Z
UID:10052434-1765540800-1765544400@meetings.greysheet.org
SUMMARY:Living Abstinent FRI 1200
DESCRIPTION:We read one chapter from Living Abstinent each week\, followed by a ten minute qualification\, followed by 2 minute timed shares.
URL:https://meetings.greysheet.org/meeting/living-abstinent-fri/2025-12-12
CATEGORIES:Telephone or Audio
ATTACH;FMTTYPE=image/svg+xml:https://meetings.greysheet.org/wp-content/uploads/2025/05/phone.svg
LOCATION:Phone Number: 712 432 5229, PIN: Phone Bridge
END:VEVENT
BEGIN:VEVENT
DTSTART;TZID=America/New_York:20251205T120000
DTEND;TZID=America/New_York:20251205T130000
DTSTAMP:20260419T201027
CREATED:20250503T164202Z
LAST-MODIFIED:20260308T160532Z
UID:10052433-1764936000-1764939600@meetings.greysheet.org
SUMMARY:Living Abstinent FRI 1200
DESCRIPTION:We read one chapter from Living Abstinent each week\, followed by a ten minute qualification\, followed by 2 minute timed shares.
URL:https://meetings.greysheet.org/meeting/living-abstinent-fri/2025-12-05
CATEGORIES:Telephone or Audio
ATTACH;FMTTYPE=image/svg+xml:https://meetings.greysheet.org/wp-content/uploads/2025/05/phone.svg
LOCATION:Phone Number: 712 432 5229, PIN: Phone Bridge
END:VEVENT
BEGIN:VEVENT
DTSTART;TZID=America/New_York:20251128T120000
DTEND;TZID=America/New_York:20251128T130000
DTSTAMP:20260419T201027
CREATED:20250503T164202Z
LAST-MODIFIED:20260308T160532Z
UID:10052432-1764331200-1764334800@meetings.greysheet.org
SUMMARY:Living Abstinent FRI 1200
DESCRIPTION:We read one chapter from Living Abstinent each week\, followed by a ten minute qualification\, followed by 2 minute timed shares.
URL:https://meetings.greysheet.org/meeting/living-abstinent-fri/2025-11-28
CATEGORIES:Telephone or Audio
ATTACH;FMTTYPE=image/svg+xml:https://meetings.greysheet.org/wp-content/uploads/2025/05/phone.svg
LOCATION:Phone Number: 712 432 5229, PIN: Phone Bridge
END:VEVENT
BEGIN:VEVENT
DTSTART;TZID=America/New_York:20251121T120000
DTEND;TZID=America/New_York:20251121T130000
DTSTAMP:20260419T201027
CREATED:20250503T164202Z
LAST-MODIFIED:20260308T160532Z
UID:10052431-1763726400-1763730000@meetings.greysheet.org
SUMMARY:Living Abstinent FRI 1200
DESCRIPTION:We read one chapter from Living Abstinent each week\, followed by a ten minute qualification\, followed by 2 minute timed shares.
URL:https://meetings.greysheet.org/meeting/living-abstinent-fri/2025-11-21
CATEGORIES:Telephone or Audio
ATTACH;FMTTYPE=image/svg+xml:https://meetings.greysheet.org/wp-content/uploads/2025/05/phone.svg
LOCATION:Phone Number: 712 432 5229, PIN: Phone Bridge
END:VEVENT
BEGIN:VEVENT
DTSTART;TZID=America/New_York:20251114T120000
DTEND;TZID=America/New_York:20251114T130000
DTSTAMP:20260419T201027
CREATED:20250503T164202Z
LAST-MODIFIED:20260308T160532Z
UID:10052430-1763121600-1763125200@meetings.greysheet.org
SUMMARY:Living Abstinent FRI 1200
DESCRIPTION:We read one chapter from Living Abstinent each week\, followed by a ten minute qualification\, followed by 2 minute timed shares.
URL:https://meetings.greysheet.org/meeting/living-abstinent-fri/2025-11-14
CATEGORIES:Telephone or Audio
ATTACH;FMTTYPE=image/svg+xml:https://meetings.greysheet.org/wp-content/uploads/2025/05/phone.svg
LOCATION:Phone Number: 712 432 5229, PIN: Phone Bridge
END:VEVENT
BEGIN:VEVENT
DTSTART;TZID=America/New_York:20251107T120000
DTEND;TZID=America/New_York:20251107T130000
DTSTAMP:20260419T201027
CREATED:20250503T164202Z
LAST-MODIFIED:20260308T160532Z
UID:10052429-1762516800-1762520400@meetings.greysheet.org
SUMMARY:Living Abstinent FRI 1200
DESCRIPTION:We read one chapter from Living Abstinent each week\, followed by a ten minute qualification\, followed by 2 minute timed shares.
URL:https://meetings.greysheet.org/meeting/living-abstinent-fri/2025-11-07
CATEGORIES:Telephone or Audio
ATTACH;FMTTYPE=image/svg+xml:https://meetings.greysheet.org/wp-content/uploads/2025/05/phone.svg
LOCATION:Phone Number: 712 432 5229, PIN: Phone Bridge
END:VEVENT
BEGIN:VEVENT
DTSTART;TZID=America/New_York:20251031T120000
DTEND;TZID=America/New_York:20251031T130000
DTSTAMP:20260419T201027
CREATED:20250503T164202Z
LAST-MODIFIED:20260308T160532Z
UID:10052428-1761912000-1761915600@meetings.greysheet.org
SUMMARY:Living Abstinent FRI 1200
DESCRIPTION:We read one chapter from Living Abstinent each week\, followed by a ten minute qualification\, followed by 2 minute timed shares.
URL:https://meetings.greysheet.org/meeting/living-abstinent-fri/2025-10-31
CATEGORIES:Telephone or Audio
ATTACH;FMTTYPE=image/svg+xml:https://meetings.greysheet.org/wp-content/uploads/2025/05/phone.svg
LOCATION:Phone Number: 712 432 5229, PIN: Phone Bridge
END:VEVENT
BEGIN:VEVENT
DTSTART;TZID=America/New_York:20251024T120000
DTEND;TZID=America/New_York:20251024T130000
DTSTAMP:20260419T201027
CREATED:20250503T164202Z
LAST-MODIFIED:20260308T160532Z
UID:10052427-1761307200-1761310800@meetings.greysheet.org
SUMMARY:Living Abstinent FRI 1200
DESCRIPTION:We read one chapter from Living Abstinent each week\, followed by a ten minute qualification\, followed by 2 minute timed shares.
URL:https://meetings.greysheet.org/meeting/living-abstinent-fri/2025-10-24
CATEGORIES:Telephone or Audio
ATTACH;FMTTYPE=image/svg+xml:https://meetings.greysheet.org/wp-content/uploads/2025/05/phone.svg
LOCATION:Phone Number: 712 432 5229, PIN: Phone Bridge
END:VEVENT
BEGIN:VEVENT
DTSTART;TZID=America/New_York:20251017T120000
DTEND;TZID=America/New_York:20251017T130000
DTSTAMP:20260419T201027
CREATED:20250503T164202Z
LAST-MODIFIED:20260308T160532Z
UID:10052426-1760702400-1760706000@meetings.greysheet.org
SUMMARY:Living Abstinent FRI 1200
DESCRIPTION:We read one chapter from Living Abstinent each week\, followed by a ten minute qualification\, followed by 2 minute timed shares.
URL:https://meetings.greysheet.org/meeting/living-abstinent-fri/2025-10-17
CATEGORIES:Telephone or Audio
ATTACH;FMTTYPE=image/svg+xml:https://meetings.greysheet.org/wp-content/uploads/2025/05/phone.svg
LOCATION:Phone Number: 712 432 5229, PIN: Phone Bridge
END:VEVENT
BEGIN:VEVENT
DTSTART;TZID=America/New_York:20251010T120000
DTEND;TZID=America/New_York:20251010T130000
DTSTAMP:20260419T201027
CREATED:20250503T164202Z
LAST-MODIFIED:20260308T160532Z
UID:10052425-1760097600-1760101200@meetings.greysheet.org
SUMMARY:Living Abstinent FRI 1200
DESCRIPTION:We read one chapter from Living Abstinent each week\, followed by a ten minute qualification\, followed by 2 minute timed shares.
URL:https://meetings.greysheet.org/meeting/living-abstinent-fri/2025-10-10
CATEGORIES:Telephone or Audio
ATTACH;FMTTYPE=image/svg+xml:https://meetings.greysheet.org/wp-content/uploads/2025/05/phone.svg
LOCATION:Phone Number: 712 432 5229, PIN: Phone Bridge
END:VEVENT
BEGIN:VEVENT
DTSTART;TZID=America/New_York:20251003T120000
DTEND;TZID=America/New_York:20251003T130000
DTSTAMP:20260419T201027
CREATED:20250503T164202Z
LAST-MODIFIED:20260308T160532Z
UID:10052424-1759492800-1759496400@meetings.greysheet.org
SUMMARY:Living Abstinent FRI 1200
DESCRIPTION:We read one chapter from Living Abstinent each week\, followed by a ten minute qualification\, followed by 2 minute timed shares.
URL:https://meetings.greysheet.org/meeting/living-abstinent-fri/2025-10-03
CATEGORIES:Telephone or Audio
ATTACH;FMTTYPE=image/svg+xml:https://meetings.greysheet.org/wp-content/uploads/2025/05/phone.svg
LOCATION:Phone Number: 712 432 5229, PIN: Phone Bridge
END:VEVENT
BEGIN:VEVENT
DTSTART;TZID=America/New_York:20250926T120000
DTEND;TZID=America/New_York:20250926T130000
DTSTAMP:20260419T201027
CREATED:20250503T164202Z
LAST-MODIFIED:20260308T160532Z
UID:10052423-1758888000-1758891600@meetings.greysheet.org
SUMMARY:Living Abstinent FRI 1200
DESCRIPTION:We read one chapter from Living Abstinent each week\, followed by a ten minute qualification\, followed by 2 minute timed shares.
URL:https://meetings.greysheet.org/meeting/living-abstinent-fri/2025-09-26
CATEGORIES:Telephone or Audio
ATTACH;FMTTYPE=image/svg+xml:https://meetings.greysheet.org/wp-content/uploads/2025/05/phone.svg
LOCATION:Phone Number: 712 432 5229, PIN: Phone Bridge
END:VEVENT
END:VCALENDAR