BEGIN:VCALENDAR
VERSION:2.0
PRODID:-//GreySheeters Anonymous World Services - ECPv6.15.20//NONSGML v1.0//EN
CALSCALE:GREGORIAN
METHOD:PUBLISH
X-ORIGINAL-URL:https://meetings.greysheet.org
X-WR-CALDESC:Events for GreySheeters Anonymous World Services
REFRESH-INTERVAL;VALUE=DURATION:PT1H
X-Robots-Tag:noindex
X-PUBLISHED-TTL:PT1H
BEGIN:VTIMEZONE
TZID:Atlantic/Reykjavik
BEGIN:STANDARD
TZOFFSETFROM:+0000
TZOFFSETTO:+0000
TZNAME:GMT
DTSTART:20240101T000000
END:STANDARD
END:VTIMEZONE
BEGIN:VEVENT
DTSTART;TZID=Atlantic/Reykjavik:20260416T203000
DTEND;TZID=Atlantic/Reykjavik:20260416T213000
DTSTAMP:20260420T000116
CREATED:20250504T220111Z
LAST-MODIFIED:20260214T203809Z
UID:10035118-1776371400-1776375000@meetings.greysheet.org
SUMMARY:Nýtt Upphaf
DESCRIPTION:
URL:https://meetings.greysheet.org/meeting/nytt-upphaf/2026-04-16
CATEGORIES:Zoom
ATTACH;FMTTYPE=image/svg+xml:https://meetings.greysheet.org/wp-content/uploads/2025/05/desktop.svg
LOCATION:Zoom ID: 3099135318, Passcode: Universal, Camera: Optional
END:VEVENT
BEGIN:VEVENT
DTSTART;TZID=Atlantic/Reykjavik:20260409T203000
DTEND;TZID=Atlantic/Reykjavik:20260409T213000
DTSTAMP:20260420T000116
CREATED:20250504T220111Z
LAST-MODIFIED:20260214T203809Z
UID:10035117-1775766600-1775770200@meetings.greysheet.org
SUMMARY:Nýtt Upphaf
DESCRIPTION:
URL:https://meetings.greysheet.org/meeting/nytt-upphaf/2026-04-09
CATEGORIES:Zoom
ATTACH;FMTTYPE=image/svg+xml:https://meetings.greysheet.org/wp-content/uploads/2025/05/desktop.svg
LOCATION:Zoom ID: 3099135318, Passcode: Universal, Camera: Optional
END:VEVENT
BEGIN:VEVENT
DTSTART;TZID=Atlantic/Reykjavik:20260402T203000
DTEND;TZID=Atlantic/Reykjavik:20260402T213000
DTSTAMP:20260420T000116
CREATED:20250504T220111Z
LAST-MODIFIED:20260214T203809Z
UID:10035116-1775161800-1775165400@meetings.greysheet.org
SUMMARY:Nýtt Upphaf
DESCRIPTION:
URL:https://meetings.greysheet.org/meeting/nytt-upphaf/2026-04-02
CATEGORIES:Zoom
ATTACH;FMTTYPE=image/svg+xml:https://meetings.greysheet.org/wp-content/uploads/2025/05/desktop.svg
LOCATION:Zoom ID: 3099135318, Passcode: Universal, Camera: Optional
END:VEVENT
BEGIN:VEVENT
DTSTART;TZID=Atlantic/Reykjavik:20260326T203000
DTEND;TZID=Atlantic/Reykjavik:20260326T213000
DTSTAMP:20260420T000116
CREATED:20250504T220111Z
LAST-MODIFIED:20260214T203809Z
UID:10035115-1774557000-1774560600@meetings.greysheet.org
SUMMARY:Nýtt Upphaf
DESCRIPTION:
URL:https://meetings.greysheet.org/meeting/nytt-upphaf/2026-03-26
CATEGORIES:Zoom
ATTACH;FMTTYPE=image/svg+xml:https://meetings.greysheet.org/wp-content/uploads/2025/05/desktop.svg
LOCATION:Zoom ID: 3099135318, Passcode: Universal, Camera: Optional
END:VEVENT
BEGIN:VEVENT
DTSTART;TZID=Atlantic/Reykjavik:20260319T203000
DTEND;TZID=Atlantic/Reykjavik:20260319T213000
DTSTAMP:20260420T000116
CREATED:20250504T220111Z
LAST-MODIFIED:20260214T203809Z
UID:10035114-1773952200-1773955800@meetings.greysheet.org
SUMMARY:Nýtt Upphaf
DESCRIPTION:
URL:https://meetings.greysheet.org/meeting/nytt-upphaf/2026-03-19
CATEGORIES:Zoom
ATTACH;FMTTYPE=image/svg+xml:https://meetings.greysheet.org/wp-content/uploads/2025/05/desktop.svg
LOCATION:Zoom ID: 3099135318, Passcode: Universal, Camera: Optional
END:VEVENT
BEGIN:VEVENT
DTSTART;TZID=Atlantic/Reykjavik:20260312T203000
DTEND;TZID=Atlantic/Reykjavik:20260312T213000
DTSTAMP:20260420T000116
CREATED:20250504T220111Z
LAST-MODIFIED:20260214T203809Z
UID:10035113-1773347400-1773351000@meetings.greysheet.org
SUMMARY:Nýtt Upphaf
DESCRIPTION:
URL:https://meetings.greysheet.org/meeting/nytt-upphaf/2026-03-12
CATEGORIES:Zoom
ATTACH;FMTTYPE=image/svg+xml:https://meetings.greysheet.org/wp-content/uploads/2025/05/desktop.svg
LOCATION:Zoom ID: 3099135318, Passcode: Universal, Camera: Optional
END:VEVENT
BEGIN:VEVENT
DTSTART;TZID=Atlantic/Reykjavik:20260305T203000
DTEND;TZID=Atlantic/Reykjavik:20260305T213000
DTSTAMP:20260420T000116
CREATED:20250504T220111Z
LAST-MODIFIED:20260214T203809Z
UID:10035112-1772742600-1772746200@meetings.greysheet.org
SUMMARY:Nýtt Upphaf
DESCRIPTION:
URL:https://meetings.greysheet.org/meeting/nytt-upphaf/2026-03-05
CATEGORIES:Zoom
ATTACH;FMTTYPE=image/svg+xml:https://meetings.greysheet.org/wp-content/uploads/2025/05/desktop.svg
LOCATION:Zoom ID: 3099135318, Passcode: Universal, Camera: Optional
END:VEVENT
BEGIN:VEVENT
DTSTART;TZID=Atlantic/Reykjavik:20260226T203000
DTEND;TZID=Atlantic/Reykjavik:20260226T213000
DTSTAMP:20260420T000116
CREATED:20250504T220111Z
LAST-MODIFIED:20260214T203809Z
UID:10035111-1772137800-1772141400@meetings.greysheet.org
SUMMARY:Nýtt Upphaf
DESCRIPTION:
URL:https://meetings.greysheet.org/meeting/nytt-upphaf/2026-02-26
CATEGORIES:Zoom
ATTACH;FMTTYPE=image/svg+xml:https://meetings.greysheet.org/wp-content/uploads/2025/05/desktop.svg
LOCATION:Zoom ID: 3099135318, Passcode: Universal, Camera: Optional
END:VEVENT
BEGIN:VEVENT
DTSTART;TZID=Atlantic/Reykjavik:20260219T203000
DTEND;TZID=Atlantic/Reykjavik:20260219T213000
DTSTAMP:20260420T000116
CREATED:20250504T220111Z
LAST-MODIFIED:20260214T203809Z
UID:10035110-1771533000-1771536600@meetings.greysheet.org
SUMMARY:Nýtt Upphaf
DESCRIPTION:
URL:https://meetings.greysheet.org/meeting/nytt-upphaf/2026-02-19
CATEGORIES:Zoom
ATTACH;FMTTYPE=image/svg+xml:https://meetings.greysheet.org/wp-content/uploads/2025/05/desktop.svg
LOCATION:Zoom ID: 3099135318, Passcode: Universal, Camera: Optional
END:VEVENT
BEGIN:VEVENT
DTSTART;TZID=Atlantic/Reykjavik:20260212T203000
DTEND;TZID=Atlantic/Reykjavik:20260212T213000
DTSTAMP:20260420T000116
CREATED:20250504T220111Z
LAST-MODIFIED:20260214T203809Z
UID:10035109-1770928200-1770931800@meetings.greysheet.org
SUMMARY:Nýtt Upphaf
DESCRIPTION:
URL:https://meetings.greysheet.org/meeting/nytt-upphaf/2026-02-12
CATEGORIES:Zoom
ATTACH;FMTTYPE=image/svg+xml:https://meetings.greysheet.org/wp-content/uploads/2025/05/desktop.svg
LOCATION:Zoom ID: 3099135318, Passcode: Universal, Camera: Optional
END:VEVENT
BEGIN:VEVENT
DTSTART;TZID=Atlantic/Reykjavik:20260205T203000
DTEND;TZID=Atlantic/Reykjavik:20260205T213000
DTSTAMP:20260420T000116
CREATED:20250504T220111Z
LAST-MODIFIED:20260214T203809Z
UID:10035108-1770323400-1770327000@meetings.greysheet.org
SUMMARY:Nýtt Upphaf
DESCRIPTION:
URL:https://meetings.greysheet.org/meeting/nytt-upphaf/2026-02-05
CATEGORIES:Zoom
ATTACH;FMTTYPE=image/svg+xml:https://meetings.greysheet.org/wp-content/uploads/2025/05/desktop.svg
LOCATION:Zoom ID: 3099135318, Passcode: Universal, Camera: Optional
END:VEVENT
BEGIN:VEVENT
DTSTART;TZID=Atlantic/Reykjavik:20260129T203000
DTEND;TZID=Atlantic/Reykjavik:20260129T213000
DTSTAMP:20260420T000116
CREATED:20250504T220111Z
LAST-MODIFIED:20260214T203809Z
UID:10035107-1769718600-1769722200@meetings.greysheet.org
SUMMARY:Nýtt Upphaf
DESCRIPTION:
URL:https://meetings.greysheet.org/meeting/nytt-upphaf/2026-01-29
CATEGORIES:Zoom
ATTACH;FMTTYPE=image/svg+xml:https://meetings.greysheet.org/wp-content/uploads/2025/05/desktop.svg
LOCATION:Zoom ID: 3099135318, Passcode: Universal, Camera: Optional
END:VEVENT
BEGIN:VEVENT
DTSTART;TZID=Atlantic/Reykjavik:20260122T203000
DTEND;TZID=Atlantic/Reykjavik:20260122T213000
DTSTAMP:20260420T000116
CREATED:20250504T220111Z
LAST-MODIFIED:20260214T203809Z
UID:10035106-1769113800-1769117400@meetings.greysheet.org
SUMMARY:Nýtt Upphaf
DESCRIPTION:
URL:https://meetings.greysheet.org/meeting/nytt-upphaf/2026-01-22
CATEGORIES:Zoom
ATTACH;FMTTYPE=image/svg+xml:https://meetings.greysheet.org/wp-content/uploads/2025/05/desktop.svg
LOCATION:Zoom ID: 3099135318, Passcode: Universal, Camera: Optional
END:VEVENT
BEGIN:VEVENT
DTSTART;TZID=Atlantic/Reykjavik:20260115T203000
DTEND;TZID=Atlantic/Reykjavik:20260115T213000
DTSTAMP:20260420T000116
CREATED:20250504T220111Z
LAST-MODIFIED:20260214T203809Z
UID:10035105-1768509000-1768512600@meetings.greysheet.org
SUMMARY:Nýtt Upphaf
DESCRIPTION:
URL:https://meetings.greysheet.org/meeting/nytt-upphaf/2026-01-15
CATEGORIES:Zoom
ATTACH;FMTTYPE=image/svg+xml:https://meetings.greysheet.org/wp-content/uploads/2025/05/desktop.svg
LOCATION:Zoom ID: 3099135318, Passcode: Universal, Camera: Optional
END:VEVENT
BEGIN:VEVENT
DTSTART;TZID=Atlantic/Reykjavik:20260108T203000
DTEND;TZID=Atlantic/Reykjavik:20260108T213000
DTSTAMP:20260420T000116
CREATED:20250504T220111Z
LAST-MODIFIED:20260214T203809Z
UID:10035104-1767904200-1767907800@meetings.greysheet.org
SUMMARY:Nýtt Upphaf
DESCRIPTION:
URL:https://meetings.greysheet.org/meeting/nytt-upphaf/2026-01-08
CATEGORIES:Zoom
ATTACH;FMTTYPE=image/svg+xml:https://meetings.greysheet.org/wp-content/uploads/2025/05/desktop.svg
LOCATION:Zoom ID: 3099135318, Passcode: Universal, Camera: Optional
END:VEVENT
BEGIN:VEVENT
DTSTART;TZID=Atlantic/Reykjavik:20260101T203000
DTEND;TZID=Atlantic/Reykjavik:20260101T213000
DTSTAMP:20260420T000116
CREATED:20250504T220111Z
LAST-MODIFIED:20260214T203809Z
UID:10035103-1767299400-1767303000@meetings.greysheet.org
SUMMARY:Nýtt Upphaf
DESCRIPTION:
URL:https://meetings.greysheet.org/meeting/nytt-upphaf/2026-01-01
CATEGORIES:Zoom
ATTACH;FMTTYPE=image/svg+xml:https://meetings.greysheet.org/wp-content/uploads/2025/05/desktop.svg
LOCATION:Zoom ID: 3099135318, Passcode: Universal, Camera: Optional
END:VEVENT
BEGIN:VEVENT
DTSTART;TZID=Atlantic/Reykjavik:20251225T203000
DTEND;TZID=Atlantic/Reykjavik:20251225T213000
DTSTAMP:20260420T000116
CREATED:20250504T220111Z
LAST-MODIFIED:20260214T203809Z
UID:10035102-1766694600-1766698200@meetings.greysheet.org
SUMMARY:Nýtt Upphaf
DESCRIPTION:
URL:https://meetings.greysheet.org/meeting/nytt-upphaf/2025-12-25
CATEGORIES:Zoom
ATTACH;FMTTYPE=image/svg+xml:https://meetings.greysheet.org/wp-content/uploads/2025/05/desktop.svg
LOCATION:Zoom ID: 3099135318, Passcode: Universal, Camera: Optional
END:VEVENT
BEGIN:VEVENT
DTSTART;TZID=Atlantic/Reykjavik:20251218T203000
DTEND;TZID=Atlantic/Reykjavik:20251218T213000
DTSTAMP:20260420T000116
CREATED:20250504T220111Z
LAST-MODIFIED:20260214T203809Z
UID:10035101-1766089800-1766093400@meetings.greysheet.org
SUMMARY:Nýtt Upphaf
DESCRIPTION:
URL:https://meetings.greysheet.org/meeting/nytt-upphaf/2025-12-18
CATEGORIES:Zoom
ATTACH;FMTTYPE=image/svg+xml:https://meetings.greysheet.org/wp-content/uploads/2025/05/desktop.svg
LOCATION:Zoom ID: 3099135318, Passcode: Universal, Camera: Optional
END:VEVENT
BEGIN:VEVENT
DTSTART;TZID=Atlantic/Reykjavik:20251211T203000
DTEND;TZID=Atlantic/Reykjavik:20251211T213000
DTSTAMP:20260420T000116
CREATED:20250504T220111Z
LAST-MODIFIED:20260214T203809Z
UID:10035100-1765485000-1765488600@meetings.greysheet.org
SUMMARY:Nýtt Upphaf
DESCRIPTION:
URL:https://meetings.greysheet.org/meeting/nytt-upphaf/2025-12-11
CATEGORIES:Zoom
ATTACH;FMTTYPE=image/svg+xml:https://meetings.greysheet.org/wp-content/uploads/2025/05/desktop.svg
LOCATION:Zoom ID: 3099135318, Passcode: Universal, Camera: Optional
END:VEVENT
BEGIN:VEVENT
DTSTART;TZID=Atlantic/Reykjavik:20251204T203000
DTEND;TZID=Atlantic/Reykjavik:20251204T213000
DTSTAMP:20260420T000116
CREATED:20250504T220111Z
LAST-MODIFIED:20260214T203809Z
UID:10035099-1764880200-1764883800@meetings.greysheet.org
SUMMARY:Nýtt Upphaf
DESCRIPTION:
URL:https://meetings.greysheet.org/meeting/nytt-upphaf/2025-12-04
CATEGORIES:Zoom
ATTACH;FMTTYPE=image/svg+xml:https://meetings.greysheet.org/wp-content/uploads/2025/05/desktop.svg
LOCATION:Zoom ID: 3099135318, Passcode: Universal, Camera: Optional
END:VEVENT
BEGIN:VEVENT
DTSTART;TZID=Atlantic/Reykjavik:20251127T203000
DTEND;TZID=Atlantic/Reykjavik:20251127T213000
DTSTAMP:20260420T000116
CREATED:20250504T220111Z
LAST-MODIFIED:20260214T203809Z
UID:10035098-1764275400-1764279000@meetings.greysheet.org
SUMMARY:Nýtt Upphaf
DESCRIPTION:
URL:https://meetings.greysheet.org/meeting/nytt-upphaf/2025-11-27
CATEGORIES:Zoom
ATTACH;FMTTYPE=image/svg+xml:https://meetings.greysheet.org/wp-content/uploads/2025/05/desktop.svg
LOCATION:Zoom ID: 3099135318, Passcode: Universal, Camera: Optional
END:VEVENT
BEGIN:VEVENT
DTSTART;TZID=Atlantic/Reykjavik:20251120T203000
DTEND;TZID=Atlantic/Reykjavik:20251120T213000
DTSTAMP:20260420T000116
CREATED:20250504T220111Z
LAST-MODIFIED:20260214T203809Z
UID:10035097-1763670600-1763674200@meetings.greysheet.org
SUMMARY:Nýtt Upphaf
DESCRIPTION:
URL:https://meetings.greysheet.org/meeting/nytt-upphaf/2025-11-20
CATEGORIES:Zoom
ATTACH;FMTTYPE=image/svg+xml:https://meetings.greysheet.org/wp-content/uploads/2025/05/desktop.svg
LOCATION:Zoom ID: 3099135318, Passcode: Universal, Camera: Optional
END:VEVENT
BEGIN:VEVENT
DTSTART;TZID=Atlantic/Reykjavik:20251113T203000
DTEND;TZID=Atlantic/Reykjavik:20251113T213000
DTSTAMP:20260420T000116
CREATED:20250504T220111Z
LAST-MODIFIED:20260214T203809Z
UID:10035096-1763065800-1763069400@meetings.greysheet.org
SUMMARY:Nýtt Upphaf
DESCRIPTION:
URL:https://meetings.greysheet.org/meeting/nytt-upphaf/2025-11-13
CATEGORIES:Zoom
ATTACH;FMTTYPE=image/svg+xml:https://meetings.greysheet.org/wp-content/uploads/2025/05/desktop.svg
LOCATION:Zoom ID: 3099135318, Passcode: Universal, Camera: Optional
END:VEVENT
BEGIN:VEVENT
DTSTART;TZID=Atlantic/Reykjavik:20251106T203000
DTEND;TZID=Atlantic/Reykjavik:20251106T213000
DTSTAMP:20260420T000116
CREATED:20250504T220111Z
LAST-MODIFIED:20260214T203809Z
UID:10035095-1762461000-1762464600@meetings.greysheet.org
SUMMARY:Nýtt Upphaf
DESCRIPTION:
URL:https://meetings.greysheet.org/meeting/nytt-upphaf/2025-11-06
CATEGORIES:Zoom
ATTACH;FMTTYPE=image/svg+xml:https://meetings.greysheet.org/wp-content/uploads/2025/05/desktop.svg
LOCATION:Zoom ID: 3099135318, Passcode: Universal, Camera: Optional
END:VEVENT
BEGIN:VEVENT
DTSTART;TZID=Atlantic/Reykjavik:20251030T203000
DTEND;TZID=Atlantic/Reykjavik:20251030T213000
DTSTAMP:20260420T000116
CREATED:20250504T220111Z
LAST-MODIFIED:20260214T203809Z
UID:10035094-1761856200-1761859800@meetings.greysheet.org
SUMMARY:Nýtt Upphaf
DESCRIPTION:
URL:https://meetings.greysheet.org/meeting/nytt-upphaf/2025-10-30
CATEGORIES:Zoom
ATTACH;FMTTYPE=image/svg+xml:https://meetings.greysheet.org/wp-content/uploads/2025/05/desktop.svg
LOCATION:Zoom ID: 3099135318, Passcode: Universal, Camera: Optional
END:VEVENT
BEGIN:VEVENT
DTSTART;TZID=Atlantic/Reykjavik:20251023T203000
DTEND;TZID=Atlantic/Reykjavik:20251023T213000
DTSTAMP:20260420T000116
CREATED:20250504T220111Z
LAST-MODIFIED:20260214T203809Z
UID:10035093-1761251400-1761255000@meetings.greysheet.org
SUMMARY:Nýtt Upphaf
DESCRIPTION:
URL:https://meetings.greysheet.org/meeting/nytt-upphaf/2025-10-23
CATEGORIES:Zoom
ATTACH;FMTTYPE=image/svg+xml:https://meetings.greysheet.org/wp-content/uploads/2025/05/desktop.svg
LOCATION:Zoom ID: 3099135318, Passcode: Universal, Camera: Optional
END:VEVENT
BEGIN:VEVENT
DTSTART;TZID=Atlantic/Reykjavik:20251016T203000
DTEND;TZID=Atlantic/Reykjavik:20251016T213000
DTSTAMP:20260420T000116
CREATED:20250504T220111Z
LAST-MODIFIED:20260214T203809Z
UID:10035092-1760646600-1760650200@meetings.greysheet.org
SUMMARY:Nýtt Upphaf
DESCRIPTION:
URL:https://meetings.greysheet.org/meeting/nytt-upphaf/2025-10-16
CATEGORIES:Zoom
ATTACH;FMTTYPE=image/svg+xml:https://meetings.greysheet.org/wp-content/uploads/2025/05/desktop.svg
LOCATION:Zoom ID: 3099135318, Passcode: Universal, Camera: Optional
END:VEVENT
BEGIN:VEVENT
DTSTART;TZID=Atlantic/Reykjavik:20251009T203000
DTEND;TZID=Atlantic/Reykjavik:20251009T213000
DTSTAMP:20260420T000116
CREATED:20250504T220111Z
LAST-MODIFIED:20260214T203809Z
UID:10035091-1760041800-1760045400@meetings.greysheet.org
SUMMARY:Nýtt Upphaf
DESCRIPTION:
URL:https://meetings.greysheet.org/meeting/nytt-upphaf/2025-10-09
CATEGORIES:Zoom
ATTACH;FMTTYPE=image/svg+xml:https://meetings.greysheet.org/wp-content/uploads/2025/05/desktop.svg
LOCATION:Zoom ID: 3099135318, Passcode: Universal, Camera: Optional
END:VEVENT
BEGIN:VEVENT
DTSTART;TZID=Atlantic/Reykjavik:20251002T203000
DTEND;TZID=Atlantic/Reykjavik:20251002T213000
DTSTAMP:20260420T000116
CREATED:20250504T220111Z
LAST-MODIFIED:20260214T203809Z
UID:10035090-1759437000-1759440600@meetings.greysheet.org
SUMMARY:Nýtt Upphaf
DESCRIPTION:
URL:https://meetings.greysheet.org/meeting/nytt-upphaf/2025-10-02
CATEGORIES:Zoom
ATTACH;FMTTYPE=image/svg+xml:https://meetings.greysheet.org/wp-content/uploads/2025/05/desktop.svg
LOCATION:Zoom ID: 3099135318, Passcode: Universal, Camera: Optional
END:VEVENT
BEGIN:VEVENT
DTSTART;TZID=Atlantic/Reykjavik:20250925T203000
DTEND;TZID=Atlantic/Reykjavik:20250925T213000
DTSTAMP:20260420T000116
CREATED:20250504T220111Z
LAST-MODIFIED:20260214T203809Z
UID:10035089-1758832200-1758835800@meetings.greysheet.org
SUMMARY:Nýtt Upphaf
DESCRIPTION:
URL:https://meetings.greysheet.org/meeting/nytt-upphaf/2025-09-25
CATEGORIES:Zoom
ATTACH;FMTTYPE=image/svg+xml:https://meetings.greysheet.org/wp-content/uploads/2025/05/desktop.svg
LOCATION:Zoom ID: 3099135318, Passcode: Universal, Camera: Optional
END:VEVENT
END:VCALENDAR