BEGIN:VCALENDAR
VERSION:2.0
PRODID:-//GreySheeters Anonymous World Services - ECPv6.15.20//NONSGML v1.0//EN
CALSCALE:GREGORIAN
METHOD:PUBLISH
X-WR-CALNAME:GreySheeters Anonymous World Services
X-ORIGINAL-URL:https://meetings.greysheet.org
X-WR-CALDESC:Events for GreySheeters Anonymous World Services
REFRESH-INTERVAL;VALUE=DURATION:PT1H
X-Robots-Tag:noindex
X-PUBLISHED-TTL:PT1H
BEGIN:VTIMEZONE
TZID:America/Los_Angeles
BEGIN:DAYLIGHT
TZOFFSETFROM:-0800
TZOFFSETTO:-0700
TZNAME:PDT
DTSTART:20240310T100000
END:DAYLIGHT
BEGIN:STANDARD
TZOFFSETFROM:-0700
TZOFFSETTO:-0800
TZNAME:PST
DTSTART:20241103T090000
END:STANDARD
BEGIN:DAYLIGHT
TZOFFSETFROM:-0800
TZOFFSETTO:-0700
TZNAME:PDT
DTSTART:20250309T100000
END:DAYLIGHT
BEGIN:STANDARD
TZOFFSETFROM:-0700
TZOFFSETTO:-0800
TZNAME:PST
DTSTART:20251102T090000
END:STANDARD
BEGIN:DAYLIGHT
TZOFFSETFROM:-0800
TZOFFSETTO:-0700
TZNAME:PDT
DTSTART:20260308T100000
END:DAYLIGHT
BEGIN:STANDARD
TZOFFSETFROM:-0700
TZOFFSETTO:-0800
TZNAME:PST
DTSTART:20261101T090000
END:STANDARD
BEGIN:DAYLIGHT
TZOFFSETFROM:-0800
TZOFFSETTO:-0700
TZNAME:PDT
DTSTART:20270314T100000
END:DAYLIGHT
BEGIN:STANDARD
TZOFFSETFROM:-0700
TZOFFSETTO:-0800
TZNAME:PST
DTSTART:20271107T090000
END:STANDARD
END:VTIMEZONE
BEGIN:VEVENT
DTSTART;TZID=America/Los_Angeles:20260125T084500
DTEND;TZID=America/Los_Angeles:20260125T094500
DTSTAMP:20260423T164931
CREATED:20250504T220133Z
LAST-MODIFIED:20260308T193707Z
UID:10044533-1769330700-1769334300@meetings.greysheet.org
SUMMARY:No Mattah Bloody What!
DESCRIPTION:
URL:https://meetings.greysheet.org/meeting/no-mattah-bloody-what/2026-01-25
CATEGORIES:Zoom
ATTACH;FMTTYPE=image/svg+xml:https://meetings.greysheet.org/wp-content/uploads/2025/05/desktop.svg
LOCATION:Zoom ID: 706142103, Passcode: Universal, Camera: Required
END:VEVENT
BEGIN:VEVENT
DTSTART;TZID=America/Los_Angeles:20260118T084500
DTEND;TZID=America/Los_Angeles:20260118T094500
DTSTAMP:20260423T164931
CREATED:20250504T220133Z
LAST-MODIFIED:20260308T193707Z
UID:10044532-1768725900-1768729500@meetings.greysheet.org
SUMMARY:No Mattah Bloody What!
DESCRIPTION:
URL:https://meetings.greysheet.org/meeting/no-mattah-bloody-what/2026-01-18
CATEGORIES:Zoom
ATTACH;FMTTYPE=image/svg+xml:https://meetings.greysheet.org/wp-content/uploads/2025/05/desktop.svg
LOCATION:Zoom ID: 706142103, Passcode: Universal, Camera: Required
END:VEVENT
BEGIN:VEVENT
DTSTART;TZID=America/Los_Angeles:20260111T084500
DTEND;TZID=America/Los_Angeles:20260111T094500
DTSTAMP:20260423T164931
CREATED:20250504T220133Z
LAST-MODIFIED:20260308T193707Z
UID:10044531-1768121100-1768124700@meetings.greysheet.org
SUMMARY:No Mattah Bloody What!
DESCRIPTION:
URL:https://meetings.greysheet.org/meeting/no-mattah-bloody-what/2026-01-11
CATEGORIES:Zoom
ATTACH;FMTTYPE=image/svg+xml:https://meetings.greysheet.org/wp-content/uploads/2025/05/desktop.svg
LOCATION:Zoom ID: 706142103, Passcode: Universal, Camera: Required
END:VEVENT
BEGIN:VEVENT
DTSTART;TZID=America/Los_Angeles:20260104T084500
DTEND;TZID=America/Los_Angeles:20260104T094500
DTSTAMP:20260423T164931
CREATED:20250504T220133Z
LAST-MODIFIED:20260308T193707Z
UID:10044530-1767516300-1767519900@meetings.greysheet.org
SUMMARY:No Mattah Bloody What!
DESCRIPTION:
URL:https://meetings.greysheet.org/meeting/no-mattah-bloody-what/2026-01-04
CATEGORIES:Zoom
ATTACH;FMTTYPE=image/svg+xml:https://meetings.greysheet.org/wp-content/uploads/2025/05/desktop.svg
LOCATION:Zoom ID: 706142103, Passcode: Universal, Camera: Required
END:VEVENT
BEGIN:VEVENT
DTSTART;TZID=America/Los_Angeles:20251228T084500
DTEND;TZID=America/Los_Angeles:20251228T094500
DTSTAMP:20260423T164931
CREATED:20250504T220133Z
LAST-MODIFIED:20260308T193707Z
UID:10044529-1766911500-1766915100@meetings.greysheet.org
SUMMARY:No Mattah Bloody What!
DESCRIPTION:
URL:https://meetings.greysheet.org/meeting/no-mattah-bloody-what/2025-12-28
CATEGORIES:Zoom
ATTACH;FMTTYPE=image/svg+xml:https://meetings.greysheet.org/wp-content/uploads/2025/05/desktop.svg
LOCATION:Zoom ID: 706142103, Passcode: Universal, Camera: Required
END:VEVENT
BEGIN:VEVENT
DTSTART;TZID=America/Los_Angeles:20251221T084500
DTEND;TZID=America/Los_Angeles:20251221T094500
DTSTAMP:20260423T164931
CREATED:20250504T220133Z
LAST-MODIFIED:20260308T193707Z
UID:10044528-1766306700-1766310300@meetings.greysheet.org
SUMMARY:No Mattah Bloody What!
DESCRIPTION:
URL:https://meetings.greysheet.org/meeting/no-mattah-bloody-what/2025-12-21
CATEGORIES:Zoom
ATTACH;FMTTYPE=image/svg+xml:https://meetings.greysheet.org/wp-content/uploads/2025/05/desktop.svg
LOCATION:Zoom ID: 706142103, Passcode: Universal, Camera: Required
END:VEVENT
BEGIN:VEVENT
DTSTART;TZID=America/Los_Angeles:20251214T084500
DTEND;TZID=America/Los_Angeles:20251214T094500
DTSTAMP:20260423T164931
CREATED:20250504T220133Z
LAST-MODIFIED:20260308T193707Z
UID:10044527-1765701900-1765705500@meetings.greysheet.org
SUMMARY:No Mattah Bloody What!
DESCRIPTION:
URL:https://meetings.greysheet.org/meeting/no-mattah-bloody-what/2025-12-14
CATEGORIES:Zoom
ATTACH;FMTTYPE=image/svg+xml:https://meetings.greysheet.org/wp-content/uploads/2025/05/desktop.svg
LOCATION:Zoom ID: 706142103, Passcode: Universal, Camera: Required
END:VEVENT
BEGIN:VEVENT
DTSTART;TZID=America/Los_Angeles:20251207T084500
DTEND;TZID=America/Los_Angeles:20251207T094500
DTSTAMP:20260423T164931
CREATED:20250504T220133Z
LAST-MODIFIED:20260308T193707Z
UID:10044526-1765097100-1765100700@meetings.greysheet.org
SUMMARY:No Mattah Bloody What!
DESCRIPTION:
URL:https://meetings.greysheet.org/meeting/no-mattah-bloody-what/2025-12-07
CATEGORIES:Zoom
ATTACH;FMTTYPE=image/svg+xml:https://meetings.greysheet.org/wp-content/uploads/2025/05/desktop.svg
LOCATION:Zoom ID: 706142103, Passcode: Universal, Camera: Required
END:VEVENT
BEGIN:VEVENT
DTSTART;TZID=America/Los_Angeles:20251130T084500
DTEND;TZID=America/Los_Angeles:20251130T094500
DTSTAMP:20260423T164931
CREATED:20250504T220133Z
LAST-MODIFIED:20260308T193707Z
UID:10044525-1764492300-1764495900@meetings.greysheet.org
SUMMARY:No Mattah Bloody What!
DESCRIPTION:
URL:https://meetings.greysheet.org/meeting/no-mattah-bloody-what/2025-11-30
CATEGORIES:Zoom
ATTACH;FMTTYPE=image/svg+xml:https://meetings.greysheet.org/wp-content/uploads/2025/05/desktop.svg
LOCATION:Zoom ID: 706142103, Passcode: Universal, Camera: Required
END:VEVENT
BEGIN:VEVENT
DTSTART;TZID=America/Los_Angeles:20251123T084500
DTEND;TZID=America/Los_Angeles:20251123T094500
DTSTAMP:20260423T164931
CREATED:20250504T220133Z
LAST-MODIFIED:20260308T193707Z
UID:10044524-1763887500-1763891100@meetings.greysheet.org
SUMMARY:No Mattah Bloody What!
DESCRIPTION:
URL:https://meetings.greysheet.org/meeting/no-mattah-bloody-what/2025-11-23
CATEGORIES:Zoom
ATTACH;FMTTYPE=image/svg+xml:https://meetings.greysheet.org/wp-content/uploads/2025/05/desktop.svg
LOCATION:Zoom ID: 706142103, Passcode: Universal, Camera: Required
END:VEVENT
BEGIN:VEVENT
DTSTART;TZID=America/Los_Angeles:20251116T084500
DTEND;TZID=America/Los_Angeles:20251116T094500
DTSTAMP:20260423T164931
CREATED:20250504T220133Z
LAST-MODIFIED:20260308T193707Z
UID:10044523-1763282700-1763286300@meetings.greysheet.org
SUMMARY:No Mattah Bloody What!
DESCRIPTION:
URL:https://meetings.greysheet.org/meeting/no-mattah-bloody-what/2025-11-16
CATEGORIES:Zoom
ATTACH;FMTTYPE=image/svg+xml:https://meetings.greysheet.org/wp-content/uploads/2025/05/desktop.svg
LOCATION:Zoom ID: 706142103, Passcode: Universal, Camera: Required
END:VEVENT
BEGIN:VEVENT
DTSTART;TZID=America/Los_Angeles:20251109T084500
DTEND;TZID=America/Los_Angeles:20251109T094500
DTSTAMP:20260423T164931
CREATED:20250504T220133Z
LAST-MODIFIED:20260308T193707Z
UID:10044522-1762677900-1762681500@meetings.greysheet.org
SUMMARY:No Mattah Bloody What!
DESCRIPTION:
URL:https://meetings.greysheet.org/meeting/no-mattah-bloody-what/2025-11-09
CATEGORIES:Zoom
ATTACH;FMTTYPE=image/svg+xml:https://meetings.greysheet.org/wp-content/uploads/2025/05/desktop.svg
LOCATION:Zoom ID: 706142103, Passcode: Universal, Camera: Required
END:VEVENT
BEGIN:VEVENT
DTSTART;TZID=America/Los_Angeles:20251102T084500
DTEND;TZID=America/Los_Angeles:20251102T094500
DTSTAMP:20260423T164931
CREATED:20250504T220133Z
LAST-MODIFIED:20260308T193707Z
UID:10044521-1762073100-1762076700@meetings.greysheet.org
SUMMARY:No Mattah Bloody What!
DESCRIPTION:
URL:https://meetings.greysheet.org/meeting/no-mattah-bloody-what/2025-11-02
CATEGORIES:Zoom
ATTACH;FMTTYPE=image/svg+xml:https://meetings.greysheet.org/wp-content/uploads/2025/05/desktop.svg
LOCATION:Zoom ID: 706142103, Passcode: Universal, Camera: Required
END:VEVENT
BEGIN:VEVENT
DTSTART;TZID=America/Los_Angeles:20251026T084500
DTEND;TZID=America/Los_Angeles:20251026T094500
DTSTAMP:20260423T164931
CREATED:20250504T220133Z
LAST-MODIFIED:20260308T193707Z
UID:10044520-1761468300-1761471900@meetings.greysheet.org
SUMMARY:No Mattah Bloody What!
DESCRIPTION:
URL:https://meetings.greysheet.org/meeting/no-mattah-bloody-what/2025-10-26
CATEGORIES:Zoom
ATTACH;FMTTYPE=image/svg+xml:https://meetings.greysheet.org/wp-content/uploads/2025/05/desktop.svg
LOCATION:Zoom ID: 706142103, Passcode: Universal, Camera: Required
END:VEVENT
BEGIN:VEVENT
DTSTART;TZID=America/Los_Angeles:20251019T084500
DTEND;TZID=America/Los_Angeles:20251019T094500
DTSTAMP:20260423T164931
CREATED:20250504T220133Z
LAST-MODIFIED:20260308T193707Z
UID:10044519-1760863500-1760867100@meetings.greysheet.org
SUMMARY:No Mattah Bloody What!
DESCRIPTION:
URL:https://meetings.greysheet.org/meeting/no-mattah-bloody-what/2025-10-19
CATEGORIES:Zoom
ATTACH;FMTTYPE=image/svg+xml:https://meetings.greysheet.org/wp-content/uploads/2025/05/desktop.svg
LOCATION:Zoom ID: 706142103, Passcode: Universal, Camera: Required
END:VEVENT
BEGIN:VEVENT
DTSTART;TZID=America/Los_Angeles:20251012T084500
DTEND;TZID=America/Los_Angeles:20251012T094500
DTSTAMP:20260423T164931
CREATED:20250504T220133Z
LAST-MODIFIED:20260308T193707Z
UID:10044518-1760258700-1760262300@meetings.greysheet.org
SUMMARY:No Mattah Bloody What!
DESCRIPTION:
URL:https://meetings.greysheet.org/meeting/no-mattah-bloody-what/2025-10-12
CATEGORIES:Zoom
ATTACH;FMTTYPE=image/svg+xml:https://meetings.greysheet.org/wp-content/uploads/2025/05/desktop.svg
LOCATION:Zoom ID: 706142103, Passcode: Universal, Camera: Required
END:VEVENT
BEGIN:VEVENT
DTSTART;TZID=America/Los_Angeles:20251005T084500
DTEND;TZID=America/Los_Angeles:20251005T094500
DTSTAMP:20260423T164931
CREATED:20250504T220133Z
LAST-MODIFIED:20260308T193707Z
UID:10044517-1759653900-1759657500@meetings.greysheet.org
SUMMARY:No Mattah Bloody What!
DESCRIPTION:
URL:https://meetings.greysheet.org/meeting/no-mattah-bloody-what/2025-10-05
CATEGORIES:Zoom
ATTACH;FMTTYPE=image/svg+xml:https://meetings.greysheet.org/wp-content/uploads/2025/05/desktop.svg
LOCATION:Zoom ID: 706142103, Passcode: Universal, Camera: Required
END:VEVENT
BEGIN:VEVENT
DTSTART;TZID=America/Los_Angeles:20250928T084500
DTEND;TZID=America/Los_Angeles:20250928T094500
DTSTAMP:20260423T164931
CREATED:20250504T220133Z
LAST-MODIFIED:20260308T193707Z
UID:10044516-1759049100-1759052700@meetings.greysheet.org
SUMMARY:No Mattah Bloody What!
DESCRIPTION:
URL:https://meetings.greysheet.org/meeting/no-mattah-bloody-what/2025-09-28
CATEGORIES:Zoom
ATTACH;FMTTYPE=image/svg+xml:https://meetings.greysheet.org/wp-content/uploads/2025/05/desktop.svg
LOCATION:Zoom ID: 706142103, Passcode: Universal, Camera: Required
END:VEVENT
BEGIN:VEVENT
DTSTART;TZID=America/Los_Angeles:20250921T084500
DTEND;TZID=America/Los_Angeles:20250921T094500
DTSTAMP:20260423T164931
CREATED:20250504T220133Z
LAST-MODIFIED:20260308T193707Z
UID:10044515-1758444300-1758447900@meetings.greysheet.org
SUMMARY:No Mattah Bloody What!
DESCRIPTION:
URL:https://meetings.greysheet.org/meeting/no-mattah-bloody-what/2025-09-21
CATEGORIES:Zoom
ATTACH;FMTTYPE=image/svg+xml:https://meetings.greysheet.org/wp-content/uploads/2025/05/desktop.svg
LOCATION:Zoom ID: 706142103, Passcode: Universal, Camera: Required
END:VEVENT
BEGIN:VEVENT
DTSTART;TZID=America/Los_Angeles:20250914T084500
DTEND;TZID=America/Los_Angeles:20250914T094500
DTSTAMP:20260423T164931
CREATED:20250504T220133Z
LAST-MODIFIED:20260308T193707Z
UID:10044514-1757839500-1757843100@meetings.greysheet.org
SUMMARY:No Mattah Bloody What!
DESCRIPTION:
URL:https://meetings.greysheet.org/meeting/no-mattah-bloody-what/2025-09-14
CATEGORIES:Zoom
ATTACH;FMTTYPE=image/svg+xml:https://meetings.greysheet.org/wp-content/uploads/2025/05/desktop.svg
LOCATION:Zoom ID: 706142103, Passcode: Universal, Camera: Required
END:VEVENT
BEGIN:VEVENT
DTSTART;TZID=America/Los_Angeles:20250907T084500
DTEND;TZID=America/Los_Angeles:20250907T094500
DTSTAMP:20260423T164931
CREATED:20250504T220133Z
LAST-MODIFIED:20260308T193707Z
UID:10044513-1757234700-1757238300@meetings.greysheet.org
SUMMARY:No Mattah Bloody What!
DESCRIPTION:
URL:https://meetings.greysheet.org/meeting/no-mattah-bloody-what/2025-09-07
CATEGORIES:Zoom
ATTACH;FMTTYPE=image/svg+xml:https://meetings.greysheet.org/wp-content/uploads/2025/05/desktop.svg
LOCATION:Zoom ID: 706142103, Passcode: Universal, Camera: Required
END:VEVENT
BEGIN:VEVENT
DTSTART;TZID=America/Los_Angeles:20250831T084500
DTEND;TZID=America/Los_Angeles:20250831T094500
DTSTAMP:20260423T164931
CREATED:20250504T220133Z
LAST-MODIFIED:20260308T193707Z
UID:10044512-1756629900-1756633500@meetings.greysheet.org
SUMMARY:No Mattah Bloody What!
DESCRIPTION:
URL:https://meetings.greysheet.org/meeting/no-mattah-bloody-what/2025-08-31
CATEGORIES:Zoom
ATTACH;FMTTYPE=image/svg+xml:https://meetings.greysheet.org/wp-content/uploads/2025/05/desktop.svg
LOCATION:Zoom ID: 706142103, Passcode: Universal, Camera: Required
END:VEVENT
BEGIN:VEVENT
DTSTART;TZID=America/Los_Angeles:20250824T084500
DTEND;TZID=America/Los_Angeles:20250824T094500
DTSTAMP:20260423T164931
CREATED:20250504T220133Z
LAST-MODIFIED:20260308T193707Z
UID:10044511-1756025100-1756028700@meetings.greysheet.org
SUMMARY:No Mattah Bloody What!
DESCRIPTION:
URL:https://meetings.greysheet.org/meeting/no-mattah-bloody-what/2025-08-24
CATEGORIES:Zoom
ATTACH;FMTTYPE=image/svg+xml:https://meetings.greysheet.org/wp-content/uploads/2025/05/desktop.svg
LOCATION:Zoom ID: 706142103, Passcode: Universal, Camera: Required
END:VEVENT
BEGIN:VEVENT
DTSTART;TZID=America/Los_Angeles:20250817T084500
DTEND;TZID=America/Los_Angeles:20250817T094500
DTSTAMP:20260423T164931
CREATED:20250504T220133Z
LAST-MODIFIED:20260308T193707Z
UID:10044510-1755420300-1755423900@meetings.greysheet.org
SUMMARY:No Mattah Bloody What!
DESCRIPTION:
URL:https://meetings.greysheet.org/meeting/no-mattah-bloody-what/2025-08-17
CATEGORIES:Zoom
ATTACH;FMTTYPE=image/svg+xml:https://meetings.greysheet.org/wp-content/uploads/2025/05/desktop.svg
LOCATION:Zoom ID: 706142103, Passcode: Universal, Camera: Required
END:VEVENT
BEGIN:VEVENT
DTSTART;TZID=America/Los_Angeles:20250810T084500
DTEND;TZID=America/Los_Angeles:20250810T094500
DTSTAMP:20260423T164931
CREATED:20250504T220133Z
LAST-MODIFIED:20260308T193707Z
UID:10044509-1754815500-1754819100@meetings.greysheet.org
SUMMARY:No Mattah Bloody What!
DESCRIPTION:
URL:https://meetings.greysheet.org/meeting/no-mattah-bloody-what/2025-08-10
CATEGORIES:Zoom
ATTACH;FMTTYPE=image/svg+xml:https://meetings.greysheet.org/wp-content/uploads/2025/05/desktop.svg
LOCATION:Zoom ID: 706142103, Passcode: Universal, Camera: Required
END:VEVENT
BEGIN:VEVENT
DTSTART;TZID=America/Los_Angeles:20250803T084500
DTEND;TZID=America/Los_Angeles:20250803T094500
DTSTAMP:20260423T164931
CREATED:20250504T220133Z
LAST-MODIFIED:20260308T193707Z
UID:10044508-1754210700-1754214300@meetings.greysheet.org
SUMMARY:No Mattah Bloody What!
DESCRIPTION:
URL:https://meetings.greysheet.org/meeting/no-mattah-bloody-what/2025-08-03
CATEGORIES:Zoom
ATTACH;FMTTYPE=image/svg+xml:https://meetings.greysheet.org/wp-content/uploads/2025/05/desktop.svg
LOCATION:Zoom ID: 706142103, Passcode: Universal, Camera: Required
END:VEVENT
BEGIN:VEVENT
DTSTART;TZID=America/Los_Angeles:20250727T084500
DTEND;TZID=America/Los_Angeles:20250727T094500
DTSTAMP:20260423T164931
CREATED:20250504T220133Z
LAST-MODIFIED:20260308T193707Z
UID:10044507-1753605900-1753609500@meetings.greysheet.org
SUMMARY:No Mattah Bloody What!
DESCRIPTION:
URL:https://meetings.greysheet.org/meeting/no-mattah-bloody-what/2025-07-27
CATEGORIES:Zoom
ATTACH;FMTTYPE=image/svg+xml:https://meetings.greysheet.org/wp-content/uploads/2025/05/desktop.svg
LOCATION:Zoom ID: 706142103, Passcode: Universal, Camera: Required
END:VEVENT
BEGIN:VEVENT
DTSTART;TZID=America/Los_Angeles:20250720T084500
DTEND;TZID=America/Los_Angeles:20250720T094500
DTSTAMP:20260423T164931
CREATED:20250504T220133Z
LAST-MODIFIED:20260308T193707Z
UID:10044506-1753001100-1753004700@meetings.greysheet.org
SUMMARY:No Mattah Bloody What!
DESCRIPTION:
URL:https://meetings.greysheet.org/meeting/no-mattah-bloody-what/2025-07-20
CATEGORIES:Zoom
ATTACH;FMTTYPE=image/svg+xml:https://meetings.greysheet.org/wp-content/uploads/2025/05/desktop.svg
LOCATION:Zoom ID: 706142103, Passcode: Universal, Camera: Required
END:VEVENT
BEGIN:VEVENT
DTSTART;TZID=America/Los_Angeles:20250713T084500
DTEND;TZID=America/Los_Angeles:20250713T094500
DTSTAMP:20260423T164931
CREATED:20250504T220133Z
LAST-MODIFIED:20260308T193707Z
UID:10044505-1752396300-1752399900@meetings.greysheet.org
SUMMARY:No Mattah Bloody What!
DESCRIPTION:
URL:https://meetings.greysheet.org/meeting/no-mattah-bloody-what/2025-07-13
CATEGORIES:Zoom
ATTACH;FMTTYPE=image/svg+xml:https://meetings.greysheet.org/wp-content/uploads/2025/05/desktop.svg
LOCATION:Zoom ID: 706142103, Passcode: Universal, Camera: Required
END:VEVENT
BEGIN:VEVENT
DTSTART;TZID=America/Los_Angeles:20250706T084500
DTEND;TZID=America/Los_Angeles:20250706T094500
DTSTAMP:20260423T164931
CREATED:20250504T220133Z
LAST-MODIFIED:20260308T193707Z
UID:10044504-1751791500-1751795100@meetings.greysheet.org
SUMMARY:No Mattah Bloody What!
DESCRIPTION:
URL:https://meetings.greysheet.org/meeting/no-mattah-bloody-what/2025-07-06
CATEGORIES:Zoom
ATTACH;FMTTYPE=image/svg+xml:https://meetings.greysheet.org/wp-content/uploads/2025/05/desktop.svg
LOCATION:Zoom ID: 706142103, Passcode: Universal, Camera: Required
END:VEVENT
END:VCALENDAR