BEGIN:VCALENDAR
VERSION:2.0
PRODID:-//GreySheeters Anonymous World Services - ECPv6.15.20//NONSGML v1.0//EN
CALSCALE:GREGORIAN
METHOD:PUBLISH
X-WR-CALNAME:GreySheeters Anonymous World Services
X-ORIGINAL-URL:https://meetings.greysheet.org
X-WR-CALDESC:Events for GreySheeters Anonymous World Services
REFRESH-INTERVAL;VALUE=DURATION:PT1H
X-Robots-Tag:noindex
X-PUBLISHED-TTL:PT1H
BEGIN:VTIMEZONE
TZID:America/New_York
BEGIN:DAYLIGHT
TZOFFSETFROM:-0500
TZOFFSETTO:-0400
TZNAME:EDT
DTSTART:20260308T070000
END:DAYLIGHT
BEGIN:STANDARD
TZOFFSETFROM:-0400
TZOFFSETTO:-0500
TZNAME:EST
DTSTART:20261101T060000
END:STANDARD
BEGIN:DAYLIGHT
TZOFFSETFROM:-0500
TZOFFSETTO:-0400
TZNAME:EDT
DTSTART:20270314T070000
END:DAYLIGHT
BEGIN:STANDARD
TZOFFSETFROM:-0400
TZOFFSETTO:-0500
TZNAME:EST
DTSTART:20271107T060000
END:STANDARD
BEGIN:DAYLIGHT
TZOFFSETFROM:-0500
TZOFFSETTO:-0400
TZNAME:EDT
DTSTART:20280312T070000
END:DAYLIGHT
BEGIN:STANDARD
TZOFFSETFROM:-0400
TZOFFSETTO:-0500
TZNAME:EST
DTSTART:20281105T060000
END:STANDARD
BEGIN:DAYLIGHT
TZOFFSETFROM:-0500
TZOFFSETTO:-0400
TZNAME:EDT
DTSTART:20290311T070000
END:DAYLIGHT
BEGIN:STANDARD
TZOFFSETFROM:-0400
TZOFFSETTO:-0500
TZNAME:EST
DTSTART:20291104T060000
END:STANDARD
END:VTIMEZONE
BEGIN:VEVENT
DTSTART;TZID=America/New_York:20270623T200000
DTEND;TZID=America/New_York:20270623T210000
DTSTAMP:20260424T033243
CREATED:20250504T220126Z
LAST-MODIFIED:20260216T155801Z
UID:10036359-1813780800-1813784400@meetings.greysheet.org
SUMMARY:New York Men's
DESCRIPTION:Safe place for men to share individual experiences that men may experience in recovery.
URL:https://meetings.greysheet.org/meeting/new-york-mens/2027-06-23
CATEGORIES:Zoom
ATTACH;FMTTYPE=image/svg+xml:https://meetings.greysheet.org/wp-content/uploads/2025/05/desktop.svg
LOCATION:Zoom ID: 83576430477, Passcode: Universal, Camera: Optional
END:VEVENT
BEGIN:VEVENT
DTSTART;TZID=America/New_York:20270630T200000
DTEND;TZID=America/New_York:20270630T210000
DTSTAMP:20260424T033243
CREATED:20250504T220126Z
LAST-MODIFIED:20260216T155801Z
UID:10036360-1814385600-1814389200@meetings.greysheet.org
SUMMARY:New York Men's
DESCRIPTION:Safe place for men to share individual experiences that men may experience in recovery.
URL:https://meetings.greysheet.org/meeting/new-york-mens/2027-06-30
CATEGORIES:Zoom
ATTACH;FMTTYPE=image/svg+xml:https://meetings.greysheet.org/wp-content/uploads/2025/05/desktop.svg
LOCATION:Zoom ID: 83576430477, Passcode: Universal, Camera: Optional
END:VEVENT
BEGIN:VEVENT
DTSTART;TZID=America/New_York:20270707T200000
DTEND;TZID=America/New_York:20270707T210000
DTSTAMP:20260424T033243
CREATED:20250504T220126Z
LAST-MODIFIED:20260216T155801Z
UID:10036361-1814990400-1814994000@meetings.greysheet.org
SUMMARY:New York Men's
DESCRIPTION:Safe place for men to share individual experiences that men may experience in recovery.
URL:https://meetings.greysheet.org/meeting/new-york-mens/2027-07-07
CATEGORIES:Zoom
ATTACH;FMTTYPE=image/svg+xml:https://meetings.greysheet.org/wp-content/uploads/2025/05/desktop.svg
LOCATION:Zoom ID: 83576430477, Passcode: Universal, Camera: Optional
END:VEVENT
BEGIN:VEVENT
DTSTART;TZID=America/New_York:20270714T200000
DTEND;TZID=America/New_York:20270714T210000
DTSTAMP:20260424T033243
CREATED:20250504T220126Z
LAST-MODIFIED:20260216T155801Z
UID:10036362-1815595200-1815598800@meetings.greysheet.org
SUMMARY:New York Men's
DESCRIPTION:Safe place for men to share individual experiences that men may experience in recovery.
URL:https://meetings.greysheet.org/meeting/new-york-mens/2027-07-14
CATEGORIES:Zoom
ATTACH;FMTTYPE=image/svg+xml:https://meetings.greysheet.org/wp-content/uploads/2025/05/desktop.svg
LOCATION:Zoom ID: 83576430477, Passcode: Universal, Camera: Optional
END:VEVENT
BEGIN:VEVENT
DTSTART;TZID=America/New_York:20270721T200000
DTEND;TZID=America/New_York:20270721T210000
DTSTAMP:20260424T033243
CREATED:20250504T220126Z
LAST-MODIFIED:20260216T155801Z
UID:10036363-1816200000-1816203600@meetings.greysheet.org
SUMMARY:New York Men's
DESCRIPTION:Safe place for men to share individual experiences that men may experience in recovery.
URL:https://meetings.greysheet.org/meeting/new-york-mens/2027-07-21
CATEGORIES:Zoom
ATTACH;FMTTYPE=image/svg+xml:https://meetings.greysheet.org/wp-content/uploads/2025/05/desktop.svg
LOCATION:Zoom ID: 83576430477, Passcode: Universal, Camera: Optional
END:VEVENT
BEGIN:VEVENT
DTSTART;TZID=America/New_York:20270728T200000
DTEND;TZID=America/New_York:20270728T210000
DTSTAMP:20260424T033243
CREATED:20250504T220126Z
LAST-MODIFIED:20260216T155801Z
UID:10036364-1816804800-1816808400@meetings.greysheet.org
SUMMARY:New York Men's
DESCRIPTION:Safe place for men to share individual experiences that men may experience in recovery.
URL:https://meetings.greysheet.org/meeting/new-york-mens/2027-07-28
CATEGORIES:Zoom
ATTACH;FMTTYPE=image/svg+xml:https://meetings.greysheet.org/wp-content/uploads/2025/05/desktop.svg
LOCATION:Zoom ID: 83576430477, Passcode: Universal, Camera: Optional
END:VEVENT
BEGIN:VEVENT
DTSTART;TZID=America/New_York:20270804T200000
DTEND;TZID=America/New_York:20270804T210000
DTSTAMP:20260424T033243
CREATED:20250504T220126Z
LAST-MODIFIED:20260216T155801Z
UID:10036365-1817409600-1817413200@meetings.greysheet.org
SUMMARY:New York Men's
DESCRIPTION:Safe place for men to share individual experiences that men may experience in recovery.
URL:https://meetings.greysheet.org/meeting/new-york-mens/2027-08-04
CATEGORIES:Zoom
ATTACH;FMTTYPE=image/svg+xml:https://meetings.greysheet.org/wp-content/uploads/2025/05/desktop.svg
LOCATION:Zoom ID: 83576430477, Passcode: Universal, Camera: Optional
END:VEVENT
BEGIN:VEVENT
DTSTART;TZID=America/New_York:20270811T200000
DTEND;TZID=America/New_York:20270811T210000
DTSTAMP:20260424T033243
CREATED:20250504T220126Z
LAST-MODIFIED:20260216T155801Z
UID:10036366-1818014400-1818018000@meetings.greysheet.org
SUMMARY:New York Men's
DESCRIPTION:Safe place for men to share individual experiences that men may experience in recovery.
URL:https://meetings.greysheet.org/meeting/new-york-mens/2027-08-11
CATEGORIES:Zoom
ATTACH;FMTTYPE=image/svg+xml:https://meetings.greysheet.org/wp-content/uploads/2025/05/desktop.svg
LOCATION:Zoom ID: 83576430477, Passcode: Universal, Camera: Optional
END:VEVENT
BEGIN:VEVENT
DTSTART;TZID=America/New_York:20270818T200000
DTEND;TZID=America/New_York:20270818T210000
DTSTAMP:20260424T033243
CREATED:20250504T220126Z
LAST-MODIFIED:20260216T155801Z
UID:10036367-1818619200-1818622800@meetings.greysheet.org
SUMMARY:New York Men's
DESCRIPTION:Safe place for men to share individual experiences that men may experience in recovery.
URL:https://meetings.greysheet.org/meeting/new-york-mens/2027-08-18
CATEGORIES:Zoom
ATTACH;FMTTYPE=image/svg+xml:https://meetings.greysheet.org/wp-content/uploads/2025/05/desktop.svg
LOCATION:Zoom ID: 83576430477, Passcode: Universal, Camera: Optional
END:VEVENT
BEGIN:VEVENT
DTSTART;TZID=America/New_York:20270825T200000
DTEND;TZID=America/New_York:20270825T210000
DTSTAMP:20260424T033243
CREATED:20250504T220126Z
LAST-MODIFIED:20260216T155801Z
UID:10036368-1819224000-1819227600@meetings.greysheet.org
SUMMARY:New York Men's
DESCRIPTION:Safe place for men to share individual experiences that men may experience in recovery.
URL:https://meetings.greysheet.org/meeting/new-york-mens/2027-08-25
CATEGORIES:Zoom
ATTACH;FMTTYPE=image/svg+xml:https://meetings.greysheet.org/wp-content/uploads/2025/05/desktop.svg
LOCATION:Zoom ID: 83576430477, Passcode: Universal, Camera: Optional
END:VEVENT
BEGIN:VEVENT
DTSTART;TZID=America/New_York:20270901T200000
DTEND;TZID=America/New_York:20270901T210000
DTSTAMP:20260424T033243
CREATED:20250504T220126Z
LAST-MODIFIED:20260216T155801Z
UID:10036369-1819828800-1819832400@meetings.greysheet.org
SUMMARY:New York Men's
DESCRIPTION:Safe place for men to share individual experiences that men may experience in recovery.
URL:https://meetings.greysheet.org/meeting/new-york-mens/2027-09-01
CATEGORIES:Zoom
ATTACH;FMTTYPE=image/svg+xml:https://meetings.greysheet.org/wp-content/uploads/2025/05/desktop.svg
LOCATION:Zoom ID: 83576430477, Passcode: Universal, Camera: Optional
END:VEVENT
BEGIN:VEVENT
DTSTART;TZID=America/New_York:20270908T200000
DTEND;TZID=America/New_York:20270908T210000
DTSTAMP:20260424T033243
CREATED:20250504T220126Z
LAST-MODIFIED:20260216T155801Z
UID:10036370-1820433600-1820437200@meetings.greysheet.org
SUMMARY:New York Men's
DESCRIPTION:Safe place for men to share individual experiences that men may experience in recovery.
URL:https://meetings.greysheet.org/meeting/new-york-mens/2027-09-08
CATEGORIES:Zoom
ATTACH;FMTTYPE=image/svg+xml:https://meetings.greysheet.org/wp-content/uploads/2025/05/desktop.svg
LOCATION:Zoom ID: 83576430477, Passcode: Universal, Camera: Optional
END:VEVENT
BEGIN:VEVENT
DTSTART;TZID=America/New_York:20270915T200000
DTEND;TZID=America/New_York:20270915T210000
DTSTAMP:20260424T033243
CREATED:20250504T220126Z
LAST-MODIFIED:20260216T155801Z
UID:10036371-1821038400-1821042000@meetings.greysheet.org
SUMMARY:New York Men's
DESCRIPTION:Safe place for men to share individual experiences that men may experience in recovery.
URL:https://meetings.greysheet.org/meeting/new-york-mens/2027-09-15
CATEGORIES:Zoom
ATTACH;FMTTYPE=image/svg+xml:https://meetings.greysheet.org/wp-content/uploads/2025/05/desktop.svg
LOCATION:Zoom ID: 83576430477, Passcode: Universal, Camera: Optional
END:VEVENT
BEGIN:VEVENT
DTSTART;TZID=America/New_York:20270922T200000
DTEND;TZID=America/New_York:20270922T210000
DTSTAMP:20260424T033243
CREATED:20250504T220126Z
LAST-MODIFIED:20260216T155801Z
UID:10036372-1821643200-1821646800@meetings.greysheet.org
SUMMARY:New York Men's
DESCRIPTION:Safe place for men to share individual experiences that men may experience in recovery.
URL:https://meetings.greysheet.org/meeting/new-york-mens/2027-09-22
CATEGORIES:Zoom
ATTACH;FMTTYPE=image/svg+xml:https://meetings.greysheet.org/wp-content/uploads/2025/05/desktop.svg
LOCATION:Zoom ID: 83576430477, Passcode: Universal, Camera: Optional
END:VEVENT
BEGIN:VEVENT
DTSTART;TZID=America/New_York:20270929T200000
DTEND;TZID=America/New_York:20270929T210000
DTSTAMP:20260424T033243
CREATED:20250504T220126Z
LAST-MODIFIED:20260216T155801Z
UID:10036373-1822248000-1822251600@meetings.greysheet.org
SUMMARY:New York Men's
DESCRIPTION:Safe place for men to share individual experiences that men may experience in recovery.
URL:https://meetings.greysheet.org/meeting/new-york-mens/2027-09-29
CATEGORIES:Zoom
ATTACH;FMTTYPE=image/svg+xml:https://meetings.greysheet.org/wp-content/uploads/2025/05/desktop.svg
LOCATION:Zoom ID: 83576430477, Passcode: Universal, Camera: Optional
END:VEVENT
BEGIN:VEVENT
DTSTART;TZID=America/New_York:20271006T200000
DTEND;TZID=America/New_York:20271006T210000
DTSTAMP:20260424T033243
CREATED:20250504T220126Z
LAST-MODIFIED:20260216T155801Z
UID:10036374-1822852800-1822856400@meetings.greysheet.org
SUMMARY:New York Men's
DESCRIPTION:Safe place for men to share individual experiences that men may experience in recovery.
URL:https://meetings.greysheet.org/meeting/new-york-mens/2027-10-06
CATEGORIES:Zoom
ATTACH;FMTTYPE=image/svg+xml:https://meetings.greysheet.org/wp-content/uploads/2025/05/desktop.svg
LOCATION:Zoom ID: 83576430477, Passcode: Universal, Camera: Optional
END:VEVENT
BEGIN:VEVENT
DTSTART;TZID=America/New_York:20271013T200000
DTEND;TZID=America/New_York:20271013T210000
DTSTAMP:20260424T033243
CREATED:20250504T220126Z
LAST-MODIFIED:20260216T155801Z
UID:10036375-1823457600-1823461200@meetings.greysheet.org
SUMMARY:New York Men's
DESCRIPTION:Safe place for men to share individual experiences that men may experience in recovery.
URL:https://meetings.greysheet.org/meeting/new-york-mens/2027-10-13
CATEGORIES:Zoom
ATTACH;FMTTYPE=image/svg+xml:https://meetings.greysheet.org/wp-content/uploads/2025/05/desktop.svg
LOCATION:Zoom ID: 83576430477, Passcode: Universal, Camera: Optional
END:VEVENT
BEGIN:VEVENT
DTSTART;TZID=America/New_York:20271020T200000
DTEND;TZID=America/New_York:20271020T210000
DTSTAMP:20260424T033243
CREATED:20250504T220126Z
LAST-MODIFIED:20260216T155801Z
UID:10036376-1824062400-1824066000@meetings.greysheet.org
SUMMARY:New York Men's
DESCRIPTION:Safe place for men to share individual experiences that men may experience in recovery.
URL:https://meetings.greysheet.org/meeting/new-york-mens/2027-10-20
CATEGORIES:Zoom
ATTACH;FMTTYPE=image/svg+xml:https://meetings.greysheet.org/wp-content/uploads/2025/05/desktop.svg
LOCATION:Zoom ID: 83576430477, Passcode: Universal, Camera: Optional
END:VEVENT
BEGIN:VEVENT
DTSTART;TZID=America/New_York:20271027T200000
DTEND;TZID=America/New_York:20271027T210000
DTSTAMP:20260424T033243
CREATED:20250504T220126Z
LAST-MODIFIED:20260216T155801Z
UID:10036377-1824667200-1824670800@meetings.greysheet.org
SUMMARY:New York Men's
DESCRIPTION:Safe place for men to share individual experiences that men may experience in recovery.
URL:https://meetings.greysheet.org/meeting/new-york-mens/2027-10-27
CATEGORIES:Zoom
ATTACH;FMTTYPE=image/svg+xml:https://meetings.greysheet.org/wp-content/uploads/2025/05/desktop.svg
LOCATION:Zoom ID: 83576430477, Passcode: Universal, Camera: Optional
END:VEVENT
BEGIN:VEVENT
DTSTART;TZID=America/New_York:20271103T200000
DTEND;TZID=America/New_York:20271103T210000
DTSTAMP:20260424T033243
CREATED:20250504T220126Z
LAST-MODIFIED:20260216T155801Z
UID:10036378-1825272000-1825275600@meetings.greysheet.org
SUMMARY:New York Men's
DESCRIPTION:Safe place for men to share individual experiences that men may experience in recovery.
URL:https://meetings.greysheet.org/meeting/new-york-mens/2027-11-03
CATEGORIES:Zoom
ATTACH;FMTTYPE=image/svg+xml:https://meetings.greysheet.org/wp-content/uploads/2025/05/desktop.svg
LOCATION:Zoom ID: 83576430477, Passcode: Universal, Camera: Optional
END:VEVENT
BEGIN:VEVENT
DTSTART;TZID=America/New_York:20271110T200000
DTEND;TZID=America/New_York:20271110T210000
DTSTAMP:20260424T033243
CREATED:20250504T220126Z
LAST-MODIFIED:20260216T155801Z
UID:10036379-1825876800-1825880400@meetings.greysheet.org
SUMMARY:New York Men's
DESCRIPTION:Safe place for men to share individual experiences that men may experience in recovery.
URL:https://meetings.greysheet.org/meeting/new-york-mens/2027-11-10
CATEGORIES:Zoom
ATTACH;FMTTYPE=image/svg+xml:https://meetings.greysheet.org/wp-content/uploads/2025/05/desktop.svg
LOCATION:Zoom ID: 83576430477, Passcode: Universal, Camera: Optional
END:VEVENT
BEGIN:VEVENT
DTSTART;TZID=America/New_York:20271117T200000
DTEND;TZID=America/New_York:20271117T210000
DTSTAMP:20260424T033243
CREATED:20250504T220126Z
LAST-MODIFIED:20260216T155801Z
UID:10043579-1826481600-1826485200@meetings.greysheet.org
SUMMARY:New York Men's
DESCRIPTION:Safe place for men to share individual experiences that men may experience in recovery.
URL:https://meetings.greysheet.org/meeting/new-york-mens/2027-11-17
CATEGORIES:Zoom
ATTACH;FMTTYPE=image/svg+xml:https://meetings.greysheet.org/wp-content/uploads/2025/05/desktop.svg
LOCATION:Zoom ID: 83576430477, Passcode: Universal, Camera: Optional
END:VEVENT
BEGIN:VEVENT
DTSTART;TZID=America/New_York:20271124T200000
DTEND;TZID=America/New_York:20271124T210000
DTSTAMP:20260424T033243
CREATED:20250504T220126Z
LAST-MODIFIED:20260216T155801Z
UID:10065739-1827086400-1827090000@meetings.greysheet.org
SUMMARY:New York Men's
DESCRIPTION:Safe place for men to share individual experiences that men may experience in recovery.
URL:https://meetings.greysheet.org/meeting/new-york-mens/2027-11-24
CATEGORIES:Zoom
ATTACH;FMTTYPE=image/svg+xml:https://meetings.greysheet.org/wp-content/uploads/2025/05/desktop.svg
LOCATION:Zoom ID: 83576430477, Passcode: Universal, Camera: Optional
END:VEVENT
BEGIN:VEVENT
DTSTART;TZID=America/New_York:20271201T200000
DTEND;TZID=America/New_York:20271201T210000
DTSTAMP:20260424T033243
CREATED:20250504T220126Z
LAST-MODIFIED:20260216T155801Z
UID:10065740-1827691200-1827694800@meetings.greysheet.org
SUMMARY:New York Men's
DESCRIPTION:Safe place for men to share individual experiences that men may experience in recovery.
URL:https://meetings.greysheet.org/meeting/new-york-mens/2027-12-01
CATEGORIES:Zoom
ATTACH;FMTTYPE=image/svg+xml:https://meetings.greysheet.org/wp-content/uploads/2025/05/desktop.svg
LOCATION:Zoom ID: 83576430477, Passcode: Universal, Camera: Optional
END:VEVENT
BEGIN:VEVENT
DTSTART;TZID=America/New_York:20271208T200000
DTEND;TZID=America/New_York:20271208T210000
DTSTAMP:20260424T033243
CREATED:20250504T220126Z
LAST-MODIFIED:20260216T155801Z
UID:10065741-1828296000-1828299600@meetings.greysheet.org
SUMMARY:New York Men's
DESCRIPTION:Safe place for men to share individual experiences that men may experience in recovery.
URL:https://meetings.greysheet.org/meeting/new-york-mens/2027-12-08
CATEGORIES:Zoom
ATTACH;FMTTYPE=image/svg+xml:https://meetings.greysheet.org/wp-content/uploads/2025/05/desktop.svg
LOCATION:Zoom ID: 83576430477, Passcode: Universal, Camera: Optional
END:VEVENT
BEGIN:VEVENT
DTSTART;TZID=America/New_York:20271215T200000
DTEND;TZID=America/New_York:20271215T210000
DTSTAMP:20260424T033243
CREATED:20250504T220126Z
LAST-MODIFIED:20260216T155801Z
UID:10065742-1828900800-1828904400@meetings.greysheet.org
SUMMARY:New York Men's
DESCRIPTION:Safe place for men to share individual experiences that men may experience in recovery.
URL:https://meetings.greysheet.org/meeting/new-york-mens/2027-12-15
CATEGORIES:Zoom
ATTACH;FMTTYPE=image/svg+xml:https://meetings.greysheet.org/wp-content/uploads/2025/05/desktop.svg
LOCATION:Zoom ID: 83576430477, Passcode: Universal, Camera: Optional
END:VEVENT
BEGIN:VEVENT
DTSTART;TZID=America/New_York:20271222T200000
DTEND;TZID=America/New_York:20271222T210000
DTSTAMP:20260424T033243
CREATED:20250504T220126Z
LAST-MODIFIED:20260216T155801Z
UID:10065743-1829505600-1829509200@meetings.greysheet.org
SUMMARY:New York Men's
DESCRIPTION:Safe place for men to share individual experiences that men may experience in recovery.
URL:https://meetings.greysheet.org/meeting/new-york-mens/2027-12-22
CATEGORIES:Zoom
ATTACH;FMTTYPE=image/svg+xml:https://meetings.greysheet.org/wp-content/uploads/2025/05/desktop.svg
LOCATION:Zoom ID: 83576430477, Passcode: Universal, Camera: Optional
END:VEVENT
BEGIN:VEVENT
DTSTART;TZID=America/New_York:20271229T200000
DTEND;TZID=America/New_York:20271229T210000
DTSTAMP:20260424T033243
CREATED:20250504T220126Z
LAST-MODIFIED:20260216T155801Z
UID:10065744-1830110400-1830114000@meetings.greysheet.org
SUMMARY:New York Men's
DESCRIPTION:Safe place for men to share individual experiences that men may experience in recovery.
URL:https://meetings.greysheet.org/meeting/new-york-mens/2027-12-29
CATEGORIES:Zoom
ATTACH;FMTTYPE=image/svg+xml:https://meetings.greysheet.org/wp-content/uploads/2025/05/desktop.svg
LOCATION:Zoom ID: 83576430477, Passcode: Universal, Camera: Optional
END:VEVENT
BEGIN:VEVENT
DTSTART;TZID=America/New_York:20280105T200000
DTEND;TZID=America/New_York:20280105T210000
DTSTAMP:20260424T033243
CREATED:20250504T220126Z
LAST-MODIFIED:20260216T155801Z
UID:10065745-1830715200-1830718800@meetings.greysheet.org
SUMMARY:New York Men's
DESCRIPTION:Safe place for men to share individual experiences that men may experience in recovery.
URL:https://meetings.greysheet.org/meeting/new-york-mens/2028-01-05
CATEGORIES:Zoom
ATTACH;FMTTYPE=image/svg+xml:https://meetings.greysheet.org/wp-content/uploads/2025/05/desktop.svg
LOCATION:Zoom ID: 83576430477, Passcode: Universal, Camera: Optional
END:VEVENT
BEGIN:VEVENT
DTSTART;TZID=America/New_York:20280112T200000
DTEND;TZID=America/New_York:20280112T210000
DTSTAMP:20260424T033243
CREATED:20250504T220126Z
LAST-MODIFIED:20260216T155801Z
UID:10065746-1831320000-1831323600@meetings.greysheet.org
SUMMARY:New York Men's
DESCRIPTION:Safe place for men to share individual experiences that men may experience in recovery.
URL:https://meetings.greysheet.org/meeting/new-york-mens/2028-01-12
CATEGORIES:Zoom
ATTACH;FMTTYPE=image/svg+xml:https://meetings.greysheet.org/wp-content/uploads/2025/05/desktop.svg
LOCATION:Zoom ID: 83576430477, Passcode: Universal, Camera: Optional
END:VEVENT
END:VCALENDAR