BEGIN:VCALENDAR
VERSION:2.0
PRODID:-//GreySheeters Anonymous World Services - ECPv6.15.20//NONSGML v1.0//EN
CALSCALE:GREGORIAN
METHOD:PUBLISH
X-WR-CALNAME:GreySheeters Anonymous World Services
X-ORIGINAL-URL:https://meetings.greysheet.org
X-WR-CALDESC:Events for GreySheeters Anonymous World Services
REFRESH-INTERVAL;VALUE=DURATION:PT1H
X-Robots-Tag:noindex
X-PUBLISHED-TTL:PT1H
BEGIN:VTIMEZONE
TZID:America/New_York
BEGIN:DAYLIGHT
TZOFFSETFROM:-0500
TZOFFSETTO:-0400
TZNAME:EDT
DTSTART:20250309T070000
END:DAYLIGHT
BEGIN:STANDARD
TZOFFSETFROM:-0400
TZOFFSETTO:-0500
TZNAME:EST
DTSTART:20251102T060000
END:STANDARD
BEGIN:DAYLIGHT
TZOFFSETFROM:-0500
TZOFFSETTO:-0400
TZNAME:EDT
DTSTART:20260308T070000
END:DAYLIGHT
BEGIN:STANDARD
TZOFFSETFROM:-0400
TZOFFSETTO:-0500
TZNAME:EST
DTSTART:20261101T060000
END:STANDARD
BEGIN:DAYLIGHT
TZOFFSETFROM:-0500
TZOFFSETTO:-0400
TZNAME:EDT
DTSTART:20270314T070000
END:DAYLIGHT
BEGIN:STANDARD
TZOFFSETFROM:-0400
TZOFFSETTO:-0500
TZNAME:EST
DTSTART:20271107T060000
END:STANDARD
BEGIN:DAYLIGHT
TZOFFSETFROM:-0500
TZOFFSETTO:-0400
TZNAME:EDT
DTSTART:20280312T070000
END:DAYLIGHT
BEGIN:STANDARD
TZOFFSETFROM:-0400
TZOFFSETTO:-0500
TZNAME:EST
DTSTART:20281105T060000
END:STANDARD
END:VTIMEZONE
BEGIN:VEVENT
DTSTART;TZID=America/New_York:20261014T200000
DTEND;TZID=America/New_York:20261014T210000
DTSTAMP:20260424T001722
CREATED:20250504T220126Z
LAST-MODIFIED:20260216T155801Z
UID:10036323-1792008000-1792011600@meetings.greysheet.org
SUMMARY:New York Men's
DESCRIPTION:Safe place for men to share individual experiences that men may experience in recovery.
URL:https://meetings.greysheet.org/meeting/new-york-mens/2026-10-14
CATEGORIES:Zoom
ATTACH;FMTTYPE=image/svg+xml:https://meetings.greysheet.org/wp-content/uploads/2025/05/desktop.svg
LOCATION:Zoom ID: 83576430477, Passcode: Universal, Camera: Optional
END:VEVENT
BEGIN:VEVENT
DTSTART;TZID=America/New_York:20261021T200000
DTEND;TZID=America/New_York:20261021T210000
DTSTAMP:20260424T001722
CREATED:20250504T220126Z
LAST-MODIFIED:20260216T155801Z
UID:10036324-1792612800-1792616400@meetings.greysheet.org
SUMMARY:New York Men's
DESCRIPTION:Safe place for men to share individual experiences that men may experience in recovery.
URL:https://meetings.greysheet.org/meeting/new-york-mens/2026-10-21
CATEGORIES:Zoom
ATTACH;FMTTYPE=image/svg+xml:https://meetings.greysheet.org/wp-content/uploads/2025/05/desktop.svg
LOCATION:Zoom ID: 83576430477, Passcode: Universal, Camera: Optional
END:VEVENT
BEGIN:VEVENT
DTSTART;TZID=America/New_York:20261028T200000
DTEND;TZID=America/New_York:20261028T210000
DTSTAMP:20260424T001722
CREATED:20250504T220126Z
LAST-MODIFIED:20260216T155801Z
UID:10036325-1793217600-1793221200@meetings.greysheet.org
SUMMARY:New York Men's
DESCRIPTION:Safe place for men to share individual experiences that men may experience in recovery.
URL:https://meetings.greysheet.org/meeting/new-york-mens/2026-10-28
CATEGORIES:Zoom
ATTACH;FMTTYPE=image/svg+xml:https://meetings.greysheet.org/wp-content/uploads/2025/05/desktop.svg
LOCATION:Zoom ID: 83576430477, Passcode: Universal, Camera: Optional
END:VEVENT
BEGIN:VEVENT
DTSTART;TZID=America/New_York:20261104T200000
DTEND;TZID=America/New_York:20261104T210000
DTSTAMP:20260424T001722
CREATED:20250504T220126Z
LAST-MODIFIED:20260216T155801Z
UID:10036326-1793822400-1793826000@meetings.greysheet.org
SUMMARY:New York Men's
DESCRIPTION:Safe place for men to share individual experiences that men may experience in recovery.
URL:https://meetings.greysheet.org/meeting/new-york-mens/2026-11-04
CATEGORIES:Zoom
ATTACH;FMTTYPE=image/svg+xml:https://meetings.greysheet.org/wp-content/uploads/2025/05/desktop.svg
LOCATION:Zoom ID: 83576430477, Passcode: Universal, Camera: Optional
END:VEVENT
BEGIN:VEVENT
DTSTART;TZID=America/New_York:20261111T200000
DTEND;TZID=America/New_York:20261111T210000
DTSTAMP:20260424T001722
CREATED:20250504T220126Z
LAST-MODIFIED:20260216T155801Z
UID:10036327-1794427200-1794430800@meetings.greysheet.org
SUMMARY:New York Men's
DESCRIPTION:Safe place for men to share individual experiences that men may experience in recovery.
URL:https://meetings.greysheet.org/meeting/new-york-mens/2026-11-11
CATEGORIES:Zoom
ATTACH;FMTTYPE=image/svg+xml:https://meetings.greysheet.org/wp-content/uploads/2025/05/desktop.svg
LOCATION:Zoom ID: 83576430477, Passcode: Universal, Camera: Optional
END:VEVENT
BEGIN:VEVENT
DTSTART;TZID=America/New_York:20261118T200000
DTEND;TZID=America/New_York:20261118T210000
DTSTAMP:20260424T001722
CREATED:20250504T220126Z
LAST-MODIFIED:20260216T155801Z
UID:10036328-1795032000-1795035600@meetings.greysheet.org
SUMMARY:New York Men's
DESCRIPTION:Safe place for men to share individual experiences that men may experience in recovery.
URL:https://meetings.greysheet.org/meeting/new-york-mens/2026-11-18
CATEGORIES:Zoom
ATTACH;FMTTYPE=image/svg+xml:https://meetings.greysheet.org/wp-content/uploads/2025/05/desktop.svg
LOCATION:Zoom ID: 83576430477, Passcode: Universal, Camera: Optional
END:VEVENT
BEGIN:VEVENT
DTSTART;TZID=America/New_York:20261125T200000
DTEND;TZID=America/New_York:20261125T210000
DTSTAMP:20260424T001722
CREATED:20250504T220126Z
LAST-MODIFIED:20260216T155801Z
UID:10036329-1795636800-1795640400@meetings.greysheet.org
SUMMARY:New York Men's
DESCRIPTION:Safe place for men to share individual experiences that men may experience in recovery.
URL:https://meetings.greysheet.org/meeting/new-york-mens/2026-11-25
CATEGORIES:Zoom
ATTACH;FMTTYPE=image/svg+xml:https://meetings.greysheet.org/wp-content/uploads/2025/05/desktop.svg
LOCATION:Zoom ID: 83576430477, Passcode: Universal, Camera: Optional
END:VEVENT
BEGIN:VEVENT
DTSTART;TZID=America/New_York:20261202T200000
DTEND;TZID=America/New_York:20261202T210000
DTSTAMP:20260424T001722
CREATED:20250504T220126Z
LAST-MODIFIED:20260216T155801Z
UID:10036330-1796241600-1796245200@meetings.greysheet.org
SUMMARY:New York Men's
DESCRIPTION:Safe place for men to share individual experiences that men may experience in recovery.
URL:https://meetings.greysheet.org/meeting/new-york-mens/2026-12-02
CATEGORIES:Zoom
ATTACH;FMTTYPE=image/svg+xml:https://meetings.greysheet.org/wp-content/uploads/2025/05/desktop.svg
LOCATION:Zoom ID: 83576430477, Passcode: Universal, Camera: Optional
END:VEVENT
BEGIN:VEVENT
DTSTART;TZID=America/New_York:20261209T200000
DTEND;TZID=America/New_York:20261209T210000
DTSTAMP:20260424T001722
CREATED:20250504T220126Z
LAST-MODIFIED:20260216T155801Z
UID:10036331-1796846400-1796850000@meetings.greysheet.org
SUMMARY:New York Men's
DESCRIPTION:Safe place for men to share individual experiences that men may experience in recovery.
URL:https://meetings.greysheet.org/meeting/new-york-mens/2026-12-09
CATEGORIES:Zoom
ATTACH;FMTTYPE=image/svg+xml:https://meetings.greysheet.org/wp-content/uploads/2025/05/desktop.svg
LOCATION:Zoom ID: 83576430477, Passcode: Universal, Camera: Optional
END:VEVENT
BEGIN:VEVENT
DTSTART;TZID=America/New_York:20261216T200000
DTEND;TZID=America/New_York:20261216T210000
DTSTAMP:20260424T001722
CREATED:20250504T220126Z
LAST-MODIFIED:20260216T155801Z
UID:10036332-1797451200-1797454800@meetings.greysheet.org
SUMMARY:New York Men's
DESCRIPTION:Safe place for men to share individual experiences that men may experience in recovery.
URL:https://meetings.greysheet.org/meeting/new-york-mens/2026-12-16
CATEGORIES:Zoom
ATTACH;FMTTYPE=image/svg+xml:https://meetings.greysheet.org/wp-content/uploads/2025/05/desktop.svg
LOCATION:Zoom ID: 83576430477, Passcode: Universal, Camera: Optional
END:VEVENT
BEGIN:VEVENT
DTSTART;TZID=America/New_York:20261223T200000
DTEND;TZID=America/New_York:20261223T210000
DTSTAMP:20260424T001722
CREATED:20250504T220126Z
LAST-MODIFIED:20260216T155801Z
UID:10036333-1798056000-1798059600@meetings.greysheet.org
SUMMARY:New York Men's
DESCRIPTION:Safe place for men to share individual experiences that men may experience in recovery.
URL:https://meetings.greysheet.org/meeting/new-york-mens/2026-12-23
CATEGORIES:Zoom
ATTACH;FMTTYPE=image/svg+xml:https://meetings.greysheet.org/wp-content/uploads/2025/05/desktop.svg
LOCATION:Zoom ID: 83576430477, Passcode: Universal, Camera: Optional
END:VEVENT
BEGIN:VEVENT
DTSTART;TZID=America/New_York:20261230T200000
DTEND;TZID=America/New_York:20261230T210000
DTSTAMP:20260424T001722
CREATED:20250504T220126Z
LAST-MODIFIED:20260216T155801Z
UID:10036334-1798660800-1798664400@meetings.greysheet.org
SUMMARY:New York Men's
DESCRIPTION:Safe place for men to share individual experiences that men may experience in recovery.
URL:https://meetings.greysheet.org/meeting/new-york-mens/2026-12-30
CATEGORIES:Zoom
ATTACH;FMTTYPE=image/svg+xml:https://meetings.greysheet.org/wp-content/uploads/2025/05/desktop.svg
LOCATION:Zoom ID: 83576430477, Passcode: Universal, Camera: Optional
END:VEVENT
BEGIN:VEVENT
DTSTART;TZID=America/New_York:20270106T200000
DTEND;TZID=America/New_York:20270106T210000
DTSTAMP:20260424T001722
CREATED:20250504T220126Z
LAST-MODIFIED:20260216T155801Z
UID:10036335-1799265600-1799269200@meetings.greysheet.org
SUMMARY:New York Men's
DESCRIPTION:Safe place for men to share individual experiences that men may experience in recovery.
URL:https://meetings.greysheet.org/meeting/new-york-mens/2027-01-06
CATEGORIES:Zoom
ATTACH;FMTTYPE=image/svg+xml:https://meetings.greysheet.org/wp-content/uploads/2025/05/desktop.svg
LOCATION:Zoom ID: 83576430477, Passcode: Universal, Camera: Optional
END:VEVENT
BEGIN:VEVENT
DTSTART;TZID=America/New_York:20270113T200000
DTEND;TZID=America/New_York:20270113T210000
DTSTAMP:20260424T001722
CREATED:20250504T220126Z
LAST-MODIFIED:20260216T155801Z
UID:10036336-1799870400-1799874000@meetings.greysheet.org
SUMMARY:New York Men's
DESCRIPTION:Safe place for men to share individual experiences that men may experience in recovery.
URL:https://meetings.greysheet.org/meeting/new-york-mens/2027-01-13
CATEGORIES:Zoom
ATTACH;FMTTYPE=image/svg+xml:https://meetings.greysheet.org/wp-content/uploads/2025/05/desktop.svg
LOCATION:Zoom ID: 83576430477, Passcode: Universal, Camera: Optional
END:VEVENT
BEGIN:VEVENT
DTSTART;TZID=America/New_York:20270120T200000
DTEND;TZID=America/New_York:20270120T210000
DTSTAMP:20260424T001722
CREATED:20250504T220126Z
LAST-MODIFIED:20260216T155801Z
UID:10036337-1800475200-1800478800@meetings.greysheet.org
SUMMARY:New York Men's
DESCRIPTION:Safe place for men to share individual experiences that men may experience in recovery.
URL:https://meetings.greysheet.org/meeting/new-york-mens/2027-01-20
CATEGORIES:Zoom
ATTACH;FMTTYPE=image/svg+xml:https://meetings.greysheet.org/wp-content/uploads/2025/05/desktop.svg
LOCATION:Zoom ID: 83576430477, Passcode: Universal, Camera: Optional
END:VEVENT
BEGIN:VEVENT
DTSTART;TZID=America/New_York:20270127T200000
DTEND;TZID=America/New_York:20270127T210000
DTSTAMP:20260424T001722
CREATED:20250504T220126Z
LAST-MODIFIED:20260216T155801Z
UID:10036338-1801080000-1801083600@meetings.greysheet.org
SUMMARY:New York Men's
DESCRIPTION:Safe place for men to share individual experiences that men may experience in recovery.
URL:https://meetings.greysheet.org/meeting/new-york-mens/2027-01-27
CATEGORIES:Zoom
ATTACH;FMTTYPE=image/svg+xml:https://meetings.greysheet.org/wp-content/uploads/2025/05/desktop.svg
LOCATION:Zoom ID: 83576430477, Passcode: Universal, Camera: Optional
END:VEVENT
BEGIN:VEVENT
DTSTART;TZID=America/New_York:20270203T200000
DTEND;TZID=America/New_York:20270203T210000
DTSTAMP:20260424T001722
CREATED:20250504T220126Z
LAST-MODIFIED:20260216T155801Z
UID:10036339-1801684800-1801688400@meetings.greysheet.org
SUMMARY:New York Men's
DESCRIPTION:Safe place for men to share individual experiences that men may experience in recovery.
URL:https://meetings.greysheet.org/meeting/new-york-mens/2027-02-03
CATEGORIES:Zoom
ATTACH;FMTTYPE=image/svg+xml:https://meetings.greysheet.org/wp-content/uploads/2025/05/desktop.svg
LOCATION:Zoom ID: 83576430477, Passcode: Universal, Camera: Optional
END:VEVENT
BEGIN:VEVENT
DTSTART;TZID=America/New_York:20270210T200000
DTEND;TZID=America/New_York:20270210T210000
DTSTAMP:20260424T001722
CREATED:20250504T220126Z
LAST-MODIFIED:20260216T155801Z
UID:10036340-1802289600-1802293200@meetings.greysheet.org
SUMMARY:New York Men's
DESCRIPTION:Safe place for men to share individual experiences that men may experience in recovery.
URL:https://meetings.greysheet.org/meeting/new-york-mens/2027-02-10
CATEGORIES:Zoom
ATTACH;FMTTYPE=image/svg+xml:https://meetings.greysheet.org/wp-content/uploads/2025/05/desktop.svg
LOCATION:Zoom ID: 83576430477, Passcode: Universal, Camera: Optional
END:VEVENT
BEGIN:VEVENT
DTSTART;TZID=America/New_York:20270217T200000
DTEND;TZID=America/New_York:20270217T210000
DTSTAMP:20260424T001722
CREATED:20250504T220126Z
LAST-MODIFIED:20260216T155801Z
UID:10036341-1802894400-1802898000@meetings.greysheet.org
SUMMARY:New York Men's
DESCRIPTION:Safe place for men to share individual experiences that men may experience in recovery.
URL:https://meetings.greysheet.org/meeting/new-york-mens/2027-02-17
CATEGORIES:Zoom
ATTACH;FMTTYPE=image/svg+xml:https://meetings.greysheet.org/wp-content/uploads/2025/05/desktop.svg
LOCATION:Zoom ID: 83576430477, Passcode: Universal, Camera: Optional
END:VEVENT
BEGIN:VEVENT
DTSTART;TZID=America/New_York:20270224T200000
DTEND;TZID=America/New_York:20270224T210000
DTSTAMP:20260424T001722
CREATED:20250504T220126Z
LAST-MODIFIED:20260216T155801Z
UID:10036342-1803499200-1803502800@meetings.greysheet.org
SUMMARY:New York Men's
DESCRIPTION:Safe place for men to share individual experiences that men may experience in recovery.
URL:https://meetings.greysheet.org/meeting/new-york-mens/2027-02-24
CATEGORIES:Zoom
ATTACH;FMTTYPE=image/svg+xml:https://meetings.greysheet.org/wp-content/uploads/2025/05/desktop.svg
LOCATION:Zoom ID: 83576430477, Passcode: Universal, Camera: Optional
END:VEVENT
BEGIN:VEVENT
DTSTART;TZID=America/New_York:20270303T200000
DTEND;TZID=America/New_York:20270303T210000
DTSTAMP:20260424T001722
CREATED:20250504T220126Z
LAST-MODIFIED:20260216T155801Z
UID:10036343-1804104000-1804107600@meetings.greysheet.org
SUMMARY:New York Men's
DESCRIPTION:Safe place for men to share individual experiences that men may experience in recovery.
URL:https://meetings.greysheet.org/meeting/new-york-mens/2027-03-03
CATEGORIES:Zoom
ATTACH;FMTTYPE=image/svg+xml:https://meetings.greysheet.org/wp-content/uploads/2025/05/desktop.svg
LOCATION:Zoom ID: 83576430477, Passcode: Universal, Camera: Optional
END:VEVENT
BEGIN:VEVENT
DTSTART;TZID=America/New_York:20270310T200000
DTEND;TZID=America/New_York:20270310T210000
DTSTAMP:20260424T001722
CREATED:20250504T220126Z
LAST-MODIFIED:20260216T155801Z
UID:10036344-1804708800-1804712400@meetings.greysheet.org
SUMMARY:New York Men's
DESCRIPTION:Safe place for men to share individual experiences that men may experience in recovery.
URL:https://meetings.greysheet.org/meeting/new-york-mens/2027-03-10
CATEGORIES:Zoom
ATTACH;FMTTYPE=image/svg+xml:https://meetings.greysheet.org/wp-content/uploads/2025/05/desktop.svg
LOCATION:Zoom ID: 83576430477, Passcode: Universal, Camera: Optional
END:VEVENT
BEGIN:VEVENT
DTSTART;TZID=America/New_York:20270317T200000
DTEND;TZID=America/New_York:20270317T210000
DTSTAMP:20260424T001722
CREATED:20250504T220126Z
LAST-MODIFIED:20260216T155801Z
UID:10036345-1805313600-1805317200@meetings.greysheet.org
SUMMARY:New York Men's
DESCRIPTION:Safe place for men to share individual experiences that men may experience in recovery.
URL:https://meetings.greysheet.org/meeting/new-york-mens/2027-03-17
CATEGORIES:Zoom
ATTACH;FMTTYPE=image/svg+xml:https://meetings.greysheet.org/wp-content/uploads/2025/05/desktop.svg
LOCATION:Zoom ID: 83576430477, Passcode: Universal, Camera: Optional
END:VEVENT
BEGIN:VEVENT
DTSTART;TZID=America/New_York:20270324T200000
DTEND;TZID=America/New_York:20270324T210000
DTSTAMP:20260424T001722
CREATED:20250504T220126Z
LAST-MODIFIED:20260216T155801Z
UID:10036346-1805918400-1805922000@meetings.greysheet.org
SUMMARY:New York Men's
DESCRIPTION:Safe place for men to share individual experiences that men may experience in recovery.
URL:https://meetings.greysheet.org/meeting/new-york-mens/2027-03-24
CATEGORIES:Zoom
ATTACH;FMTTYPE=image/svg+xml:https://meetings.greysheet.org/wp-content/uploads/2025/05/desktop.svg
LOCATION:Zoom ID: 83576430477, Passcode: Universal, Camera: Optional
END:VEVENT
BEGIN:VEVENT
DTSTART;TZID=America/New_York:20270331T200000
DTEND;TZID=America/New_York:20270331T210000
DTSTAMP:20260424T001722
CREATED:20250504T220126Z
LAST-MODIFIED:20260216T155801Z
UID:10036347-1806523200-1806526800@meetings.greysheet.org
SUMMARY:New York Men's
DESCRIPTION:Safe place for men to share individual experiences that men may experience in recovery.
URL:https://meetings.greysheet.org/meeting/new-york-mens/2027-03-31
CATEGORIES:Zoom
ATTACH;FMTTYPE=image/svg+xml:https://meetings.greysheet.org/wp-content/uploads/2025/05/desktop.svg
LOCATION:Zoom ID: 83576430477, Passcode: Universal, Camera: Optional
END:VEVENT
BEGIN:VEVENT
DTSTART;TZID=America/New_York:20270407T200000
DTEND;TZID=America/New_York:20270407T210000
DTSTAMP:20260424T001722
CREATED:20250504T220126Z
LAST-MODIFIED:20260216T155801Z
UID:10036348-1807128000-1807131600@meetings.greysheet.org
SUMMARY:New York Men's
DESCRIPTION:Safe place for men to share individual experiences that men may experience in recovery.
URL:https://meetings.greysheet.org/meeting/new-york-mens/2027-04-07
CATEGORIES:Zoom
ATTACH;FMTTYPE=image/svg+xml:https://meetings.greysheet.org/wp-content/uploads/2025/05/desktop.svg
LOCATION:Zoom ID: 83576430477, Passcode: Universal, Camera: Optional
END:VEVENT
BEGIN:VEVENT
DTSTART;TZID=America/New_York:20270414T200000
DTEND;TZID=America/New_York:20270414T210000
DTSTAMP:20260424T001722
CREATED:20250504T220126Z
LAST-MODIFIED:20260216T155801Z
UID:10036349-1807732800-1807736400@meetings.greysheet.org
SUMMARY:New York Men's
DESCRIPTION:Safe place for men to share individual experiences that men may experience in recovery.
URL:https://meetings.greysheet.org/meeting/new-york-mens/2027-04-14
CATEGORIES:Zoom
ATTACH;FMTTYPE=image/svg+xml:https://meetings.greysheet.org/wp-content/uploads/2025/05/desktop.svg
LOCATION:Zoom ID: 83576430477, Passcode: Universal, Camera: Optional
END:VEVENT
BEGIN:VEVENT
DTSTART;TZID=America/New_York:20270421T200000
DTEND;TZID=America/New_York:20270421T210000
DTSTAMP:20260424T001722
CREATED:20250504T220126Z
LAST-MODIFIED:20260216T155801Z
UID:10036350-1808337600-1808341200@meetings.greysheet.org
SUMMARY:New York Men's
DESCRIPTION:Safe place for men to share individual experiences that men may experience in recovery.
URL:https://meetings.greysheet.org/meeting/new-york-mens/2027-04-21
CATEGORIES:Zoom
ATTACH;FMTTYPE=image/svg+xml:https://meetings.greysheet.org/wp-content/uploads/2025/05/desktop.svg
LOCATION:Zoom ID: 83576430477, Passcode: Universal, Camera: Optional
END:VEVENT
BEGIN:VEVENT
DTSTART;TZID=America/New_York:20270428T200000
DTEND;TZID=America/New_York:20270428T210000
DTSTAMP:20260424T001722
CREATED:20250504T220126Z
LAST-MODIFIED:20260216T155801Z
UID:10036351-1808942400-1808946000@meetings.greysheet.org
SUMMARY:New York Men's
DESCRIPTION:Safe place for men to share individual experiences that men may experience in recovery.
URL:https://meetings.greysheet.org/meeting/new-york-mens/2027-04-28
CATEGORIES:Zoom
ATTACH;FMTTYPE=image/svg+xml:https://meetings.greysheet.org/wp-content/uploads/2025/05/desktop.svg
LOCATION:Zoom ID: 83576430477, Passcode: Universal, Camera: Optional
END:VEVENT
BEGIN:VEVENT
DTSTART;TZID=America/New_York:20270505T200000
DTEND;TZID=America/New_York:20270505T210000
DTSTAMP:20260424T001722
CREATED:20250504T220126Z
LAST-MODIFIED:20260216T155801Z
UID:10036352-1809547200-1809550800@meetings.greysheet.org
SUMMARY:New York Men's
DESCRIPTION:Safe place for men to share individual experiences that men may experience in recovery.
URL:https://meetings.greysheet.org/meeting/new-york-mens/2027-05-05
CATEGORIES:Zoom
ATTACH;FMTTYPE=image/svg+xml:https://meetings.greysheet.org/wp-content/uploads/2025/05/desktop.svg
LOCATION:Zoom ID: 83576430477, Passcode: Universal, Camera: Optional
END:VEVENT
END:VCALENDAR