BEGIN:VCALENDAR
VERSION:2.0
PRODID:-//GreySheeters Anonymous World Services - ECPv6.15.20//NONSGML v1.0//EN
CALSCALE:GREGORIAN
METHOD:PUBLISH
X-WR-CALNAME:GreySheeters Anonymous World Services
X-ORIGINAL-URL:https://meetings.greysheet.org
X-WR-CALDESC:Events for GreySheeters Anonymous World Services
REFRESH-INTERVAL;VALUE=DURATION:PT1H
X-Robots-Tag:noindex
X-PUBLISHED-TTL:PT1H
BEGIN:VTIMEZONE
TZID:America/New_York
BEGIN:DAYLIGHT
TZOFFSETFROM:-0500
TZOFFSETTO:-0400
TZNAME:EDT
DTSTART:20240310T070000
END:DAYLIGHT
BEGIN:STANDARD
TZOFFSETFROM:-0400
TZOFFSETTO:-0500
TZNAME:EST
DTSTART:20241103T060000
END:STANDARD
BEGIN:DAYLIGHT
TZOFFSETFROM:-0500
TZOFFSETTO:-0400
TZNAME:EDT
DTSTART:20250309T070000
END:DAYLIGHT
BEGIN:STANDARD
TZOFFSETFROM:-0400
TZOFFSETTO:-0500
TZNAME:EST
DTSTART:20251102T060000
END:STANDARD
BEGIN:DAYLIGHT
TZOFFSETFROM:-0500
TZOFFSETTO:-0400
TZNAME:EDT
DTSTART:20260308T070000
END:DAYLIGHT
BEGIN:STANDARD
TZOFFSETFROM:-0400
TZOFFSETTO:-0500
TZNAME:EST
DTSTART:20261101T060000
END:STANDARD
BEGIN:DAYLIGHT
TZOFFSETFROM:-0500
TZOFFSETTO:-0400
TZNAME:EDT
DTSTART:20270314T070000
END:DAYLIGHT
BEGIN:STANDARD
TZOFFSETFROM:-0400
TZOFFSETTO:-0500
TZNAME:EST
DTSTART:20271107T060000
END:STANDARD
END:VTIMEZONE
BEGIN:VEVENT
DTSTART;TZID=America/New_York:20260420T191500
DTEND;TZID=America/New_York:20260420T201500
DTSTAMP:20260425T105730
CREATED:20250504T220111Z
LAST-MODIFIED:20251117T184319Z
UID:10039483-1776712500-1776716100@meetings.greysheet.org
SUMMARY:Monday Greenwich CT Zoom
DESCRIPTION:
URL:https://meetings.greysheet.org/meeting/monday-greenwich-ct-zoom/2026-04-20
CATEGORIES:Zoom
ATTACH;FMTTYPE=image/svg+xml:https://meetings.greysheet.org/wp-content/uploads/2025/05/desktop.svg
LOCATION:Zoom ID: 929741483, Passcode: Universal, Camera: Required
END:VEVENT
BEGIN:VEVENT
DTSTART;TZID=America/New_York:20260413T191500
DTEND;TZID=America/New_York:20260413T201500
DTSTAMP:20260425T105730
CREATED:20250504T220111Z
LAST-MODIFIED:20251117T184319Z
UID:10039482-1776107700-1776111300@meetings.greysheet.org
SUMMARY:Monday Greenwich CT Zoom
DESCRIPTION:
URL:https://meetings.greysheet.org/meeting/monday-greenwich-ct-zoom/2026-04-13
CATEGORIES:Zoom
ATTACH;FMTTYPE=image/svg+xml:https://meetings.greysheet.org/wp-content/uploads/2025/05/desktop.svg
LOCATION:Zoom ID: 929741483, Passcode: Universal, Camera: Required
END:VEVENT
BEGIN:VEVENT
DTSTART;TZID=America/New_York:20260406T191500
DTEND;TZID=America/New_York:20260406T201500
DTSTAMP:20260425T105730
CREATED:20250504T220111Z
LAST-MODIFIED:20251117T184319Z
UID:10039481-1775502900-1775506500@meetings.greysheet.org
SUMMARY:Monday Greenwich CT Zoom
DESCRIPTION:
URL:https://meetings.greysheet.org/meeting/monday-greenwich-ct-zoom/2026-04-06
CATEGORIES:Zoom
ATTACH;FMTTYPE=image/svg+xml:https://meetings.greysheet.org/wp-content/uploads/2025/05/desktop.svg
LOCATION:Zoom ID: 929741483, Passcode: Universal, Camera: Required
END:VEVENT
BEGIN:VEVENT
DTSTART;TZID=America/New_York:20260330T191500
DTEND;TZID=America/New_York:20260330T201500
DTSTAMP:20260425T105730
CREATED:20250504T220111Z
LAST-MODIFIED:20251117T184319Z
UID:10039480-1774898100-1774901700@meetings.greysheet.org
SUMMARY:Monday Greenwich CT Zoom
DESCRIPTION:
URL:https://meetings.greysheet.org/meeting/monday-greenwich-ct-zoom/2026-03-30
CATEGORIES:Zoom
ATTACH;FMTTYPE=image/svg+xml:https://meetings.greysheet.org/wp-content/uploads/2025/05/desktop.svg
LOCATION:Zoom ID: 929741483, Passcode: Universal, Camera: Required
END:VEVENT
BEGIN:VEVENT
DTSTART;TZID=America/New_York:20260323T191500
DTEND;TZID=America/New_York:20260323T201500
DTSTAMP:20260425T105730
CREATED:20250504T220111Z
LAST-MODIFIED:20251117T184319Z
UID:10039479-1774293300-1774296900@meetings.greysheet.org
SUMMARY:Monday Greenwich CT Zoom
DESCRIPTION:
URL:https://meetings.greysheet.org/meeting/monday-greenwich-ct-zoom/2026-03-23
CATEGORIES:Zoom
ATTACH;FMTTYPE=image/svg+xml:https://meetings.greysheet.org/wp-content/uploads/2025/05/desktop.svg
LOCATION:Zoom ID: 929741483, Passcode: Universal, Camera: Required
END:VEVENT
BEGIN:VEVENT
DTSTART;TZID=America/New_York:20260316T191500
DTEND;TZID=America/New_York:20260316T201500
DTSTAMP:20260425T105730
CREATED:20250504T220111Z
LAST-MODIFIED:20251117T184319Z
UID:10039478-1773688500-1773692100@meetings.greysheet.org
SUMMARY:Monday Greenwich CT Zoom
DESCRIPTION:
URL:https://meetings.greysheet.org/meeting/monday-greenwich-ct-zoom/2026-03-16
CATEGORIES:Zoom
ATTACH;FMTTYPE=image/svg+xml:https://meetings.greysheet.org/wp-content/uploads/2025/05/desktop.svg
LOCATION:Zoom ID: 929741483, Passcode: Universal, Camera: Required
END:VEVENT
BEGIN:VEVENT
DTSTART;TZID=America/New_York:20260309T191500
DTEND;TZID=America/New_York:20260309T201500
DTSTAMP:20260425T105730
CREATED:20250504T220111Z
LAST-MODIFIED:20251117T184319Z
UID:10039477-1773083700-1773087300@meetings.greysheet.org
SUMMARY:Monday Greenwich CT Zoom
DESCRIPTION:
URL:https://meetings.greysheet.org/meeting/monday-greenwich-ct-zoom/2026-03-09
CATEGORIES:Zoom
ATTACH;FMTTYPE=image/svg+xml:https://meetings.greysheet.org/wp-content/uploads/2025/05/desktop.svg
LOCATION:Zoom ID: 929741483, Passcode: Universal, Camera: Required
END:VEVENT
BEGIN:VEVENT
DTSTART;TZID=America/New_York:20260302T191500
DTEND;TZID=America/New_York:20260302T201500
DTSTAMP:20260425T105730
CREATED:20250504T220111Z
LAST-MODIFIED:20251117T184319Z
UID:10039476-1772478900-1772482500@meetings.greysheet.org
SUMMARY:Monday Greenwich CT Zoom
DESCRIPTION:
URL:https://meetings.greysheet.org/meeting/monday-greenwich-ct-zoom/2026-03-02
CATEGORIES:Zoom
ATTACH;FMTTYPE=image/svg+xml:https://meetings.greysheet.org/wp-content/uploads/2025/05/desktop.svg
LOCATION:Zoom ID: 929741483, Passcode: Universal, Camera: Required
END:VEVENT
BEGIN:VEVENT
DTSTART;TZID=America/New_York:20260223T191500
DTEND;TZID=America/New_York:20260223T201500
DTSTAMP:20260425T105730
CREATED:20250504T220111Z
LAST-MODIFIED:20251117T184319Z
UID:10039475-1771874100-1771877700@meetings.greysheet.org
SUMMARY:Monday Greenwich CT Zoom
DESCRIPTION:
URL:https://meetings.greysheet.org/meeting/monday-greenwich-ct-zoom/2026-02-23
CATEGORIES:Zoom
ATTACH;FMTTYPE=image/svg+xml:https://meetings.greysheet.org/wp-content/uploads/2025/05/desktop.svg
LOCATION:Zoom ID: 929741483, Passcode: Universal, Camera: Required
END:VEVENT
BEGIN:VEVENT
DTSTART;TZID=America/New_York:20260216T191500
DTEND;TZID=America/New_York:20260216T201500
DTSTAMP:20260425T105730
CREATED:20250504T220111Z
LAST-MODIFIED:20251117T184319Z
UID:10039474-1771269300-1771272900@meetings.greysheet.org
SUMMARY:Monday Greenwich CT Zoom
DESCRIPTION:
URL:https://meetings.greysheet.org/meeting/monday-greenwich-ct-zoom/2026-02-16
CATEGORIES:Zoom
ATTACH;FMTTYPE=image/svg+xml:https://meetings.greysheet.org/wp-content/uploads/2025/05/desktop.svg
LOCATION:Zoom ID: 929741483, Passcode: Universal, Camera: Required
END:VEVENT
BEGIN:VEVENT
DTSTART;TZID=America/New_York:20260209T191500
DTEND;TZID=America/New_York:20260209T201500
DTSTAMP:20260425T105730
CREATED:20250504T220111Z
LAST-MODIFIED:20251117T184319Z
UID:10039473-1770664500-1770668100@meetings.greysheet.org
SUMMARY:Monday Greenwich CT Zoom
DESCRIPTION:
URL:https://meetings.greysheet.org/meeting/monday-greenwich-ct-zoom/2026-02-09
CATEGORIES:Zoom
ATTACH;FMTTYPE=image/svg+xml:https://meetings.greysheet.org/wp-content/uploads/2025/05/desktop.svg
LOCATION:Zoom ID: 929741483, Passcode: Universal, Camera: Required
END:VEVENT
BEGIN:VEVENT
DTSTART;TZID=America/New_York:20260202T191500
DTEND;TZID=America/New_York:20260202T201500
DTSTAMP:20260425T105730
CREATED:20250504T220111Z
LAST-MODIFIED:20251117T184319Z
UID:10039472-1770059700-1770063300@meetings.greysheet.org
SUMMARY:Monday Greenwich CT Zoom
DESCRIPTION:
URL:https://meetings.greysheet.org/meeting/monday-greenwich-ct-zoom/2026-02-02
CATEGORIES:Zoom
ATTACH;FMTTYPE=image/svg+xml:https://meetings.greysheet.org/wp-content/uploads/2025/05/desktop.svg
LOCATION:Zoom ID: 929741483, Passcode: Universal, Camera: Required
END:VEVENT
BEGIN:VEVENT
DTSTART;TZID=America/New_York:20260126T191500
DTEND;TZID=America/New_York:20260126T201500
DTSTAMP:20260425T105730
CREATED:20250504T220111Z
LAST-MODIFIED:20251117T184319Z
UID:10039471-1769454900-1769458500@meetings.greysheet.org
SUMMARY:Monday Greenwich CT Zoom
DESCRIPTION:
URL:https://meetings.greysheet.org/meeting/monday-greenwich-ct-zoom/2026-01-26
CATEGORIES:Zoom
ATTACH;FMTTYPE=image/svg+xml:https://meetings.greysheet.org/wp-content/uploads/2025/05/desktop.svg
LOCATION:Zoom ID: 929741483, Passcode: Universal, Camera: Required
END:VEVENT
BEGIN:VEVENT
DTSTART;TZID=America/New_York:20260119T191500
DTEND;TZID=America/New_York:20260119T201500
DTSTAMP:20260425T105730
CREATED:20250504T220111Z
LAST-MODIFIED:20251117T184319Z
UID:10039470-1768850100-1768853700@meetings.greysheet.org
SUMMARY:Monday Greenwich CT Zoom
DESCRIPTION:
URL:https://meetings.greysheet.org/meeting/monday-greenwich-ct-zoom/2026-01-19
CATEGORIES:Zoom
ATTACH;FMTTYPE=image/svg+xml:https://meetings.greysheet.org/wp-content/uploads/2025/05/desktop.svg
LOCATION:Zoom ID: 929741483, Passcode: Universal, Camera: Required
END:VEVENT
BEGIN:VEVENT
DTSTART;TZID=America/New_York:20260112T191500
DTEND;TZID=America/New_York:20260112T201500
DTSTAMP:20260425T105730
CREATED:20250504T220111Z
LAST-MODIFIED:20251117T184319Z
UID:10039469-1768245300-1768248900@meetings.greysheet.org
SUMMARY:Monday Greenwich CT Zoom
DESCRIPTION:
URL:https://meetings.greysheet.org/meeting/monday-greenwich-ct-zoom/2026-01-12
CATEGORIES:Zoom
ATTACH;FMTTYPE=image/svg+xml:https://meetings.greysheet.org/wp-content/uploads/2025/05/desktop.svg
LOCATION:Zoom ID: 929741483, Passcode: Universal, Camera: Required
END:VEVENT
BEGIN:VEVENT
DTSTART;TZID=America/New_York:20260105T191500
DTEND;TZID=America/New_York:20260105T201500
DTSTAMP:20260425T105730
CREATED:20250504T220111Z
LAST-MODIFIED:20251117T184319Z
UID:10039468-1767640500-1767644100@meetings.greysheet.org
SUMMARY:Monday Greenwich CT Zoom
DESCRIPTION:
URL:https://meetings.greysheet.org/meeting/monday-greenwich-ct-zoom/2026-01-05
CATEGORIES:Zoom
ATTACH;FMTTYPE=image/svg+xml:https://meetings.greysheet.org/wp-content/uploads/2025/05/desktop.svg
LOCATION:Zoom ID: 929741483, Passcode: Universal, Camera: Required
END:VEVENT
BEGIN:VEVENT
DTSTART;TZID=America/New_York:20251229T191500
DTEND;TZID=America/New_York:20251229T201500
DTSTAMP:20260425T105730
CREATED:20250504T220111Z
LAST-MODIFIED:20251117T184319Z
UID:10039467-1767035700-1767039300@meetings.greysheet.org
SUMMARY:Monday Greenwich CT Zoom
DESCRIPTION:
URL:https://meetings.greysheet.org/meeting/monday-greenwich-ct-zoom/2025-12-29
CATEGORIES:Zoom
ATTACH;FMTTYPE=image/svg+xml:https://meetings.greysheet.org/wp-content/uploads/2025/05/desktop.svg
LOCATION:Zoom ID: 929741483, Passcode: Universal, Camera: Required
END:VEVENT
BEGIN:VEVENT
DTSTART;TZID=America/New_York:20251222T191500
DTEND;TZID=America/New_York:20251222T201500
DTSTAMP:20260425T105730
CREATED:20250504T220111Z
LAST-MODIFIED:20251117T184319Z
UID:10039466-1766430900-1766434500@meetings.greysheet.org
SUMMARY:Monday Greenwich CT Zoom
DESCRIPTION:
URL:https://meetings.greysheet.org/meeting/monday-greenwich-ct-zoom/2025-12-22
CATEGORIES:Zoom
ATTACH;FMTTYPE=image/svg+xml:https://meetings.greysheet.org/wp-content/uploads/2025/05/desktop.svg
LOCATION:Zoom ID: 929741483, Passcode: Universal, Camera: Required
END:VEVENT
BEGIN:VEVENT
DTSTART;TZID=America/New_York:20251215T191500
DTEND;TZID=America/New_York:20251215T201500
DTSTAMP:20260425T105730
CREATED:20250504T220111Z
LAST-MODIFIED:20251117T184319Z
UID:10039465-1765826100-1765829700@meetings.greysheet.org
SUMMARY:Monday Greenwich CT Zoom
DESCRIPTION:
URL:https://meetings.greysheet.org/meeting/monday-greenwich-ct-zoom/2025-12-15
CATEGORIES:Zoom
ATTACH;FMTTYPE=image/svg+xml:https://meetings.greysheet.org/wp-content/uploads/2025/05/desktop.svg
LOCATION:Zoom ID: 929741483, Passcode: Universal, Camera: Required
END:VEVENT
BEGIN:VEVENT
DTSTART;TZID=America/New_York:20251208T191500
DTEND;TZID=America/New_York:20251208T201500
DTSTAMP:20260425T105730
CREATED:20250504T220111Z
LAST-MODIFIED:20251117T184319Z
UID:10039464-1765221300-1765224900@meetings.greysheet.org
SUMMARY:Monday Greenwich CT Zoom
DESCRIPTION:
URL:https://meetings.greysheet.org/meeting/monday-greenwich-ct-zoom/2025-12-08
CATEGORIES:Zoom
ATTACH;FMTTYPE=image/svg+xml:https://meetings.greysheet.org/wp-content/uploads/2025/05/desktop.svg
LOCATION:Zoom ID: 929741483, Passcode: Universal, Camera: Required
END:VEVENT
BEGIN:VEVENT
DTSTART;TZID=America/New_York:20251201T191500
DTEND;TZID=America/New_York:20251201T201500
DTSTAMP:20260425T105730
CREATED:20250504T220111Z
LAST-MODIFIED:20251117T184319Z
UID:10039463-1764616500-1764620100@meetings.greysheet.org
SUMMARY:Monday Greenwich CT Zoom
DESCRIPTION:
URL:https://meetings.greysheet.org/meeting/monday-greenwich-ct-zoom/2025-12-01
CATEGORIES:Zoom
ATTACH;FMTTYPE=image/svg+xml:https://meetings.greysheet.org/wp-content/uploads/2025/05/desktop.svg
LOCATION:Zoom ID: 929741483, Passcode: Universal, Camera: Required
END:VEVENT
BEGIN:VEVENT
DTSTART;TZID=America/New_York:20251124T191500
DTEND;TZID=America/New_York:20251124T201500
DTSTAMP:20260425T105730
CREATED:20250504T220111Z
LAST-MODIFIED:20251117T184319Z
UID:10039462-1764011700-1764015300@meetings.greysheet.org
SUMMARY:Monday Greenwich CT Zoom
DESCRIPTION:
URL:https://meetings.greysheet.org/meeting/monday-greenwich-ct-zoom/2025-11-24
CATEGORIES:Zoom
ATTACH;FMTTYPE=image/svg+xml:https://meetings.greysheet.org/wp-content/uploads/2025/05/desktop.svg
LOCATION:Zoom ID: 929741483, Passcode: Universal, Camera: Required
END:VEVENT
BEGIN:VEVENT
DTSTART;TZID=America/New_York:20251117T191500
DTEND;TZID=America/New_York:20251117T201500
DTSTAMP:20260425T105730
CREATED:20250504T220111Z
LAST-MODIFIED:20251117T184319Z
UID:10039461-1763406900-1763410500@meetings.greysheet.org
SUMMARY:Monday Greenwich CT Zoom
DESCRIPTION:
URL:https://meetings.greysheet.org/meeting/monday-greenwich-ct-zoom/2025-11-17
CATEGORIES:Zoom
ATTACH;FMTTYPE=image/svg+xml:https://meetings.greysheet.org/wp-content/uploads/2025/05/desktop.svg
LOCATION:Zoom ID: 929741483, Passcode: Universal, Camera: Required
END:VEVENT
BEGIN:VEVENT
DTSTART;TZID=America/New_York:20251110T191500
DTEND;TZID=America/New_York:20251110T201500
DTSTAMP:20260425T105730
CREATED:20250504T220111Z
LAST-MODIFIED:20251117T184319Z
UID:10039460-1762802100-1762805700@meetings.greysheet.org
SUMMARY:Monday Greenwich CT Zoom
DESCRIPTION:
URL:https://meetings.greysheet.org/meeting/monday-greenwich-ct-zoom/2025-11-10
CATEGORIES:Zoom
ATTACH;FMTTYPE=image/svg+xml:https://meetings.greysheet.org/wp-content/uploads/2025/05/desktop.svg
LOCATION:Zoom ID: 929741483, Passcode: Universal, Camera: Required
END:VEVENT
BEGIN:VEVENT
DTSTART;TZID=America/New_York:20251103T191500
DTEND;TZID=America/New_York:20251103T201500
DTSTAMP:20260425T105730
CREATED:20250504T220111Z
LAST-MODIFIED:20251117T184319Z
UID:10039459-1762197300-1762200900@meetings.greysheet.org
SUMMARY:Monday Greenwich CT Zoom
DESCRIPTION:
URL:https://meetings.greysheet.org/meeting/monday-greenwich-ct-zoom/2025-11-03
CATEGORIES:Zoom
ATTACH;FMTTYPE=image/svg+xml:https://meetings.greysheet.org/wp-content/uploads/2025/05/desktop.svg
LOCATION:Zoom ID: 929741483, Passcode: Universal, Camera: Required
END:VEVENT
BEGIN:VEVENT
DTSTART;TZID=America/New_York:20251027T191500
DTEND;TZID=America/New_York:20251027T201500
DTSTAMP:20260425T105730
CREATED:20250504T220111Z
LAST-MODIFIED:20251117T184319Z
UID:10039458-1761592500-1761596100@meetings.greysheet.org
SUMMARY:Monday Greenwich CT Zoom
DESCRIPTION:
URL:https://meetings.greysheet.org/meeting/monday-greenwich-ct-zoom/2025-10-27
CATEGORIES:Zoom
ATTACH;FMTTYPE=image/svg+xml:https://meetings.greysheet.org/wp-content/uploads/2025/05/desktop.svg
LOCATION:Zoom ID: 929741483, Passcode: Universal, Camera: Required
END:VEVENT
BEGIN:VEVENT
DTSTART;TZID=America/New_York:20251020T191500
DTEND;TZID=America/New_York:20251020T201500
DTSTAMP:20260425T105730
CREATED:20250504T220111Z
LAST-MODIFIED:20251117T184319Z
UID:10039457-1760987700-1760991300@meetings.greysheet.org
SUMMARY:Monday Greenwich CT Zoom
DESCRIPTION:
URL:https://meetings.greysheet.org/meeting/monday-greenwich-ct-zoom/2025-10-20
CATEGORIES:Zoom
ATTACH;FMTTYPE=image/svg+xml:https://meetings.greysheet.org/wp-content/uploads/2025/05/desktop.svg
LOCATION:Zoom ID: 929741483, Passcode: Universal, Camera: Required
END:VEVENT
BEGIN:VEVENT
DTSTART;TZID=America/New_York:20251013T191500
DTEND;TZID=America/New_York:20251013T201500
DTSTAMP:20260425T105730
CREATED:20250504T220111Z
LAST-MODIFIED:20251117T184319Z
UID:10039456-1760382900-1760386500@meetings.greysheet.org
SUMMARY:Monday Greenwich CT Zoom
DESCRIPTION:
URL:https://meetings.greysheet.org/meeting/monday-greenwich-ct-zoom/2025-10-13
CATEGORIES:Zoom
ATTACH;FMTTYPE=image/svg+xml:https://meetings.greysheet.org/wp-content/uploads/2025/05/desktop.svg
LOCATION:Zoom ID: 929741483, Passcode: Universal, Camera: Required
END:VEVENT
BEGIN:VEVENT
DTSTART;TZID=America/New_York:20251006T191500
DTEND;TZID=America/New_York:20251006T201500
DTSTAMP:20260425T105730
CREATED:20250504T220111Z
LAST-MODIFIED:20251117T184319Z
UID:10039455-1759778100-1759781700@meetings.greysheet.org
SUMMARY:Monday Greenwich CT Zoom
DESCRIPTION:
URL:https://meetings.greysheet.org/meeting/monday-greenwich-ct-zoom/2025-10-06
CATEGORIES:Zoom
ATTACH;FMTTYPE=image/svg+xml:https://meetings.greysheet.org/wp-content/uploads/2025/05/desktop.svg
LOCATION:Zoom ID: 929741483, Passcode: Universal, Camera: Required
END:VEVENT
BEGIN:VEVENT
DTSTART;TZID=America/New_York:20250929T191500
DTEND;TZID=America/New_York:20250929T201500
DTSTAMP:20260425T105730
CREATED:20250504T220111Z
LAST-MODIFIED:20251117T184319Z
UID:10039454-1759173300-1759176900@meetings.greysheet.org
SUMMARY:Monday Greenwich CT Zoom
DESCRIPTION:
URL:https://meetings.greysheet.org/meeting/monday-greenwich-ct-zoom/2025-09-29
CATEGORIES:Zoom
ATTACH;FMTTYPE=image/svg+xml:https://meetings.greysheet.org/wp-content/uploads/2025/05/desktop.svg
LOCATION:Zoom ID: 929741483, Passcode: Universal, Camera: Required
END:VEVENT
END:VCALENDAR