BEGIN:VCALENDAR
VERSION:2.0
PRODID:-//GreySheeters Anonymous World Services - ECPv6.15.20//NONSGML v1.0//EN
CALSCALE:GREGORIAN
METHOD:PUBLISH
X-WR-CALNAME:GreySheeters Anonymous World Services
X-ORIGINAL-URL:https://meetings.greysheet.org
X-WR-CALDESC:Events for GreySheeters Anonymous World Services
REFRESH-INTERVAL;VALUE=DURATION:PT1H
X-Robots-Tag:noindex
X-PUBLISHED-TTL:PT1H
BEGIN:VTIMEZONE
TZID:America/Los_Angeles
BEGIN:DAYLIGHT
TZOFFSETFROM:-0800
TZOFFSETTO:-0700
TZNAME:PDT
DTSTART:20260308T100000
END:DAYLIGHT
BEGIN:STANDARD
TZOFFSETFROM:-0700
TZOFFSETTO:-0800
TZNAME:PST
DTSTART:20261101T090000
END:STANDARD
BEGIN:DAYLIGHT
TZOFFSETFROM:-0800
TZOFFSETTO:-0700
TZNAME:PDT
DTSTART:20270314T100000
END:DAYLIGHT
BEGIN:STANDARD
TZOFFSETFROM:-0700
TZOFFSETTO:-0800
TZNAME:PST
DTSTART:20271107T090000
END:STANDARD
BEGIN:DAYLIGHT
TZOFFSETFROM:-0800
TZOFFSETTO:-0700
TZNAME:PDT
DTSTART:20280312T100000
END:DAYLIGHT
BEGIN:STANDARD
TZOFFSETFROM:-0700
TZOFFSETTO:-0800
TZNAME:PST
DTSTART:20281105T090000
END:STANDARD
END:VTIMEZONE
BEGIN:VEVENT
DTSTART;TZID=America/Los_Angeles:20270327T090000
DTEND;TZID=America/Los_Angeles:20270327T100000
DTSTAMP:20260421T023739
CREATED:20250122T194932Z
LAST-MODIFIED:20260308T195929Z
UID:10048265-1806138000-1806141600@meetings.greysheet.org
SUMMARY:Farmers Market at the Grove
DESCRIPTION:
URL:https://meetings.greysheet.org/meeting/farmers-market-at-the-grove/2027-03-27
LOCATION:Farmers Market at the Grove\, 6333 W 3rd St\, Los Angeles\, CA\, 90036\, United States
CATEGORIES:In Person
ATTACH;FMTTYPE=image/svg+xml:https://meetings.greysheet.org/wp-content/uploads/2025/05/map-pin.svg
GEO:34.0724565;-118.3599638
X-APPLE-STRUCTURED-LOCATION;VALUE=URI;X-ADDRESS=Farmers Market at the Grove 6333 W 3rd St Los Angeles CA 90036 United States;X-APPLE-RADIUS=500;X-TITLE=6333 W 3rd St:geo:-118.3599638,34.0724565
END:VEVENT
BEGIN:VEVENT
DTSTART;TZID=America/Los_Angeles:20270403T090000
DTEND;TZID=America/Los_Angeles:20270403T100000
DTSTAMP:20260421T023739
CREATED:20250122T194932Z
LAST-MODIFIED:20260308T195929Z
UID:10048266-1806742800-1806746400@meetings.greysheet.org
SUMMARY:Farmers Market at the Grove
DESCRIPTION:
URL:https://meetings.greysheet.org/meeting/farmers-market-at-the-grove/2027-04-03
LOCATION:Farmers Market at the Grove\, 6333 W 3rd St\, Los Angeles\, CA\, 90036\, United States
CATEGORIES:In Person
ATTACH;FMTTYPE=image/svg+xml:https://meetings.greysheet.org/wp-content/uploads/2025/05/map-pin.svg
GEO:34.0724565;-118.3599638
X-APPLE-STRUCTURED-LOCATION;VALUE=URI;X-ADDRESS=Farmers Market at the Grove 6333 W 3rd St Los Angeles CA 90036 United States;X-APPLE-RADIUS=500;X-TITLE=6333 W 3rd St:geo:-118.3599638,34.0724565
END:VEVENT
BEGIN:VEVENT
DTSTART;TZID=America/Los_Angeles:20270410T090000
DTEND;TZID=America/Los_Angeles:20270410T100000
DTSTAMP:20260421T023739
CREATED:20250122T194932Z
LAST-MODIFIED:20260308T195929Z
UID:10048267-1807347600-1807351200@meetings.greysheet.org
SUMMARY:Farmers Market at the Grove
DESCRIPTION:
URL:https://meetings.greysheet.org/meeting/farmers-market-at-the-grove/2027-04-10
LOCATION:Farmers Market at the Grove\, 6333 W 3rd St\, Los Angeles\, CA\, 90036\, United States
CATEGORIES:In Person
ATTACH;FMTTYPE=image/svg+xml:https://meetings.greysheet.org/wp-content/uploads/2025/05/map-pin.svg
GEO:34.0724565;-118.3599638
X-APPLE-STRUCTURED-LOCATION;VALUE=URI;X-ADDRESS=Farmers Market at the Grove 6333 W 3rd St Los Angeles CA 90036 United States;X-APPLE-RADIUS=500;X-TITLE=6333 W 3rd St:geo:-118.3599638,34.0724565
END:VEVENT
BEGIN:VEVENT
DTSTART;TZID=America/Los_Angeles:20270417T090000
DTEND;TZID=America/Los_Angeles:20270417T100000
DTSTAMP:20260421T023739
CREATED:20250122T194932Z
LAST-MODIFIED:20260308T195929Z
UID:10048268-1807952400-1807956000@meetings.greysheet.org
SUMMARY:Farmers Market at the Grove
DESCRIPTION:
URL:https://meetings.greysheet.org/meeting/farmers-market-at-the-grove/2027-04-17
LOCATION:Farmers Market at the Grove\, 6333 W 3rd St\, Los Angeles\, CA\, 90036\, United States
CATEGORIES:In Person
ATTACH;FMTTYPE=image/svg+xml:https://meetings.greysheet.org/wp-content/uploads/2025/05/map-pin.svg
GEO:34.0724565;-118.3599638
X-APPLE-STRUCTURED-LOCATION;VALUE=URI;X-ADDRESS=Farmers Market at the Grove 6333 W 3rd St Los Angeles CA 90036 United States;X-APPLE-RADIUS=500;X-TITLE=6333 W 3rd St:geo:-118.3599638,34.0724565
END:VEVENT
BEGIN:VEVENT
DTSTART;TZID=America/Los_Angeles:20270424T090000
DTEND;TZID=America/Los_Angeles:20270424T100000
DTSTAMP:20260421T023739
CREATED:20250122T194932Z
LAST-MODIFIED:20260308T195929Z
UID:10048269-1808557200-1808560800@meetings.greysheet.org
SUMMARY:Farmers Market at the Grove
DESCRIPTION:
URL:https://meetings.greysheet.org/meeting/farmers-market-at-the-grove/2027-04-24
LOCATION:Farmers Market at the Grove\, 6333 W 3rd St\, Los Angeles\, CA\, 90036\, United States
CATEGORIES:In Person
ATTACH;FMTTYPE=image/svg+xml:https://meetings.greysheet.org/wp-content/uploads/2025/05/map-pin.svg
GEO:34.0724565;-118.3599638
X-APPLE-STRUCTURED-LOCATION;VALUE=URI;X-ADDRESS=Farmers Market at the Grove 6333 W 3rd St Los Angeles CA 90036 United States;X-APPLE-RADIUS=500;X-TITLE=6333 W 3rd St:geo:-118.3599638,34.0724565
END:VEVENT
BEGIN:VEVENT
DTSTART;TZID=America/Los_Angeles:20270501T090000
DTEND;TZID=America/Los_Angeles:20270501T100000
DTSTAMP:20260421T023739
CREATED:20250122T194932Z
LAST-MODIFIED:20260308T195929Z
UID:10048270-1809162000-1809165600@meetings.greysheet.org
SUMMARY:Farmers Market at the Grove
DESCRIPTION:
URL:https://meetings.greysheet.org/meeting/farmers-market-at-the-grove/2027-05-01
LOCATION:Farmers Market at the Grove\, 6333 W 3rd St\, Los Angeles\, CA\, 90036\, United States
CATEGORIES:In Person
ATTACH;FMTTYPE=image/svg+xml:https://meetings.greysheet.org/wp-content/uploads/2025/05/map-pin.svg
GEO:34.0724565;-118.3599638
X-APPLE-STRUCTURED-LOCATION;VALUE=URI;X-ADDRESS=Farmers Market at the Grove 6333 W 3rd St Los Angeles CA 90036 United States;X-APPLE-RADIUS=500;X-TITLE=6333 W 3rd St:geo:-118.3599638,34.0724565
END:VEVENT
BEGIN:VEVENT
DTSTART;TZID=America/Los_Angeles:20270508T090000
DTEND;TZID=America/Los_Angeles:20270508T100000
DTSTAMP:20260421T023739
CREATED:20250122T194932Z
LAST-MODIFIED:20260308T195929Z
UID:10048271-1809766800-1809770400@meetings.greysheet.org
SUMMARY:Farmers Market at the Grove
DESCRIPTION:
URL:https://meetings.greysheet.org/meeting/farmers-market-at-the-grove/2027-05-08
LOCATION:Farmers Market at the Grove\, 6333 W 3rd St\, Los Angeles\, CA\, 90036\, United States
CATEGORIES:In Person
ATTACH;FMTTYPE=image/svg+xml:https://meetings.greysheet.org/wp-content/uploads/2025/05/map-pin.svg
GEO:34.0724565;-118.3599638
X-APPLE-STRUCTURED-LOCATION;VALUE=URI;X-ADDRESS=Farmers Market at the Grove 6333 W 3rd St Los Angeles CA 90036 United States;X-APPLE-RADIUS=500;X-TITLE=6333 W 3rd St:geo:-118.3599638,34.0724565
END:VEVENT
BEGIN:VEVENT
DTSTART;TZID=America/Los_Angeles:20270515T090000
DTEND;TZID=America/Los_Angeles:20270515T100000
DTSTAMP:20260421T023739
CREATED:20250122T194932Z
LAST-MODIFIED:20260308T195929Z
UID:10048272-1810371600-1810375200@meetings.greysheet.org
SUMMARY:Farmers Market at the Grove
DESCRIPTION:
URL:https://meetings.greysheet.org/meeting/farmers-market-at-the-grove/2027-05-15
LOCATION:Farmers Market at the Grove\, 6333 W 3rd St\, Los Angeles\, CA\, 90036\, United States
CATEGORIES:In Person
ATTACH;FMTTYPE=image/svg+xml:https://meetings.greysheet.org/wp-content/uploads/2025/05/map-pin.svg
GEO:34.0724565;-118.3599638
X-APPLE-STRUCTURED-LOCATION;VALUE=URI;X-ADDRESS=Farmers Market at the Grove 6333 W 3rd St Los Angeles CA 90036 United States;X-APPLE-RADIUS=500;X-TITLE=6333 W 3rd St:geo:-118.3599638,34.0724565
END:VEVENT
BEGIN:VEVENT
DTSTART;TZID=America/Los_Angeles:20270522T090000
DTEND;TZID=America/Los_Angeles:20270522T100000
DTSTAMP:20260421T023739
CREATED:20250122T194932Z
LAST-MODIFIED:20260308T195929Z
UID:10048273-1810976400-1810980000@meetings.greysheet.org
SUMMARY:Farmers Market at the Grove
DESCRIPTION:
URL:https://meetings.greysheet.org/meeting/farmers-market-at-the-grove/2027-05-22
LOCATION:Farmers Market at the Grove\, 6333 W 3rd St\, Los Angeles\, CA\, 90036\, United States
CATEGORIES:In Person
ATTACH;FMTTYPE=image/svg+xml:https://meetings.greysheet.org/wp-content/uploads/2025/05/map-pin.svg
GEO:34.0724565;-118.3599638
X-APPLE-STRUCTURED-LOCATION;VALUE=URI;X-ADDRESS=Farmers Market at the Grove 6333 W 3rd St Los Angeles CA 90036 United States;X-APPLE-RADIUS=500;X-TITLE=6333 W 3rd St:geo:-118.3599638,34.0724565
END:VEVENT
BEGIN:VEVENT
DTSTART;TZID=America/Los_Angeles:20270529T090000
DTEND;TZID=America/Los_Angeles:20270529T100000
DTSTAMP:20260421T023739
CREATED:20250122T194932Z
LAST-MODIFIED:20260308T195929Z
UID:10048274-1811581200-1811584800@meetings.greysheet.org
SUMMARY:Farmers Market at the Grove
DESCRIPTION:
URL:https://meetings.greysheet.org/meeting/farmers-market-at-the-grove/2027-05-29
LOCATION:Farmers Market at the Grove\, 6333 W 3rd St\, Los Angeles\, CA\, 90036\, United States
CATEGORIES:In Person
ATTACH;FMTTYPE=image/svg+xml:https://meetings.greysheet.org/wp-content/uploads/2025/05/map-pin.svg
GEO:34.0724565;-118.3599638
X-APPLE-STRUCTURED-LOCATION;VALUE=URI;X-ADDRESS=Farmers Market at the Grove 6333 W 3rd St Los Angeles CA 90036 United States;X-APPLE-RADIUS=500;X-TITLE=6333 W 3rd St:geo:-118.3599638,34.0724565
END:VEVENT
BEGIN:VEVENT
DTSTART;TZID=America/Los_Angeles:20270605T090000
DTEND;TZID=America/Los_Angeles:20270605T100000
DTSTAMP:20260421T023739
CREATED:20250122T194932Z
LAST-MODIFIED:20260308T195929Z
UID:10048275-1812186000-1812189600@meetings.greysheet.org
SUMMARY:Farmers Market at the Grove
DESCRIPTION:
URL:https://meetings.greysheet.org/meeting/farmers-market-at-the-grove/2027-06-05
LOCATION:Farmers Market at the Grove\, 6333 W 3rd St\, Los Angeles\, CA\, 90036\, United States
CATEGORIES:In Person
ATTACH;FMTTYPE=image/svg+xml:https://meetings.greysheet.org/wp-content/uploads/2025/05/map-pin.svg
GEO:34.0724565;-118.3599638
X-APPLE-STRUCTURED-LOCATION;VALUE=URI;X-ADDRESS=Farmers Market at the Grove 6333 W 3rd St Los Angeles CA 90036 United States;X-APPLE-RADIUS=500;X-TITLE=6333 W 3rd St:geo:-118.3599638,34.0724565
END:VEVENT
BEGIN:VEVENT
DTSTART;TZID=America/Los_Angeles:20270612T090000
DTEND;TZID=America/Los_Angeles:20270612T100000
DTSTAMP:20260421T023739
CREATED:20250122T194932Z
LAST-MODIFIED:20260308T195929Z
UID:10048276-1812790800-1812794400@meetings.greysheet.org
SUMMARY:Farmers Market at the Grove
DESCRIPTION:
URL:https://meetings.greysheet.org/meeting/farmers-market-at-the-grove/2027-06-12
LOCATION:Farmers Market at the Grove\, 6333 W 3rd St\, Los Angeles\, CA\, 90036\, United States
CATEGORIES:In Person
ATTACH;FMTTYPE=image/svg+xml:https://meetings.greysheet.org/wp-content/uploads/2025/05/map-pin.svg
GEO:34.0724565;-118.3599638
X-APPLE-STRUCTURED-LOCATION;VALUE=URI;X-ADDRESS=Farmers Market at the Grove 6333 W 3rd St Los Angeles CA 90036 United States;X-APPLE-RADIUS=500;X-TITLE=6333 W 3rd St:geo:-118.3599638,34.0724565
END:VEVENT
BEGIN:VEVENT
DTSTART;TZID=America/Los_Angeles:20270619T090000
DTEND;TZID=America/Los_Angeles:20270619T100000
DTSTAMP:20260421T023739
CREATED:20250122T194932Z
LAST-MODIFIED:20260308T195929Z
UID:10048277-1813395600-1813399200@meetings.greysheet.org
SUMMARY:Farmers Market at the Grove
DESCRIPTION:
URL:https://meetings.greysheet.org/meeting/farmers-market-at-the-grove/2027-06-19
LOCATION:Farmers Market at the Grove\, 6333 W 3rd St\, Los Angeles\, CA\, 90036\, United States
CATEGORIES:In Person
ATTACH;FMTTYPE=image/svg+xml:https://meetings.greysheet.org/wp-content/uploads/2025/05/map-pin.svg
GEO:34.0724565;-118.3599638
X-APPLE-STRUCTURED-LOCATION;VALUE=URI;X-ADDRESS=Farmers Market at the Grove 6333 W 3rd St Los Angeles CA 90036 United States;X-APPLE-RADIUS=500;X-TITLE=6333 W 3rd St:geo:-118.3599638,34.0724565
END:VEVENT
BEGIN:VEVENT
DTSTART;TZID=America/Los_Angeles:20270626T090000
DTEND;TZID=America/Los_Angeles:20270626T100000
DTSTAMP:20260421T023739
CREATED:20250122T194932Z
LAST-MODIFIED:20260308T195929Z
UID:10048278-1814000400-1814004000@meetings.greysheet.org
SUMMARY:Farmers Market at the Grove
DESCRIPTION:
URL:https://meetings.greysheet.org/meeting/farmers-market-at-the-grove/2027-06-26
LOCATION:Farmers Market at the Grove\, 6333 W 3rd St\, Los Angeles\, CA\, 90036\, United States
CATEGORIES:In Person
ATTACH;FMTTYPE=image/svg+xml:https://meetings.greysheet.org/wp-content/uploads/2025/05/map-pin.svg
GEO:34.0724565;-118.3599638
X-APPLE-STRUCTURED-LOCATION;VALUE=URI;X-ADDRESS=Farmers Market at the Grove 6333 W 3rd St Los Angeles CA 90036 United States;X-APPLE-RADIUS=500;X-TITLE=6333 W 3rd St:geo:-118.3599638,34.0724565
END:VEVENT
BEGIN:VEVENT
DTSTART;TZID=America/Los_Angeles:20270703T090000
DTEND;TZID=America/Los_Angeles:20270703T100000
DTSTAMP:20260421T023739
CREATED:20250122T194932Z
LAST-MODIFIED:20260308T195929Z
UID:10048279-1814605200-1814608800@meetings.greysheet.org
SUMMARY:Farmers Market at the Grove
DESCRIPTION:
URL:https://meetings.greysheet.org/meeting/farmers-market-at-the-grove/2027-07-03
LOCATION:Farmers Market at the Grove\, 6333 W 3rd St\, Los Angeles\, CA\, 90036\, United States
CATEGORIES:In Person
ATTACH;FMTTYPE=image/svg+xml:https://meetings.greysheet.org/wp-content/uploads/2025/05/map-pin.svg
GEO:34.0724565;-118.3599638
X-APPLE-STRUCTURED-LOCATION;VALUE=URI;X-ADDRESS=Farmers Market at the Grove 6333 W 3rd St Los Angeles CA 90036 United States;X-APPLE-RADIUS=500;X-TITLE=6333 W 3rd St:geo:-118.3599638,34.0724565
END:VEVENT
BEGIN:VEVENT
DTSTART;TZID=America/Los_Angeles:20270710T090000
DTEND;TZID=America/Los_Angeles:20270710T100000
DTSTAMP:20260421T023739
CREATED:20250122T194932Z
LAST-MODIFIED:20260308T195929Z
UID:10048280-1815210000-1815213600@meetings.greysheet.org
SUMMARY:Farmers Market at the Grove
DESCRIPTION:
URL:https://meetings.greysheet.org/meeting/farmers-market-at-the-grove/2027-07-10
LOCATION:Farmers Market at the Grove\, 6333 W 3rd St\, Los Angeles\, CA\, 90036\, United States
CATEGORIES:In Person
ATTACH;FMTTYPE=image/svg+xml:https://meetings.greysheet.org/wp-content/uploads/2025/05/map-pin.svg
GEO:34.0724565;-118.3599638
X-APPLE-STRUCTURED-LOCATION;VALUE=URI;X-ADDRESS=Farmers Market at the Grove 6333 W 3rd St Los Angeles CA 90036 United States;X-APPLE-RADIUS=500;X-TITLE=6333 W 3rd St:geo:-118.3599638,34.0724565
END:VEVENT
BEGIN:VEVENT
DTSTART;TZID=America/Los_Angeles:20270717T090000
DTEND;TZID=America/Los_Angeles:20270717T100000
DTSTAMP:20260421T023739
CREATED:20250122T194932Z
LAST-MODIFIED:20260308T195929Z
UID:10048281-1815814800-1815818400@meetings.greysheet.org
SUMMARY:Farmers Market at the Grove
DESCRIPTION:
URL:https://meetings.greysheet.org/meeting/farmers-market-at-the-grove/2027-07-17
LOCATION:Farmers Market at the Grove\, 6333 W 3rd St\, Los Angeles\, CA\, 90036\, United States
CATEGORIES:In Person
ATTACH;FMTTYPE=image/svg+xml:https://meetings.greysheet.org/wp-content/uploads/2025/05/map-pin.svg
GEO:34.0724565;-118.3599638
X-APPLE-STRUCTURED-LOCATION;VALUE=URI;X-ADDRESS=Farmers Market at the Grove 6333 W 3rd St Los Angeles CA 90036 United States;X-APPLE-RADIUS=500;X-TITLE=6333 W 3rd St:geo:-118.3599638,34.0724565
END:VEVENT
BEGIN:VEVENT
DTSTART;TZID=America/Los_Angeles:20270724T090000
DTEND;TZID=America/Los_Angeles:20270724T100000
DTSTAMP:20260421T023739
CREATED:20250122T194932Z
LAST-MODIFIED:20260308T195929Z
UID:10048282-1816419600-1816423200@meetings.greysheet.org
SUMMARY:Farmers Market at the Grove
DESCRIPTION:
URL:https://meetings.greysheet.org/meeting/farmers-market-at-the-grove/2027-07-24
LOCATION:Farmers Market at the Grove\, 6333 W 3rd St\, Los Angeles\, CA\, 90036\, United States
CATEGORIES:In Person
ATTACH;FMTTYPE=image/svg+xml:https://meetings.greysheet.org/wp-content/uploads/2025/05/map-pin.svg
GEO:34.0724565;-118.3599638
X-APPLE-STRUCTURED-LOCATION;VALUE=URI;X-ADDRESS=Farmers Market at the Grove 6333 W 3rd St Los Angeles CA 90036 United States;X-APPLE-RADIUS=500;X-TITLE=6333 W 3rd St:geo:-118.3599638,34.0724565
END:VEVENT
BEGIN:VEVENT
DTSTART;TZID=America/Los_Angeles:20270731T090000
DTEND;TZID=America/Los_Angeles:20270731T100000
DTSTAMP:20260421T023739
CREATED:20250122T194932Z
LAST-MODIFIED:20260308T195929Z
UID:10048283-1817024400-1817028000@meetings.greysheet.org
SUMMARY:Farmers Market at the Grove
DESCRIPTION:
URL:https://meetings.greysheet.org/meeting/farmers-market-at-the-grove/2027-07-31
LOCATION:Farmers Market at the Grove\, 6333 W 3rd St\, Los Angeles\, CA\, 90036\, United States
CATEGORIES:In Person
ATTACH;FMTTYPE=image/svg+xml:https://meetings.greysheet.org/wp-content/uploads/2025/05/map-pin.svg
GEO:34.0724565;-118.3599638
X-APPLE-STRUCTURED-LOCATION;VALUE=URI;X-ADDRESS=Farmers Market at the Grove 6333 W 3rd St Los Angeles CA 90036 United States;X-APPLE-RADIUS=500;X-TITLE=6333 W 3rd St:geo:-118.3599638,34.0724565
END:VEVENT
BEGIN:VEVENT
DTSTART;TZID=America/Los_Angeles:20270807T090000
DTEND;TZID=America/Los_Angeles:20270807T100000
DTSTAMP:20260421T023740
CREATED:20250122T194932Z
LAST-MODIFIED:20260308T195929Z
UID:10048284-1817629200-1817632800@meetings.greysheet.org
SUMMARY:Farmers Market at the Grove
DESCRIPTION:
URL:https://meetings.greysheet.org/meeting/farmers-market-at-the-grove/2027-08-07
LOCATION:Farmers Market at the Grove\, 6333 W 3rd St\, Los Angeles\, CA\, 90036\, United States
CATEGORIES:In Person
ATTACH;FMTTYPE=image/svg+xml:https://meetings.greysheet.org/wp-content/uploads/2025/05/map-pin.svg
GEO:34.0724565;-118.3599638
X-APPLE-STRUCTURED-LOCATION;VALUE=URI;X-ADDRESS=Farmers Market at the Grove 6333 W 3rd St Los Angeles CA 90036 United States;X-APPLE-RADIUS=500;X-TITLE=6333 W 3rd St:geo:-118.3599638,34.0724565
END:VEVENT
BEGIN:VEVENT
DTSTART;TZID=America/Los_Angeles:20270814T090000
DTEND;TZID=America/Los_Angeles:20270814T100000
DTSTAMP:20260421T023740
CREATED:20250122T194932Z
LAST-MODIFIED:20260308T195929Z
UID:10048285-1818234000-1818237600@meetings.greysheet.org
SUMMARY:Farmers Market at the Grove
DESCRIPTION:
URL:https://meetings.greysheet.org/meeting/farmers-market-at-the-grove/2027-08-14
LOCATION:Farmers Market at the Grove\, 6333 W 3rd St\, Los Angeles\, CA\, 90036\, United States
CATEGORIES:In Person
ATTACH;FMTTYPE=image/svg+xml:https://meetings.greysheet.org/wp-content/uploads/2025/05/map-pin.svg
GEO:34.0724565;-118.3599638
X-APPLE-STRUCTURED-LOCATION;VALUE=URI;X-ADDRESS=Farmers Market at the Grove 6333 W 3rd St Los Angeles CA 90036 United States;X-APPLE-RADIUS=500;X-TITLE=6333 W 3rd St:geo:-118.3599638,34.0724565
END:VEVENT
BEGIN:VEVENT
DTSTART;TZID=America/Los_Angeles:20270821T090000
DTEND;TZID=America/Los_Angeles:20270821T100000
DTSTAMP:20260421T023740
CREATED:20250122T194932Z
LAST-MODIFIED:20260308T195929Z
UID:10048286-1818838800-1818842400@meetings.greysheet.org
SUMMARY:Farmers Market at the Grove
DESCRIPTION:
URL:https://meetings.greysheet.org/meeting/farmers-market-at-the-grove/2027-08-21
LOCATION:Farmers Market at the Grove\, 6333 W 3rd St\, Los Angeles\, CA\, 90036\, United States
CATEGORIES:In Person
ATTACH;FMTTYPE=image/svg+xml:https://meetings.greysheet.org/wp-content/uploads/2025/05/map-pin.svg
GEO:34.0724565;-118.3599638
X-APPLE-STRUCTURED-LOCATION;VALUE=URI;X-ADDRESS=Farmers Market at the Grove 6333 W 3rd St Los Angeles CA 90036 United States;X-APPLE-RADIUS=500;X-TITLE=6333 W 3rd St:geo:-118.3599638,34.0724565
END:VEVENT
BEGIN:VEVENT
DTSTART;TZID=America/Los_Angeles:20270828T090000
DTEND;TZID=America/Los_Angeles:20270828T100000
DTSTAMP:20260421T023740
CREATED:20250122T194932Z
LAST-MODIFIED:20260308T195929Z
UID:10048287-1819443600-1819447200@meetings.greysheet.org
SUMMARY:Farmers Market at the Grove
DESCRIPTION:
URL:https://meetings.greysheet.org/meeting/farmers-market-at-the-grove/2027-08-28
LOCATION:Farmers Market at the Grove\, 6333 W 3rd St\, Los Angeles\, CA\, 90036\, United States
CATEGORIES:In Person
ATTACH;FMTTYPE=image/svg+xml:https://meetings.greysheet.org/wp-content/uploads/2025/05/map-pin.svg
GEO:34.0724565;-118.3599638
X-APPLE-STRUCTURED-LOCATION;VALUE=URI;X-ADDRESS=Farmers Market at the Grove 6333 W 3rd St Los Angeles CA 90036 United States;X-APPLE-RADIUS=500;X-TITLE=6333 W 3rd St:geo:-118.3599638,34.0724565
END:VEVENT
BEGIN:VEVENT
DTSTART;TZID=America/Los_Angeles:20270904T090000
DTEND;TZID=America/Los_Angeles:20270904T100000
DTSTAMP:20260421T023740
CREATED:20250122T194932Z
LAST-MODIFIED:20260308T195929Z
UID:10048288-1820048400-1820052000@meetings.greysheet.org
SUMMARY:Farmers Market at the Grove
DESCRIPTION:
URL:https://meetings.greysheet.org/meeting/farmers-market-at-the-grove/2027-09-04
LOCATION:Farmers Market at the Grove\, 6333 W 3rd St\, Los Angeles\, CA\, 90036\, United States
CATEGORIES:In Person
ATTACH;FMTTYPE=image/svg+xml:https://meetings.greysheet.org/wp-content/uploads/2025/05/map-pin.svg
GEO:34.0724565;-118.3599638
X-APPLE-STRUCTURED-LOCATION;VALUE=URI;X-ADDRESS=Farmers Market at the Grove 6333 W 3rd St Los Angeles CA 90036 United States;X-APPLE-RADIUS=500;X-TITLE=6333 W 3rd St:geo:-118.3599638,34.0724565
END:VEVENT
BEGIN:VEVENT
DTSTART;TZID=America/Los_Angeles:20270911T090000
DTEND;TZID=America/Los_Angeles:20270911T100000
DTSTAMP:20260421T023740
CREATED:20250122T194932Z
LAST-MODIFIED:20260308T195929Z
UID:10048289-1820653200-1820656800@meetings.greysheet.org
SUMMARY:Farmers Market at the Grove
DESCRIPTION:
URL:https://meetings.greysheet.org/meeting/farmers-market-at-the-grove/2027-09-11
LOCATION:Farmers Market at the Grove\, 6333 W 3rd St\, Los Angeles\, CA\, 90036\, United States
CATEGORIES:In Person
ATTACH;FMTTYPE=image/svg+xml:https://meetings.greysheet.org/wp-content/uploads/2025/05/map-pin.svg
GEO:34.0724565;-118.3599638
X-APPLE-STRUCTURED-LOCATION;VALUE=URI;X-ADDRESS=Farmers Market at the Grove 6333 W 3rd St Los Angeles CA 90036 United States;X-APPLE-RADIUS=500;X-TITLE=6333 W 3rd St:geo:-118.3599638,34.0724565
END:VEVENT
BEGIN:VEVENT
DTSTART;TZID=America/Los_Angeles:20270918T090000
DTEND;TZID=America/Los_Angeles:20270918T100000
DTSTAMP:20260421T023740
CREATED:20250122T194932Z
LAST-MODIFIED:20260308T195929Z
UID:10048290-1821258000-1821261600@meetings.greysheet.org
SUMMARY:Farmers Market at the Grove
DESCRIPTION:
URL:https://meetings.greysheet.org/meeting/farmers-market-at-the-grove/2027-09-18
LOCATION:Farmers Market at the Grove\, 6333 W 3rd St\, Los Angeles\, CA\, 90036\, United States
CATEGORIES:In Person
ATTACH;FMTTYPE=image/svg+xml:https://meetings.greysheet.org/wp-content/uploads/2025/05/map-pin.svg
GEO:34.0724565;-118.3599638
X-APPLE-STRUCTURED-LOCATION;VALUE=URI;X-ADDRESS=Farmers Market at the Grove 6333 W 3rd St Los Angeles CA 90036 United States;X-APPLE-RADIUS=500;X-TITLE=6333 W 3rd St:geo:-118.3599638,34.0724565
END:VEVENT
BEGIN:VEVENT
DTSTART;TZID=America/Los_Angeles:20270925T090000
DTEND;TZID=America/Los_Angeles:20270925T100000
DTSTAMP:20260421T023740
CREATED:20250122T194932Z
LAST-MODIFIED:20260308T195929Z
UID:10048291-1821862800-1821866400@meetings.greysheet.org
SUMMARY:Farmers Market at the Grove
DESCRIPTION:
URL:https://meetings.greysheet.org/meeting/farmers-market-at-the-grove/2027-09-25
LOCATION:Farmers Market at the Grove\, 6333 W 3rd St\, Los Angeles\, CA\, 90036\, United States
CATEGORIES:In Person
ATTACH;FMTTYPE=image/svg+xml:https://meetings.greysheet.org/wp-content/uploads/2025/05/map-pin.svg
GEO:34.0724565;-118.3599638
X-APPLE-STRUCTURED-LOCATION;VALUE=URI;X-ADDRESS=Farmers Market at the Grove 6333 W 3rd St Los Angeles CA 90036 United States;X-APPLE-RADIUS=500;X-TITLE=6333 W 3rd St:geo:-118.3599638,34.0724565
END:VEVENT
BEGIN:VEVENT
DTSTART;TZID=America/Los_Angeles:20271002T090000
DTEND;TZID=America/Los_Angeles:20271002T100000
DTSTAMP:20260421T023740
CREATED:20250122T194932Z
LAST-MODIFIED:20260308T195929Z
UID:10048292-1822467600-1822471200@meetings.greysheet.org
SUMMARY:Farmers Market at the Grove
DESCRIPTION:
URL:https://meetings.greysheet.org/meeting/farmers-market-at-the-grove/2027-10-02
LOCATION:Farmers Market at the Grove\, 6333 W 3rd St\, Los Angeles\, CA\, 90036\, United States
CATEGORIES:In Person
ATTACH;FMTTYPE=image/svg+xml:https://meetings.greysheet.org/wp-content/uploads/2025/05/map-pin.svg
GEO:34.0724565;-118.3599638
X-APPLE-STRUCTURED-LOCATION;VALUE=URI;X-ADDRESS=Farmers Market at the Grove 6333 W 3rd St Los Angeles CA 90036 United States;X-APPLE-RADIUS=500;X-TITLE=6333 W 3rd St:geo:-118.3599638,34.0724565
END:VEVENT
BEGIN:VEVENT
DTSTART;TZID=America/Los_Angeles:20271009T090000
DTEND;TZID=America/Los_Angeles:20271009T100000
DTSTAMP:20260421T023740
CREATED:20250122T194932Z
LAST-MODIFIED:20260308T195929Z
UID:10048293-1823072400-1823076000@meetings.greysheet.org
SUMMARY:Farmers Market at the Grove
DESCRIPTION:
URL:https://meetings.greysheet.org/meeting/farmers-market-at-the-grove/2027-10-09
LOCATION:Farmers Market at the Grove\, 6333 W 3rd St\, Los Angeles\, CA\, 90036\, United States
CATEGORIES:In Person
ATTACH;FMTTYPE=image/svg+xml:https://meetings.greysheet.org/wp-content/uploads/2025/05/map-pin.svg
GEO:34.0724565;-118.3599638
X-APPLE-STRUCTURED-LOCATION;VALUE=URI;X-ADDRESS=Farmers Market at the Grove 6333 W 3rd St Los Angeles CA 90036 United States;X-APPLE-RADIUS=500;X-TITLE=6333 W 3rd St:geo:-118.3599638,34.0724565
END:VEVENT
BEGIN:VEVENT
DTSTART;TZID=America/Los_Angeles:20271016T090000
DTEND;TZID=America/Los_Angeles:20271016T100000
DTSTAMP:20260421T023740
CREATED:20250122T194932Z
LAST-MODIFIED:20260308T195929Z
UID:10048294-1823677200-1823680800@meetings.greysheet.org
SUMMARY:Farmers Market at the Grove
DESCRIPTION:
URL:https://meetings.greysheet.org/meeting/farmers-market-at-the-grove/2027-10-16
LOCATION:Farmers Market at the Grove\, 6333 W 3rd St\, Los Angeles\, CA\, 90036\, United States
CATEGORIES:In Person
ATTACH;FMTTYPE=image/svg+xml:https://meetings.greysheet.org/wp-content/uploads/2025/05/map-pin.svg
GEO:34.0724565;-118.3599638
X-APPLE-STRUCTURED-LOCATION;VALUE=URI;X-ADDRESS=Farmers Market at the Grove 6333 W 3rd St Los Angeles CA 90036 United States;X-APPLE-RADIUS=500;X-TITLE=6333 W 3rd St:geo:-118.3599638,34.0724565
END:VEVENT
END:VCALENDAR