BEGIN:VCALENDAR
VERSION:2.0
PRODID:-//GreySheeters Anonymous World Services - ECPv6.15.20//NONSGML v1.0//EN
CALSCALE:GREGORIAN
METHOD:PUBLISH
X-WR-CALNAME:GreySheeters Anonymous World Services
X-ORIGINAL-URL:https://meetings.greysheet.org
X-WR-CALDESC:Events for GreySheeters Anonymous World Services
REFRESH-INTERVAL;VALUE=DURATION:PT1H
X-Robots-Tag:noindex
X-PUBLISHED-TTL:PT1H
BEGIN:VTIMEZONE
TZID:America/Los_Angeles
BEGIN:DAYLIGHT
TZOFFSETFROM:-0800
TZOFFSETTO:-0700
TZNAME:PDT
DTSTART:20250309T100000
END:DAYLIGHT
BEGIN:STANDARD
TZOFFSETFROM:-0700
TZOFFSETTO:-0800
TZNAME:PST
DTSTART:20251102T090000
END:STANDARD
BEGIN:DAYLIGHT
TZOFFSETFROM:-0800
TZOFFSETTO:-0700
TZNAME:PDT
DTSTART:20260308T100000
END:DAYLIGHT
BEGIN:STANDARD
TZOFFSETFROM:-0700
TZOFFSETTO:-0800
TZNAME:PST
DTSTART:20261101T090000
END:STANDARD
BEGIN:DAYLIGHT
TZOFFSETFROM:-0800
TZOFFSETTO:-0700
TZNAME:PDT
DTSTART:20270314T100000
END:DAYLIGHT
BEGIN:STANDARD
TZOFFSETFROM:-0700
TZOFFSETTO:-0800
TZNAME:PST
DTSTART:20271107T090000
END:STANDARD
BEGIN:DAYLIGHT
TZOFFSETFROM:-0800
TZOFFSETTO:-0700
TZNAME:PDT
DTSTART:20280312T100000
END:DAYLIGHT
BEGIN:STANDARD
TZOFFSETFROM:-0700
TZOFFSETTO:-0800
TZNAME:PST
DTSTART:20281105T090000
END:STANDARD
END:VTIMEZONE
BEGIN:VEVENT
DTSTART;TZID=America/Los_Angeles:20261010T090000
DTEND;TZID=America/Los_Angeles:20261010T100000
DTSTAMP:20260420T232940
CREATED:20250122T194932Z
LAST-MODIFIED:20260308T195929Z
UID:10048241-1791622800-1791626400@meetings.greysheet.org
SUMMARY:Farmers Market at the Grove
DESCRIPTION:
URL:https://meetings.greysheet.org/meeting/farmers-market-at-the-grove/2026-10-10
LOCATION:Farmers Market at the Grove\, 6333 W 3rd St\, Los Angeles\, CA\, 90036\, United States
CATEGORIES:In Person
ATTACH;FMTTYPE=image/svg+xml:https://meetings.greysheet.org/wp-content/uploads/2025/05/map-pin.svg
GEO:34.0724565;-118.3599638
X-APPLE-STRUCTURED-LOCATION;VALUE=URI;X-ADDRESS=Farmers Market at the Grove 6333 W 3rd St Los Angeles CA 90036 United States;X-APPLE-RADIUS=500;X-TITLE=6333 W 3rd St:geo:-118.3599638,34.0724565
END:VEVENT
BEGIN:VEVENT
DTSTART;TZID=America/Los_Angeles:20261017T090000
DTEND;TZID=America/Los_Angeles:20261017T100000
DTSTAMP:20260420T232940
CREATED:20250122T194932Z
LAST-MODIFIED:20260308T195929Z
UID:10048242-1792227600-1792231200@meetings.greysheet.org
SUMMARY:Farmers Market at the Grove
DESCRIPTION:
URL:https://meetings.greysheet.org/meeting/farmers-market-at-the-grove/2026-10-17
LOCATION:Farmers Market at the Grove\, 6333 W 3rd St\, Los Angeles\, CA\, 90036\, United States
CATEGORIES:In Person
ATTACH;FMTTYPE=image/svg+xml:https://meetings.greysheet.org/wp-content/uploads/2025/05/map-pin.svg
GEO:34.0724565;-118.3599638
X-APPLE-STRUCTURED-LOCATION;VALUE=URI;X-ADDRESS=Farmers Market at the Grove 6333 W 3rd St Los Angeles CA 90036 United States;X-APPLE-RADIUS=500;X-TITLE=6333 W 3rd St:geo:-118.3599638,34.0724565
END:VEVENT
BEGIN:VEVENT
DTSTART;TZID=America/Los_Angeles:20261024T090000
DTEND;TZID=America/Los_Angeles:20261024T100000
DTSTAMP:20260420T232940
CREATED:20250122T194932Z
LAST-MODIFIED:20260308T195929Z
UID:10048243-1792832400-1792836000@meetings.greysheet.org
SUMMARY:Farmers Market at the Grove
DESCRIPTION:
URL:https://meetings.greysheet.org/meeting/farmers-market-at-the-grove/2026-10-24
LOCATION:Farmers Market at the Grove\, 6333 W 3rd St\, Los Angeles\, CA\, 90036\, United States
CATEGORIES:In Person
ATTACH;FMTTYPE=image/svg+xml:https://meetings.greysheet.org/wp-content/uploads/2025/05/map-pin.svg
GEO:34.0724565;-118.3599638
X-APPLE-STRUCTURED-LOCATION;VALUE=URI;X-ADDRESS=Farmers Market at the Grove 6333 W 3rd St Los Angeles CA 90036 United States;X-APPLE-RADIUS=500;X-TITLE=6333 W 3rd St:geo:-118.3599638,34.0724565
END:VEVENT
BEGIN:VEVENT
DTSTART;TZID=America/Los_Angeles:20261031T090000
DTEND;TZID=America/Los_Angeles:20261031T100000
DTSTAMP:20260420T232940
CREATED:20250122T194932Z
LAST-MODIFIED:20260308T195929Z
UID:10048244-1793437200-1793440800@meetings.greysheet.org
SUMMARY:Farmers Market at the Grove
DESCRIPTION:
URL:https://meetings.greysheet.org/meeting/farmers-market-at-the-grove/2026-10-31
LOCATION:Farmers Market at the Grove\, 6333 W 3rd St\, Los Angeles\, CA\, 90036\, United States
CATEGORIES:In Person
ATTACH;FMTTYPE=image/svg+xml:https://meetings.greysheet.org/wp-content/uploads/2025/05/map-pin.svg
GEO:34.0724565;-118.3599638
X-APPLE-STRUCTURED-LOCATION;VALUE=URI;X-ADDRESS=Farmers Market at the Grove 6333 W 3rd St Los Angeles CA 90036 United States;X-APPLE-RADIUS=500;X-TITLE=6333 W 3rd St:geo:-118.3599638,34.0724565
END:VEVENT
BEGIN:VEVENT
DTSTART;TZID=America/Los_Angeles:20261107T090000
DTEND;TZID=America/Los_Angeles:20261107T100000
DTSTAMP:20260420T232940
CREATED:20250122T194932Z
LAST-MODIFIED:20260308T195929Z
UID:10048245-1794042000-1794045600@meetings.greysheet.org
SUMMARY:Farmers Market at the Grove
DESCRIPTION:
URL:https://meetings.greysheet.org/meeting/farmers-market-at-the-grove/2026-11-07
LOCATION:Farmers Market at the Grove\, 6333 W 3rd St\, Los Angeles\, CA\, 90036\, United States
CATEGORIES:In Person
ATTACH;FMTTYPE=image/svg+xml:https://meetings.greysheet.org/wp-content/uploads/2025/05/map-pin.svg
GEO:34.0724565;-118.3599638
X-APPLE-STRUCTURED-LOCATION;VALUE=URI;X-ADDRESS=Farmers Market at the Grove 6333 W 3rd St Los Angeles CA 90036 United States;X-APPLE-RADIUS=500;X-TITLE=6333 W 3rd St:geo:-118.3599638,34.0724565
END:VEVENT
BEGIN:VEVENT
DTSTART;TZID=America/Los_Angeles:20261114T090000
DTEND;TZID=America/Los_Angeles:20261114T100000
DTSTAMP:20260420T232940
CREATED:20250122T194932Z
LAST-MODIFIED:20260308T195929Z
UID:10048246-1794646800-1794650400@meetings.greysheet.org
SUMMARY:Farmers Market at the Grove
DESCRIPTION:
URL:https://meetings.greysheet.org/meeting/farmers-market-at-the-grove/2026-11-14
LOCATION:Farmers Market at the Grove\, 6333 W 3rd St\, Los Angeles\, CA\, 90036\, United States
CATEGORIES:In Person
ATTACH;FMTTYPE=image/svg+xml:https://meetings.greysheet.org/wp-content/uploads/2025/05/map-pin.svg
GEO:34.0724565;-118.3599638
X-APPLE-STRUCTURED-LOCATION;VALUE=URI;X-ADDRESS=Farmers Market at the Grove 6333 W 3rd St Los Angeles CA 90036 United States;X-APPLE-RADIUS=500;X-TITLE=6333 W 3rd St:geo:-118.3599638,34.0724565
END:VEVENT
BEGIN:VEVENT
DTSTART;TZID=America/Los_Angeles:20261121T090000
DTEND;TZID=America/Los_Angeles:20261121T100000
DTSTAMP:20260420T232940
CREATED:20250122T194932Z
LAST-MODIFIED:20260308T195929Z
UID:10048247-1795251600-1795255200@meetings.greysheet.org
SUMMARY:Farmers Market at the Grove
DESCRIPTION:
URL:https://meetings.greysheet.org/meeting/farmers-market-at-the-grove/2026-11-21
LOCATION:Farmers Market at the Grove\, 6333 W 3rd St\, Los Angeles\, CA\, 90036\, United States
CATEGORIES:In Person
ATTACH;FMTTYPE=image/svg+xml:https://meetings.greysheet.org/wp-content/uploads/2025/05/map-pin.svg
GEO:34.0724565;-118.3599638
X-APPLE-STRUCTURED-LOCATION;VALUE=URI;X-ADDRESS=Farmers Market at the Grove 6333 W 3rd St Los Angeles CA 90036 United States;X-APPLE-RADIUS=500;X-TITLE=6333 W 3rd St:geo:-118.3599638,34.0724565
END:VEVENT
BEGIN:VEVENT
DTSTART;TZID=America/Los_Angeles:20261128T090000
DTEND;TZID=America/Los_Angeles:20261128T100000
DTSTAMP:20260420T232940
CREATED:20250122T194932Z
LAST-MODIFIED:20260308T195929Z
UID:10048248-1795856400-1795860000@meetings.greysheet.org
SUMMARY:Farmers Market at the Grove
DESCRIPTION:
URL:https://meetings.greysheet.org/meeting/farmers-market-at-the-grove/2026-11-28
LOCATION:Farmers Market at the Grove\, 6333 W 3rd St\, Los Angeles\, CA\, 90036\, United States
CATEGORIES:In Person
ATTACH;FMTTYPE=image/svg+xml:https://meetings.greysheet.org/wp-content/uploads/2025/05/map-pin.svg
GEO:34.0724565;-118.3599638
X-APPLE-STRUCTURED-LOCATION;VALUE=URI;X-ADDRESS=Farmers Market at the Grove 6333 W 3rd St Los Angeles CA 90036 United States;X-APPLE-RADIUS=500;X-TITLE=6333 W 3rd St:geo:-118.3599638,34.0724565
END:VEVENT
BEGIN:VEVENT
DTSTART;TZID=America/Los_Angeles:20261205T090000
DTEND;TZID=America/Los_Angeles:20261205T100000
DTSTAMP:20260420T232940
CREATED:20250122T194932Z
LAST-MODIFIED:20260308T195929Z
UID:10048249-1796461200-1796464800@meetings.greysheet.org
SUMMARY:Farmers Market at the Grove
DESCRIPTION:
URL:https://meetings.greysheet.org/meeting/farmers-market-at-the-grove/2026-12-05
LOCATION:Farmers Market at the Grove\, 6333 W 3rd St\, Los Angeles\, CA\, 90036\, United States
CATEGORIES:In Person
ATTACH;FMTTYPE=image/svg+xml:https://meetings.greysheet.org/wp-content/uploads/2025/05/map-pin.svg
GEO:34.0724565;-118.3599638
X-APPLE-STRUCTURED-LOCATION;VALUE=URI;X-ADDRESS=Farmers Market at the Grove 6333 W 3rd St Los Angeles CA 90036 United States;X-APPLE-RADIUS=500;X-TITLE=6333 W 3rd St:geo:-118.3599638,34.0724565
END:VEVENT
BEGIN:VEVENT
DTSTART;TZID=America/Los_Angeles:20261212T090000
DTEND;TZID=America/Los_Angeles:20261212T100000
DTSTAMP:20260420T232940
CREATED:20250122T194932Z
LAST-MODIFIED:20260308T195929Z
UID:10048250-1797066000-1797069600@meetings.greysheet.org
SUMMARY:Farmers Market at the Grove
DESCRIPTION:
URL:https://meetings.greysheet.org/meeting/farmers-market-at-the-grove/2026-12-12
LOCATION:Farmers Market at the Grove\, 6333 W 3rd St\, Los Angeles\, CA\, 90036\, United States
CATEGORIES:In Person
ATTACH;FMTTYPE=image/svg+xml:https://meetings.greysheet.org/wp-content/uploads/2025/05/map-pin.svg
GEO:34.0724565;-118.3599638
X-APPLE-STRUCTURED-LOCATION;VALUE=URI;X-ADDRESS=Farmers Market at the Grove 6333 W 3rd St Los Angeles CA 90036 United States;X-APPLE-RADIUS=500;X-TITLE=6333 W 3rd St:geo:-118.3599638,34.0724565
END:VEVENT
BEGIN:VEVENT
DTSTART;TZID=America/Los_Angeles:20261219T090000
DTEND;TZID=America/Los_Angeles:20261219T100000
DTSTAMP:20260420T232940
CREATED:20250122T194932Z
LAST-MODIFIED:20260308T195929Z
UID:10048251-1797670800-1797674400@meetings.greysheet.org
SUMMARY:Farmers Market at the Grove
DESCRIPTION:
URL:https://meetings.greysheet.org/meeting/farmers-market-at-the-grove/2026-12-19
LOCATION:Farmers Market at the Grove\, 6333 W 3rd St\, Los Angeles\, CA\, 90036\, United States
CATEGORIES:In Person
ATTACH;FMTTYPE=image/svg+xml:https://meetings.greysheet.org/wp-content/uploads/2025/05/map-pin.svg
GEO:34.0724565;-118.3599638
X-APPLE-STRUCTURED-LOCATION;VALUE=URI;X-ADDRESS=Farmers Market at the Grove 6333 W 3rd St Los Angeles CA 90036 United States;X-APPLE-RADIUS=500;X-TITLE=6333 W 3rd St:geo:-118.3599638,34.0724565
END:VEVENT
BEGIN:VEVENT
DTSTART;TZID=America/Los_Angeles:20261226T090000
DTEND;TZID=America/Los_Angeles:20261226T100000
DTSTAMP:20260420T232940
CREATED:20250122T194932Z
LAST-MODIFIED:20260308T195929Z
UID:10048252-1798275600-1798279200@meetings.greysheet.org
SUMMARY:Farmers Market at the Grove
DESCRIPTION:
URL:https://meetings.greysheet.org/meeting/farmers-market-at-the-grove/2026-12-26
LOCATION:Farmers Market at the Grove\, 6333 W 3rd St\, Los Angeles\, CA\, 90036\, United States
CATEGORIES:In Person
ATTACH;FMTTYPE=image/svg+xml:https://meetings.greysheet.org/wp-content/uploads/2025/05/map-pin.svg
GEO:34.0724565;-118.3599638
X-APPLE-STRUCTURED-LOCATION;VALUE=URI;X-ADDRESS=Farmers Market at the Grove 6333 W 3rd St Los Angeles CA 90036 United States;X-APPLE-RADIUS=500;X-TITLE=6333 W 3rd St:geo:-118.3599638,34.0724565
END:VEVENT
BEGIN:VEVENT
DTSTART;TZID=America/Los_Angeles:20270102T090000
DTEND;TZID=America/Los_Angeles:20270102T100000
DTSTAMP:20260420T232940
CREATED:20250122T194932Z
LAST-MODIFIED:20260308T195929Z
UID:10048253-1798880400-1798884000@meetings.greysheet.org
SUMMARY:Farmers Market at the Grove
DESCRIPTION:
URL:https://meetings.greysheet.org/meeting/farmers-market-at-the-grove/2027-01-02
LOCATION:Farmers Market at the Grove\, 6333 W 3rd St\, Los Angeles\, CA\, 90036\, United States
CATEGORIES:In Person
ATTACH;FMTTYPE=image/svg+xml:https://meetings.greysheet.org/wp-content/uploads/2025/05/map-pin.svg
GEO:34.0724565;-118.3599638
X-APPLE-STRUCTURED-LOCATION;VALUE=URI;X-ADDRESS=Farmers Market at the Grove 6333 W 3rd St Los Angeles CA 90036 United States;X-APPLE-RADIUS=500;X-TITLE=6333 W 3rd St:geo:-118.3599638,34.0724565
END:VEVENT
BEGIN:VEVENT
DTSTART;TZID=America/Los_Angeles:20270109T090000
DTEND;TZID=America/Los_Angeles:20270109T100000
DTSTAMP:20260420T232940
CREATED:20250122T194932Z
LAST-MODIFIED:20260308T195929Z
UID:10048254-1799485200-1799488800@meetings.greysheet.org
SUMMARY:Farmers Market at the Grove
DESCRIPTION:
URL:https://meetings.greysheet.org/meeting/farmers-market-at-the-grove/2027-01-09
LOCATION:Farmers Market at the Grove\, 6333 W 3rd St\, Los Angeles\, CA\, 90036\, United States
CATEGORIES:In Person
ATTACH;FMTTYPE=image/svg+xml:https://meetings.greysheet.org/wp-content/uploads/2025/05/map-pin.svg
GEO:34.0724565;-118.3599638
X-APPLE-STRUCTURED-LOCATION;VALUE=URI;X-ADDRESS=Farmers Market at the Grove 6333 W 3rd St Los Angeles CA 90036 United States;X-APPLE-RADIUS=500;X-TITLE=6333 W 3rd St:geo:-118.3599638,34.0724565
END:VEVENT
BEGIN:VEVENT
DTSTART;TZID=America/Los_Angeles:20270116T090000
DTEND;TZID=America/Los_Angeles:20270116T100000
DTSTAMP:20260420T232940
CREATED:20250122T194932Z
LAST-MODIFIED:20260308T195929Z
UID:10048255-1800090000-1800093600@meetings.greysheet.org
SUMMARY:Farmers Market at the Grove
DESCRIPTION:
URL:https://meetings.greysheet.org/meeting/farmers-market-at-the-grove/2027-01-16
LOCATION:Farmers Market at the Grove\, 6333 W 3rd St\, Los Angeles\, CA\, 90036\, United States
CATEGORIES:In Person
ATTACH;FMTTYPE=image/svg+xml:https://meetings.greysheet.org/wp-content/uploads/2025/05/map-pin.svg
GEO:34.0724565;-118.3599638
X-APPLE-STRUCTURED-LOCATION;VALUE=URI;X-ADDRESS=Farmers Market at the Grove 6333 W 3rd St Los Angeles CA 90036 United States;X-APPLE-RADIUS=500;X-TITLE=6333 W 3rd St:geo:-118.3599638,34.0724565
END:VEVENT
BEGIN:VEVENT
DTSTART;TZID=America/Los_Angeles:20270123T090000
DTEND;TZID=America/Los_Angeles:20270123T100000
DTSTAMP:20260420T232940
CREATED:20250122T194932Z
LAST-MODIFIED:20260308T195929Z
UID:10048256-1800694800-1800698400@meetings.greysheet.org
SUMMARY:Farmers Market at the Grove
DESCRIPTION:
URL:https://meetings.greysheet.org/meeting/farmers-market-at-the-grove/2027-01-23
LOCATION:Farmers Market at the Grove\, 6333 W 3rd St\, Los Angeles\, CA\, 90036\, United States
CATEGORIES:In Person
ATTACH;FMTTYPE=image/svg+xml:https://meetings.greysheet.org/wp-content/uploads/2025/05/map-pin.svg
GEO:34.0724565;-118.3599638
X-APPLE-STRUCTURED-LOCATION;VALUE=URI;X-ADDRESS=Farmers Market at the Grove 6333 W 3rd St Los Angeles CA 90036 United States;X-APPLE-RADIUS=500;X-TITLE=6333 W 3rd St:geo:-118.3599638,34.0724565
END:VEVENT
BEGIN:VEVENT
DTSTART;TZID=America/Los_Angeles:20270130T090000
DTEND;TZID=America/Los_Angeles:20270130T100000
DTSTAMP:20260420T232940
CREATED:20250122T194932Z
LAST-MODIFIED:20260308T195929Z
UID:10048257-1801299600-1801303200@meetings.greysheet.org
SUMMARY:Farmers Market at the Grove
DESCRIPTION:
URL:https://meetings.greysheet.org/meeting/farmers-market-at-the-grove/2027-01-30
LOCATION:Farmers Market at the Grove\, 6333 W 3rd St\, Los Angeles\, CA\, 90036\, United States
CATEGORIES:In Person
ATTACH;FMTTYPE=image/svg+xml:https://meetings.greysheet.org/wp-content/uploads/2025/05/map-pin.svg
GEO:34.0724565;-118.3599638
X-APPLE-STRUCTURED-LOCATION;VALUE=URI;X-ADDRESS=Farmers Market at the Grove 6333 W 3rd St Los Angeles CA 90036 United States;X-APPLE-RADIUS=500;X-TITLE=6333 W 3rd St:geo:-118.3599638,34.0724565
END:VEVENT
BEGIN:VEVENT
DTSTART;TZID=America/Los_Angeles:20270206T090000
DTEND;TZID=America/Los_Angeles:20270206T100000
DTSTAMP:20260420T232940
CREATED:20250122T194932Z
LAST-MODIFIED:20260308T195929Z
UID:10048258-1801904400-1801908000@meetings.greysheet.org
SUMMARY:Farmers Market at the Grove
DESCRIPTION:
URL:https://meetings.greysheet.org/meeting/farmers-market-at-the-grove/2027-02-06
LOCATION:Farmers Market at the Grove\, 6333 W 3rd St\, Los Angeles\, CA\, 90036\, United States
CATEGORIES:In Person
ATTACH;FMTTYPE=image/svg+xml:https://meetings.greysheet.org/wp-content/uploads/2025/05/map-pin.svg
GEO:34.0724565;-118.3599638
X-APPLE-STRUCTURED-LOCATION;VALUE=URI;X-ADDRESS=Farmers Market at the Grove 6333 W 3rd St Los Angeles CA 90036 United States;X-APPLE-RADIUS=500;X-TITLE=6333 W 3rd St:geo:-118.3599638,34.0724565
END:VEVENT
BEGIN:VEVENT
DTSTART;TZID=America/Los_Angeles:20270213T090000
DTEND;TZID=America/Los_Angeles:20270213T100000
DTSTAMP:20260420T232940
CREATED:20250122T194932Z
LAST-MODIFIED:20260308T195929Z
UID:10048259-1802509200-1802512800@meetings.greysheet.org
SUMMARY:Farmers Market at the Grove
DESCRIPTION:
URL:https://meetings.greysheet.org/meeting/farmers-market-at-the-grove/2027-02-13
LOCATION:Farmers Market at the Grove\, 6333 W 3rd St\, Los Angeles\, CA\, 90036\, United States
CATEGORIES:In Person
ATTACH;FMTTYPE=image/svg+xml:https://meetings.greysheet.org/wp-content/uploads/2025/05/map-pin.svg
GEO:34.0724565;-118.3599638
X-APPLE-STRUCTURED-LOCATION;VALUE=URI;X-ADDRESS=Farmers Market at the Grove 6333 W 3rd St Los Angeles CA 90036 United States;X-APPLE-RADIUS=500;X-TITLE=6333 W 3rd St:geo:-118.3599638,34.0724565
END:VEVENT
BEGIN:VEVENT
DTSTART;TZID=America/Los_Angeles:20270220T090000
DTEND;TZID=America/Los_Angeles:20270220T100000
DTSTAMP:20260420T232940
CREATED:20250122T194932Z
LAST-MODIFIED:20260308T195929Z
UID:10048260-1803114000-1803117600@meetings.greysheet.org
SUMMARY:Farmers Market at the Grove
DESCRIPTION:
URL:https://meetings.greysheet.org/meeting/farmers-market-at-the-grove/2027-02-20
LOCATION:Farmers Market at the Grove\, 6333 W 3rd St\, Los Angeles\, CA\, 90036\, United States
CATEGORIES:In Person
ATTACH;FMTTYPE=image/svg+xml:https://meetings.greysheet.org/wp-content/uploads/2025/05/map-pin.svg
GEO:34.0724565;-118.3599638
X-APPLE-STRUCTURED-LOCATION;VALUE=URI;X-ADDRESS=Farmers Market at the Grove 6333 W 3rd St Los Angeles CA 90036 United States;X-APPLE-RADIUS=500;X-TITLE=6333 W 3rd St:geo:-118.3599638,34.0724565
END:VEVENT
BEGIN:VEVENT
DTSTART;TZID=America/Los_Angeles:20270227T090000
DTEND;TZID=America/Los_Angeles:20270227T100000
DTSTAMP:20260420T232940
CREATED:20250122T194932Z
LAST-MODIFIED:20260308T195929Z
UID:10048261-1803718800-1803722400@meetings.greysheet.org
SUMMARY:Farmers Market at the Grove
DESCRIPTION:
URL:https://meetings.greysheet.org/meeting/farmers-market-at-the-grove/2027-02-27
LOCATION:Farmers Market at the Grove\, 6333 W 3rd St\, Los Angeles\, CA\, 90036\, United States
CATEGORIES:In Person
ATTACH;FMTTYPE=image/svg+xml:https://meetings.greysheet.org/wp-content/uploads/2025/05/map-pin.svg
GEO:34.0724565;-118.3599638
X-APPLE-STRUCTURED-LOCATION;VALUE=URI;X-ADDRESS=Farmers Market at the Grove 6333 W 3rd St Los Angeles CA 90036 United States;X-APPLE-RADIUS=500;X-TITLE=6333 W 3rd St:geo:-118.3599638,34.0724565
END:VEVENT
BEGIN:VEVENT
DTSTART;TZID=America/Los_Angeles:20270306T090000
DTEND;TZID=America/Los_Angeles:20270306T100000
DTSTAMP:20260420T232940
CREATED:20250122T194932Z
LAST-MODIFIED:20260308T195929Z
UID:10048262-1804323600-1804327200@meetings.greysheet.org
SUMMARY:Farmers Market at the Grove
DESCRIPTION:
URL:https://meetings.greysheet.org/meeting/farmers-market-at-the-grove/2027-03-06
LOCATION:Farmers Market at the Grove\, 6333 W 3rd St\, Los Angeles\, CA\, 90036\, United States
CATEGORIES:In Person
ATTACH;FMTTYPE=image/svg+xml:https://meetings.greysheet.org/wp-content/uploads/2025/05/map-pin.svg
GEO:34.0724565;-118.3599638
X-APPLE-STRUCTURED-LOCATION;VALUE=URI;X-ADDRESS=Farmers Market at the Grove 6333 W 3rd St Los Angeles CA 90036 United States;X-APPLE-RADIUS=500;X-TITLE=6333 W 3rd St:geo:-118.3599638,34.0724565
END:VEVENT
BEGIN:VEVENT
DTSTART;TZID=America/Los_Angeles:20270313T090000
DTEND;TZID=America/Los_Angeles:20270313T100000
DTSTAMP:20260420T232940
CREATED:20250122T194932Z
LAST-MODIFIED:20260308T195929Z
UID:10048263-1804928400-1804932000@meetings.greysheet.org
SUMMARY:Farmers Market at the Grove
DESCRIPTION:
URL:https://meetings.greysheet.org/meeting/farmers-market-at-the-grove/2027-03-13
LOCATION:Farmers Market at the Grove\, 6333 W 3rd St\, Los Angeles\, CA\, 90036\, United States
CATEGORIES:In Person
ATTACH;FMTTYPE=image/svg+xml:https://meetings.greysheet.org/wp-content/uploads/2025/05/map-pin.svg
GEO:34.0724565;-118.3599638
X-APPLE-STRUCTURED-LOCATION;VALUE=URI;X-ADDRESS=Farmers Market at the Grove 6333 W 3rd St Los Angeles CA 90036 United States;X-APPLE-RADIUS=500;X-TITLE=6333 W 3rd St:geo:-118.3599638,34.0724565
END:VEVENT
BEGIN:VEVENT
DTSTART;TZID=America/Los_Angeles:20270320T090000
DTEND;TZID=America/Los_Angeles:20270320T100000
DTSTAMP:20260420T232940
CREATED:20250122T194932Z
LAST-MODIFIED:20260308T195929Z
UID:10048264-1805533200-1805536800@meetings.greysheet.org
SUMMARY:Farmers Market at the Grove
DESCRIPTION:
URL:https://meetings.greysheet.org/meeting/farmers-market-at-the-grove/2027-03-20
LOCATION:Farmers Market at the Grove\, 6333 W 3rd St\, Los Angeles\, CA\, 90036\, United States
CATEGORIES:In Person
ATTACH;FMTTYPE=image/svg+xml:https://meetings.greysheet.org/wp-content/uploads/2025/05/map-pin.svg
GEO:34.0724565;-118.3599638
X-APPLE-STRUCTURED-LOCATION;VALUE=URI;X-ADDRESS=Farmers Market at the Grove 6333 W 3rd St Los Angeles CA 90036 United States;X-APPLE-RADIUS=500;X-TITLE=6333 W 3rd St:geo:-118.3599638,34.0724565
END:VEVENT
BEGIN:VEVENT
DTSTART;TZID=America/Los_Angeles:20270327T090000
DTEND;TZID=America/Los_Angeles:20270327T100000
DTSTAMP:20260420T232940
CREATED:20250122T194932Z
LAST-MODIFIED:20260308T195929Z
UID:10048265-1806138000-1806141600@meetings.greysheet.org
SUMMARY:Farmers Market at the Grove
DESCRIPTION:
URL:https://meetings.greysheet.org/meeting/farmers-market-at-the-grove/2027-03-27
LOCATION:Farmers Market at the Grove\, 6333 W 3rd St\, Los Angeles\, CA\, 90036\, United States
CATEGORIES:In Person
ATTACH;FMTTYPE=image/svg+xml:https://meetings.greysheet.org/wp-content/uploads/2025/05/map-pin.svg
GEO:34.0724565;-118.3599638
X-APPLE-STRUCTURED-LOCATION;VALUE=URI;X-ADDRESS=Farmers Market at the Grove 6333 W 3rd St Los Angeles CA 90036 United States;X-APPLE-RADIUS=500;X-TITLE=6333 W 3rd St:geo:-118.3599638,34.0724565
END:VEVENT
BEGIN:VEVENT
DTSTART;TZID=America/Los_Angeles:20270403T090000
DTEND;TZID=America/Los_Angeles:20270403T100000
DTSTAMP:20260420T232940
CREATED:20250122T194932Z
LAST-MODIFIED:20260308T195929Z
UID:10048266-1806742800-1806746400@meetings.greysheet.org
SUMMARY:Farmers Market at the Grove
DESCRIPTION:
URL:https://meetings.greysheet.org/meeting/farmers-market-at-the-grove/2027-04-03
LOCATION:Farmers Market at the Grove\, 6333 W 3rd St\, Los Angeles\, CA\, 90036\, United States
CATEGORIES:In Person
ATTACH;FMTTYPE=image/svg+xml:https://meetings.greysheet.org/wp-content/uploads/2025/05/map-pin.svg
GEO:34.0724565;-118.3599638
X-APPLE-STRUCTURED-LOCATION;VALUE=URI;X-ADDRESS=Farmers Market at the Grove 6333 W 3rd St Los Angeles CA 90036 United States;X-APPLE-RADIUS=500;X-TITLE=6333 W 3rd St:geo:-118.3599638,34.0724565
END:VEVENT
BEGIN:VEVENT
DTSTART;TZID=America/Los_Angeles:20270410T090000
DTEND;TZID=America/Los_Angeles:20270410T100000
DTSTAMP:20260420T232940
CREATED:20250122T194932Z
LAST-MODIFIED:20260308T195929Z
UID:10048267-1807347600-1807351200@meetings.greysheet.org
SUMMARY:Farmers Market at the Grove
DESCRIPTION:
URL:https://meetings.greysheet.org/meeting/farmers-market-at-the-grove/2027-04-10
LOCATION:Farmers Market at the Grove\, 6333 W 3rd St\, Los Angeles\, CA\, 90036\, United States
CATEGORIES:In Person
ATTACH;FMTTYPE=image/svg+xml:https://meetings.greysheet.org/wp-content/uploads/2025/05/map-pin.svg
GEO:34.0724565;-118.3599638
X-APPLE-STRUCTURED-LOCATION;VALUE=URI;X-ADDRESS=Farmers Market at the Grove 6333 W 3rd St Los Angeles CA 90036 United States;X-APPLE-RADIUS=500;X-TITLE=6333 W 3rd St:geo:-118.3599638,34.0724565
END:VEVENT
BEGIN:VEVENT
DTSTART;TZID=America/Los_Angeles:20270417T090000
DTEND;TZID=America/Los_Angeles:20270417T100000
DTSTAMP:20260420T232940
CREATED:20250122T194932Z
LAST-MODIFIED:20260308T195929Z
UID:10048268-1807952400-1807956000@meetings.greysheet.org
SUMMARY:Farmers Market at the Grove
DESCRIPTION:
URL:https://meetings.greysheet.org/meeting/farmers-market-at-the-grove/2027-04-17
LOCATION:Farmers Market at the Grove\, 6333 W 3rd St\, Los Angeles\, CA\, 90036\, United States
CATEGORIES:In Person
ATTACH;FMTTYPE=image/svg+xml:https://meetings.greysheet.org/wp-content/uploads/2025/05/map-pin.svg
GEO:34.0724565;-118.3599638
X-APPLE-STRUCTURED-LOCATION;VALUE=URI;X-ADDRESS=Farmers Market at the Grove 6333 W 3rd St Los Angeles CA 90036 United States;X-APPLE-RADIUS=500;X-TITLE=6333 W 3rd St:geo:-118.3599638,34.0724565
END:VEVENT
BEGIN:VEVENT
DTSTART;TZID=America/Los_Angeles:20270424T090000
DTEND;TZID=America/Los_Angeles:20270424T100000
DTSTAMP:20260420T232940
CREATED:20250122T194932Z
LAST-MODIFIED:20260308T195929Z
UID:10048269-1808557200-1808560800@meetings.greysheet.org
SUMMARY:Farmers Market at the Grove
DESCRIPTION:
URL:https://meetings.greysheet.org/meeting/farmers-market-at-the-grove/2027-04-24
LOCATION:Farmers Market at the Grove\, 6333 W 3rd St\, Los Angeles\, CA\, 90036\, United States
CATEGORIES:In Person
ATTACH;FMTTYPE=image/svg+xml:https://meetings.greysheet.org/wp-content/uploads/2025/05/map-pin.svg
GEO:34.0724565;-118.3599638
X-APPLE-STRUCTURED-LOCATION;VALUE=URI;X-ADDRESS=Farmers Market at the Grove 6333 W 3rd St Los Angeles CA 90036 United States;X-APPLE-RADIUS=500;X-TITLE=6333 W 3rd St:geo:-118.3599638,34.0724565
END:VEVENT
BEGIN:VEVENT
DTSTART;TZID=America/Los_Angeles:20270501T090000
DTEND;TZID=America/Los_Angeles:20270501T100000
DTSTAMP:20260420T232940
CREATED:20250122T194932Z
LAST-MODIFIED:20260308T195929Z
UID:10048270-1809162000-1809165600@meetings.greysheet.org
SUMMARY:Farmers Market at the Grove
DESCRIPTION:
URL:https://meetings.greysheet.org/meeting/farmers-market-at-the-grove/2027-05-01
LOCATION:Farmers Market at the Grove\, 6333 W 3rd St\, Los Angeles\, CA\, 90036\, United States
CATEGORIES:In Person
ATTACH;FMTTYPE=image/svg+xml:https://meetings.greysheet.org/wp-content/uploads/2025/05/map-pin.svg
GEO:34.0724565;-118.3599638
X-APPLE-STRUCTURED-LOCATION;VALUE=URI;X-ADDRESS=Farmers Market at the Grove 6333 W 3rd St Los Angeles CA 90036 United States;X-APPLE-RADIUS=500;X-TITLE=6333 W 3rd St:geo:-118.3599638,34.0724565
END:VEVENT
END:VCALENDAR