BEGIN:VCALENDAR
VERSION:2.0
PRODID:-//GreySheeters Anonymous World Services - ECPv6.15.20//NONSGML v1.0//EN
CALSCALE:GREGORIAN
METHOD:PUBLISH
X-WR-CALNAME:GreySheeters Anonymous World Services
X-ORIGINAL-URL:https://meetings.greysheet.org
X-WR-CALDESC:Events for GreySheeters Anonymous World Services
REFRESH-INTERVAL;VALUE=DURATION:PT1H
X-Robots-Tag:noindex
X-PUBLISHED-TTL:PT1H
BEGIN:VTIMEZONE
TZID:America/New_York
BEGIN:DAYLIGHT
TZOFFSETFROM:-0500
TZOFFSETTO:-0400
TZNAME:EDT
DTSTART:20240310T070000
END:DAYLIGHT
BEGIN:STANDARD
TZOFFSETFROM:-0400
TZOFFSETTO:-0500
TZNAME:EST
DTSTART:20241103T060000
END:STANDARD
BEGIN:DAYLIGHT
TZOFFSETFROM:-0500
TZOFFSETTO:-0400
TZNAME:EDT
DTSTART:20250309T070000
END:DAYLIGHT
BEGIN:STANDARD
TZOFFSETFROM:-0400
TZOFFSETTO:-0500
TZNAME:EST
DTSTART:20251102T060000
END:STANDARD
BEGIN:DAYLIGHT
TZOFFSETFROM:-0500
TZOFFSETTO:-0400
TZNAME:EDT
DTSTART:20260308T070000
END:DAYLIGHT
BEGIN:STANDARD
TZOFFSETFROM:-0400
TZOFFSETTO:-0500
TZNAME:EST
DTSTART:20261101T060000
END:STANDARD
BEGIN:DAYLIGHT
TZOFFSETFROM:-0500
TZOFFSETTO:-0400
TZNAME:EDT
DTSTART:20270314T070000
END:DAYLIGHT
BEGIN:STANDARD
TZOFFSETFROM:-0400
TZOFFSETTO:-0500
TZNAME:EST
DTSTART:20271107T060000
END:STANDARD
END:VTIMEZONE
BEGIN:VEVENT
DTSTART;TZID=America/New_York:20260122T173000
DTEND;TZID=America/New_York:20260122T183000
DTSTAMP:20260419T175519
CREATED:20250504T220126Z
LAST-MODIFIED:20251117T210513Z
UID:10035892-1769103000-1769106600@meetings.greysheet.org
SUMMARY:Living Abstinent NMW
DESCRIPTION:
URL:https://meetings.greysheet.org/meeting/living-abstinent-nmw/2026-01-22
CATEGORIES:Zoom
ATTACH;FMTTYPE=image/svg+xml:https://meetings.greysheet.org/wp-content/uploads/2025/05/desktop.svg
LOCATION:Zoom ID: 88944002643, Passcode: Universal, Camera: See Meeting Guidelines
END:VEVENT
BEGIN:VEVENT
DTSTART;TZID=America/New_York:20260115T173000
DTEND;TZID=America/New_York:20260115T183000
DTSTAMP:20260419T175519
CREATED:20250504T220126Z
LAST-MODIFIED:20251117T210513Z
UID:10035891-1768498200-1768501800@meetings.greysheet.org
SUMMARY:Living Abstinent NMW
DESCRIPTION:
URL:https://meetings.greysheet.org/meeting/living-abstinent-nmw/2026-01-15
CATEGORIES:Zoom
ATTACH;FMTTYPE=image/svg+xml:https://meetings.greysheet.org/wp-content/uploads/2025/05/desktop.svg
LOCATION:Zoom ID: 88944002643, Passcode: Universal, Camera: See Meeting Guidelines
END:VEVENT
BEGIN:VEVENT
DTSTART;TZID=America/New_York:20260108T173000
DTEND;TZID=America/New_York:20260108T183000
DTSTAMP:20260419T175519
CREATED:20250504T220126Z
LAST-MODIFIED:20251117T210513Z
UID:10035890-1767893400-1767897000@meetings.greysheet.org
SUMMARY:Living Abstinent NMW
DESCRIPTION:
URL:https://meetings.greysheet.org/meeting/living-abstinent-nmw/2026-01-08
CATEGORIES:Zoom
ATTACH;FMTTYPE=image/svg+xml:https://meetings.greysheet.org/wp-content/uploads/2025/05/desktop.svg
LOCATION:Zoom ID: 88944002643, Passcode: Universal, Camera: See Meeting Guidelines
END:VEVENT
BEGIN:VEVENT
DTSTART;TZID=America/New_York:20260101T173000
DTEND;TZID=America/New_York:20260101T183000
DTSTAMP:20260419T175519
CREATED:20250504T220126Z
LAST-MODIFIED:20251117T210513Z
UID:10035889-1767288600-1767292200@meetings.greysheet.org
SUMMARY:Living Abstinent NMW
DESCRIPTION:
URL:https://meetings.greysheet.org/meeting/living-abstinent-nmw/2026-01-01
CATEGORIES:Zoom
ATTACH;FMTTYPE=image/svg+xml:https://meetings.greysheet.org/wp-content/uploads/2025/05/desktop.svg
LOCATION:Zoom ID: 88944002643, Passcode: Universal, Camera: See Meeting Guidelines
END:VEVENT
BEGIN:VEVENT
DTSTART;TZID=America/New_York:20251225T173000
DTEND;TZID=America/New_York:20251225T183000
DTSTAMP:20260419T175519
CREATED:20250504T220126Z
LAST-MODIFIED:20251117T210513Z
UID:10035888-1766683800-1766687400@meetings.greysheet.org
SUMMARY:Living Abstinent NMW
DESCRIPTION:
URL:https://meetings.greysheet.org/meeting/living-abstinent-nmw/2025-12-25
CATEGORIES:Zoom
ATTACH;FMTTYPE=image/svg+xml:https://meetings.greysheet.org/wp-content/uploads/2025/05/desktop.svg
LOCATION:Zoom ID: 88944002643, Passcode: Universal, Camera: See Meeting Guidelines
END:VEVENT
BEGIN:VEVENT
DTSTART;TZID=America/New_York:20251218T173000
DTEND;TZID=America/New_York:20251218T183000
DTSTAMP:20260419T175519
CREATED:20250504T220126Z
LAST-MODIFIED:20251117T210513Z
UID:10035887-1766079000-1766082600@meetings.greysheet.org
SUMMARY:Living Abstinent NMW
DESCRIPTION:
URL:https://meetings.greysheet.org/meeting/living-abstinent-nmw/2025-12-18
CATEGORIES:Zoom
ATTACH;FMTTYPE=image/svg+xml:https://meetings.greysheet.org/wp-content/uploads/2025/05/desktop.svg
LOCATION:Zoom ID: 88944002643, Passcode: Universal, Camera: See Meeting Guidelines
END:VEVENT
BEGIN:VEVENT
DTSTART;TZID=America/New_York:20251211T173000
DTEND;TZID=America/New_York:20251211T183000
DTSTAMP:20260419T175519
CREATED:20250504T220126Z
LAST-MODIFIED:20251117T210513Z
UID:10035886-1765474200-1765477800@meetings.greysheet.org
SUMMARY:Living Abstinent NMW
DESCRIPTION:
URL:https://meetings.greysheet.org/meeting/living-abstinent-nmw/2025-12-11
CATEGORIES:Zoom
ATTACH;FMTTYPE=image/svg+xml:https://meetings.greysheet.org/wp-content/uploads/2025/05/desktop.svg
LOCATION:Zoom ID: 88944002643, Passcode: Universal, Camera: See Meeting Guidelines
END:VEVENT
BEGIN:VEVENT
DTSTART;TZID=America/New_York:20251204T173000
DTEND;TZID=America/New_York:20251204T183000
DTSTAMP:20260419T175519
CREATED:20250504T220126Z
LAST-MODIFIED:20251117T210513Z
UID:10035885-1764869400-1764873000@meetings.greysheet.org
SUMMARY:Living Abstinent NMW
DESCRIPTION:
URL:https://meetings.greysheet.org/meeting/living-abstinent-nmw/2025-12-04
CATEGORIES:Zoom
ATTACH;FMTTYPE=image/svg+xml:https://meetings.greysheet.org/wp-content/uploads/2025/05/desktop.svg
LOCATION:Zoom ID: 88944002643, Passcode: Universal, Camera: See Meeting Guidelines
END:VEVENT
BEGIN:VEVENT
DTSTART;TZID=America/New_York:20251127T173000
DTEND;TZID=America/New_York:20251127T183000
DTSTAMP:20260419T175519
CREATED:20250504T220126Z
LAST-MODIFIED:20251117T210513Z
UID:10035884-1764264600-1764268200@meetings.greysheet.org
SUMMARY:Living Abstinent NMW
DESCRIPTION:
URL:https://meetings.greysheet.org/meeting/living-abstinent-nmw/2025-11-27
CATEGORIES:Zoom
ATTACH;FMTTYPE=image/svg+xml:https://meetings.greysheet.org/wp-content/uploads/2025/05/desktop.svg
LOCATION:Zoom ID: 88944002643, Passcode: Universal, Camera: See Meeting Guidelines
END:VEVENT
BEGIN:VEVENT
DTSTART;TZID=America/New_York:20251120T173000
DTEND;TZID=America/New_York:20251120T183000
DTSTAMP:20260419T175519
CREATED:20250504T220126Z
LAST-MODIFIED:20251117T210513Z
UID:10035883-1763659800-1763663400@meetings.greysheet.org
SUMMARY:Living Abstinent NMW
DESCRIPTION:
URL:https://meetings.greysheet.org/meeting/living-abstinent-nmw/2025-11-20
CATEGORIES:Zoom
ATTACH;FMTTYPE=image/svg+xml:https://meetings.greysheet.org/wp-content/uploads/2025/05/desktop.svg
LOCATION:Zoom ID: 88944002643, Passcode: Universal, Camera: See Meeting Guidelines
END:VEVENT
BEGIN:VEVENT
DTSTART;TZID=America/New_York:20251113T173000
DTEND;TZID=America/New_York:20251113T183000
DTSTAMP:20260419T175519
CREATED:20250504T220126Z
LAST-MODIFIED:20251117T210513Z
UID:10035882-1763055000-1763058600@meetings.greysheet.org
SUMMARY:Living Abstinent NMW
DESCRIPTION:
URL:https://meetings.greysheet.org/meeting/living-abstinent-nmw/2025-11-13
CATEGORIES:Zoom
ATTACH;FMTTYPE=image/svg+xml:https://meetings.greysheet.org/wp-content/uploads/2025/05/desktop.svg
LOCATION:Zoom ID: 88944002643, Passcode: Universal, Camera: See Meeting Guidelines
END:VEVENT
BEGIN:VEVENT
DTSTART;TZID=America/New_York:20251106T173000
DTEND;TZID=America/New_York:20251106T183000
DTSTAMP:20260419T175519
CREATED:20250504T220126Z
LAST-MODIFIED:20251117T210513Z
UID:10035881-1762450200-1762453800@meetings.greysheet.org
SUMMARY:Living Abstinent NMW
DESCRIPTION:
URL:https://meetings.greysheet.org/meeting/living-abstinent-nmw/2025-11-06
CATEGORIES:Zoom
ATTACH;FMTTYPE=image/svg+xml:https://meetings.greysheet.org/wp-content/uploads/2025/05/desktop.svg
LOCATION:Zoom ID: 88944002643, Passcode: Universal, Camera: See Meeting Guidelines
END:VEVENT
BEGIN:VEVENT
DTSTART;TZID=America/New_York:20251030T173000
DTEND;TZID=America/New_York:20251030T183000
DTSTAMP:20260419T175519
CREATED:20250504T220126Z
LAST-MODIFIED:20251117T210513Z
UID:10035880-1761845400-1761849000@meetings.greysheet.org
SUMMARY:Living Abstinent NMW
DESCRIPTION:
URL:https://meetings.greysheet.org/meeting/living-abstinent-nmw/2025-10-30
CATEGORIES:Zoom
ATTACH;FMTTYPE=image/svg+xml:https://meetings.greysheet.org/wp-content/uploads/2025/05/desktop.svg
LOCATION:Zoom ID: 88944002643, Passcode: Universal, Camera: See Meeting Guidelines
END:VEVENT
BEGIN:VEVENT
DTSTART;TZID=America/New_York:20251023T173000
DTEND;TZID=America/New_York:20251023T183000
DTSTAMP:20260419T175519
CREATED:20250504T220126Z
LAST-MODIFIED:20251117T210513Z
UID:10035879-1761240600-1761244200@meetings.greysheet.org
SUMMARY:Living Abstinent NMW
DESCRIPTION:
URL:https://meetings.greysheet.org/meeting/living-abstinent-nmw/2025-10-23
CATEGORIES:Zoom
ATTACH;FMTTYPE=image/svg+xml:https://meetings.greysheet.org/wp-content/uploads/2025/05/desktop.svg
LOCATION:Zoom ID: 88944002643, Passcode: Universal, Camera: See Meeting Guidelines
END:VEVENT
BEGIN:VEVENT
DTSTART;TZID=America/New_York:20251016T173000
DTEND;TZID=America/New_York:20251016T183000
DTSTAMP:20260419T175519
CREATED:20250504T220126Z
LAST-MODIFIED:20251117T210513Z
UID:10035878-1760635800-1760639400@meetings.greysheet.org
SUMMARY:Living Abstinent NMW
DESCRIPTION:
URL:https://meetings.greysheet.org/meeting/living-abstinent-nmw/2025-10-16
CATEGORIES:Zoom
ATTACH;FMTTYPE=image/svg+xml:https://meetings.greysheet.org/wp-content/uploads/2025/05/desktop.svg
LOCATION:Zoom ID: 88944002643, Passcode: Universal, Camera: See Meeting Guidelines
END:VEVENT
BEGIN:VEVENT
DTSTART;TZID=America/New_York:20251009T173000
DTEND;TZID=America/New_York:20251009T183000
DTSTAMP:20260419T175519
CREATED:20250504T220126Z
LAST-MODIFIED:20251117T210513Z
UID:10035877-1760031000-1760034600@meetings.greysheet.org
SUMMARY:Living Abstinent NMW
DESCRIPTION:
URL:https://meetings.greysheet.org/meeting/living-abstinent-nmw/2025-10-09
CATEGORIES:Zoom
ATTACH;FMTTYPE=image/svg+xml:https://meetings.greysheet.org/wp-content/uploads/2025/05/desktop.svg
LOCATION:Zoom ID: 88944002643, Passcode: Universal, Camera: See Meeting Guidelines
END:VEVENT
BEGIN:VEVENT
DTSTART;TZID=America/New_York:20251002T173000
DTEND;TZID=America/New_York:20251002T183000
DTSTAMP:20260419T175519
CREATED:20250504T220126Z
LAST-MODIFIED:20251117T210513Z
UID:10035876-1759426200-1759429800@meetings.greysheet.org
SUMMARY:Living Abstinent NMW
DESCRIPTION:
URL:https://meetings.greysheet.org/meeting/living-abstinent-nmw/2025-10-02
CATEGORIES:Zoom
ATTACH;FMTTYPE=image/svg+xml:https://meetings.greysheet.org/wp-content/uploads/2025/05/desktop.svg
LOCATION:Zoom ID: 88944002643, Passcode: Universal, Camera: See Meeting Guidelines
END:VEVENT
BEGIN:VEVENT
DTSTART;TZID=America/New_York:20250925T173000
DTEND;TZID=America/New_York:20250925T183000
DTSTAMP:20260419T175519
CREATED:20250504T220126Z
LAST-MODIFIED:20251117T210513Z
UID:10035875-1758821400-1758825000@meetings.greysheet.org
SUMMARY:Living Abstinent NMW
DESCRIPTION:
URL:https://meetings.greysheet.org/meeting/living-abstinent-nmw/2025-09-25
CATEGORIES:Zoom
ATTACH;FMTTYPE=image/svg+xml:https://meetings.greysheet.org/wp-content/uploads/2025/05/desktop.svg
LOCATION:Zoom ID: 88944002643, Passcode: Universal, Camera: See Meeting Guidelines
END:VEVENT
BEGIN:VEVENT
DTSTART;TZID=America/New_York:20250918T173000
DTEND;TZID=America/New_York:20250918T183000
DTSTAMP:20260419T175519
CREATED:20250504T220126Z
LAST-MODIFIED:20251117T210513Z
UID:10035874-1758216600-1758220200@meetings.greysheet.org
SUMMARY:Living Abstinent NMW
DESCRIPTION:
URL:https://meetings.greysheet.org/meeting/living-abstinent-nmw/2025-09-18
CATEGORIES:Zoom
ATTACH;FMTTYPE=image/svg+xml:https://meetings.greysheet.org/wp-content/uploads/2025/05/desktop.svg
LOCATION:Zoom ID: 88944002643, Passcode: Universal, Camera: See Meeting Guidelines
END:VEVENT
BEGIN:VEVENT
DTSTART;TZID=America/New_York:20250911T173000
DTEND;TZID=America/New_York:20250911T183000
DTSTAMP:20260419T175519
CREATED:20250504T220126Z
LAST-MODIFIED:20251117T210513Z
UID:10035873-1757611800-1757615400@meetings.greysheet.org
SUMMARY:Living Abstinent NMW
DESCRIPTION:
URL:https://meetings.greysheet.org/meeting/living-abstinent-nmw/2025-09-11
CATEGORIES:Zoom
ATTACH;FMTTYPE=image/svg+xml:https://meetings.greysheet.org/wp-content/uploads/2025/05/desktop.svg
LOCATION:Zoom ID: 88944002643, Passcode: Universal, Camera: See Meeting Guidelines
END:VEVENT
BEGIN:VEVENT
DTSTART;TZID=America/New_York:20250904T173000
DTEND;TZID=America/New_York:20250904T183000
DTSTAMP:20260419T175519
CREATED:20250504T220126Z
LAST-MODIFIED:20251117T210513Z
UID:10035872-1757007000-1757010600@meetings.greysheet.org
SUMMARY:Living Abstinent NMW
DESCRIPTION:
URL:https://meetings.greysheet.org/meeting/living-abstinent-nmw/2025-09-04
CATEGORIES:Zoom
ATTACH;FMTTYPE=image/svg+xml:https://meetings.greysheet.org/wp-content/uploads/2025/05/desktop.svg
LOCATION:Zoom ID: 88944002643, Passcode: Universal, Camera: See Meeting Guidelines
END:VEVENT
BEGIN:VEVENT
DTSTART;TZID=America/New_York:20250828T173000
DTEND;TZID=America/New_York:20250828T183000
DTSTAMP:20260419T175519
CREATED:20250504T220126Z
LAST-MODIFIED:20251117T210513Z
UID:10035871-1756402200-1756405800@meetings.greysheet.org
SUMMARY:Living Abstinent NMW
DESCRIPTION:
URL:https://meetings.greysheet.org/meeting/living-abstinent-nmw/2025-08-28
CATEGORIES:Zoom
ATTACH;FMTTYPE=image/svg+xml:https://meetings.greysheet.org/wp-content/uploads/2025/05/desktop.svg
LOCATION:Zoom ID: 88944002643, Passcode: Universal, Camera: See Meeting Guidelines
END:VEVENT
BEGIN:VEVENT
DTSTART;TZID=America/New_York:20250821T173000
DTEND;TZID=America/New_York:20250821T183000
DTSTAMP:20260419T175519
CREATED:20250504T220126Z
LAST-MODIFIED:20251117T210513Z
UID:10035870-1755797400-1755801000@meetings.greysheet.org
SUMMARY:Living Abstinent NMW
DESCRIPTION:
URL:https://meetings.greysheet.org/meeting/living-abstinent-nmw/2025-08-21
CATEGORIES:Zoom
ATTACH;FMTTYPE=image/svg+xml:https://meetings.greysheet.org/wp-content/uploads/2025/05/desktop.svg
LOCATION:Zoom ID: 88944002643, Passcode: Universal, Camera: See Meeting Guidelines
END:VEVENT
BEGIN:VEVENT
DTSTART;TZID=America/New_York:20250814T173000
DTEND;TZID=America/New_York:20250814T183000
DTSTAMP:20260419T175519
CREATED:20250504T220126Z
LAST-MODIFIED:20251117T210513Z
UID:10035869-1755192600-1755196200@meetings.greysheet.org
SUMMARY:Living Abstinent NMW
DESCRIPTION:
URL:https://meetings.greysheet.org/meeting/living-abstinent-nmw/2025-08-14
CATEGORIES:Zoom
ATTACH;FMTTYPE=image/svg+xml:https://meetings.greysheet.org/wp-content/uploads/2025/05/desktop.svg
LOCATION:Zoom ID: 88944002643, Passcode: Universal, Camera: See Meeting Guidelines
END:VEVENT
BEGIN:VEVENT
DTSTART;TZID=America/New_York:20250807T173000
DTEND;TZID=America/New_York:20250807T183000
DTSTAMP:20260419T175519
CREATED:20250504T220126Z
LAST-MODIFIED:20251117T210513Z
UID:10035868-1754587800-1754591400@meetings.greysheet.org
SUMMARY:Living Abstinent NMW
DESCRIPTION:
URL:https://meetings.greysheet.org/meeting/living-abstinent-nmw/2025-08-07
CATEGORIES:Zoom
ATTACH;FMTTYPE=image/svg+xml:https://meetings.greysheet.org/wp-content/uploads/2025/05/desktop.svg
LOCATION:Zoom ID: 88944002643, Passcode: Universal, Camera: See Meeting Guidelines
END:VEVENT
BEGIN:VEVENT
DTSTART;TZID=America/New_York:20250731T173000
DTEND;TZID=America/New_York:20250731T183000
DTSTAMP:20260419T175519
CREATED:20250504T220126Z
LAST-MODIFIED:20251117T210513Z
UID:10035867-1753983000-1753986600@meetings.greysheet.org
SUMMARY:Living Abstinent NMW
DESCRIPTION:
URL:https://meetings.greysheet.org/meeting/living-abstinent-nmw/2025-07-31
CATEGORIES:Zoom
ATTACH;FMTTYPE=image/svg+xml:https://meetings.greysheet.org/wp-content/uploads/2025/05/desktop.svg
LOCATION:Zoom ID: 88944002643, Passcode: Universal, Camera: See Meeting Guidelines
END:VEVENT
BEGIN:VEVENT
DTSTART;TZID=America/New_York:20250724T173000
DTEND;TZID=America/New_York:20250724T183000
DTSTAMP:20260419T175519
CREATED:20250504T220126Z
LAST-MODIFIED:20251117T210513Z
UID:10035866-1753378200-1753381800@meetings.greysheet.org
SUMMARY:Living Abstinent NMW
DESCRIPTION:
URL:https://meetings.greysheet.org/meeting/living-abstinent-nmw/2025-07-24
CATEGORIES:Zoom
ATTACH;FMTTYPE=image/svg+xml:https://meetings.greysheet.org/wp-content/uploads/2025/05/desktop.svg
LOCATION:Zoom ID: 88944002643, Passcode: Universal, Camera: See Meeting Guidelines
END:VEVENT
BEGIN:VEVENT
DTSTART;TZID=America/New_York:20250717T173000
DTEND;TZID=America/New_York:20250717T183000
DTSTAMP:20260419T175519
CREATED:20250504T220126Z
LAST-MODIFIED:20251117T210513Z
UID:10035865-1752773400-1752777000@meetings.greysheet.org
SUMMARY:Living Abstinent NMW
DESCRIPTION:
URL:https://meetings.greysheet.org/meeting/living-abstinent-nmw/2025-07-17
CATEGORIES:Zoom
ATTACH;FMTTYPE=image/svg+xml:https://meetings.greysheet.org/wp-content/uploads/2025/05/desktop.svg
LOCATION:Zoom ID: 88944002643, Passcode: Universal, Camera: See Meeting Guidelines
END:VEVENT
BEGIN:VEVENT
DTSTART;TZID=America/New_York:20250710T173000
DTEND;TZID=America/New_York:20250710T183000
DTSTAMP:20260419T175519
CREATED:20250504T220126Z
LAST-MODIFIED:20251117T210513Z
UID:10035864-1752168600-1752172200@meetings.greysheet.org
SUMMARY:Living Abstinent NMW
DESCRIPTION:
URL:https://meetings.greysheet.org/meeting/living-abstinent-nmw/2025-07-10
CATEGORIES:Zoom
ATTACH;FMTTYPE=image/svg+xml:https://meetings.greysheet.org/wp-content/uploads/2025/05/desktop.svg
LOCATION:Zoom ID: 88944002643, Passcode: Universal, Camera: See Meeting Guidelines
END:VEVENT
BEGIN:VEVENT
DTSTART;TZID=America/New_York:20250703T173000
DTEND;TZID=America/New_York:20250703T183000
DTSTAMP:20260419T175519
CREATED:20250504T220126Z
LAST-MODIFIED:20251117T210513Z
UID:10035863-1751563800-1751567400@meetings.greysheet.org
SUMMARY:Living Abstinent NMW
DESCRIPTION:
URL:https://meetings.greysheet.org/meeting/living-abstinent-nmw/2025-07-03
CATEGORIES:Zoom
ATTACH;FMTTYPE=image/svg+xml:https://meetings.greysheet.org/wp-content/uploads/2025/05/desktop.svg
LOCATION:Zoom ID: 88944002643, Passcode: Universal, Camera: See Meeting Guidelines
END:VEVENT
END:VCALENDAR