BEGIN:VCALENDAR
VERSION:2.0
PRODID:-//GreySheeters Anonymous World Services - ECPv6.15.20//NONSGML v1.0//EN
CALSCALE:GREGORIAN
METHOD:PUBLISH
X-ORIGINAL-URL:https://meetings.greysheet.org
X-WR-CALDESC:Events for GreySheeters Anonymous World Services
REFRESH-INTERVAL;VALUE=DURATION:PT1H
X-Robots-Tag:noindex
X-PUBLISHED-TTL:PT1H
BEGIN:VTIMEZONE
TZID:Asia/Jerusalem
BEGIN:DAYLIGHT
TZOFFSETFROM:+0200
TZOFFSETTO:+0300
TZNAME:IDT
DTSTART:20240329T000000
END:DAYLIGHT
BEGIN:STANDARD
TZOFFSETFROM:+0300
TZOFFSETTO:+0200
TZNAME:IST
DTSTART:20241026T230000
END:STANDARD
BEGIN:DAYLIGHT
TZOFFSETFROM:+0200
TZOFFSETTO:+0300
TZNAME:IDT
DTSTART:20250328T000000
END:DAYLIGHT
BEGIN:STANDARD
TZOFFSETFROM:+0300
TZOFFSETTO:+0200
TZNAME:IST
DTSTART:20251025T230000
END:STANDARD
BEGIN:DAYLIGHT
TZOFFSETFROM:+0200
TZOFFSETTO:+0300
TZNAME:IDT
DTSTART:20260327T000000
END:DAYLIGHT
BEGIN:STANDARD
TZOFFSETFROM:+0300
TZOFFSETTO:+0200
TZNAME:IST
DTSTART:20261024T230000
END:STANDARD
BEGIN:DAYLIGHT
TZOFFSETFROM:+0200
TZOFFSETTO:+0300
TZNAME:IDT
DTSTART:20270326T000000
END:DAYLIGHT
BEGIN:STANDARD
TZOFFSETFROM:+0300
TZOFFSETTO:+0200
TZNAME:IST
DTSTART:20271030T230000
END:STANDARD
END:VTIMEZONE
BEGIN:VEVENT
DTSTART;TZID=Asia/Jerusalem:20260419T112000
DTEND;TZID=Asia/Jerusalem:20260419T123000
DTSTAMP:20260419T121839
CREATED:20250504T220119Z
LAST-MODIFIED:20260216T145633Z
UID:10031813-1776597600-1776601800@meetings.greysheet.org
SUMMARY:NMW NMW NMW
DESCRIPTION:
URL:https://meetings.greysheet.org/meeting/nmw-nmw-nmw/2026-04-19
CATEGORIES:Zoom
ATTACH;FMTTYPE=image/svg+xml:https://meetings.greysheet.org/wp-content/uploads/2025/05/desktop.svg
LOCATION:Zoom ID: 85704037347, Passcode: Universal, Camera: Required
END:VEVENT
BEGIN:VEVENT
DTSTART;TZID=Asia/Jerusalem:20260412T112000
DTEND;TZID=Asia/Jerusalem:20260412T123000
DTSTAMP:20260419T121839
CREATED:20250504T220119Z
LAST-MODIFIED:20260216T145633Z
UID:10031812-1775992800-1775997000@meetings.greysheet.org
SUMMARY:NMW NMW NMW
DESCRIPTION:
URL:https://meetings.greysheet.org/meeting/nmw-nmw-nmw/2026-04-12
CATEGORIES:Zoom
ATTACH;FMTTYPE=image/svg+xml:https://meetings.greysheet.org/wp-content/uploads/2025/05/desktop.svg
LOCATION:Zoom ID: 85704037347, Passcode: Universal, Camera: Required
END:VEVENT
BEGIN:VEVENT
DTSTART;TZID=Asia/Jerusalem:20260405T112000
DTEND;TZID=Asia/Jerusalem:20260405T123000
DTSTAMP:20260419T121839
CREATED:20250504T220119Z
LAST-MODIFIED:20260216T145633Z
UID:10031811-1775388000-1775392200@meetings.greysheet.org
SUMMARY:NMW NMW NMW
DESCRIPTION:
URL:https://meetings.greysheet.org/meeting/nmw-nmw-nmw/2026-04-05
CATEGORIES:Zoom
ATTACH;FMTTYPE=image/svg+xml:https://meetings.greysheet.org/wp-content/uploads/2025/05/desktop.svg
LOCATION:Zoom ID: 85704037347, Passcode: Universal, Camera: Required
END:VEVENT
BEGIN:VEVENT
DTSTART;TZID=Asia/Jerusalem:20260329T112000
DTEND;TZID=Asia/Jerusalem:20260329T123000
DTSTAMP:20260419T121839
CREATED:20250504T220119Z
LAST-MODIFIED:20260216T145633Z
UID:10031810-1774783200-1774787400@meetings.greysheet.org
SUMMARY:NMW NMW NMW
DESCRIPTION:
URL:https://meetings.greysheet.org/meeting/nmw-nmw-nmw/2026-03-29
CATEGORIES:Zoom
ATTACH;FMTTYPE=image/svg+xml:https://meetings.greysheet.org/wp-content/uploads/2025/05/desktop.svg
LOCATION:Zoom ID: 85704037347, Passcode: Universal, Camera: Required
END:VEVENT
BEGIN:VEVENT
DTSTART;TZID=Asia/Jerusalem:20260322T112000
DTEND;TZID=Asia/Jerusalem:20260322T123000
DTSTAMP:20260419T121839
CREATED:20250504T220119Z
LAST-MODIFIED:20260216T145633Z
UID:10031809-1774178400-1774182600@meetings.greysheet.org
SUMMARY:NMW NMW NMW
DESCRIPTION:
URL:https://meetings.greysheet.org/meeting/nmw-nmw-nmw/2026-03-22
CATEGORIES:Zoom
ATTACH;FMTTYPE=image/svg+xml:https://meetings.greysheet.org/wp-content/uploads/2025/05/desktop.svg
LOCATION:Zoom ID: 85704037347, Passcode: Universal, Camera: Required
END:VEVENT
BEGIN:VEVENT
DTSTART;TZID=Asia/Jerusalem:20260315T112000
DTEND;TZID=Asia/Jerusalem:20260315T123000
DTSTAMP:20260419T121839
CREATED:20250504T220119Z
LAST-MODIFIED:20260216T145633Z
UID:10031808-1773573600-1773577800@meetings.greysheet.org
SUMMARY:NMW NMW NMW
DESCRIPTION:
URL:https://meetings.greysheet.org/meeting/nmw-nmw-nmw/2026-03-15
CATEGORIES:Zoom
ATTACH;FMTTYPE=image/svg+xml:https://meetings.greysheet.org/wp-content/uploads/2025/05/desktop.svg
LOCATION:Zoom ID: 85704037347, Passcode: Universal, Camera: Required
END:VEVENT
BEGIN:VEVENT
DTSTART;TZID=Asia/Jerusalem:20260308T112000
DTEND;TZID=Asia/Jerusalem:20260308T123000
DTSTAMP:20260419T121839
CREATED:20250504T220119Z
LAST-MODIFIED:20260216T145633Z
UID:10031807-1772968800-1772973000@meetings.greysheet.org
SUMMARY:NMW NMW NMW
DESCRIPTION:
URL:https://meetings.greysheet.org/meeting/nmw-nmw-nmw/2026-03-08
CATEGORIES:Zoom
ATTACH;FMTTYPE=image/svg+xml:https://meetings.greysheet.org/wp-content/uploads/2025/05/desktop.svg
LOCATION:Zoom ID: 85704037347, Passcode: Universal, Camera: Required
END:VEVENT
BEGIN:VEVENT
DTSTART;TZID=Asia/Jerusalem:20260301T112000
DTEND;TZID=Asia/Jerusalem:20260301T123000
DTSTAMP:20260419T121839
CREATED:20250504T220119Z
LAST-MODIFIED:20260216T145633Z
UID:10031806-1772364000-1772368200@meetings.greysheet.org
SUMMARY:NMW NMW NMW
DESCRIPTION:
URL:https://meetings.greysheet.org/meeting/nmw-nmw-nmw/2026-03-01
CATEGORIES:Zoom
ATTACH;FMTTYPE=image/svg+xml:https://meetings.greysheet.org/wp-content/uploads/2025/05/desktop.svg
LOCATION:Zoom ID: 85704037347, Passcode: Universal, Camera: Required
END:VEVENT
BEGIN:VEVENT
DTSTART;TZID=Asia/Jerusalem:20260222T112000
DTEND;TZID=Asia/Jerusalem:20260222T123000
DTSTAMP:20260419T121839
CREATED:20250504T220119Z
LAST-MODIFIED:20260216T145633Z
UID:10031805-1771759200-1771763400@meetings.greysheet.org
SUMMARY:NMW NMW NMW
DESCRIPTION:
URL:https://meetings.greysheet.org/meeting/nmw-nmw-nmw/2026-02-22
CATEGORIES:Zoom
ATTACH;FMTTYPE=image/svg+xml:https://meetings.greysheet.org/wp-content/uploads/2025/05/desktop.svg
LOCATION:Zoom ID: 85704037347, Passcode: Universal, Camera: Required
END:VEVENT
BEGIN:VEVENT
DTSTART;TZID=Asia/Jerusalem:20260215T112000
DTEND;TZID=Asia/Jerusalem:20260215T123000
DTSTAMP:20260419T121839
CREATED:20250504T220119Z
LAST-MODIFIED:20260216T145633Z
UID:10031804-1771154400-1771158600@meetings.greysheet.org
SUMMARY:NMW NMW NMW
DESCRIPTION:
URL:https://meetings.greysheet.org/meeting/nmw-nmw-nmw/2026-02-15
CATEGORIES:Zoom
ATTACH;FMTTYPE=image/svg+xml:https://meetings.greysheet.org/wp-content/uploads/2025/05/desktop.svg
LOCATION:Zoom ID: 85704037347, Passcode: Universal, Camera: Required
END:VEVENT
BEGIN:VEVENT
DTSTART;TZID=Asia/Jerusalem:20260208T112000
DTEND;TZID=Asia/Jerusalem:20260208T123000
DTSTAMP:20260419T121839
CREATED:20250504T220119Z
LAST-MODIFIED:20260216T145633Z
UID:10031803-1770549600-1770553800@meetings.greysheet.org
SUMMARY:NMW NMW NMW
DESCRIPTION:
URL:https://meetings.greysheet.org/meeting/nmw-nmw-nmw/2026-02-08
CATEGORIES:Zoom
ATTACH;FMTTYPE=image/svg+xml:https://meetings.greysheet.org/wp-content/uploads/2025/05/desktop.svg
LOCATION:Zoom ID: 85704037347, Passcode: Universal, Camera: Required
END:VEVENT
BEGIN:VEVENT
DTSTART;TZID=Asia/Jerusalem:20260201T112000
DTEND;TZID=Asia/Jerusalem:20260201T123000
DTSTAMP:20260419T121839
CREATED:20250504T220119Z
LAST-MODIFIED:20260216T145633Z
UID:10031802-1769944800-1769949000@meetings.greysheet.org
SUMMARY:NMW NMW NMW
DESCRIPTION:
URL:https://meetings.greysheet.org/meeting/nmw-nmw-nmw/2026-02-01
CATEGORIES:Zoom
ATTACH;FMTTYPE=image/svg+xml:https://meetings.greysheet.org/wp-content/uploads/2025/05/desktop.svg
LOCATION:Zoom ID: 85704037347, Passcode: Universal, Camera: Required
END:VEVENT
BEGIN:VEVENT
DTSTART;TZID=Asia/Jerusalem:20260125T112000
DTEND;TZID=Asia/Jerusalem:20260125T123000
DTSTAMP:20260419T121839
CREATED:20250504T220119Z
LAST-MODIFIED:20260216T145633Z
UID:10031801-1769340000-1769344200@meetings.greysheet.org
SUMMARY:NMW NMW NMW
DESCRIPTION:
URL:https://meetings.greysheet.org/meeting/nmw-nmw-nmw/2026-01-25
CATEGORIES:Zoom
ATTACH;FMTTYPE=image/svg+xml:https://meetings.greysheet.org/wp-content/uploads/2025/05/desktop.svg
LOCATION:Zoom ID: 85704037347, Passcode: Universal, Camera: Required
END:VEVENT
BEGIN:VEVENT
DTSTART;TZID=Asia/Jerusalem:20260118T112000
DTEND;TZID=Asia/Jerusalem:20260118T123000
DTSTAMP:20260419T121839
CREATED:20250504T220119Z
LAST-MODIFIED:20260216T145633Z
UID:10031800-1768735200-1768739400@meetings.greysheet.org
SUMMARY:NMW NMW NMW
DESCRIPTION:
URL:https://meetings.greysheet.org/meeting/nmw-nmw-nmw/2026-01-18
CATEGORIES:Zoom
ATTACH;FMTTYPE=image/svg+xml:https://meetings.greysheet.org/wp-content/uploads/2025/05/desktop.svg
LOCATION:Zoom ID: 85704037347, Passcode: Universal, Camera: Required
END:VEVENT
BEGIN:VEVENT
DTSTART;TZID=Asia/Jerusalem:20260111T112000
DTEND;TZID=Asia/Jerusalem:20260111T123000
DTSTAMP:20260419T121839
CREATED:20250504T220119Z
LAST-MODIFIED:20260216T145633Z
UID:10031799-1768130400-1768134600@meetings.greysheet.org
SUMMARY:NMW NMW NMW
DESCRIPTION:
URL:https://meetings.greysheet.org/meeting/nmw-nmw-nmw/2026-01-11
CATEGORIES:Zoom
ATTACH;FMTTYPE=image/svg+xml:https://meetings.greysheet.org/wp-content/uploads/2025/05/desktop.svg
LOCATION:Zoom ID: 85704037347, Passcode: Universal, Camera: Required
END:VEVENT
BEGIN:VEVENT
DTSTART;TZID=Asia/Jerusalem:20260104T112000
DTEND;TZID=Asia/Jerusalem:20260104T123000
DTSTAMP:20260419T121839
CREATED:20250504T220119Z
LAST-MODIFIED:20260216T145633Z
UID:10031798-1767525600-1767529800@meetings.greysheet.org
SUMMARY:NMW NMW NMW
DESCRIPTION:
URL:https://meetings.greysheet.org/meeting/nmw-nmw-nmw/2026-01-04
CATEGORIES:Zoom
ATTACH;FMTTYPE=image/svg+xml:https://meetings.greysheet.org/wp-content/uploads/2025/05/desktop.svg
LOCATION:Zoom ID: 85704037347, Passcode: Universal, Camera: Required
END:VEVENT
BEGIN:VEVENT
DTSTART;TZID=Asia/Jerusalem:20251228T112000
DTEND;TZID=Asia/Jerusalem:20251228T123000
DTSTAMP:20260419T121839
CREATED:20250504T220119Z
LAST-MODIFIED:20260216T145633Z
UID:10031797-1766920800-1766925000@meetings.greysheet.org
SUMMARY:NMW NMW NMW
DESCRIPTION:
URL:https://meetings.greysheet.org/meeting/nmw-nmw-nmw/2025-12-28
CATEGORIES:Zoom
ATTACH;FMTTYPE=image/svg+xml:https://meetings.greysheet.org/wp-content/uploads/2025/05/desktop.svg
LOCATION:Zoom ID: 85704037347, Passcode: Universal, Camera: Required
END:VEVENT
BEGIN:VEVENT
DTSTART;TZID=Asia/Jerusalem:20251221T112000
DTEND;TZID=Asia/Jerusalem:20251221T123000
DTSTAMP:20260419T121839
CREATED:20250504T220119Z
LAST-MODIFIED:20260216T145633Z
UID:10031796-1766316000-1766320200@meetings.greysheet.org
SUMMARY:NMW NMW NMW
DESCRIPTION:
URL:https://meetings.greysheet.org/meeting/nmw-nmw-nmw/2025-12-21
CATEGORIES:Zoom
ATTACH;FMTTYPE=image/svg+xml:https://meetings.greysheet.org/wp-content/uploads/2025/05/desktop.svg
LOCATION:Zoom ID: 85704037347, Passcode: Universal, Camera: Required
END:VEVENT
BEGIN:VEVENT
DTSTART;TZID=Asia/Jerusalem:20251214T112000
DTEND;TZID=Asia/Jerusalem:20251214T123000
DTSTAMP:20260419T121839
CREATED:20250504T220119Z
LAST-MODIFIED:20260216T145633Z
UID:10031795-1765711200-1765715400@meetings.greysheet.org
SUMMARY:NMW NMW NMW
DESCRIPTION:
URL:https://meetings.greysheet.org/meeting/nmw-nmw-nmw/2025-12-14
CATEGORIES:Zoom
ATTACH;FMTTYPE=image/svg+xml:https://meetings.greysheet.org/wp-content/uploads/2025/05/desktop.svg
LOCATION:Zoom ID: 85704037347, Passcode: Universal, Camera: Required
END:VEVENT
BEGIN:VEVENT
DTSTART;TZID=Asia/Jerusalem:20251207T112000
DTEND;TZID=Asia/Jerusalem:20251207T123000
DTSTAMP:20260419T121839
CREATED:20250504T220119Z
LAST-MODIFIED:20260216T145633Z
UID:10031794-1765106400-1765110600@meetings.greysheet.org
SUMMARY:NMW NMW NMW
DESCRIPTION:
URL:https://meetings.greysheet.org/meeting/nmw-nmw-nmw/2025-12-07
CATEGORIES:Zoom
ATTACH;FMTTYPE=image/svg+xml:https://meetings.greysheet.org/wp-content/uploads/2025/05/desktop.svg
LOCATION:Zoom ID: 85704037347, Passcode: Universal, Camera: Required
END:VEVENT
BEGIN:VEVENT
DTSTART;TZID=Asia/Jerusalem:20251130T112000
DTEND;TZID=Asia/Jerusalem:20251130T123000
DTSTAMP:20260419T121839
CREATED:20250504T220119Z
LAST-MODIFIED:20260216T145633Z
UID:10031793-1764501600-1764505800@meetings.greysheet.org
SUMMARY:NMW NMW NMW
DESCRIPTION:
URL:https://meetings.greysheet.org/meeting/nmw-nmw-nmw/2025-11-30
CATEGORIES:Zoom
ATTACH;FMTTYPE=image/svg+xml:https://meetings.greysheet.org/wp-content/uploads/2025/05/desktop.svg
LOCATION:Zoom ID: 85704037347, Passcode: Universal, Camera: Required
END:VEVENT
BEGIN:VEVENT
DTSTART;TZID=Asia/Jerusalem:20251123T112000
DTEND;TZID=Asia/Jerusalem:20251123T123000
DTSTAMP:20260419T121839
CREATED:20250504T220119Z
LAST-MODIFIED:20260216T145633Z
UID:10031792-1763896800-1763901000@meetings.greysheet.org
SUMMARY:NMW NMW NMW
DESCRIPTION:
URL:https://meetings.greysheet.org/meeting/nmw-nmw-nmw/2025-11-23
CATEGORIES:Zoom
ATTACH;FMTTYPE=image/svg+xml:https://meetings.greysheet.org/wp-content/uploads/2025/05/desktop.svg
LOCATION:Zoom ID: 85704037347, Passcode: Universal, Camera: Required
END:VEVENT
BEGIN:VEVENT
DTSTART;TZID=Asia/Jerusalem:20251116T112000
DTEND;TZID=Asia/Jerusalem:20251116T123000
DTSTAMP:20260419T121839
CREATED:20250504T220119Z
LAST-MODIFIED:20260216T145633Z
UID:10031791-1763292000-1763296200@meetings.greysheet.org
SUMMARY:NMW NMW NMW
DESCRIPTION:
URL:https://meetings.greysheet.org/meeting/nmw-nmw-nmw/2025-11-16
CATEGORIES:Zoom
ATTACH;FMTTYPE=image/svg+xml:https://meetings.greysheet.org/wp-content/uploads/2025/05/desktop.svg
LOCATION:Zoom ID: 85704037347, Passcode: Universal, Camera: Required
END:VEVENT
BEGIN:VEVENT
DTSTART;TZID=Asia/Jerusalem:20251109T112000
DTEND;TZID=Asia/Jerusalem:20251109T123000
DTSTAMP:20260419T121839
CREATED:20250504T220119Z
LAST-MODIFIED:20260216T145633Z
UID:10031790-1762687200-1762691400@meetings.greysheet.org
SUMMARY:NMW NMW NMW
DESCRIPTION:
URL:https://meetings.greysheet.org/meeting/nmw-nmw-nmw/2025-11-09
CATEGORIES:Zoom
ATTACH;FMTTYPE=image/svg+xml:https://meetings.greysheet.org/wp-content/uploads/2025/05/desktop.svg
LOCATION:Zoom ID: 85704037347, Passcode: Universal, Camera: Required
END:VEVENT
BEGIN:VEVENT
DTSTART;TZID=Asia/Jerusalem:20251102T112000
DTEND;TZID=Asia/Jerusalem:20251102T123000
DTSTAMP:20260419T121839
CREATED:20250504T220119Z
LAST-MODIFIED:20260216T145633Z
UID:10031789-1762082400-1762086600@meetings.greysheet.org
SUMMARY:NMW NMW NMW
DESCRIPTION:
URL:https://meetings.greysheet.org/meeting/nmw-nmw-nmw/2025-11-02
CATEGORIES:Zoom
ATTACH;FMTTYPE=image/svg+xml:https://meetings.greysheet.org/wp-content/uploads/2025/05/desktop.svg
LOCATION:Zoom ID: 85704037347, Passcode: Universal, Camera: Required
END:VEVENT
BEGIN:VEVENT
DTSTART;TZID=Asia/Jerusalem:20251026T112000
DTEND;TZID=Asia/Jerusalem:20251026T123000
DTSTAMP:20260419T121839
CREATED:20250504T220119Z
LAST-MODIFIED:20260216T145633Z
UID:10031788-1761477600-1761481800@meetings.greysheet.org
SUMMARY:NMW NMW NMW
DESCRIPTION:
URL:https://meetings.greysheet.org/meeting/nmw-nmw-nmw/2025-10-26
CATEGORIES:Zoom
ATTACH;FMTTYPE=image/svg+xml:https://meetings.greysheet.org/wp-content/uploads/2025/05/desktop.svg
LOCATION:Zoom ID: 85704037347, Passcode: Universal, Camera: Required
END:VEVENT
BEGIN:VEVENT
DTSTART;TZID=Asia/Jerusalem:20251019T112000
DTEND;TZID=Asia/Jerusalem:20251019T123000
DTSTAMP:20260419T121839
CREATED:20250504T220119Z
LAST-MODIFIED:20260216T145633Z
UID:10031787-1760872800-1760877000@meetings.greysheet.org
SUMMARY:NMW NMW NMW
DESCRIPTION:
URL:https://meetings.greysheet.org/meeting/nmw-nmw-nmw/2025-10-19
CATEGORIES:Zoom
ATTACH;FMTTYPE=image/svg+xml:https://meetings.greysheet.org/wp-content/uploads/2025/05/desktop.svg
LOCATION:Zoom ID: 85704037347, Passcode: Universal, Camera: Required
END:VEVENT
BEGIN:VEVENT
DTSTART;TZID=Asia/Jerusalem:20251012T112000
DTEND;TZID=Asia/Jerusalem:20251012T123000
DTSTAMP:20260419T121839
CREATED:20250504T220119Z
LAST-MODIFIED:20260216T145633Z
UID:10031786-1760268000-1760272200@meetings.greysheet.org
SUMMARY:NMW NMW NMW
DESCRIPTION:
URL:https://meetings.greysheet.org/meeting/nmw-nmw-nmw/2025-10-12
CATEGORIES:Zoom
ATTACH;FMTTYPE=image/svg+xml:https://meetings.greysheet.org/wp-content/uploads/2025/05/desktop.svg
LOCATION:Zoom ID: 85704037347, Passcode: Universal, Camera: Required
END:VEVENT
BEGIN:VEVENT
DTSTART;TZID=Asia/Jerusalem:20251005T112000
DTEND;TZID=Asia/Jerusalem:20251005T123000
DTSTAMP:20260419T121839
CREATED:20250504T220119Z
LAST-MODIFIED:20260216T145633Z
UID:10031785-1759663200-1759667400@meetings.greysheet.org
SUMMARY:NMW NMW NMW
DESCRIPTION:
URL:https://meetings.greysheet.org/meeting/nmw-nmw-nmw/2025-10-05
CATEGORIES:Zoom
ATTACH;FMTTYPE=image/svg+xml:https://meetings.greysheet.org/wp-content/uploads/2025/05/desktop.svg
LOCATION:Zoom ID: 85704037347, Passcode: Universal, Camera: Required
END:VEVENT
BEGIN:VEVENT
DTSTART;TZID=Asia/Jerusalem:20250928T112000
DTEND;TZID=Asia/Jerusalem:20250928T123000
DTSTAMP:20260419T121839
CREATED:20250504T220119Z
LAST-MODIFIED:20260216T145633Z
UID:10031784-1759058400-1759062600@meetings.greysheet.org
SUMMARY:NMW NMW NMW
DESCRIPTION:
URL:https://meetings.greysheet.org/meeting/nmw-nmw-nmw/2025-09-28
CATEGORIES:Zoom
ATTACH;FMTTYPE=image/svg+xml:https://meetings.greysheet.org/wp-content/uploads/2025/05/desktop.svg
LOCATION:Zoom ID: 85704037347, Passcode: Universal, Camera: Required
END:VEVENT
END:VCALENDAR