BEGIN:VCALENDAR
VERSION:2.0
PRODID:-//GreySheeters Anonymous World Services - ECPv6.15.20//NONSGML v1.0//EN
CALSCALE:GREGORIAN
METHOD:PUBLISH
X-ORIGINAL-URL:https://meetings.greysheet.org
X-WR-CALDESC:Events for GreySheeters Anonymous World Services
REFRESH-INTERVAL;VALUE=DURATION:PT1H
X-Robots-Tag:noindex
X-PUBLISHED-TTL:PT1H
BEGIN:VTIMEZONE
TZID:America/New_York
BEGIN:DAYLIGHT
TZOFFSETFROM:-0500
TZOFFSETTO:-0400
TZNAME:EDT
DTSTART:20250309T070000
END:DAYLIGHT
BEGIN:STANDARD
TZOFFSETFROM:-0400
TZOFFSETTO:-0500
TZNAME:EST
DTSTART:20251102T060000
END:STANDARD
BEGIN:DAYLIGHT
TZOFFSETFROM:-0500
TZOFFSETTO:-0400
TZNAME:EDT
DTSTART:20260308T070000
END:DAYLIGHT
BEGIN:STANDARD
TZOFFSETFROM:-0400
TZOFFSETTO:-0500
TZNAME:EST
DTSTART:20261101T060000
END:STANDARD
BEGIN:DAYLIGHT
TZOFFSETFROM:-0500
TZOFFSETTO:-0400
TZNAME:EDT
DTSTART:20270314T070000
END:DAYLIGHT
BEGIN:STANDARD
TZOFFSETFROM:-0400
TZOFFSETTO:-0500
TZNAME:EST
DTSTART:20271107T060000
END:STANDARD
BEGIN:DAYLIGHT
TZOFFSETFROM:-0500
TZOFFSETTO:-0400
TZNAME:EDT
DTSTART:20280312T070000
END:DAYLIGHT
BEGIN:STANDARD
TZOFFSETFROM:-0400
TZOFFSETTO:-0500
TZNAME:EST
DTSTART:20281105T060000
END:STANDARD
END:VTIMEZONE
BEGIN:VEVENT
DTSTART;TZID=America/New_York:20261228T190000
DTEND;TZID=America/New_York:20261228T200000
DTSTAMP:20260419T121026
CREATED:20250504T220126Z
LAST-MODIFIED:20260216T160709Z
UID:10039651-1798484400-1798488000@meetings.greysheet.org
SUMMARY:Healthy Choices
DESCRIPTION:
URL:https://meetings.greysheet.org/meeting/healthy-choices/2026-12-28
CATEGORIES:Zoom
ATTACH;FMTTYPE=image/svg+xml:https://meetings.greysheet.org/wp-content/uploads/2025/05/desktop.svg
LOCATION:Zoom ID: 981046794, Passcode: Universal, Camera: Optional
END:VEVENT
BEGIN:VEVENT
DTSTART;TZID=America/New_York:20270104T190000
DTEND;TZID=America/New_York:20270104T200000
DTSTAMP:20260419T121026
CREATED:20250504T220126Z
LAST-MODIFIED:20260216T160709Z
UID:10039652-1799089200-1799092800@meetings.greysheet.org
SUMMARY:Healthy Choices
DESCRIPTION:
URL:https://meetings.greysheet.org/meeting/healthy-choices/2027-01-04
CATEGORIES:Zoom
ATTACH;FMTTYPE=image/svg+xml:https://meetings.greysheet.org/wp-content/uploads/2025/05/desktop.svg
LOCATION:Zoom ID: 981046794, Passcode: Universal, Camera: Optional
END:VEVENT
BEGIN:VEVENT
DTSTART;TZID=America/New_York:20270111T190000
DTEND;TZID=America/New_York:20270111T200000
DTSTAMP:20260419T121026
CREATED:20250504T220126Z
LAST-MODIFIED:20260216T160709Z
UID:10039653-1799694000-1799697600@meetings.greysheet.org
SUMMARY:Healthy Choices
DESCRIPTION:
URL:https://meetings.greysheet.org/meeting/healthy-choices/2027-01-11
CATEGORIES:Zoom
ATTACH;FMTTYPE=image/svg+xml:https://meetings.greysheet.org/wp-content/uploads/2025/05/desktop.svg
LOCATION:Zoom ID: 981046794, Passcode: Universal, Camera: Optional
END:VEVENT
BEGIN:VEVENT
DTSTART;TZID=America/New_York:20270118T190000
DTEND;TZID=America/New_York:20270118T200000
DTSTAMP:20260419T121026
CREATED:20250504T220126Z
LAST-MODIFIED:20260216T160709Z
UID:10039654-1800298800-1800302400@meetings.greysheet.org
SUMMARY:Healthy Choices
DESCRIPTION:
URL:https://meetings.greysheet.org/meeting/healthy-choices/2027-01-18
CATEGORIES:Zoom
ATTACH;FMTTYPE=image/svg+xml:https://meetings.greysheet.org/wp-content/uploads/2025/05/desktop.svg
LOCATION:Zoom ID: 981046794, Passcode: Universal, Camera: Optional
END:VEVENT
BEGIN:VEVENT
DTSTART;TZID=America/New_York:20270125T190000
DTEND;TZID=America/New_York:20270125T200000
DTSTAMP:20260419T121026
CREATED:20250504T220126Z
LAST-MODIFIED:20260216T160709Z
UID:10039655-1800903600-1800907200@meetings.greysheet.org
SUMMARY:Healthy Choices
DESCRIPTION:
URL:https://meetings.greysheet.org/meeting/healthy-choices/2027-01-25
CATEGORIES:Zoom
ATTACH;FMTTYPE=image/svg+xml:https://meetings.greysheet.org/wp-content/uploads/2025/05/desktop.svg
LOCATION:Zoom ID: 981046794, Passcode: Universal, Camera: Optional
END:VEVENT
BEGIN:VEVENT
DTSTART;TZID=America/New_York:20270201T190000
DTEND;TZID=America/New_York:20270201T200000
DTSTAMP:20260419T121026
CREATED:20250504T220126Z
LAST-MODIFIED:20260216T160709Z
UID:10039656-1801508400-1801512000@meetings.greysheet.org
SUMMARY:Healthy Choices
DESCRIPTION:
URL:https://meetings.greysheet.org/meeting/healthy-choices/2027-02-01
CATEGORIES:Zoom
ATTACH;FMTTYPE=image/svg+xml:https://meetings.greysheet.org/wp-content/uploads/2025/05/desktop.svg
LOCATION:Zoom ID: 981046794, Passcode: Universal, Camera: Optional
END:VEVENT
BEGIN:VEVENT
DTSTART;TZID=America/New_York:20270208T190000
DTEND;TZID=America/New_York:20270208T200000
DTSTAMP:20260419T121026
CREATED:20250504T220126Z
LAST-MODIFIED:20260216T160709Z
UID:10039657-1802113200-1802116800@meetings.greysheet.org
SUMMARY:Healthy Choices
DESCRIPTION:
URL:https://meetings.greysheet.org/meeting/healthy-choices/2027-02-08
CATEGORIES:Zoom
ATTACH;FMTTYPE=image/svg+xml:https://meetings.greysheet.org/wp-content/uploads/2025/05/desktop.svg
LOCATION:Zoom ID: 981046794, Passcode: Universal, Camera: Optional
END:VEVENT
BEGIN:VEVENT
DTSTART;TZID=America/New_York:20270215T190000
DTEND;TZID=America/New_York:20270215T200000
DTSTAMP:20260419T121026
CREATED:20250504T220126Z
LAST-MODIFIED:20260216T160709Z
UID:10039658-1802718000-1802721600@meetings.greysheet.org
SUMMARY:Healthy Choices
DESCRIPTION:
URL:https://meetings.greysheet.org/meeting/healthy-choices/2027-02-15
CATEGORIES:Zoom
ATTACH;FMTTYPE=image/svg+xml:https://meetings.greysheet.org/wp-content/uploads/2025/05/desktop.svg
LOCATION:Zoom ID: 981046794, Passcode: Universal, Camera: Optional
END:VEVENT
BEGIN:VEVENT
DTSTART;TZID=America/New_York:20270222T190000
DTEND;TZID=America/New_York:20270222T200000
DTSTAMP:20260419T121026
CREATED:20250504T220126Z
LAST-MODIFIED:20260216T160709Z
UID:10039659-1803322800-1803326400@meetings.greysheet.org
SUMMARY:Healthy Choices
DESCRIPTION:
URL:https://meetings.greysheet.org/meeting/healthy-choices/2027-02-22
CATEGORIES:Zoom
ATTACH;FMTTYPE=image/svg+xml:https://meetings.greysheet.org/wp-content/uploads/2025/05/desktop.svg
LOCATION:Zoom ID: 981046794, Passcode: Universal, Camera: Optional
END:VEVENT
BEGIN:VEVENT
DTSTART;TZID=America/New_York:20270301T190000
DTEND;TZID=America/New_York:20270301T200000
DTSTAMP:20260419T121026
CREATED:20250504T220126Z
LAST-MODIFIED:20260216T160709Z
UID:10039660-1803927600-1803931200@meetings.greysheet.org
SUMMARY:Healthy Choices
DESCRIPTION:
URL:https://meetings.greysheet.org/meeting/healthy-choices/2027-03-01
CATEGORIES:Zoom
ATTACH;FMTTYPE=image/svg+xml:https://meetings.greysheet.org/wp-content/uploads/2025/05/desktop.svg
LOCATION:Zoom ID: 981046794, Passcode: Universal, Camera: Optional
END:VEVENT
BEGIN:VEVENT
DTSTART;TZID=America/New_York:20270308T190000
DTEND;TZID=America/New_York:20270308T200000
DTSTAMP:20260419T121026
CREATED:20250504T220126Z
LAST-MODIFIED:20260216T160709Z
UID:10039661-1804532400-1804536000@meetings.greysheet.org
SUMMARY:Healthy Choices
DESCRIPTION:
URL:https://meetings.greysheet.org/meeting/healthy-choices/2027-03-08
CATEGORIES:Zoom
ATTACH;FMTTYPE=image/svg+xml:https://meetings.greysheet.org/wp-content/uploads/2025/05/desktop.svg
LOCATION:Zoom ID: 981046794, Passcode: Universal, Camera: Optional
END:VEVENT
BEGIN:VEVENT
DTSTART;TZID=America/New_York:20270315T190000
DTEND;TZID=America/New_York:20270315T200000
DTSTAMP:20260419T121026
CREATED:20250504T220126Z
LAST-MODIFIED:20260216T160709Z
UID:10039662-1805137200-1805140800@meetings.greysheet.org
SUMMARY:Healthy Choices
DESCRIPTION:
URL:https://meetings.greysheet.org/meeting/healthy-choices/2027-03-15
CATEGORIES:Zoom
ATTACH;FMTTYPE=image/svg+xml:https://meetings.greysheet.org/wp-content/uploads/2025/05/desktop.svg
LOCATION:Zoom ID: 981046794, Passcode: Universal, Camera: Optional
END:VEVENT
BEGIN:VEVENT
DTSTART;TZID=America/New_York:20270322T190000
DTEND;TZID=America/New_York:20270322T200000
DTSTAMP:20260419T121026
CREATED:20250504T220126Z
LAST-MODIFIED:20260216T160709Z
UID:10039663-1805742000-1805745600@meetings.greysheet.org
SUMMARY:Healthy Choices
DESCRIPTION:
URL:https://meetings.greysheet.org/meeting/healthy-choices/2027-03-22
CATEGORIES:Zoom
ATTACH;FMTTYPE=image/svg+xml:https://meetings.greysheet.org/wp-content/uploads/2025/05/desktop.svg
LOCATION:Zoom ID: 981046794, Passcode: Universal, Camera: Optional
END:VEVENT
BEGIN:VEVENT
DTSTART;TZID=America/New_York:20270329T190000
DTEND;TZID=America/New_York:20270329T200000
DTSTAMP:20260419T121026
CREATED:20250504T220126Z
LAST-MODIFIED:20260216T160709Z
UID:10039664-1806346800-1806350400@meetings.greysheet.org
SUMMARY:Healthy Choices
DESCRIPTION:
URL:https://meetings.greysheet.org/meeting/healthy-choices/2027-03-29
CATEGORIES:Zoom
ATTACH;FMTTYPE=image/svg+xml:https://meetings.greysheet.org/wp-content/uploads/2025/05/desktop.svg
LOCATION:Zoom ID: 981046794, Passcode: Universal, Camera: Optional
END:VEVENT
BEGIN:VEVENT
DTSTART;TZID=America/New_York:20270405T190000
DTEND;TZID=America/New_York:20270405T200000
DTSTAMP:20260419T121026
CREATED:20250504T220126Z
LAST-MODIFIED:20260216T160709Z
UID:10039665-1806951600-1806955200@meetings.greysheet.org
SUMMARY:Healthy Choices
DESCRIPTION:
URL:https://meetings.greysheet.org/meeting/healthy-choices/2027-04-05
CATEGORIES:Zoom
ATTACH;FMTTYPE=image/svg+xml:https://meetings.greysheet.org/wp-content/uploads/2025/05/desktop.svg
LOCATION:Zoom ID: 981046794, Passcode: Universal, Camera: Optional
END:VEVENT
BEGIN:VEVENT
DTSTART;TZID=America/New_York:20270412T190000
DTEND;TZID=America/New_York:20270412T200000
DTSTAMP:20260419T121026
CREATED:20250504T220126Z
LAST-MODIFIED:20260216T160709Z
UID:10039666-1807556400-1807560000@meetings.greysheet.org
SUMMARY:Healthy Choices
DESCRIPTION:
URL:https://meetings.greysheet.org/meeting/healthy-choices/2027-04-12
CATEGORIES:Zoom
ATTACH;FMTTYPE=image/svg+xml:https://meetings.greysheet.org/wp-content/uploads/2025/05/desktop.svg
LOCATION:Zoom ID: 981046794, Passcode: Universal, Camera: Optional
END:VEVENT
BEGIN:VEVENT
DTSTART;TZID=America/New_York:20270419T190000
DTEND;TZID=America/New_York:20270419T200000
DTSTAMP:20260419T121026
CREATED:20250504T220126Z
LAST-MODIFIED:20260216T160709Z
UID:10039667-1808161200-1808164800@meetings.greysheet.org
SUMMARY:Healthy Choices
DESCRIPTION:
URL:https://meetings.greysheet.org/meeting/healthy-choices/2027-04-19
CATEGORIES:Zoom
ATTACH;FMTTYPE=image/svg+xml:https://meetings.greysheet.org/wp-content/uploads/2025/05/desktop.svg
LOCATION:Zoom ID: 981046794, Passcode: Universal, Camera: Optional
END:VEVENT
BEGIN:VEVENT
DTSTART;TZID=America/New_York:20270426T190000
DTEND;TZID=America/New_York:20270426T200000
DTSTAMP:20260419T121026
CREATED:20250504T220126Z
LAST-MODIFIED:20260216T160709Z
UID:10039668-1808766000-1808769600@meetings.greysheet.org
SUMMARY:Healthy Choices
DESCRIPTION:
URL:https://meetings.greysheet.org/meeting/healthy-choices/2027-04-26
CATEGORIES:Zoom
ATTACH;FMTTYPE=image/svg+xml:https://meetings.greysheet.org/wp-content/uploads/2025/05/desktop.svg
LOCATION:Zoom ID: 981046794, Passcode: Universal, Camera: Optional
END:VEVENT
BEGIN:VEVENT
DTSTART;TZID=America/New_York:20270503T190000
DTEND;TZID=America/New_York:20270503T200000
DTSTAMP:20260419T121026
CREATED:20250504T220126Z
LAST-MODIFIED:20260216T160709Z
UID:10039669-1809370800-1809374400@meetings.greysheet.org
SUMMARY:Healthy Choices
DESCRIPTION:
URL:https://meetings.greysheet.org/meeting/healthy-choices/2027-05-03
CATEGORIES:Zoom
ATTACH;FMTTYPE=image/svg+xml:https://meetings.greysheet.org/wp-content/uploads/2025/05/desktop.svg
LOCATION:Zoom ID: 981046794, Passcode: Universal, Camera: Optional
END:VEVENT
BEGIN:VEVENT
DTSTART;TZID=America/New_York:20270510T190000
DTEND;TZID=America/New_York:20270510T200000
DTSTAMP:20260419T121026
CREATED:20250504T220126Z
LAST-MODIFIED:20260216T160709Z
UID:10039670-1809975600-1809979200@meetings.greysheet.org
SUMMARY:Healthy Choices
DESCRIPTION:
URL:https://meetings.greysheet.org/meeting/healthy-choices/2027-05-10
CATEGORIES:Zoom
ATTACH;FMTTYPE=image/svg+xml:https://meetings.greysheet.org/wp-content/uploads/2025/05/desktop.svg
LOCATION:Zoom ID: 981046794, Passcode: Universal, Camera: Optional
END:VEVENT
BEGIN:VEVENT
DTSTART;TZID=America/New_York:20270517T190000
DTEND;TZID=America/New_York:20270517T200000
DTSTAMP:20260419T121026
CREATED:20250504T220126Z
LAST-MODIFIED:20260216T160709Z
UID:10039671-1810580400-1810584000@meetings.greysheet.org
SUMMARY:Healthy Choices
DESCRIPTION:
URL:https://meetings.greysheet.org/meeting/healthy-choices/2027-05-17
CATEGORIES:Zoom
ATTACH;FMTTYPE=image/svg+xml:https://meetings.greysheet.org/wp-content/uploads/2025/05/desktop.svg
LOCATION:Zoom ID: 981046794, Passcode: Universal, Camera: Optional
END:VEVENT
BEGIN:VEVENT
DTSTART;TZID=America/New_York:20270524T190000
DTEND;TZID=America/New_York:20270524T200000
DTSTAMP:20260419T121026
CREATED:20250504T220126Z
LAST-MODIFIED:20260216T160709Z
UID:10039672-1811185200-1811188800@meetings.greysheet.org
SUMMARY:Healthy Choices
DESCRIPTION:
URL:https://meetings.greysheet.org/meeting/healthy-choices/2027-05-24
CATEGORIES:Zoom
ATTACH;FMTTYPE=image/svg+xml:https://meetings.greysheet.org/wp-content/uploads/2025/05/desktop.svg
LOCATION:Zoom ID: 981046794, Passcode: Universal, Camera: Optional
END:VEVENT
BEGIN:VEVENT
DTSTART;TZID=America/New_York:20270531T190000
DTEND;TZID=America/New_York:20270531T200000
DTSTAMP:20260419T121026
CREATED:20250504T220126Z
LAST-MODIFIED:20260216T160709Z
UID:10039673-1811790000-1811793600@meetings.greysheet.org
SUMMARY:Healthy Choices
DESCRIPTION:
URL:https://meetings.greysheet.org/meeting/healthy-choices/2027-05-31
CATEGORIES:Zoom
ATTACH;FMTTYPE=image/svg+xml:https://meetings.greysheet.org/wp-content/uploads/2025/05/desktop.svg
LOCATION:Zoom ID: 981046794, Passcode: Universal, Camera: Optional
END:VEVENT
BEGIN:VEVENT
DTSTART;TZID=America/New_York:20270607T190000
DTEND;TZID=America/New_York:20270607T200000
DTSTAMP:20260419T121026
CREATED:20250504T220126Z
LAST-MODIFIED:20260216T160709Z
UID:10039674-1812394800-1812398400@meetings.greysheet.org
SUMMARY:Healthy Choices
DESCRIPTION:
URL:https://meetings.greysheet.org/meeting/healthy-choices/2027-06-07
CATEGORIES:Zoom
ATTACH;FMTTYPE=image/svg+xml:https://meetings.greysheet.org/wp-content/uploads/2025/05/desktop.svg
LOCATION:Zoom ID: 981046794, Passcode: Universal, Camera: Optional
END:VEVENT
BEGIN:VEVENT
DTSTART;TZID=America/New_York:20270614T190000
DTEND;TZID=America/New_York:20270614T200000
DTSTAMP:20260419T121026
CREATED:20250504T220126Z
LAST-MODIFIED:20260216T160709Z
UID:10039675-1812999600-1813003200@meetings.greysheet.org
SUMMARY:Healthy Choices
DESCRIPTION:
URL:https://meetings.greysheet.org/meeting/healthy-choices/2027-06-14
CATEGORIES:Zoom
ATTACH;FMTTYPE=image/svg+xml:https://meetings.greysheet.org/wp-content/uploads/2025/05/desktop.svg
LOCATION:Zoom ID: 981046794, Passcode: Universal, Camera: Optional
END:VEVENT
BEGIN:VEVENT
DTSTART;TZID=America/New_York:20270621T190000
DTEND;TZID=America/New_York:20270621T200000
DTSTAMP:20260419T121026
CREATED:20250504T220126Z
LAST-MODIFIED:20260216T160709Z
UID:10039676-1813604400-1813608000@meetings.greysheet.org
SUMMARY:Healthy Choices
DESCRIPTION:
URL:https://meetings.greysheet.org/meeting/healthy-choices/2027-06-21
CATEGORIES:Zoom
ATTACH;FMTTYPE=image/svg+xml:https://meetings.greysheet.org/wp-content/uploads/2025/05/desktop.svg
LOCATION:Zoom ID: 981046794, Passcode: Universal, Camera: Optional
END:VEVENT
BEGIN:VEVENT
DTSTART;TZID=America/New_York:20270628T190000
DTEND;TZID=America/New_York:20270628T200000
DTSTAMP:20260419T121026
CREATED:20250504T220126Z
LAST-MODIFIED:20260216T160709Z
UID:10039677-1814209200-1814212800@meetings.greysheet.org
SUMMARY:Healthy Choices
DESCRIPTION:
URL:https://meetings.greysheet.org/meeting/healthy-choices/2027-06-28
CATEGORIES:Zoom
ATTACH;FMTTYPE=image/svg+xml:https://meetings.greysheet.org/wp-content/uploads/2025/05/desktop.svg
LOCATION:Zoom ID: 981046794, Passcode: Universal, Camera: Optional
END:VEVENT
BEGIN:VEVENT
DTSTART;TZID=America/New_York:20270705T190000
DTEND;TZID=America/New_York:20270705T200000
DTSTAMP:20260419T121026
CREATED:20250504T220126Z
LAST-MODIFIED:20260216T160709Z
UID:10039678-1814814000-1814817600@meetings.greysheet.org
SUMMARY:Healthy Choices
DESCRIPTION:
URL:https://meetings.greysheet.org/meeting/healthy-choices/2027-07-05
CATEGORIES:Zoom
ATTACH;FMTTYPE=image/svg+xml:https://meetings.greysheet.org/wp-content/uploads/2025/05/desktop.svg
LOCATION:Zoom ID: 981046794, Passcode: Universal, Camera: Optional
END:VEVENT
BEGIN:VEVENT
DTSTART;TZID=America/New_York:20270712T190000
DTEND;TZID=America/New_York:20270712T200000
DTSTAMP:20260419T121026
CREATED:20250504T220126Z
LAST-MODIFIED:20260216T160709Z
UID:10039679-1815418800-1815422400@meetings.greysheet.org
SUMMARY:Healthy Choices
DESCRIPTION:
URL:https://meetings.greysheet.org/meeting/healthy-choices/2027-07-12
CATEGORIES:Zoom
ATTACH;FMTTYPE=image/svg+xml:https://meetings.greysheet.org/wp-content/uploads/2025/05/desktop.svg
LOCATION:Zoom ID: 981046794, Passcode: Universal, Camera: Optional
END:VEVENT
BEGIN:VEVENT
DTSTART;TZID=America/New_York:20270719T190000
DTEND;TZID=America/New_York:20270719T200000
DTSTAMP:20260419T121026
CREATED:20250504T220126Z
LAST-MODIFIED:20260216T160709Z
UID:10039680-1816023600-1816027200@meetings.greysheet.org
SUMMARY:Healthy Choices
DESCRIPTION:
URL:https://meetings.greysheet.org/meeting/healthy-choices/2027-07-19
CATEGORIES:Zoom
ATTACH;FMTTYPE=image/svg+xml:https://meetings.greysheet.org/wp-content/uploads/2025/05/desktop.svg
LOCATION:Zoom ID: 981046794, Passcode: Universal, Camera: Optional
END:VEVENT
END:VCALENDAR