BEGIN:VCALENDAR
VERSION:2.0
PRODID:-//GreySheeters Anonymous World Services - ECPv6.15.20//NONSGML v1.0//EN
CALSCALE:GREGORIAN
METHOD:PUBLISH
X-ORIGINAL-URL:https://meetings.greysheet.org
X-WR-CALDESC:Events for GreySheeters Anonymous World Services
REFRESH-INTERVAL;VALUE=DURATION:PT1H
X-Robots-Tag:noindex
X-PUBLISHED-TTL:PT1H
BEGIN:VTIMEZONE
TZID:America/New_York
BEGIN:DAYLIGHT
TZOFFSETFROM:-0500
TZOFFSETTO:-0400
TZNAME:EDT
DTSTART:20240310T070000
END:DAYLIGHT
BEGIN:STANDARD
TZOFFSETFROM:-0400
TZOFFSETTO:-0500
TZNAME:EST
DTSTART:20241103T060000
END:STANDARD
BEGIN:DAYLIGHT
TZOFFSETFROM:-0500
TZOFFSETTO:-0400
TZNAME:EDT
DTSTART:20250309T070000
END:DAYLIGHT
BEGIN:STANDARD
TZOFFSETFROM:-0400
TZOFFSETTO:-0500
TZNAME:EST
DTSTART:20251102T060000
END:STANDARD
BEGIN:DAYLIGHT
TZOFFSETFROM:-0500
TZOFFSETTO:-0400
TZNAME:EDT
DTSTART:20260308T070000
END:DAYLIGHT
BEGIN:STANDARD
TZOFFSETFROM:-0400
TZOFFSETTO:-0500
TZNAME:EST
DTSTART:20261101T060000
END:STANDARD
BEGIN:DAYLIGHT
TZOFFSETFROM:-0500
TZOFFSETTO:-0400
TZNAME:EDT
DTSTART:20270314T070000
END:DAYLIGHT
BEGIN:STANDARD
TZOFFSETFROM:-0400
TZOFFSETTO:-0500
TZNAME:EST
DTSTART:20271107T060000
END:STANDARD
END:VTIMEZONE
BEGIN:VEVENT
DTSTART;TZID=America/New_York:20260119T190000
DTEND;TZID=America/New_York:20260119T200000
DTSTAMP:20260419T161727
CREATED:20250504T220126Z
LAST-MODIFIED:20260216T160709Z
UID:10039602-1768849200-1768852800@meetings.greysheet.org
SUMMARY:Healthy Choices
DESCRIPTION:
URL:https://meetings.greysheet.org/meeting/healthy-choices/2026-01-19
CATEGORIES:Zoom
ATTACH;FMTTYPE=image/svg+xml:https://meetings.greysheet.org/wp-content/uploads/2025/05/desktop.svg
LOCATION:Zoom ID: 981046794, Passcode: Universal, Camera: Optional
END:VEVENT
BEGIN:VEVENT
DTSTART;TZID=America/New_York:20260112T190000
DTEND;TZID=America/New_York:20260112T200000
DTSTAMP:20260419T161727
CREATED:20250504T220126Z
LAST-MODIFIED:20260216T160709Z
UID:10039601-1768244400-1768248000@meetings.greysheet.org
SUMMARY:Healthy Choices
DESCRIPTION:
URL:https://meetings.greysheet.org/meeting/healthy-choices/2026-01-12
CATEGORIES:Zoom
ATTACH;FMTTYPE=image/svg+xml:https://meetings.greysheet.org/wp-content/uploads/2025/05/desktop.svg
LOCATION:Zoom ID: 981046794, Passcode: Universal, Camera: Optional
END:VEVENT
BEGIN:VEVENT
DTSTART;TZID=America/New_York:20260105T190000
DTEND;TZID=America/New_York:20260105T200000
DTSTAMP:20260419T161727
CREATED:20250504T220126Z
LAST-MODIFIED:20260216T160709Z
UID:10039600-1767639600-1767643200@meetings.greysheet.org
SUMMARY:Healthy Choices
DESCRIPTION:
URL:https://meetings.greysheet.org/meeting/healthy-choices/2026-01-05
CATEGORIES:Zoom
ATTACH;FMTTYPE=image/svg+xml:https://meetings.greysheet.org/wp-content/uploads/2025/05/desktop.svg
LOCATION:Zoom ID: 981046794, Passcode: Universal, Camera: Optional
END:VEVENT
BEGIN:VEVENT
DTSTART;TZID=America/New_York:20251229T190000
DTEND;TZID=America/New_York:20251229T200000
DTSTAMP:20260419T161727
CREATED:20250504T220126Z
LAST-MODIFIED:20260216T160709Z
UID:10039599-1767034800-1767038400@meetings.greysheet.org
SUMMARY:Healthy Choices
DESCRIPTION:
URL:https://meetings.greysheet.org/meeting/healthy-choices/2025-12-29
CATEGORIES:Zoom
ATTACH;FMTTYPE=image/svg+xml:https://meetings.greysheet.org/wp-content/uploads/2025/05/desktop.svg
LOCATION:Zoom ID: 981046794, Passcode: Universal, Camera: Optional
END:VEVENT
BEGIN:VEVENT
DTSTART;TZID=America/New_York:20251222T190000
DTEND;TZID=America/New_York:20251222T200000
DTSTAMP:20260419T161727
CREATED:20250504T220126Z
LAST-MODIFIED:20260216T160709Z
UID:10039598-1766430000-1766433600@meetings.greysheet.org
SUMMARY:Healthy Choices
DESCRIPTION:
URL:https://meetings.greysheet.org/meeting/healthy-choices/2025-12-22
CATEGORIES:Zoom
ATTACH;FMTTYPE=image/svg+xml:https://meetings.greysheet.org/wp-content/uploads/2025/05/desktop.svg
LOCATION:Zoom ID: 981046794, Passcode: Universal, Camera: Optional
END:VEVENT
BEGIN:VEVENT
DTSTART;TZID=America/New_York:20251215T190000
DTEND;TZID=America/New_York:20251215T200000
DTSTAMP:20260419T161727
CREATED:20250504T220126Z
LAST-MODIFIED:20260216T160709Z
UID:10039597-1765825200-1765828800@meetings.greysheet.org
SUMMARY:Healthy Choices
DESCRIPTION:
URL:https://meetings.greysheet.org/meeting/healthy-choices/2025-12-15
CATEGORIES:Zoom
ATTACH;FMTTYPE=image/svg+xml:https://meetings.greysheet.org/wp-content/uploads/2025/05/desktop.svg
LOCATION:Zoom ID: 981046794, Passcode: Universal, Camera: Optional
END:VEVENT
BEGIN:VEVENT
DTSTART;TZID=America/New_York:20251208T190000
DTEND;TZID=America/New_York:20251208T200000
DTSTAMP:20260419T161727
CREATED:20250504T220126Z
LAST-MODIFIED:20260216T160709Z
UID:10039596-1765220400-1765224000@meetings.greysheet.org
SUMMARY:Healthy Choices
DESCRIPTION:
URL:https://meetings.greysheet.org/meeting/healthy-choices/2025-12-08
CATEGORIES:Zoom
ATTACH;FMTTYPE=image/svg+xml:https://meetings.greysheet.org/wp-content/uploads/2025/05/desktop.svg
LOCATION:Zoom ID: 981046794, Passcode: Universal, Camera: Optional
END:VEVENT
BEGIN:VEVENT
DTSTART;TZID=America/New_York:20251201T190000
DTEND;TZID=America/New_York:20251201T200000
DTSTAMP:20260419T161727
CREATED:20250504T220126Z
LAST-MODIFIED:20260216T160709Z
UID:10039595-1764615600-1764619200@meetings.greysheet.org
SUMMARY:Healthy Choices
DESCRIPTION:
URL:https://meetings.greysheet.org/meeting/healthy-choices/2025-12-01
CATEGORIES:Zoom
ATTACH;FMTTYPE=image/svg+xml:https://meetings.greysheet.org/wp-content/uploads/2025/05/desktop.svg
LOCATION:Zoom ID: 981046794, Passcode: Universal, Camera: Optional
END:VEVENT
BEGIN:VEVENT
DTSTART;TZID=America/New_York:20251124T190000
DTEND;TZID=America/New_York:20251124T200000
DTSTAMP:20260419T161727
CREATED:20250504T220126Z
LAST-MODIFIED:20260216T160709Z
UID:10039594-1764010800-1764014400@meetings.greysheet.org
SUMMARY:Healthy Choices
DESCRIPTION:
URL:https://meetings.greysheet.org/meeting/healthy-choices/2025-11-24
CATEGORIES:Zoom
ATTACH;FMTTYPE=image/svg+xml:https://meetings.greysheet.org/wp-content/uploads/2025/05/desktop.svg
LOCATION:Zoom ID: 981046794, Passcode: Universal, Camera: Optional
END:VEVENT
BEGIN:VEVENT
DTSTART;TZID=America/New_York:20251117T190000
DTEND;TZID=America/New_York:20251117T200000
DTSTAMP:20260419T161727
CREATED:20250504T220126Z
LAST-MODIFIED:20260216T160709Z
UID:10039593-1763406000-1763409600@meetings.greysheet.org
SUMMARY:Healthy Choices
DESCRIPTION:
URL:https://meetings.greysheet.org/meeting/healthy-choices/2025-11-17
CATEGORIES:Zoom
ATTACH;FMTTYPE=image/svg+xml:https://meetings.greysheet.org/wp-content/uploads/2025/05/desktop.svg
LOCATION:Zoom ID: 981046794, Passcode: Universal, Camera: Optional
END:VEVENT
BEGIN:VEVENT
DTSTART;TZID=America/New_York:20251110T190000
DTEND;TZID=America/New_York:20251110T200000
DTSTAMP:20260419T161727
CREATED:20250504T220126Z
LAST-MODIFIED:20260216T160709Z
UID:10039592-1762801200-1762804800@meetings.greysheet.org
SUMMARY:Healthy Choices
DESCRIPTION:
URL:https://meetings.greysheet.org/meeting/healthy-choices/2025-11-10
CATEGORIES:Zoom
ATTACH;FMTTYPE=image/svg+xml:https://meetings.greysheet.org/wp-content/uploads/2025/05/desktop.svg
LOCATION:Zoom ID: 981046794, Passcode: Universal, Camera: Optional
END:VEVENT
BEGIN:VEVENT
DTSTART;TZID=America/New_York:20251103T190000
DTEND;TZID=America/New_York:20251103T200000
DTSTAMP:20260419T161727
CREATED:20250504T220126Z
LAST-MODIFIED:20260216T160709Z
UID:10039591-1762196400-1762200000@meetings.greysheet.org
SUMMARY:Healthy Choices
DESCRIPTION:
URL:https://meetings.greysheet.org/meeting/healthy-choices/2025-11-03
CATEGORIES:Zoom
ATTACH;FMTTYPE=image/svg+xml:https://meetings.greysheet.org/wp-content/uploads/2025/05/desktop.svg
LOCATION:Zoom ID: 981046794, Passcode: Universal, Camera: Optional
END:VEVENT
BEGIN:VEVENT
DTSTART;TZID=America/New_York:20251027T190000
DTEND;TZID=America/New_York:20251027T200000
DTSTAMP:20260419T161727
CREATED:20250504T220126Z
LAST-MODIFIED:20260216T160709Z
UID:10039590-1761591600-1761595200@meetings.greysheet.org
SUMMARY:Healthy Choices
DESCRIPTION:
URL:https://meetings.greysheet.org/meeting/healthy-choices/2025-10-27
CATEGORIES:Zoom
ATTACH;FMTTYPE=image/svg+xml:https://meetings.greysheet.org/wp-content/uploads/2025/05/desktop.svg
LOCATION:Zoom ID: 981046794, Passcode: Universal, Camera: Optional
END:VEVENT
BEGIN:VEVENT
DTSTART;TZID=America/New_York:20251020T190000
DTEND;TZID=America/New_York:20251020T200000
DTSTAMP:20260419T161727
CREATED:20250504T220126Z
LAST-MODIFIED:20260216T160709Z
UID:10039589-1760986800-1760990400@meetings.greysheet.org
SUMMARY:Healthy Choices
DESCRIPTION:
URL:https://meetings.greysheet.org/meeting/healthy-choices/2025-10-20
CATEGORIES:Zoom
ATTACH;FMTTYPE=image/svg+xml:https://meetings.greysheet.org/wp-content/uploads/2025/05/desktop.svg
LOCATION:Zoom ID: 981046794, Passcode: Universal, Camera: Optional
END:VEVENT
BEGIN:VEVENT
DTSTART;TZID=America/New_York:20251013T190000
DTEND;TZID=America/New_York:20251013T200000
DTSTAMP:20260419T161727
CREATED:20250504T220126Z
LAST-MODIFIED:20260216T160709Z
UID:10039588-1760382000-1760385600@meetings.greysheet.org
SUMMARY:Healthy Choices
DESCRIPTION:
URL:https://meetings.greysheet.org/meeting/healthy-choices/2025-10-13
CATEGORIES:Zoom
ATTACH;FMTTYPE=image/svg+xml:https://meetings.greysheet.org/wp-content/uploads/2025/05/desktop.svg
LOCATION:Zoom ID: 981046794, Passcode: Universal, Camera: Optional
END:VEVENT
BEGIN:VEVENT
DTSTART;TZID=America/New_York:20251006T190000
DTEND;TZID=America/New_York:20251006T200000
DTSTAMP:20260419T161727
CREATED:20250504T220126Z
LAST-MODIFIED:20260216T160709Z
UID:10039587-1759777200-1759780800@meetings.greysheet.org
SUMMARY:Healthy Choices
DESCRIPTION:
URL:https://meetings.greysheet.org/meeting/healthy-choices/2025-10-06
CATEGORIES:Zoom
ATTACH;FMTTYPE=image/svg+xml:https://meetings.greysheet.org/wp-content/uploads/2025/05/desktop.svg
LOCATION:Zoom ID: 981046794, Passcode: Universal, Camera: Optional
END:VEVENT
BEGIN:VEVENT
DTSTART;TZID=America/New_York:20250929T190000
DTEND;TZID=America/New_York:20250929T200000
DTSTAMP:20260419T161727
CREATED:20250504T220126Z
LAST-MODIFIED:20260216T160709Z
UID:10039586-1759172400-1759176000@meetings.greysheet.org
SUMMARY:Healthy Choices
DESCRIPTION:
URL:https://meetings.greysheet.org/meeting/healthy-choices/2025-09-29
CATEGORIES:Zoom
ATTACH;FMTTYPE=image/svg+xml:https://meetings.greysheet.org/wp-content/uploads/2025/05/desktop.svg
LOCATION:Zoom ID: 981046794, Passcode: Universal, Camera: Optional
END:VEVENT
BEGIN:VEVENT
DTSTART;TZID=America/New_York:20250922T190000
DTEND;TZID=America/New_York:20250922T200000
DTSTAMP:20260419T161727
CREATED:20250504T220126Z
LAST-MODIFIED:20260216T160709Z
UID:10039585-1758567600-1758571200@meetings.greysheet.org
SUMMARY:Healthy Choices
DESCRIPTION:
URL:https://meetings.greysheet.org/meeting/healthy-choices/2025-09-22
CATEGORIES:Zoom
ATTACH;FMTTYPE=image/svg+xml:https://meetings.greysheet.org/wp-content/uploads/2025/05/desktop.svg
LOCATION:Zoom ID: 981046794, Passcode: Universal, Camera: Optional
END:VEVENT
BEGIN:VEVENT
DTSTART;TZID=America/New_York:20250915T190000
DTEND;TZID=America/New_York:20250915T200000
DTSTAMP:20260419T161727
CREATED:20250504T220126Z
LAST-MODIFIED:20260216T160709Z
UID:10039584-1757962800-1757966400@meetings.greysheet.org
SUMMARY:Healthy Choices
DESCRIPTION:
URL:https://meetings.greysheet.org/meeting/healthy-choices/2025-09-15
CATEGORIES:Zoom
ATTACH;FMTTYPE=image/svg+xml:https://meetings.greysheet.org/wp-content/uploads/2025/05/desktop.svg
LOCATION:Zoom ID: 981046794, Passcode: Universal, Camera: Optional
END:VEVENT
BEGIN:VEVENT
DTSTART;TZID=America/New_York:20250908T190000
DTEND;TZID=America/New_York:20250908T200000
DTSTAMP:20260419T161727
CREATED:20250504T220126Z
LAST-MODIFIED:20260216T160709Z
UID:10039583-1757358000-1757361600@meetings.greysheet.org
SUMMARY:Healthy Choices
DESCRIPTION:
URL:https://meetings.greysheet.org/meeting/healthy-choices/2025-09-08
CATEGORIES:Zoom
ATTACH;FMTTYPE=image/svg+xml:https://meetings.greysheet.org/wp-content/uploads/2025/05/desktop.svg
LOCATION:Zoom ID: 981046794, Passcode: Universal, Camera: Optional
END:VEVENT
BEGIN:VEVENT
DTSTART;TZID=America/New_York:20250901T190000
DTEND;TZID=America/New_York:20250901T200000
DTSTAMP:20260419T161727
CREATED:20250504T220126Z
LAST-MODIFIED:20260216T160709Z
UID:10039582-1756753200-1756756800@meetings.greysheet.org
SUMMARY:Healthy Choices
DESCRIPTION:
URL:https://meetings.greysheet.org/meeting/healthy-choices/2025-09-01
CATEGORIES:Zoom
ATTACH;FMTTYPE=image/svg+xml:https://meetings.greysheet.org/wp-content/uploads/2025/05/desktop.svg
LOCATION:Zoom ID: 981046794, Passcode: Universal, Camera: Optional
END:VEVENT
BEGIN:VEVENT
DTSTART;TZID=America/New_York:20250825T190000
DTEND;TZID=America/New_York:20250825T200000
DTSTAMP:20260419T161727
CREATED:20250504T220126Z
LAST-MODIFIED:20260216T160709Z
UID:10039581-1756148400-1756152000@meetings.greysheet.org
SUMMARY:Healthy Choices
DESCRIPTION:
URL:https://meetings.greysheet.org/meeting/healthy-choices/2025-08-25
CATEGORIES:Zoom
ATTACH;FMTTYPE=image/svg+xml:https://meetings.greysheet.org/wp-content/uploads/2025/05/desktop.svg
LOCATION:Zoom ID: 981046794, Passcode: Universal, Camera: Optional
END:VEVENT
BEGIN:VEVENT
DTSTART;TZID=America/New_York:20250818T190000
DTEND;TZID=America/New_York:20250818T200000
DTSTAMP:20260419T161727
CREATED:20250504T220126Z
LAST-MODIFIED:20260216T160709Z
UID:10039580-1755543600-1755547200@meetings.greysheet.org
SUMMARY:Healthy Choices
DESCRIPTION:
URL:https://meetings.greysheet.org/meeting/healthy-choices/2025-08-18
CATEGORIES:Zoom
ATTACH;FMTTYPE=image/svg+xml:https://meetings.greysheet.org/wp-content/uploads/2025/05/desktop.svg
LOCATION:Zoom ID: 981046794, Passcode: Universal, Camera: Optional
END:VEVENT
BEGIN:VEVENT
DTSTART;TZID=America/New_York:20250811T190000
DTEND;TZID=America/New_York:20250811T200000
DTSTAMP:20260419T161727
CREATED:20250504T220126Z
LAST-MODIFIED:20260216T160709Z
UID:10039579-1754938800-1754942400@meetings.greysheet.org
SUMMARY:Healthy Choices
DESCRIPTION:
URL:https://meetings.greysheet.org/meeting/healthy-choices/2025-08-11
CATEGORIES:Zoom
ATTACH;FMTTYPE=image/svg+xml:https://meetings.greysheet.org/wp-content/uploads/2025/05/desktop.svg
LOCATION:Zoom ID: 981046794, Passcode: Universal, Camera: Optional
END:VEVENT
BEGIN:VEVENT
DTSTART;TZID=America/New_York:20250804T190000
DTEND;TZID=America/New_York:20250804T200000
DTSTAMP:20260419T161727
CREATED:20250504T220126Z
LAST-MODIFIED:20260216T160709Z
UID:10039578-1754334000-1754337600@meetings.greysheet.org
SUMMARY:Healthy Choices
DESCRIPTION:
URL:https://meetings.greysheet.org/meeting/healthy-choices/2025-08-04
CATEGORIES:Zoom
ATTACH;FMTTYPE=image/svg+xml:https://meetings.greysheet.org/wp-content/uploads/2025/05/desktop.svg
LOCATION:Zoom ID: 981046794, Passcode: Universal, Camera: Optional
END:VEVENT
BEGIN:VEVENT
DTSTART;TZID=America/New_York:20250728T190000
DTEND;TZID=America/New_York:20250728T200000
DTSTAMP:20260419T161727
CREATED:20250504T220126Z
LAST-MODIFIED:20260216T160709Z
UID:10039577-1753729200-1753732800@meetings.greysheet.org
SUMMARY:Healthy Choices
DESCRIPTION:
URL:https://meetings.greysheet.org/meeting/healthy-choices/2025-07-28
CATEGORIES:Zoom
ATTACH;FMTTYPE=image/svg+xml:https://meetings.greysheet.org/wp-content/uploads/2025/05/desktop.svg
LOCATION:Zoom ID: 981046794, Passcode: Universal, Camera: Optional
END:VEVENT
BEGIN:VEVENT
DTSTART;TZID=America/New_York:20250721T190000
DTEND;TZID=America/New_York:20250721T200000
DTSTAMP:20260419T161727
CREATED:20250504T220126Z
LAST-MODIFIED:20260216T160709Z
UID:10039576-1753124400-1753128000@meetings.greysheet.org
SUMMARY:Healthy Choices
DESCRIPTION:
URL:https://meetings.greysheet.org/meeting/healthy-choices/2025-07-21
CATEGORIES:Zoom
ATTACH;FMTTYPE=image/svg+xml:https://meetings.greysheet.org/wp-content/uploads/2025/05/desktop.svg
LOCATION:Zoom ID: 981046794, Passcode: Universal, Camera: Optional
END:VEVENT
BEGIN:VEVENT
DTSTART;TZID=America/New_York:20250714T190000
DTEND;TZID=America/New_York:20250714T200000
DTSTAMP:20260419T161727
CREATED:20250504T220126Z
LAST-MODIFIED:20260216T160709Z
UID:10039575-1752519600-1752523200@meetings.greysheet.org
SUMMARY:Healthy Choices
DESCRIPTION:
URL:https://meetings.greysheet.org/meeting/healthy-choices/2025-07-14
CATEGORIES:Zoom
ATTACH;FMTTYPE=image/svg+xml:https://meetings.greysheet.org/wp-content/uploads/2025/05/desktop.svg
LOCATION:Zoom ID: 981046794, Passcode: Universal, Camera: Optional
END:VEVENT
BEGIN:VEVENT
DTSTART;TZID=America/New_York:20250707T190000
DTEND;TZID=America/New_York:20250707T200000
DTSTAMP:20260419T161727
CREATED:20250504T220126Z
LAST-MODIFIED:20260216T160709Z
UID:10039574-1751914800-1751918400@meetings.greysheet.org
SUMMARY:Healthy Choices
DESCRIPTION:
URL:https://meetings.greysheet.org/meeting/healthy-choices/2025-07-07
CATEGORIES:Zoom
ATTACH;FMTTYPE=image/svg+xml:https://meetings.greysheet.org/wp-content/uploads/2025/05/desktop.svg
LOCATION:Zoom ID: 981046794, Passcode: Universal, Camera: Optional
END:VEVENT
BEGIN:VEVENT
DTSTART;TZID=America/New_York:20250630T190000
DTEND;TZID=America/New_York:20250630T200000
DTSTAMP:20260419T161727
CREATED:20250504T220126Z
LAST-MODIFIED:20260216T160709Z
UID:10039573-1751310000-1751313600@meetings.greysheet.org
SUMMARY:Healthy Choices
DESCRIPTION:
URL:https://meetings.greysheet.org/meeting/healthy-choices/2025-06-30
CATEGORIES:Zoom
ATTACH;FMTTYPE=image/svg+xml:https://meetings.greysheet.org/wp-content/uploads/2025/05/desktop.svg
LOCATION:Zoom ID: 981046794, Passcode: Universal, Camera: Optional
END:VEVENT
END:VCALENDAR