BEGIN:VCALENDAR
VERSION:2.0
PRODID:-//GreySheeters Anonymous World Services - ECPv6.15.20//NONSGML v1.0//EN
CALSCALE:GREGORIAN
METHOD:PUBLISH
X-WR-CALNAME:GreySheeters Anonymous World Services
X-ORIGINAL-URL:https://meetings.greysheet.org
X-WR-CALDESC:Events for GreySheeters Anonymous World Services
REFRESH-INTERVAL;VALUE=DURATION:PT1H
X-Robots-Tag:noindex
X-PUBLISHED-TTL:PT1H
BEGIN:VTIMEZONE
TZID:America/New_York
BEGIN:DAYLIGHT
TZOFFSETFROM:-0500
TZOFFSETTO:-0400
TZNAME:EDT
DTSTART:20250309T070000
END:DAYLIGHT
BEGIN:STANDARD
TZOFFSETFROM:-0400
TZOFFSETTO:-0500
TZNAME:EST
DTSTART:20251102T060000
END:STANDARD
BEGIN:DAYLIGHT
TZOFFSETFROM:-0500
TZOFFSETTO:-0400
TZNAME:EDT
DTSTART:20260308T070000
END:DAYLIGHT
BEGIN:STANDARD
TZOFFSETFROM:-0400
TZOFFSETTO:-0500
TZNAME:EST
DTSTART:20261101T060000
END:STANDARD
BEGIN:DAYLIGHT
TZOFFSETFROM:-0500
TZOFFSETTO:-0400
TZNAME:EDT
DTSTART:20270314T070000
END:DAYLIGHT
BEGIN:STANDARD
TZOFFSETFROM:-0400
TZOFFSETTO:-0500
TZNAME:EST
DTSTART:20271107T060000
END:STANDARD
END:VTIMEZONE
BEGIN:VEVENT
DTSTART;TZID=America/New_York:20260426T071500
DTEND;TZID=America/New_York:20260426T081500
DTSTAMP:20260420T043659
CREATED:20250504T220126Z
LAST-MODIFIED:20260306T210111Z
UID:10032600-1777187700-1777191300@meetings.greysheet.org
SUMMARY:GSA Literature NY
DESCRIPTION:Rotating literature: A.A. Big Book and Twelve Steps and Twelve Traditions
URL:https://meetings.greysheet.org/meeting/gsa-literature-ny/2026-04-26
CATEGORIES:Zoom
ATTACH;FMTTYPE=image/svg+xml:https://meetings.greysheet.org/wp-content/uploads/2025/05/desktop.svg
LOCATION:Zoom ID: 149224616, Passcode: Universal, Camera: Optional
END:VEVENT
BEGIN:VEVENT
DTSTART;TZID=America/New_York:20260503T071500
DTEND;TZID=America/New_York:20260503T081500
DTSTAMP:20260420T043659
CREATED:20250504T220126Z
LAST-MODIFIED:20260306T210111Z
UID:10032601-1777792500-1777796100@meetings.greysheet.org
SUMMARY:GSA Literature NY
DESCRIPTION:Rotating literature: A.A. Big Book and Twelve Steps and Twelve Traditions
URL:https://meetings.greysheet.org/meeting/gsa-literature-ny/2026-05-03
CATEGORIES:Zoom
ATTACH;FMTTYPE=image/svg+xml:https://meetings.greysheet.org/wp-content/uploads/2025/05/desktop.svg
LOCATION:Zoom ID: 149224616, Passcode: Universal, Camera: Optional
END:VEVENT
BEGIN:VEVENT
DTSTART;TZID=America/New_York:20260510T071500
DTEND;TZID=America/New_York:20260510T081500
DTSTAMP:20260420T043659
CREATED:20250504T220126Z
LAST-MODIFIED:20260306T210111Z
UID:10032602-1778397300-1778400900@meetings.greysheet.org
SUMMARY:GSA Literature NY
DESCRIPTION:Rotating literature: A.A. Big Book and Twelve Steps and Twelve Traditions
URL:https://meetings.greysheet.org/meeting/gsa-literature-ny/2026-05-10
CATEGORIES:Zoom
ATTACH;FMTTYPE=image/svg+xml:https://meetings.greysheet.org/wp-content/uploads/2025/05/desktop.svg
LOCATION:Zoom ID: 149224616, Passcode: Universal, Camera: Optional
END:VEVENT
BEGIN:VEVENT
DTSTART;TZID=America/New_York:20260517T071500
DTEND;TZID=America/New_York:20260517T081500
DTSTAMP:20260420T043659
CREATED:20250504T220126Z
LAST-MODIFIED:20260306T210111Z
UID:10032603-1779002100-1779005700@meetings.greysheet.org
SUMMARY:GSA Literature NY
DESCRIPTION:Rotating literature: A.A. Big Book and Twelve Steps and Twelve Traditions
URL:https://meetings.greysheet.org/meeting/gsa-literature-ny/2026-05-17
CATEGORIES:Zoom
ATTACH;FMTTYPE=image/svg+xml:https://meetings.greysheet.org/wp-content/uploads/2025/05/desktop.svg
LOCATION:Zoom ID: 149224616, Passcode: Universal, Camera: Optional
END:VEVENT
BEGIN:VEVENT
DTSTART;TZID=America/New_York:20260524T071500
DTEND;TZID=America/New_York:20260524T081500
DTSTAMP:20260420T043659
CREATED:20250504T220126Z
LAST-MODIFIED:20260306T210111Z
UID:10032604-1779606900-1779610500@meetings.greysheet.org
SUMMARY:GSA Literature NY
DESCRIPTION:Rotating literature: A.A. Big Book and Twelve Steps and Twelve Traditions
URL:https://meetings.greysheet.org/meeting/gsa-literature-ny/2026-05-24
CATEGORIES:Zoom
ATTACH;FMTTYPE=image/svg+xml:https://meetings.greysheet.org/wp-content/uploads/2025/05/desktop.svg
LOCATION:Zoom ID: 149224616, Passcode: Universal, Camera: Optional
END:VEVENT
BEGIN:VEVENT
DTSTART;TZID=America/New_York:20260531T071500
DTEND;TZID=America/New_York:20260531T081500
DTSTAMP:20260420T043659
CREATED:20250504T220126Z
LAST-MODIFIED:20260306T210111Z
UID:10032605-1780211700-1780215300@meetings.greysheet.org
SUMMARY:GSA Literature NY
DESCRIPTION:Rotating literature: A.A. Big Book and Twelve Steps and Twelve Traditions
URL:https://meetings.greysheet.org/meeting/gsa-literature-ny/2026-05-31
CATEGORIES:Zoom
ATTACH;FMTTYPE=image/svg+xml:https://meetings.greysheet.org/wp-content/uploads/2025/05/desktop.svg
LOCATION:Zoom ID: 149224616, Passcode: Universal, Camera: Optional
END:VEVENT
BEGIN:VEVENT
DTSTART;TZID=America/New_York:20260607T071500
DTEND;TZID=America/New_York:20260607T081500
DTSTAMP:20260420T043659
CREATED:20250504T220126Z
LAST-MODIFIED:20260306T210111Z
UID:10032606-1780816500-1780820100@meetings.greysheet.org
SUMMARY:GSA Literature NY
DESCRIPTION:Rotating literature: A.A. Big Book and Twelve Steps and Twelve Traditions
URL:https://meetings.greysheet.org/meeting/gsa-literature-ny/2026-06-07
CATEGORIES:Zoom
ATTACH;FMTTYPE=image/svg+xml:https://meetings.greysheet.org/wp-content/uploads/2025/05/desktop.svg
LOCATION:Zoom ID: 149224616, Passcode: Universal, Camera: Optional
END:VEVENT
BEGIN:VEVENT
DTSTART;TZID=America/New_York:20260614T071500
DTEND;TZID=America/New_York:20260614T081500
DTSTAMP:20260420T043659
CREATED:20250504T220126Z
LAST-MODIFIED:20260306T210111Z
UID:10032607-1781421300-1781424900@meetings.greysheet.org
SUMMARY:GSA Literature NY
DESCRIPTION:Rotating literature: A.A. Big Book and Twelve Steps and Twelve Traditions
URL:https://meetings.greysheet.org/meeting/gsa-literature-ny/2026-06-14
CATEGORIES:Zoom
ATTACH;FMTTYPE=image/svg+xml:https://meetings.greysheet.org/wp-content/uploads/2025/05/desktop.svg
LOCATION:Zoom ID: 149224616, Passcode: Universal, Camera: Optional
END:VEVENT
BEGIN:VEVENT
DTSTART;TZID=America/New_York:20260621T071500
DTEND;TZID=America/New_York:20260621T081500
DTSTAMP:20260420T043659
CREATED:20250504T220126Z
LAST-MODIFIED:20260306T210111Z
UID:10032608-1782026100-1782029700@meetings.greysheet.org
SUMMARY:GSA Literature NY
DESCRIPTION:Rotating literature: A.A. Big Book and Twelve Steps and Twelve Traditions
URL:https://meetings.greysheet.org/meeting/gsa-literature-ny/2026-06-21
CATEGORIES:Zoom
ATTACH;FMTTYPE=image/svg+xml:https://meetings.greysheet.org/wp-content/uploads/2025/05/desktop.svg
LOCATION:Zoom ID: 149224616, Passcode: Universal, Camera: Optional
END:VEVENT
BEGIN:VEVENT
DTSTART;TZID=America/New_York:20260628T071500
DTEND;TZID=America/New_York:20260628T081500
DTSTAMP:20260420T043659
CREATED:20250504T220126Z
LAST-MODIFIED:20260306T210111Z
UID:10032609-1782630900-1782634500@meetings.greysheet.org
SUMMARY:GSA Literature NY
DESCRIPTION:Rotating literature: A.A. Big Book and Twelve Steps and Twelve Traditions
URL:https://meetings.greysheet.org/meeting/gsa-literature-ny/2026-06-28
CATEGORIES:Zoom
ATTACH;FMTTYPE=image/svg+xml:https://meetings.greysheet.org/wp-content/uploads/2025/05/desktop.svg
LOCATION:Zoom ID: 149224616, Passcode: Universal, Camera: Optional
END:VEVENT
BEGIN:VEVENT
DTSTART;TZID=America/New_York:20260705T071500
DTEND;TZID=America/New_York:20260705T081500
DTSTAMP:20260420T043659
CREATED:20250504T220126Z
LAST-MODIFIED:20260306T210111Z
UID:10032610-1783235700-1783239300@meetings.greysheet.org
SUMMARY:GSA Literature NY
DESCRIPTION:Rotating literature: A.A. Big Book and Twelve Steps and Twelve Traditions
URL:https://meetings.greysheet.org/meeting/gsa-literature-ny/2026-07-05
CATEGORIES:Zoom
ATTACH;FMTTYPE=image/svg+xml:https://meetings.greysheet.org/wp-content/uploads/2025/05/desktop.svg
LOCATION:Zoom ID: 149224616, Passcode: Universal, Camera: Optional
END:VEVENT
BEGIN:VEVENT
DTSTART;TZID=America/New_York:20260712T071500
DTEND;TZID=America/New_York:20260712T081500
DTSTAMP:20260420T043659
CREATED:20250504T220126Z
LAST-MODIFIED:20260306T210111Z
UID:10032611-1783840500-1783844100@meetings.greysheet.org
SUMMARY:GSA Literature NY
DESCRIPTION:Rotating literature: A.A. Big Book and Twelve Steps and Twelve Traditions
URL:https://meetings.greysheet.org/meeting/gsa-literature-ny/2026-07-12
CATEGORIES:Zoom
ATTACH;FMTTYPE=image/svg+xml:https://meetings.greysheet.org/wp-content/uploads/2025/05/desktop.svg
LOCATION:Zoom ID: 149224616, Passcode: Universal, Camera: Optional
END:VEVENT
BEGIN:VEVENT
DTSTART;TZID=America/New_York:20260719T071500
DTEND;TZID=America/New_York:20260719T081500
DTSTAMP:20260420T043659
CREATED:20250504T220126Z
LAST-MODIFIED:20260306T210111Z
UID:10032612-1784445300-1784448900@meetings.greysheet.org
SUMMARY:GSA Literature NY
DESCRIPTION:Rotating literature: A.A. Big Book and Twelve Steps and Twelve Traditions
URL:https://meetings.greysheet.org/meeting/gsa-literature-ny/2026-07-19
CATEGORIES:Zoom
ATTACH;FMTTYPE=image/svg+xml:https://meetings.greysheet.org/wp-content/uploads/2025/05/desktop.svg
LOCATION:Zoom ID: 149224616, Passcode: Universal, Camera: Optional
END:VEVENT
BEGIN:VEVENT
DTSTART;TZID=America/New_York:20260726T071500
DTEND;TZID=America/New_York:20260726T081500
DTSTAMP:20260420T043659
CREATED:20250504T220126Z
LAST-MODIFIED:20260306T210111Z
UID:10032613-1785050100-1785053700@meetings.greysheet.org
SUMMARY:GSA Literature NY
DESCRIPTION:Rotating literature: A.A. Big Book and Twelve Steps and Twelve Traditions
URL:https://meetings.greysheet.org/meeting/gsa-literature-ny/2026-07-26
CATEGORIES:Zoom
ATTACH;FMTTYPE=image/svg+xml:https://meetings.greysheet.org/wp-content/uploads/2025/05/desktop.svg
LOCATION:Zoom ID: 149224616, Passcode: Universal, Camera: Optional
END:VEVENT
BEGIN:VEVENT
DTSTART;TZID=America/New_York:20260802T071500
DTEND;TZID=America/New_York:20260802T081500
DTSTAMP:20260420T043659
CREATED:20250504T220126Z
LAST-MODIFIED:20260306T210111Z
UID:10032614-1785654900-1785658500@meetings.greysheet.org
SUMMARY:GSA Literature NY
DESCRIPTION:Rotating literature: A.A. Big Book and Twelve Steps and Twelve Traditions
URL:https://meetings.greysheet.org/meeting/gsa-literature-ny/2026-08-02
CATEGORIES:Zoom
ATTACH;FMTTYPE=image/svg+xml:https://meetings.greysheet.org/wp-content/uploads/2025/05/desktop.svg
LOCATION:Zoom ID: 149224616, Passcode: Universal, Camera: Optional
END:VEVENT
BEGIN:VEVENT
DTSTART;TZID=America/New_York:20260809T071500
DTEND;TZID=America/New_York:20260809T081500
DTSTAMP:20260420T043659
CREATED:20250504T220126Z
LAST-MODIFIED:20260306T210111Z
UID:10032615-1786259700-1786263300@meetings.greysheet.org
SUMMARY:GSA Literature NY
DESCRIPTION:Rotating literature: A.A. Big Book and Twelve Steps and Twelve Traditions
URL:https://meetings.greysheet.org/meeting/gsa-literature-ny/2026-08-09
CATEGORIES:Zoom
ATTACH;FMTTYPE=image/svg+xml:https://meetings.greysheet.org/wp-content/uploads/2025/05/desktop.svg
LOCATION:Zoom ID: 149224616, Passcode: Universal, Camera: Optional
END:VEVENT
BEGIN:VEVENT
DTSTART;TZID=America/New_York:20260816T071500
DTEND;TZID=America/New_York:20260816T081500
DTSTAMP:20260420T043659
CREATED:20250504T220126Z
LAST-MODIFIED:20260306T210111Z
UID:10032616-1786864500-1786868100@meetings.greysheet.org
SUMMARY:GSA Literature NY
DESCRIPTION:Rotating literature: A.A. Big Book and Twelve Steps and Twelve Traditions
URL:https://meetings.greysheet.org/meeting/gsa-literature-ny/2026-08-16
CATEGORIES:Zoom
ATTACH;FMTTYPE=image/svg+xml:https://meetings.greysheet.org/wp-content/uploads/2025/05/desktop.svg
LOCATION:Zoom ID: 149224616, Passcode: Universal, Camera: Optional
END:VEVENT
BEGIN:VEVENT
DTSTART;TZID=America/New_York:20260823T071500
DTEND;TZID=America/New_York:20260823T081500
DTSTAMP:20260420T043659
CREATED:20250504T220126Z
LAST-MODIFIED:20260306T210111Z
UID:10032617-1787469300-1787472900@meetings.greysheet.org
SUMMARY:GSA Literature NY
DESCRIPTION:Rotating literature: A.A. Big Book and Twelve Steps and Twelve Traditions
URL:https://meetings.greysheet.org/meeting/gsa-literature-ny/2026-08-23
CATEGORIES:Zoom
ATTACH;FMTTYPE=image/svg+xml:https://meetings.greysheet.org/wp-content/uploads/2025/05/desktop.svg
LOCATION:Zoom ID: 149224616, Passcode: Universal, Camera: Optional
END:VEVENT
BEGIN:VEVENT
DTSTART;TZID=America/New_York:20260830T071500
DTEND;TZID=America/New_York:20260830T081500
DTSTAMP:20260420T043659
CREATED:20250504T220126Z
LAST-MODIFIED:20260306T210111Z
UID:10032618-1788074100-1788077700@meetings.greysheet.org
SUMMARY:GSA Literature NY
DESCRIPTION:Rotating literature: A.A. Big Book and Twelve Steps and Twelve Traditions
URL:https://meetings.greysheet.org/meeting/gsa-literature-ny/2026-08-30
CATEGORIES:Zoom
ATTACH;FMTTYPE=image/svg+xml:https://meetings.greysheet.org/wp-content/uploads/2025/05/desktop.svg
LOCATION:Zoom ID: 149224616, Passcode: Universal, Camera: Optional
END:VEVENT
BEGIN:VEVENT
DTSTART;TZID=America/New_York:20260906T071500
DTEND;TZID=America/New_York:20260906T081500
DTSTAMP:20260420T043659
CREATED:20250504T220126Z
LAST-MODIFIED:20260306T210111Z
UID:10032619-1788678900-1788682500@meetings.greysheet.org
SUMMARY:GSA Literature NY
DESCRIPTION:Rotating literature: A.A. Big Book and Twelve Steps and Twelve Traditions
URL:https://meetings.greysheet.org/meeting/gsa-literature-ny/2026-09-06
CATEGORIES:Zoom
ATTACH;FMTTYPE=image/svg+xml:https://meetings.greysheet.org/wp-content/uploads/2025/05/desktop.svg
LOCATION:Zoom ID: 149224616, Passcode: Universal, Camera: Optional
END:VEVENT
BEGIN:VEVENT
DTSTART;TZID=America/New_York:20260913T071500
DTEND;TZID=America/New_York:20260913T081500
DTSTAMP:20260420T043659
CREATED:20250504T220126Z
LAST-MODIFIED:20260306T210111Z
UID:10032620-1789283700-1789287300@meetings.greysheet.org
SUMMARY:GSA Literature NY
DESCRIPTION:Rotating literature: A.A. Big Book and Twelve Steps and Twelve Traditions
URL:https://meetings.greysheet.org/meeting/gsa-literature-ny/2026-09-13
CATEGORIES:Zoom
ATTACH;FMTTYPE=image/svg+xml:https://meetings.greysheet.org/wp-content/uploads/2025/05/desktop.svg
LOCATION:Zoom ID: 149224616, Passcode: Universal, Camera: Optional
END:VEVENT
BEGIN:VEVENT
DTSTART;TZID=America/New_York:20260920T071500
DTEND;TZID=America/New_York:20260920T081500
DTSTAMP:20260420T043659
CREATED:20250504T220126Z
LAST-MODIFIED:20260306T210111Z
UID:10032621-1789888500-1789892100@meetings.greysheet.org
SUMMARY:GSA Literature NY
DESCRIPTION:Rotating literature: A.A. Big Book and Twelve Steps and Twelve Traditions
URL:https://meetings.greysheet.org/meeting/gsa-literature-ny/2026-09-20
CATEGORIES:Zoom
ATTACH;FMTTYPE=image/svg+xml:https://meetings.greysheet.org/wp-content/uploads/2025/05/desktop.svg
LOCATION:Zoom ID: 149224616, Passcode: Universal, Camera: Optional
END:VEVENT
BEGIN:VEVENT
DTSTART;TZID=America/New_York:20260927T071500
DTEND;TZID=America/New_York:20260927T081500
DTSTAMP:20260420T043659
CREATED:20250504T220126Z
LAST-MODIFIED:20260306T210111Z
UID:10032622-1790493300-1790496900@meetings.greysheet.org
SUMMARY:GSA Literature NY
DESCRIPTION:Rotating literature: A.A. Big Book and Twelve Steps and Twelve Traditions
URL:https://meetings.greysheet.org/meeting/gsa-literature-ny/2026-09-27
CATEGORIES:Zoom
ATTACH;FMTTYPE=image/svg+xml:https://meetings.greysheet.org/wp-content/uploads/2025/05/desktop.svg
LOCATION:Zoom ID: 149224616, Passcode: Universal, Camera: Optional
END:VEVENT
BEGIN:VEVENT
DTSTART;TZID=America/New_York:20261004T071500
DTEND;TZID=America/New_York:20261004T081500
DTSTAMP:20260420T043659
CREATED:20250504T220126Z
LAST-MODIFIED:20260306T210111Z
UID:10032623-1791098100-1791101700@meetings.greysheet.org
SUMMARY:GSA Literature NY
DESCRIPTION:Rotating literature: A.A. Big Book and Twelve Steps and Twelve Traditions
URL:https://meetings.greysheet.org/meeting/gsa-literature-ny/2026-10-04
CATEGORIES:Zoom
ATTACH;FMTTYPE=image/svg+xml:https://meetings.greysheet.org/wp-content/uploads/2025/05/desktop.svg
LOCATION:Zoom ID: 149224616, Passcode: Universal, Camera: Optional
END:VEVENT
BEGIN:VEVENT
DTSTART;TZID=America/New_York:20261011T071500
DTEND;TZID=America/New_York:20261011T081500
DTSTAMP:20260420T043659
CREATED:20250504T220126Z
LAST-MODIFIED:20260306T210111Z
UID:10032624-1791702900-1791706500@meetings.greysheet.org
SUMMARY:GSA Literature NY
DESCRIPTION:Rotating literature: A.A. Big Book and Twelve Steps and Twelve Traditions
URL:https://meetings.greysheet.org/meeting/gsa-literature-ny/2026-10-11
CATEGORIES:Zoom
ATTACH;FMTTYPE=image/svg+xml:https://meetings.greysheet.org/wp-content/uploads/2025/05/desktop.svg
LOCATION:Zoom ID: 149224616, Passcode: Universal, Camera: Optional
END:VEVENT
BEGIN:VEVENT
DTSTART;TZID=America/New_York:20261018T071500
DTEND;TZID=America/New_York:20261018T081500
DTSTAMP:20260420T043659
CREATED:20250504T220126Z
LAST-MODIFIED:20260306T210111Z
UID:10032625-1792307700-1792311300@meetings.greysheet.org
SUMMARY:GSA Literature NY
DESCRIPTION:Rotating literature: A.A. Big Book and Twelve Steps and Twelve Traditions
URL:https://meetings.greysheet.org/meeting/gsa-literature-ny/2026-10-18
CATEGORIES:Zoom
ATTACH;FMTTYPE=image/svg+xml:https://meetings.greysheet.org/wp-content/uploads/2025/05/desktop.svg
LOCATION:Zoom ID: 149224616, Passcode: Universal, Camera: Optional
END:VEVENT
BEGIN:VEVENT
DTSTART;TZID=America/New_York:20261025T071500
DTEND;TZID=America/New_York:20261025T081500
DTSTAMP:20260420T043659
CREATED:20250504T220126Z
LAST-MODIFIED:20260306T210111Z
UID:10032626-1792912500-1792916100@meetings.greysheet.org
SUMMARY:GSA Literature NY
DESCRIPTION:Rotating literature: A.A. Big Book and Twelve Steps and Twelve Traditions
URL:https://meetings.greysheet.org/meeting/gsa-literature-ny/2026-10-25
CATEGORIES:Zoom
ATTACH;FMTTYPE=image/svg+xml:https://meetings.greysheet.org/wp-content/uploads/2025/05/desktop.svg
LOCATION:Zoom ID: 149224616, Passcode: Universal, Camera: Optional
END:VEVENT
BEGIN:VEVENT
DTSTART;TZID=America/New_York:20261101T071500
DTEND;TZID=America/New_York:20261101T081500
DTSTAMP:20260420T043659
CREATED:20250504T220126Z
LAST-MODIFIED:20260306T210111Z
UID:10032627-1793517300-1793520900@meetings.greysheet.org
SUMMARY:GSA Literature NY
DESCRIPTION:Rotating literature: A.A. Big Book and Twelve Steps and Twelve Traditions
URL:https://meetings.greysheet.org/meeting/gsa-literature-ny/2026-11-01
CATEGORIES:Zoom
ATTACH;FMTTYPE=image/svg+xml:https://meetings.greysheet.org/wp-content/uploads/2025/05/desktop.svg
LOCATION:Zoom ID: 149224616, Passcode: Universal, Camera: Optional
END:VEVENT
BEGIN:VEVENT
DTSTART;TZID=America/New_York:20261108T071500
DTEND;TZID=America/New_York:20261108T081500
DTSTAMP:20260420T043659
CREATED:20250504T220126Z
LAST-MODIFIED:20260306T210111Z
UID:10032628-1794122100-1794125700@meetings.greysheet.org
SUMMARY:GSA Literature NY
DESCRIPTION:Rotating literature: A.A. Big Book and Twelve Steps and Twelve Traditions
URL:https://meetings.greysheet.org/meeting/gsa-literature-ny/2026-11-08
CATEGORIES:Zoom
ATTACH;FMTTYPE=image/svg+xml:https://meetings.greysheet.org/wp-content/uploads/2025/05/desktop.svg
LOCATION:Zoom ID: 149224616, Passcode: Universal, Camera: Optional
END:VEVENT
BEGIN:VEVENT
DTSTART;TZID=America/New_York:20261115T071500
DTEND;TZID=America/New_York:20261115T081500
DTSTAMP:20260420T043659
CREATED:20250504T220126Z
LAST-MODIFIED:20260306T210111Z
UID:10032629-1794726900-1794730500@meetings.greysheet.org
SUMMARY:GSA Literature NY
DESCRIPTION:Rotating literature: A.A. Big Book and Twelve Steps and Twelve Traditions
URL:https://meetings.greysheet.org/meeting/gsa-literature-ny/2026-11-15
CATEGORIES:Zoom
ATTACH;FMTTYPE=image/svg+xml:https://meetings.greysheet.org/wp-content/uploads/2025/05/desktop.svg
LOCATION:Zoom ID: 149224616, Passcode: Universal, Camera: Optional
END:VEVENT
END:VCALENDAR