BEGIN:VCALENDAR
VERSION:2.0
PRODID:-//GreySheeters Anonymous World Services - ECPv6.15.20//NONSGML v1.0//EN
CALSCALE:GREGORIAN
METHOD:PUBLISH
X-WR-CALNAME:GreySheeters Anonymous World Services
X-ORIGINAL-URL:https://meetings.greysheet.org
X-WR-CALDESC:Events for GreySheeters Anonymous World Services
REFRESH-INTERVAL;VALUE=DURATION:PT1H
X-Robots-Tag:noindex
X-PUBLISHED-TTL:PT1H
BEGIN:VTIMEZONE
TZID:America/New_York
BEGIN:DAYLIGHT
TZOFFSETFROM:-0500
TZOFFSETTO:-0400
TZNAME:EDT
DTSTART:20260308T070000
END:DAYLIGHT
BEGIN:STANDARD
TZOFFSETFROM:-0400
TZOFFSETTO:-0500
TZNAME:EST
DTSTART:20261101T060000
END:STANDARD
BEGIN:DAYLIGHT
TZOFFSETFROM:-0500
TZOFFSETTO:-0400
TZNAME:EDT
DTSTART:20270314T070000
END:DAYLIGHT
BEGIN:STANDARD
TZOFFSETFROM:-0400
TZOFFSETTO:-0500
TZNAME:EST
DTSTART:20271107T060000
END:STANDARD
BEGIN:DAYLIGHT
TZOFFSETFROM:-0500
TZOFFSETTO:-0400
TZNAME:EDT
DTSTART:20280312T070000
END:DAYLIGHT
BEGIN:STANDARD
TZOFFSETFROM:-0400
TZOFFSETTO:-0500
TZNAME:EST
DTSTART:20281105T060000
END:STANDARD
BEGIN:DAYLIGHT
TZOFFSETFROM:-0500
TZOFFSETTO:-0400
TZNAME:EDT
DTSTART:20290311T070000
END:DAYLIGHT
BEGIN:STANDARD
TZOFFSETFROM:-0400
TZOFFSETTO:-0500
TZNAME:EST
DTSTART:20291104T060000
END:STANDARD
END:VTIMEZONE
BEGIN:VEVENT
DTSTART;TZID=America/New_York:20270622T173000
DTEND;TZID=America/New_York:20270622T183000
DTSTAMP:20260424T055424
CREATED:20250503T164132Z
LAST-MODIFIED:20260216T151724Z
UID:10042844-1813685400-1813689000@meetings.greysheet.org
SUMMARY:GSA 12x12 Telephone
DESCRIPTION:We read from Twelve Steps and Twelve Traditions of GreySheeters Anonymous.
URL:https://meetings.greysheet.org/meeting/gsa-12x12-telephone/2027-06-22
CATEGORIES:Telephone or Audio
ATTACH;FMTTYPE=image/svg+xml:https://meetings.greysheet.org/wp-content/uploads/2025/05/phone.svg
LOCATION:Phone Number: 712 832 8330, PIN: Contact Us
END:VEVENT
BEGIN:VEVENT
DTSTART;TZID=America/New_York:20270629T173000
DTEND;TZID=America/New_York:20270629T183000
DTSTAMP:20260424T055424
CREATED:20250503T164132Z
LAST-MODIFIED:20260216T151724Z
UID:10042845-1814290200-1814293800@meetings.greysheet.org
SUMMARY:GSA 12x12 Telephone
DESCRIPTION:We read from Twelve Steps and Twelve Traditions of GreySheeters Anonymous.
URL:https://meetings.greysheet.org/meeting/gsa-12x12-telephone/2027-06-29
CATEGORIES:Telephone or Audio
ATTACH;FMTTYPE=image/svg+xml:https://meetings.greysheet.org/wp-content/uploads/2025/05/phone.svg
LOCATION:Phone Number: 712 832 8330, PIN: Contact Us
END:VEVENT
BEGIN:VEVENT
DTSTART;TZID=America/New_York:20270706T173000
DTEND;TZID=America/New_York:20270706T183000
DTSTAMP:20260424T055424
CREATED:20250503T164132Z
LAST-MODIFIED:20260216T151724Z
UID:10042846-1814895000-1814898600@meetings.greysheet.org
SUMMARY:GSA 12x12 Telephone
DESCRIPTION:We read from Twelve Steps and Twelve Traditions of GreySheeters Anonymous.
URL:https://meetings.greysheet.org/meeting/gsa-12x12-telephone/2027-07-06
CATEGORIES:Telephone or Audio
ATTACH;FMTTYPE=image/svg+xml:https://meetings.greysheet.org/wp-content/uploads/2025/05/phone.svg
LOCATION:Phone Number: 712 832 8330, PIN: Contact Us
END:VEVENT
BEGIN:VEVENT
DTSTART;TZID=America/New_York:20270713T173000
DTEND;TZID=America/New_York:20270713T183000
DTSTAMP:20260424T055424
CREATED:20250503T164132Z
LAST-MODIFIED:20260216T151724Z
UID:10042847-1815499800-1815503400@meetings.greysheet.org
SUMMARY:GSA 12x12 Telephone
DESCRIPTION:We read from Twelve Steps and Twelve Traditions of GreySheeters Anonymous.
URL:https://meetings.greysheet.org/meeting/gsa-12x12-telephone/2027-07-13
CATEGORIES:Telephone or Audio
ATTACH;FMTTYPE=image/svg+xml:https://meetings.greysheet.org/wp-content/uploads/2025/05/phone.svg
LOCATION:Phone Number: 712 832 8330, PIN: Contact Us
END:VEVENT
BEGIN:VEVENT
DTSTART;TZID=America/New_York:20270720T173000
DTEND;TZID=America/New_York:20270720T183000
DTSTAMP:20260424T055424
CREATED:20250503T164132Z
LAST-MODIFIED:20260216T151724Z
UID:10042848-1816104600-1816108200@meetings.greysheet.org
SUMMARY:GSA 12x12 Telephone
DESCRIPTION:We read from Twelve Steps and Twelve Traditions of GreySheeters Anonymous.
URL:https://meetings.greysheet.org/meeting/gsa-12x12-telephone/2027-07-20
CATEGORIES:Telephone or Audio
ATTACH;FMTTYPE=image/svg+xml:https://meetings.greysheet.org/wp-content/uploads/2025/05/phone.svg
LOCATION:Phone Number: 712 832 8330, PIN: Contact Us
END:VEVENT
BEGIN:VEVENT
DTSTART;TZID=America/New_York:20270727T173000
DTEND;TZID=America/New_York:20270727T183000
DTSTAMP:20260424T055424
CREATED:20250503T164132Z
LAST-MODIFIED:20260216T151724Z
UID:10042849-1816709400-1816713000@meetings.greysheet.org
SUMMARY:GSA 12x12 Telephone
DESCRIPTION:We read from Twelve Steps and Twelve Traditions of GreySheeters Anonymous.
URL:https://meetings.greysheet.org/meeting/gsa-12x12-telephone/2027-07-27
CATEGORIES:Telephone or Audio
ATTACH;FMTTYPE=image/svg+xml:https://meetings.greysheet.org/wp-content/uploads/2025/05/phone.svg
LOCATION:Phone Number: 712 832 8330, PIN: Contact Us
END:VEVENT
BEGIN:VEVENT
DTSTART;TZID=America/New_York:20270803T173000
DTEND;TZID=America/New_York:20270803T183000
DTSTAMP:20260424T055424
CREATED:20250503T164132Z
LAST-MODIFIED:20260216T151724Z
UID:10042850-1817314200-1817317800@meetings.greysheet.org
SUMMARY:GSA 12x12 Telephone
DESCRIPTION:We read from Twelve Steps and Twelve Traditions of GreySheeters Anonymous.
URL:https://meetings.greysheet.org/meeting/gsa-12x12-telephone/2027-08-03
CATEGORIES:Telephone or Audio
ATTACH;FMTTYPE=image/svg+xml:https://meetings.greysheet.org/wp-content/uploads/2025/05/phone.svg
LOCATION:Phone Number: 712 832 8330, PIN: Contact Us
END:VEVENT
BEGIN:VEVENT
DTSTART;TZID=America/New_York:20270810T173000
DTEND;TZID=America/New_York:20270810T183000
DTSTAMP:20260424T055424
CREATED:20250503T164132Z
LAST-MODIFIED:20260216T151724Z
UID:10042851-1817919000-1817922600@meetings.greysheet.org
SUMMARY:GSA 12x12 Telephone
DESCRIPTION:We read from Twelve Steps and Twelve Traditions of GreySheeters Anonymous.
URL:https://meetings.greysheet.org/meeting/gsa-12x12-telephone/2027-08-10
CATEGORIES:Telephone or Audio
ATTACH;FMTTYPE=image/svg+xml:https://meetings.greysheet.org/wp-content/uploads/2025/05/phone.svg
LOCATION:Phone Number: 712 832 8330, PIN: Contact Us
END:VEVENT
BEGIN:VEVENT
DTSTART;TZID=America/New_York:20270817T173000
DTEND;TZID=America/New_York:20270817T183000
DTSTAMP:20260424T055424
CREATED:20250503T164132Z
LAST-MODIFIED:20260216T151724Z
UID:10042852-1818523800-1818527400@meetings.greysheet.org
SUMMARY:GSA 12x12 Telephone
DESCRIPTION:We read from Twelve Steps and Twelve Traditions of GreySheeters Anonymous.
URL:https://meetings.greysheet.org/meeting/gsa-12x12-telephone/2027-08-17
CATEGORIES:Telephone or Audio
ATTACH;FMTTYPE=image/svg+xml:https://meetings.greysheet.org/wp-content/uploads/2025/05/phone.svg
LOCATION:Phone Number: 712 832 8330, PIN: Contact Us
END:VEVENT
BEGIN:VEVENT
DTSTART;TZID=America/New_York:20270824T173000
DTEND;TZID=America/New_York:20270824T183000
DTSTAMP:20260424T055424
CREATED:20250503T164132Z
LAST-MODIFIED:20260216T151724Z
UID:10042853-1819128600-1819132200@meetings.greysheet.org
SUMMARY:GSA 12x12 Telephone
DESCRIPTION:We read from Twelve Steps and Twelve Traditions of GreySheeters Anonymous.
URL:https://meetings.greysheet.org/meeting/gsa-12x12-telephone/2027-08-24
CATEGORIES:Telephone or Audio
ATTACH;FMTTYPE=image/svg+xml:https://meetings.greysheet.org/wp-content/uploads/2025/05/phone.svg
LOCATION:Phone Number: 712 832 8330, PIN: Contact Us
END:VEVENT
BEGIN:VEVENT
DTSTART;TZID=America/New_York:20270831T173000
DTEND;TZID=America/New_York:20270831T183000
DTSTAMP:20260424T055424
CREATED:20250503T164132Z
LAST-MODIFIED:20260216T151724Z
UID:10042854-1819733400-1819737000@meetings.greysheet.org
SUMMARY:GSA 12x12 Telephone
DESCRIPTION:We read from Twelve Steps and Twelve Traditions of GreySheeters Anonymous.
URL:https://meetings.greysheet.org/meeting/gsa-12x12-telephone/2027-08-31
CATEGORIES:Telephone or Audio
ATTACH;FMTTYPE=image/svg+xml:https://meetings.greysheet.org/wp-content/uploads/2025/05/phone.svg
LOCATION:Phone Number: 712 832 8330, PIN: Contact Us
END:VEVENT
BEGIN:VEVENT
DTSTART;TZID=America/New_York:20270907T173000
DTEND;TZID=America/New_York:20270907T183000
DTSTAMP:20260424T055424
CREATED:20250503T164132Z
LAST-MODIFIED:20260216T151724Z
UID:10042855-1820338200-1820341800@meetings.greysheet.org
SUMMARY:GSA 12x12 Telephone
DESCRIPTION:We read from Twelve Steps and Twelve Traditions of GreySheeters Anonymous.
URL:https://meetings.greysheet.org/meeting/gsa-12x12-telephone/2027-09-07
CATEGORIES:Telephone or Audio
ATTACH;FMTTYPE=image/svg+xml:https://meetings.greysheet.org/wp-content/uploads/2025/05/phone.svg
LOCATION:Phone Number: 712 832 8330, PIN: Contact Us
END:VEVENT
BEGIN:VEVENT
DTSTART;TZID=America/New_York:20270914T173000
DTEND;TZID=America/New_York:20270914T183000
DTSTAMP:20260424T055424
CREATED:20250503T164132Z
LAST-MODIFIED:20260216T151724Z
UID:10042856-1820943000-1820946600@meetings.greysheet.org
SUMMARY:GSA 12x12 Telephone
DESCRIPTION:We read from Twelve Steps and Twelve Traditions of GreySheeters Anonymous.
URL:https://meetings.greysheet.org/meeting/gsa-12x12-telephone/2027-09-14
CATEGORIES:Telephone or Audio
ATTACH;FMTTYPE=image/svg+xml:https://meetings.greysheet.org/wp-content/uploads/2025/05/phone.svg
LOCATION:Phone Number: 712 832 8330, PIN: Contact Us
END:VEVENT
BEGIN:VEVENT
DTSTART;TZID=America/New_York:20270921T173000
DTEND;TZID=America/New_York:20270921T183000
DTSTAMP:20260424T055424
CREATED:20250503T164132Z
LAST-MODIFIED:20260216T151724Z
UID:10042857-1821547800-1821551400@meetings.greysheet.org
SUMMARY:GSA 12x12 Telephone
DESCRIPTION:We read from Twelve Steps and Twelve Traditions of GreySheeters Anonymous.
URL:https://meetings.greysheet.org/meeting/gsa-12x12-telephone/2027-09-21
CATEGORIES:Telephone or Audio
ATTACH;FMTTYPE=image/svg+xml:https://meetings.greysheet.org/wp-content/uploads/2025/05/phone.svg
LOCATION:Phone Number: 712 832 8330, PIN: Contact Us
END:VEVENT
BEGIN:VEVENT
DTSTART;TZID=America/New_York:20270928T173000
DTEND;TZID=America/New_York:20270928T183000
DTSTAMP:20260424T055424
CREATED:20250503T164132Z
LAST-MODIFIED:20260216T151724Z
UID:10042858-1822152600-1822156200@meetings.greysheet.org
SUMMARY:GSA 12x12 Telephone
DESCRIPTION:We read from Twelve Steps and Twelve Traditions of GreySheeters Anonymous.
URL:https://meetings.greysheet.org/meeting/gsa-12x12-telephone/2027-09-28
CATEGORIES:Telephone or Audio
ATTACH;FMTTYPE=image/svg+xml:https://meetings.greysheet.org/wp-content/uploads/2025/05/phone.svg
LOCATION:Phone Number: 712 832 8330, PIN: Contact Us
END:VEVENT
BEGIN:VEVENT
DTSTART;TZID=America/New_York:20271005T173000
DTEND;TZID=America/New_York:20271005T183000
DTSTAMP:20260424T055424
CREATED:20250503T164132Z
LAST-MODIFIED:20260216T151724Z
UID:10042859-1822757400-1822761000@meetings.greysheet.org
SUMMARY:GSA 12x12 Telephone
DESCRIPTION:We read from Twelve Steps and Twelve Traditions of GreySheeters Anonymous.
URL:https://meetings.greysheet.org/meeting/gsa-12x12-telephone/2027-10-05
CATEGORIES:Telephone or Audio
ATTACH;FMTTYPE=image/svg+xml:https://meetings.greysheet.org/wp-content/uploads/2025/05/phone.svg
LOCATION:Phone Number: 712 832 8330, PIN: Contact Us
END:VEVENT
BEGIN:VEVENT
DTSTART;TZID=America/New_York:20271012T173000
DTEND;TZID=America/New_York:20271012T183000
DTSTAMP:20260424T055424
CREATED:20250503T164132Z
LAST-MODIFIED:20260216T151724Z
UID:10042860-1823362200-1823365800@meetings.greysheet.org
SUMMARY:GSA 12x12 Telephone
DESCRIPTION:We read from Twelve Steps and Twelve Traditions of GreySheeters Anonymous.
URL:https://meetings.greysheet.org/meeting/gsa-12x12-telephone/2027-10-12
CATEGORIES:Telephone or Audio
ATTACH;FMTTYPE=image/svg+xml:https://meetings.greysheet.org/wp-content/uploads/2025/05/phone.svg
LOCATION:Phone Number: 712 832 8330, PIN: Contact Us
END:VEVENT
BEGIN:VEVENT
DTSTART;TZID=America/New_York:20271019T173000
DTEND;TZID=America/New_York:20271019T183000
DTSTAMP:20260424T055424
CREATED:20250503T164132Z
LAST-MODIFIED:20260216T151724Z
UID:10042861-1823967000-1823970600@meetings.greysheet.org
SUMMARY:GSA 12x12 Telephone
DESCRIPTION:We read from Twelve Steps and Twelve Traditions of GreySheeters Anonymous.
URL:https://meetings.greysheet.org/meeting/gsa-12x12-telephone/2027-10-19
CATEGORIES:Telephone or Audio
ATTACH;FMTTYPE=image/svg+xml:https://meetings.greysheet.org/wp-content/uploads/2025/05/phone.svg
LOCATION:Phone Number: 712 832 8330, PIN: Contact Us
END:VEVENT
BEGIN:VEVENT
DTSTART;TZID=America/New_York:20271026T173000
DTEND;TZID=America/New_York:20271026T183000
DTSTAMP:20260424T055424
CREATED:20250503T164132Z
LAST-MODIFIED:20260216T151724Z
UID:10042862-1824571800-1824575400@meetings.greysheet.org
SUMMARY:GSA 12x12 Telephone
DESCRIPTION:We read from Twelve Steps and Twelve Traditions of GreySheeters Anonymous.
URL:https://meetings.greysheet.org/meeting/gsa-12x12-telephone/2027-10-26
CATEGORIES:Telephone or Audio
ATTACH;FMTTYPE=image/svg+xml:https://meetings.greysheet.org/wp-content/uploads/2025/05/phone.svg
LOCATION:Phone Number: 712 832 8330, PIN: Contact Us
END:VEVENT
BEGIN:VEVENT
DTSTART;TZID=America/New_York:20271102T173000
DTEND;TZID=America/New_York:20271102T183000
DTSTAMP:20260424T055424
CREATED:20250503T164132Z
LAST-MODIFIED:20260216T151724Z
UID:10042863-1825176600-1825180200@meetings.greysheet.org
SUMMARY:GSA 12x12 Telephone
DESCRIPTION:We read from Twelve Steps and Twelve Traditions of GreySheeters Anonymous.
URL:https://meetings.greysheet.org/meeting/gsa-12x12-telephone/2027-11-02
CATEGORIES:Telephone or Audio
ATTACH;FMTTYPE=image/svg+xml:https://meetings.greysheet.org/wp-content/uploads/2025/05/phone.svg
LOCATION:Phone Number: 712 832 8330, PIN: Contact Us
END:VEVENT
BEGIN:VEVENT
DTSTART;TZID=America/New_York:20271109T173000
DTEND;TZID=America/New_York:20271109T183000
DTSTAMP:20260424T055424
CREATED:20250503T164132Z
LAST-MODIFIED:20260216T151724Z
UID:10042864-1825781400-1825785000@meetings.greysheet.org
SUMMARY:GSA 12x12 Telephone
DESCRIPTION:We read from Twelve Steps and Twelve Traditions of GreySheeters Anonymous.
URL:https://meetings.greysheet.org/meeting/gsa-12x12-telephone/2027-11-09
CATEGORIES:Telephone or Audio
ATTACH;FMTTYPE=image/svg+xml:https://meetings.greysheet.org/wp-content/uploads/2025/05/phone.svg
LOCATION:Phone Number: 712 832 8330, PIN: Contact Us
END:VEVENT
BEGIN:VEVENT
DTSTART;TZID=America/New_York:20271116T173000
DTEND;TZID=America/New_York:20271116T183000
DTSTAMP:20260424T055424
CREATED:20250503T164132Z
LAST-MODIFIED:20260216T151724Z
UID:10042865-1826386200-1826389800@meetings.greysheet.org
SUMMARY:GSA 12x12 Telephone
DESCRIPTION:We read from Twelve Steps and Twelve Traditions of GreySheeters Anonymous.
URL:https://meetings.greysheet.org/meeting/gsa-12x12-telephone/2027-11-16
CATEGORIES:Telephone or Audio
ATTACH;FMTTYPE=image/svg+xml:https://meetings.greysheet.org/wp-content/uploads/2025/05/phone.svg
LOCATION:Phone Number: 712 832 8330, PIN: Contact Us
END:VEVENT
BEGIN:VEVENT
DTSTART;TZID=America/New_York:20271123T173000
DTEND;TZID=America/New_York:20271123T183000
DTSTAMP:20260424T055424
CREATED:20250503T164132Z
LAST-MODIFIED:20260216T151724Z
UID:10065476-1826991000-1826994600@meetings.greysheet.org
SUMMARY:GSA 12x12 Telephone
DESCRIPTION:We read from Twelve Steps and Twelve Traditions of GreySheeters Anonymous.
URL:https://meetings.greysheet.org/meeting/gsa-12x12-telephone/2027-11-23
CATEGORIES:Telephone or Audio
ATTACH;FMTTYPE=image/svg+xml:https://meetings.greysheet.org/wp-content/uploads/2025/05/phone.svg
LOCATION:Phone Number: 712 832 8330, PIN: Contact Us
END:VEVENT
BEGIN:VEVENT
DTSTART;TZID=America/New_York:20271130T173000
DTEND;TZID=America/New_York:20271130T183000
DTSTAMP:20260424T055424
CREATED:20250503T164132Z
LAST-MODIFIED:20260216T151724Z
UID:10065477-1827595800-1827599400@meetings.greysheet.org
SUMMARY:GSA 12x12 Telephone
DESCRIPTION:We read from Twelve Steps and Twelve Traditions of GreySheeters Anonymous.
URL:https://meetings.greysheet.org/meeting/gsa-12x12-telephone/2027-11-30
CATEGORIES:Telephone or Audio
ATTACH;FMTTYPE=image/svg+xml:https://meetings.greysheet.org/wp-content/uploads/2025/05/phone.svg
LOCATION:Phone Number: 712 832 8330, PIN: Contact Us
END:VEVENT
BEGIN:VEVENT
DTSTART;TZID=America/New_York:20271207T173000
DTEND;TZID=America/New_York:20271207T183000
DTSTAMP:20260424T055424
CREATED:20250503T164132Z
LAST-MODIFIED:20260216T151724Z
UID:10065478-1828200600-1828204200@meetings.greysheet.org
SUMMARY:GSA 12x12 Telephone
DESCRIPTION:We read from Twelve Steps and Twelve Traditions of GreySheeters Anonymous.
URL:https://meetings.greysheet.org/meeting/gsa-12x12-telephone/2027-12-07
CATEGORIES:Telephone or Audio
ATTACH;FMTTYPE=image/svg+xml:https://meetings.greysheet.org/wp-content/uploads/2025/05/phone.svg
LOCATION:Phone Number: 712 832 8330, PIN: Contact Us
END:VEVENT
BEGIN:VEVENT
DTSTART;TZID=America/New_York:20271214T173000
DTEND;TZID=America/New_York:20271214T183000
DTSTAMP:20260424T055424
CREATED:20250503T164132Z
LAST-MODIFIED:20260216T151724Z
UID:10065479-1828805400-1828809000@meetings.greysheet.org
SUMMARY:GSA 12x12 Telephone
DESCRIPTION:We read from Twelve Steps and Twelve Traditions of GreySheeters Anonymous.
URL:https://meetings.greysheet.org/meeting/gsa-12x12-telephone/2027-12-14
CATEGORIES:Telephone or Audio
ATTACH;FMTTYPE=image/svg+xml:https://meetings.greysheet.org/wp-content/uploads/2025/05/phone.svg
LOCATION:Phone Number: 712 832 8330, PIN: Contact Us
END:VEVENT
BEGIN:VEVENT
DTSTART;TZID=America/New_York:20271221T173000
DTEND;TZID=America/New_York:20271221T183000
DTSTAMP:20260424T055425
CREATED:20250503T164132Z
LAST-MODIFIED:20260216T151724Z
UID:10065480-1829410200-1829413800@meetings.greysheet.org
SUMMARY:GSA 12x12 Telephone
DESCRIPTION:We read from Twelve Steps and Twelve Traditions of GreySheeters Anonymous.
URL:https://meetings.greysheet.org/meeting/gsa-12x12-telephone/2027-12-21
CATEGORIES:Telephone or Audio
ATTACH;FMTTYPE=image/svg+xml:https://meetings.greysheet.org/wp-content/uploads/2025/05/phone.svg
LOCATION:Phone Number: 712 832 8330, PIN: Contact Us
END:VEVENT
BEGIN:VEVENT
DTSTART;TZID=America/New_York:20271228T173000
DTEND;TZID=America/New_York:20271228T183000
DTSTAMP:20260424T055425
CREATED:20250503T164132Z
LAST-MODIFIED:20260216T151724Z
UID:10065481-1830015000-1830018600@meetings.greysheet.org
SUMMARY:GSA 12x12 Telephone
DESCRIPTION:We read from Twelve Steps and Twelve Traditions of GreySheeters Anonymous.
URL:https://meetings.greysheet.org/meeting/gsa-12x12-telephone/2027-12-28
CATEGORIES:Telephone or Audio
ATTACH;FMTTYPE=image/svg+xml:https://meetings.greysheet.org/wp-content/uploads/2025/05/phone.svg
LOCATION:Phone Number: 712 832 8330, PIN: Contact Us
END:VEVENT
BEGIN:VEVENT
DTSTART;TZID=America/New_York:20280104T173000
DTEND;TZID=America/New_York:20280104T183000
DTSTAMP:20260424T055425
CREATED:20250503T164132Z
LAST-MODIFIED:20260216T151724Z
UID:10065482-1830619800-1830623400@meetings.greysheet.org
SUMMARY:GSA 12x12 Telephone
DESCRIPTION:We read from Twelve Steps and Twelve Traditions of GreySheeters Anonymous.
URL:https://meetings.greysheet.org/meeting/gsa-12x12-telephone/2028-01-04
CATEGORIES:Telephone or Audio
ATTACH;FMTTYPE=image/svg+xml:https://meetings.greysheet.org/wp-content/uploads/2025/05/phone.svg
LOCATION:Phone Number: 712 832 8330, PIN: Contact Us
END:VEVENT
BEGIN:VEVENT
DTSTART;TZID=America/New_York:20280111T173000
DTEND;TZID=America/New_York:20280111T183000
DTSTAMP:20260424T055425
CREATED:20250503T164132Z
LAST-MODIFIED:20260216T151724Z
UID:10065483-1831224600-1831228200@meetings.greysheet.org
SUMMARY:GSA 12x12 Telephone
DESCRIPTION:We read from Twelve Steps and Twelve Traditions of GreySheeters Anonymous.
URL:https://meetings.greysheet.org/meeting/gsa-12x12-telephone/2028-01-11
CATEGORIES:Telephone or Audio
ATTACH;FMTTYPE=image/svg+xml:https://meetings.greysheet.org/wp-content/uploads/2025/05/phone.svg
LOCATION:Phone Number: 712 832 8330, PIN: Contact Us
END:VEVENT
END:VCALENDAR