BEGIN:VCALENDAR
VERSION:2.0
PRODID:-//GreySheeters Anonymous World Services - ECPv6.15.20//NONSGML v1.0//EN
CALSCALE:GREGORIAN
METHOD:PUBLISH
X-ORIGINAL-URL:https://meetings.greysheet.org
X-WR-CALDESC:Events for GreySheeters Anonymous World Services
REFRESH-INTERVAL;VALUE=DURATION:PT1H
X-Robots-Tag:noindex
X-PUBLISHED-TTL:PT1H
BEGIN:VTIMEZONE
TZID:America/New_York
BEGIN:DAYLIGHT
TZOFFSETFROM:-0500
TZOFFSETTO:-0400
TZNAME:EDT
DTSTART:20260308T070000
END:DAYLIGHT
BEGIN:STANDARD
TZOFFSETFROM:-0400
TZOFFSETTO:-0500
TZNAME:EST
DTSTART:20261101T060000
END:STANDARD
BEGIN:DAYLIGHT
TZOFFSETFROM:-0500
TZOFFSETTO:-0400
TZNAME:EDT
DTSTART:20270314T070000
END:DAYLIGHT
BEGIN:STANDARD
TZOFFSETFROM:-0400
TZOFFSETTO:-0500
TZNAME:EST
DTSTART:20271107T060000
END:STANDARD
BEGIN:DAYLIGHT
TZOFFSETFROM:-0500
TZOFFSETTO:-0400
TZNAME:EDT
DTSTART:20280312T070000
END:DAYLIGHT
BEGIN:STANDARD
TZOFFSETFROM:-0400
TZOFFSETTO:-0500
TZNAME:EST
DTSTART:20281105T060000
END:STANDARD
END:VTIMEZONE
BEGIN:VEVENT
DTSTART;TZID=America/New_York:20270105T173000
DTEND;TZID=America/New_York:20270105T183000
DTSTAMP:20260424T025337
CREATED:20250503T164132Z
LAST-MODIFIED:20260216T151724Z
UID:10042820-1799170200-1799173800@meetings.greysheet.org
SUMMARY:GSA 12x12 Telephone
DESCRIPTION:We read from Twelve Steps and Twelve Traditions of GreySheeters Anonymous.
URL:https://meetings.greysheet.org/meeting/gsa-12x12-telephone/2027-01-05
CATEGORIES:Telephone or Audio
ATTACH;FMTTYPE=image/svg+xml:https://meetings.greysheet.org/wp-content/uploads/2025/05/phone.svg
LOCATION:Phone Number: 712 832 8330, PIN: Contact Us
END:VEVENT
BEGIN:VEVENT
DTSTART;TZID=America/New_York:20270112T173000
DTEND;TZID=America/New_York:20270112T183000
DTSTAMP:20260424T025337
CREATED:20250503T164132Z
LAST-MODIFIED:20260216T151724Z
UID:10042821-1799775000-1799778600@meetings.greysheet.org
SUMMARY:GSA 12x12 Telephone
DESCRIPTION:We read from Twelve Steps and Twelve Traditions of GreySheeters Anonymous.
URL:https://meetings.greysheet.org/meeting/gsa-12x12-telephone/2027-01-12
CATEGORIES:Telephone or Audio
ATTACH;FMTTYPE=image/svg+xml:https://meetings.greysheet.org/wp-content/uploads/2025/05/phone.svg
LOCATION:Phone Number: 712 832 8330, PIN: Contact Us
END:VEVENT
BEGIN:VEVENT
DTSTART;TZID=America/New_York:20270119T173000
DTEND;TZID=America/New_York:20270119T183000
DTSTAMP:20260424T025337
CREATED:20250503T164132Z
LAST-MODIFIED:20260216T151724Z
UID:10042822-1800379800-1800383400@meetings.greysheet.org
SUMMARY:GSA 12x12 Telephone
DESCRIPTION:We read from Twelve Steps and Twelve Traditions of GreySheeters Anonymous.
URL:https://meetings.greysheet.org/meeting/gsa-12x12-telephone/2027-01-19
CATEGORIES:Telephone or Audio
ATTACH;FMTTYPE=image/svg+xml:https://meetings.greysheet.org/wp-content/uploads/2025/05/phone.svg
LOCATION:Phone Number: 712 832 8330, PIN: Contact Us
END:VEVENT
BEGIN:VEVENT
DTSTART;TZID=America/New_York:20270126T173000
DTEND;TZID=America/New_York:20270126T183000
DTSTAMP:20260424T025337
CREATED:20250503T164132Z
LAST-MODIFIED:20260216T151724Z
UID:10042823-1800984600-1800988200@meetings.greysheet.org
SUMMARY:GSA 12x12 Telephone
DESCRIPTION:We read from Twelve Steps and Twelve Traditions of GreySheeters Anonymous.
URL:https://meetings.greysheet.org/meeting/gsa-12x12-telephone/2027-01-26
CATEGORIES:Telephone or Audio
ATTACH;FMTTYPE=image/svg+xml:https://meetings.greysheet.org/wp-content/uploads/2025/05/phone.svg
LOCATION:Phone Number: 712 832 8330, PIN: Contact Us
END:VEVENT
BEGIN:VEVENT
DTSTART;TZID=America/New_York:20270202T173000
DTEND;TZID=America/New_York:20270202T183000
DTSTAMP:20260424T025337
CREATED:20250503T164132Z
LAST-MODIFIED:20260216T151724Z
UID:10042824-1801589400-1801593000@meetings.greysheet.org
SUMMARY:GSA 12x12 Telephone
DESCRIPTION:We read from Twelve Steps and Twelve Traditions of GreySheeters Anonymous.
URL:https://meetings.greysheet.org/meeting/gsa-12x12-telephone/2027-02-02
CATEGORIES:Telephone or Audio
ATTACH;FMTTYPE=image/svg+xml:https://meetings.greysheet.org/wp-content/uploads/2025/05/phone.svg
LOCATION:Phone Number: 712 832 8330, PIN: Contact Us
END:VEVENT
BEGIN:VEVENT
DTSTART;TZID=America/New_York:20270209T173000
DTEND;TZID=America/New_York:20270209T183000
DTSTAMP:20260424T025337
CREATED:20250503T164132Z
LAST-MODIFIED:20260216T151724Z
UID:10042825-1802194200-1802197800@meetings.greysheet.org
SUMMARY:GSA 12x12 Telephone
DESCRIPTION:We read from Twelve Steps and Twelve Traditions of GreySheeters Anonymous.
URL:https://meetings.greysheet.org/meeting/gsa-12x12-telephone/2027-02-09
CATEGORIES:Telephone or Audio
ATTACH;FMTTYPE=image/svg+xml:https://meetings.greysheet.org/wp-content/uploads/2025/05/phone.svg
LOCATION:Phone Number: 712 832 8330, PIN: Contact Us
END:VEVENT
BEGIN:VEVENT
DTSTART;TZID=America/New_York:20270216T173000
DTEND;TZID=America/New_York:20270216T183000
DTSTAMP:20260424T025337
CREATED:20250503T164132Z
LAST-MODIFIED:20260216T151724Z
UID:10042826-1802799000-1802802600@meetings.greysheet.org
SUMMARY:GSA 12x12 Telephone
DESCRIPTION:We read from Twelve Steps and Twelve Traditions of GreySheeters Anonymous.
URL:https://meetings.greysheet.org/meeting/gsa-12x12-telephone/2027-02-16
CATEGORIES:Telephone or Audio
ATTACH;FMTTYPE=image/svg+xml:https://meetings.greysheet.org/wp-content/uploads/2025/05/phone.svg
LOCATION:Phone Number: 712 832 8330, PIN: Contact Us
END:VEVENT
BEGIN:VEVENT
DTSTART;TZID=America/New_York:20270223T173000
DTEND;TZID=America/New_York:20270223T183000
DTSTAMP:20260424T025337
CREATED:20250503T164132Z
LAST-MODIFIED:20260216T151724Z
UID:10042827-1803403800-1803407400@meetings.greysheet.org
SUMMARY:GSA 12x12 Telephone
DESCRIPTION:We read from Twelve Steps and Twelve Traditions of GreySheeters Anonymous.
URL:https://meetings.greysheet.org/meeting/gsa-12x12-telephone/2027-02-23
CATEGORIES:Telephone or Audio
ATTACH;FMTTYPE=image/svg+xml:https://meetings.greysheet.org/wp-content/uploads/2025/05/phone.svg
LOCATION:Phone Number: 712 832 8330, PIN: Contact Us
END:VEVENT
BEGIN:VEVENT
DTSTART;TZID=America/New_York:20270302T173000
DTEND;TZID=America/New_York:20270302T183000
DTSTAMP:20260424T025337
CREATED:20250503T164132Z
LAST-MODIFIED:20260216T151724Z
UID:10042828-1804008600-1804012200@meetings.greysheet.org
SUMMARY:GSA 12x12 Telephone
DESCRIPTION:We read from Twelve Steps and Twelve Traditions of GreySheeters Anonymous.
URL:https://meetings.greysheet.org/meeting/gsa-12x12-telephone/2027-03-02
CATEGORIES:Telephone or Audio
ATTACH;FMTTYPE=image/svg+xml:https://meetings.greysheet.org/wp-content/uploads/2025/05/phone.svg
LOCATION:Phone Number: 712 832 8330, PIN: Contact Us
END:VEVENT
BEGIN:VEVENT
DTSTART;TZID=America/New_York:20270309T173000
DTEND;TZID=America/New_York:20270309T183000
DTSTAMP:20260424T025337
CREATED:20250503T164132Z
LAST-MODIFIED:20260216T151724Z
UID:10042829-1804613400-1804617000@meetings.greysheet.org
SUMMARY:GSA 12x12 Telephone
DESCRIPTION:We read from Twelve Steps and Twelve Traditions of GreySheeters Anonymous.
URL:https://meetings.greysheet.org/meeting/gsa-12x12-telephone/2027-03-09
CATEGORIES:Telephone or Audio
ATTACH;FMTTYPE=image/svg+xml:https://meetings.greysheet.org/wp-content/uploads/2025/05/phone.svg
LOCATION:Phone Number: 712 832 8330, PIN: Contact Us
END:VEVENT
BEGIN:VEVENT
DTSTART;TZID=America/New_York:20270316T173000
DTEND;TZID=America/New_York:20270316T183000
DTSTAMP:20260424T025338
CREATED:20250503T164132Z
LAST-MODIFIED:20260216T151724Z
UID:10042830-1805218200-1805221800@meetings.greysheet.org
SUMMARY:GSA 12x12 Telephone
DESCRIPTION:We read from Twelve Steps and Twelve Traditions of GreySheeters Anonymous.
URL:https://meetings.greysheet.org/meeting/gsa-12x12-telephone/2027-03-16
CATEGORIES:Telephone or Audio
ATTACH;FMTTYPE=image/svg+xml:https://meetings.greysheet.org/wp-content/uploads/2025/05/phone.svg
LOCATION:Phone Number: 712 832 8330, PIN: Contact Us
END:VEVENT
BEGIN:VEVENT
DTSTART;TZID=America/New_York:20270323T173000
DTEND;TZID=America/New_York:20270323T183000
DTSTAMP:20260424T025338
CREATED:20250503T164132Z
LAST-MODIFIED:20260216T151724Z
UID:10042831-1805823000-1805826600@meetings.greysheet.org
SUMMARY:GSA 12x12 Telephone
DESCRIPTION:We read from Twelve Steps and Twelve Traditions of GreySheeters Anonymous.
URL:https://meetings.greysheet.org/meeting/gsa-12x12-telephone/2027-03-23
CATEGORIES:Telephone or Audio
ATTACH;FMTTYPE=image/svg+xml:https://meetings.greysheet.org/wp-content/uploads/2025/05/phone.svg
LOCATION:Phone Number: 712 832 8330, PIN: Contact Us
END:VEVENT
BEGIN:VEVENT
DTSTART;TZID=America/New_York:20270330T173000
DTEND;TZID=America/New_York:20270330T183000
DTSTAMP:20260424T025338
CREATED:20250503T164132Z
LAST-MODIFIED:20260216T151724Z
UID:10042832-1806427800-1806431400@meetings.greysheet.org
SUMMARY:GSA 12x12 Telephone
DESCRIPTION:We read from Twelve Steps and Twelve Traditions of GreySheeters Anonymous.
URL:https://meetings.greysheet.org/meeting/gsa-12x12-telephone/2027-03-30
CATEGORIES:Telephone or Audio
ATTACH;FMTTYPE=image/svg+xml:https://meetings.greysheet.org/wp-content/uploads/2025/05/phone.svg
LOCATION:Phone Number: 712 832 8330, PIN: Contact Us
END:VEVENT
BEGIN:VEVENT
DTSTART;TZID=America/New_York:20270406T173000
DTEND;TZID=America/New_York:20270406T183000
DTSTAMP:20260424T025338
CREATED:20250503T164132Z
LAST-MODIFIED:20260216T151724Z
UID:10042833-1807032600-1807036200@meetings.greysheet.org
SUMMARY:GSA 12x12 Telephone
DESCRIPTION:We read from Twelve Steps and Twelve Traditions of GreySheeters Anonymous.
URL:https://meetings.greysheet.org/meeting/gsa-12x12-telephone/2027-04-06
CATEGORIES:Telephone or Audio
ATTACH;FMTTYPE=image/svg+xml:https://meetings.greysheet.org/wp-content/uploads/2025/05/phone.svg
LOCATION:Phone Number: 712 832 8330, PIN: Contact Us
END:VEVENT
BEGIN:VEVENT
DTSTART;TZID=America/New_York:20270413T173000
DTEND;TZID=America/New_York:20270413T183000
DTSTAMP:20260424T025338
CREATED:20250503T164132Z
LAST-MODIFIED:20260216T151724Z
UID:10042834-1807637400-1807641000@meetings.greysheet.org
SUMMARY:GSA 12x12 Telephone
DESCRIPTION:We read from Twelve Steps and Twelve Traditions of GreySheeters Anonymous.
URL:https://meetings.greysheet.org/meeting/gsa-12x12-telephone/2027-04-13
CATEGORIES:Telephone or Audio
ATTACH;FMTTYPE=image/svg+xml:https://meetings.greysheet.org/wp-content/uploads/2025/05/phone.svg
LOCATION:Phone Number: 712 832 8330, PIN: Contact Us
END:VEVENT
BEGIN:VEVENT
DTSTART;TZID=America/New_York:20270420T173000
DTEND;TZID=America/New_York:20270420T183000
DTSTAMP:20260424T025338
CREATED:20250503T164132Z
LAST-MODIFIED:20260216T151724Z
UID:10042835-1808242200-1808245800@meetings.greysheet.org
SUMMARY:GSA 12x12 Telephone
DESCRIPTION:We read from Twelve Steps and Twelve Traditions of GreySheeters Anonymous.
URL:https://meetings.greysheet.org/meeting/gsa-12x12-telephone/2027-04-20
CATEGORIES:Telephone or Audio
ATTACH;FMTTYPE=image/svg+xml:https://meetings.greysheet.org/wp-content/uploads/2025/05/phone.svg
LOCATION:Phone Number: 712 832 8330, PIN: Contact Us
END:VEVENT
BEGIN:VEVENT
DTSTART;TZID=America/New_York:20270427T173000
DTEND;TZID=America/New_York:20270427T183000
DTSTAMP:20260424T025338
CREATED:20250503T164132Z
LAST-MODIFIED:20260216T151724Z
UID:10042836-1808847000-1808850600@meetings.greysheet.org
SUMMARY:GSA 12x12 Telephone
DESCRIPTION:We read from Twelve Steps and Twelve Traditions of GreySheeters Anonymous.
URL:https://meetings.greysheet.org/meeting/gsa-12x12-telephone/2027-04-27
CATEGORIES:Telephone or Audio
ATTACH;FMTTYPE=image/svg+xml:https://meetings.greysheet.org/wp-content/uploads/2025/05/phone.svg
LOCATION:Phone Number: 712 832 8330, PIN: Contact Us
END:VEVENT
BEGIN:VEVENT
DTSTART;TZID=America/New_York:20270504T173000
DTEND;TZID=America/New_York:20270504T183000
DTSTAMP:20260424T025338
CREATED:20250503T164132Z
LAST-MODIFIED:20260216T151724Z
UID:10042837-1809451800-1809455400@meetings.greysheet.org
SUMMARY:GSA 12x12 Telephone
DESCRIPTION:We read from Twelve Steps and Twelve Traditions of GreySheeters Anonymous.
URL:https://meetings.greysheet.org/meeting/gsa-12x12-telephone/2027-05-04
CATEGORIES:Telephone or Audio
ATTACH;FMTTYPE=image/svg+xml:https://meetings.greysheet.org/wp-content/uploads/2025/05/phone.svg
LOCATION:Phone Number: 712 832 8330, PIN: Contact Us
END:VEVENT
BEGIN:VEVENT
DTSTART;TZID=America/New_York:20270511T173000
DTEND;TZID=America/New_York:20270511T183000
DTSTAMP:20260424T025338
CREATED:20250503T164132Z
LAST-MODIFIED:20260216T151724Z
UID:10042838-1810056600-1810060200@meetings.greysheet.org
SUMMARY:GSA 12x12 Telephone
DESCRIPTION:We read from Twelve Steps and Twelve Traditions of GreySheeters Anonymous.
URL:https://meetings.greysheet.org/meeting/gsa-12x12-telephone/2027-05-11
CATEGORIES:Telephone or Audio
ATTACH;FMTTYPE=image/svg+xml:https://meetings.greysheet.org/wp-content/uploads/2025/05/phone.svg
LOCATION:Phone Number: 712 832 8330, PIN: Contact Us
END:VEVENT
BEGIN:VEVENT
DTSTART;TZID=America/New_York:20270518T173000
DTEND;TZID=America/New_York:20270518T183000
DTSTAMP:20260424T025338
CREATED:20250503T164132Z
LAST-MODIFIED:20260216T151724Z
UID:10042839-1810661400-1810665000@meetings.greysheet.org
SUMMARY:GSA 12x12 Telephone
DESCRIPTION:We read from Twelve Steps and Twelve Traditions of GreySheeters Anonymous.
URL:https://meetings.greysheet.org/meeting/gsa-12x12-telephone/2027-05-18
CATEGORIES:Telephone or Audio
ATTACH;FMTTYPE=image/svg+xml:https://meetings.greysheet.org/wp-content/uploads/2025/05/phone.svg
LOCATION:Phone Number: 712 832 8330, PIN: Contact Us
END:VEVENT
BEGIN:VEVENT
DTSTART;TZID=America/New_York:20270525T173000
DTEND;TZID=America/New_York:20270525T183000
DTSTAMP:20260424T025338
CREATED:20250503T164132Z
LAST-MODIFIED:20260216T151724Z
UID:10042840-1811266200-1811269800@meetings.greysheet.org
SUMMARY:GSA 12x12 Telephone
DESCRIPTION:We read from Twelve Steps and Twelve Traditions of GreySheeters Anonymous.
URL:https://meetings.greysheet.org/meeting/gsa-12x12-telephone/2027-05-25
CATEGORIES:Telephone or Audio
ATTACH;FMTTYPE=image/svg+xml:https://meetings.greysheet.org/wp-content/uploads/2025/05/phone.svg
LOCATION:Phone Number: 712 832 8330, PIN: Contact Us
END:VEVENT
BEGIN:VEVENT
DTSTART;TZID=America/New_York:20270601T173000
DTEND;TZID=America/New_York:20270601T183000
DTSTAMP:20260424T025338
CREATED:20250503T164132Z
LAST-MODIFIED:20260216T151724Z
UID:10042841-1811871000-1811874600@meetings.greysheet.org
SUMMARY:GSA 12x12 Telephone
DESCRIPTION:We read from Twelve Steps and Twelve Traditions of GreySheeters Anonymous.
URL:https://meetings.greysheet.org/meeting/gsa-12x12-telephone/2027-06-01
CATEGORIES:Telephone or Audio
ATTACH;FMTTYPE=image/svg+xml:https://meetings.greysheet.org/wp-content/uploads/2025/05/phone.svg
LOCATION:Phone Number: 712 832 8330, PIN: Contact Us
END:VEVENT
BEGIN:VEVENT
DTSTART;TZID=America/New_York:20270608T173000
DTEND;TZID=America/New_York:20270608T183000
DTSTAMP:20260424T025338
CREATED:20250503T164132Z
LAST-MODIFIED:20260216T151724Z
UID:10042842-1812475800-1812479400@meetings.greysheet.org
SUMMARY:GSA 12x12 Telephone
DESCRIPTION:We read from Twelve Steps and Twelve Traditions of GreySheeters Anonymous.
URL:https://meetings.greysheet.org/meeting/gsa-12x12-telephone/2027-06-08
CATEGORIES:Telephone or Audio
ATTACH;FMTTYPE=image/svg+xml:https://meetings.greysheet.org/wp-content/uploads/2025/05/phone.svg
LOCATION:Phone Number: 712 832 8330, PIN: Contact Us
END:VEVENT
BEGIN:VEVENT
DTSTART;TZID=America/New_York:20270615T173000
DTEND;TZID=America/New_York:20270615T183000
DTSTAMP:20260424T025338
CREATED:20250503T164132Z
LAST-MODIFIED:20260216T151724Z
UID:10042843-1813080600-1813084200@meetings.greysheet.org
SUMMARY:GSA 12x12 Telephone
DESCRIPTION:We read from Twelve Steps and Twelve Traditions of GreySheeters Anonymous.
URL:https://meetings.greysheet.org/meeting/gsa-12x12-telephone/2027-06-15
CATEGORIES:Telephone or Audio
ATTACH;FMTTYPE=image/svg+xml:https://meetings.greysheet.org/wp-content/uploads/2025/05/phone.svg
LOCATION:Phone Number: 712 832 8330, PIN: Contact Us
END:VEVENT
BEGIN:VEVENT
DTSTART;TZID=America/New_York:20270622T173000
DTEND;TZID=America/New_York:20270622T183000
DTSTAMP:20260424T025338
CREATED:20250503T164132Z
LAST-MODIFIED:20260216T151724Z
UID:10042844-1813685400-1813689000@meetings.greysheet.org
SUMMARY:GSA 12x12 Telephone
DESCRIPTION:We read from Twelve Steps and Twelve Traditions of GreySheeters Anonymous.
URL:https://meetings.greysheet.org/meeting/gsa-12x12-telephone/2027-06-22
CATEGORIES:Telephone or Audio
ATTACH;FMTTYPE=image/svg+xml:https://meetings.greysheet.org/wp-content/uploads/2025/05/phone.svg
LOCATION:Phone Number: 712 832 8330, PIN: Contact Us
END:VEVENT
BEGIN:VEVENT
DTSTART;TZID=America/New_York:20270629T173000
DTEND;TZID=America/New_York:20270629T183000
DTSTAMP:20260424T025338
CREATED:20250503T164132Z
LAST-MODIFIED:20260216T151724Z
UID:10042845-1814290200-1814293800@meetings.greysheet.org
SUMMARY:GSA 12x12 Telephone
DESCRIPTION:We read from Twelve Steps and Twelve Traditions of GreySheeters Anonymous.
URL:https://meetings.greysheet.org/meeting/gsa-12x12-telephone/2027-06-29
CATEGORIES:Telephone or Audio
ATTACH;FMTTYPE=image/svg+xml:https://meetings.greysheet.org/wp-content/uploads/2025/05/phone.svg
LOCATION:Phone Number: 712 832 8330, PIN: Contact Us
END:VEVENT
BEGIN:VEVENT
DTSTART;TZID=America/New_York:20270706T173000
DTEND;TZID=America/New_York:20270706T183000
DTSTAMP:20260424T025338
CREATED:20250503T164132Z
LAST-MODIFIED:20260216T151724Z
UID:10042846-1814895000-1814898600@meetings.greysheet.org
SUMMARY:GSA 12x12 Telephone
DESCRIPTION:We read from Twelve Steps and Twelve Traditions of GreySheeters Anonymous.
URL:https://meetings.greysheet.org/meeting/gsa-12x12-telephone/2027-07-06
CATEGORIES:Telephone or Audio
ATTACH;FMTTYPE=image/svg+xml:https://meetings.greysheet.org/wp-content/uploads/2025/05/phone.svg
LOCATION:Phone Number: 712 832 8330, PIN: Contact Us
END:VEVENT
BEGIN:VEVENT
DTSTART;TZID=America/New_York:20270713T173000
DTEND;TZID=America/New_York:20270713T183000
DTSTAMP:20260424T025338
CREATED:20250503T164132Z
LAST-MODIFIED:20260216T151724Z
UID:10042847-1815499800-1815503400@meetings.greysheet.org
SUMMARY:GSA 12x12 Telephone
DESCRIPTION:We read from Twelve Steps and Twelve Traditions of GreySheeters Anonymous.
URL:https://meetings.greysheet.org/meeting/gsa-12x12-telephone/2027-07-13
CATEGORIES:Telephone or Audio
ATTACH;FMTTYPE=image/svg+xml:https://meetings.greysheet.org/wp-content/uploads/2025/05/phone.svg
LOCATION:Phone Number: 712 832 8330, PIN: Contact Us
END:VEVENT
BEGIN:VEVENT
DTSTART;TZID=America/New_York:20270720T173000
DTEND;TZID=America/New_York:20270720T183000
DTSTAMP:20260424T025338
CREATED:20250503T164132Z
LAST-MODIFIED:20260216T151724Z
UID:10042848-1816104600-1816108200@meetings.greysheet.org
SUMMARY:GSA 12x12 Telephone
DESCRIPTION:We read from Twelve Steps and Twelve Traditions of GreySheeters Anonymous.
URL:https://meetings.greysheet.org/meeting/gsa-12x12-telephone/2027-07-20
CATEGORIES:Telephone or Audio
ATTACH;FMTTYPE=image/svg+xml:https://meetings.greysheet.org/wp-content/uploads/2025/05/phone.svg
LOCATION:Phone Number: 712 832 8330, PIN: Contact Us
END:VEVENT
BEGIN:VEVENT
DTSTART;TZID=America/New_York:20270727T173000
DTEND;TZID=America/New_York:20270727T183000
DTSTAMP:20260424T025338
CREATED:20250503T164132Z
LAST-MODIFIED:20260216T151724Z
UID:10042849-1816709400-1816713000@meetings.greysheet.org
SUMMARY:GSA 12x12 Telephone
DESCRIPTION:We read from Twelve Steps and Twelve Traditions of GreySheeters Anonymous.
URL:https://meetings.greysheet.org/meeting/gsa-12x12-telephone/2027-07-27
CATEGORIES:Telephone or Audio
ATTACH;FMTTYPE=image/svg+xml:https://meetings.greysheet.org/wp-content/uploads/2025/05/phone.svg
LOCATION:Phone Number: 712 832 8330, PIN: Contact Us
END:VEVENT
END:VCALENDAR