BEGIN:VCALENDAR
VERSION:2.0
PRODID:-//GreySheeters Anonymous World Services - ECPv6.15.20//NONSGML v1.0//EN
CALSCALE:GREGORIAN
METHOD:PUBLISH
X-ORIGINAL-URL:https://meetings.greysheet.org
X-WR-CALDESC:Events for GreySheeters Anonymous World Services
REFRESH-INTERVAL;VALUE=DURATION:PT1H
X-Robots-Tag:noindex
X-PUBLISHED-TTL:PT1H
BEGIN:VTIMEZONE
TZID:America/New_York
BEGIN:DAYLIGHT
TZOFFSETFROM:-0500
TZOFFSETTO:-0400
TZNAME:EDT
DTSTART:20250309T070000
END:DAYLIGHT
BEGIN:STANDARD
TZOFFSETFROM:-0400
TZOFFSETTO:-0500
TZNAME:EST
DTSTART:20251102T060000
END:STANDARD
BEGIN:DAYLIGHT
TZOFFSETFROM:-0500
TZOFFSETTO:-0400
TZNAME:EDT
DTSTART:20260308T070000
END:DAYLIGHT
BEGIN:STANDARD
TZOFFSETFROM:-0400
TZOFFSETTO:-0500
TZNAME:EST
DTSTART:20261101T060000
END:STANDARD
BEGIN:DAYLIGHT
TZOFFSETFROM:-0500
TZOFFSETTO:-0400
TZNAME:EDT
DTSTART:20270314T070000
END:DAYLIGHT
BEGIN:STANDARD
TZOFFSETFROM:-0400
TZOFFSETTO:-0500
TZNAME:EST
DTSTART:20271107T060000
END:STANDARD
BEGIN:DAYLIGHT
TZOFFSETFROM:-0500
TZOFFSETTO:-0400
TZNAME:EDT
DTSTART:20280312T070000
END:DAYLIGHT
BEGIN:STANDARD
TZOFFSETFROM:-0400
TZOFFSETTO:-0500
TZNAME:EST
DTSTART:20281105T060000
END:STANDARD
END:VTIMEZONE
BEGIN:VEVENT
DTSTART;TZID=America/New_York:20260714T173000
DTEND;TZID=America/New_York:20260714T183000
DTSTAMP:20260421T131031
CREATED:20250503T164132Z
LAST-MODIFIED:20260216T151724Z
UID:10042795-1784050200-1784053800@meetings.greysheet.org
SUMMARY:GSA 12x12 Telephone
DESCRIPTION:We read from Twelve Steps and Twelve Traditions of GreySheeters Anonymous.
URL:https://meetings.greysheet.org/meeting/gsa-12x12-telephone/2026-07-14
CATEGORIES:Telephone or Audio
ATTACH;FMTTYPE=image/svg+xml:https://meetings.greysheet.org/wp-content/uploads/2025/05/phone.svg
LOCATION:Phone Number: 712 832 8330, PIN: Contact Us
END:VEVENT
BEGIN:VEVENT
DTSTART;TZID=America/New_York:20260721T173000
DTEND;TZID=America/New_York:20260721T183000
DTSTAMP:20260421T131031
CREATED:20250503T164132Z
LAST-MODIFIED:20260216T151724Z
UID:10042796-1784655000-1784658600@meetings.greysheet.org
SUMMARY:GSA 12x12 Telephone
DESCRIPTION:We read from Twelve Steps and Twelve Traditions of GreySheeters Anonymous.
URL:https://meetings.greysheet.org/meeting/gsa-12x12-telephone/2026-07-21
CATEGORIES:Telephone or Audio
ATTACH;FMTTYPE=image/svg+xml:https://meetings.greysheet.org/wp-content/uploads/2025/05/phone.svg
LOCATION:Phone Number: 712 832 8330, PIN: Contact Us
END:VEVENT
BEGIN:VEVENT
DTSTART;TZID=America/New_York:20260728T173000
DTEND;TZID=America/New_York:20260728T183000
DTSTAMP:20260421T131031
CREATED:20250503T164132Z
LAST-MODIFIED:20260216T151724Z
UID:10042797-1785259800-1785263400@meetings.greysheet.org
SUMMARY:GSA 12x12 Telephone
DESCRIPTION:We read from Twelve Steps and Twelve Traditions of GreySheeters Anonymous.
URL:https://meetings.greysheet.org/meeting/gsa-12x12-telephone/2026-07-28
CATEGORIES:Telephone or Audio
ATTACH;FMTTYPE=image/svg+xml:https://meetings.greysheet.org/wp-content/uploads/2025/05/phone.svg
LOCATION:Phone Number: 712 832 8330, PIN: Contact Us
END:VEVENT
BEGIN:VEVENT
DTSTART;TZID=America/New_York:20260804T173000
DTEND;TZID=America/New_York:20260804T183000
DTSTAMP:20260421T131031
CREATED:20250503T164132Z
LAST-MODIFIED:20260216T151724Z
UID:10042798-1785864600-1785868200@meetings.greysheet.org
SUMMARY:GSA 12x12 Telephone
DESCRIPTION:We read from Twelve Steps and Twelve Traditions of GreySheeters Anonymous.
URL:https://meetings.greysheet.org/meeting/gsa-12x12-telephone/2026-08-04
CATEGORIES:Telephone or Audio
ATTACH;FMTTYPE=image/svg+xml:https://meetings.greysheet.org/wp-content/uploads/2025/05/phone.svg
LOCATION:Phone Number: 712 832 8330, PIN: Contact Us
END:VEVENT
BEGIN:VEVENT
DTSTART;TZID=America/New_York:20260811T173000
DTEND;TZID=America/New_York:20260811T183000
DTSTAMP:20260421T131031
CREATED:20250503T164132Z
LAST-MODIFIED:20260216T151724Z
UID:10042799-1786469400-1786473000@meetings.greysheet.org
SUMMARY:GSA 12x12 Telephone
DESCRIPTION:We read from Twelve Steps and Twelve Traditions of GreySheeters Anonymous.
URL:https://meetings.greysheet.org/meeting/gsa-12x12-telephone/2026-08-11
CATEGORIES:Telephone or Audio
ATTACH;FMTTYPE=image/svg+xml:https://meetings.greysheet.org/wp-content/uploads/2025/05/phone.svg
LOCATION:Phone Number: 712 832 8330, PIN: Contact Us
END:VEVENT
BEGIN:VEVENT
DTSTART;TZID=America/New_York:20260818T173000
DTEND;TZID=America/New_York:20260818T183000
DTSTAMP:20260421T131031
CREATED:20250503T164132Z
LAST-MODIFIED:20260216T151724Z
UID:10042800-1787074200-1787077800@meetings.greysheet.org
SUMMARY:GSA 12x12 Telephone
DESCRIPTION:We read from Twelve Steps and Twelve Traditions of GreySheeters Anonymous.
URL:https://meetings.greysheet.org/meeting/gsa-12x12-telephone/2026-08-18
CATEGORIES:Telephone or Audio
ATTACH;FMTTYPE=image/svg+xml:https://meetings.greysheet.org/wp-content/uploads/2025/05/phone.svg
LOCATION:Phone Number: 712 832 8330, PIN: Contact Us
END:VEVENT
BEGIN:VEVENT
DTSTART;TZID=America/New_York:20260825T173000
DTEND;TZID=America/New_York:20260825T183000
DTSTAMP:20260421T131031
CREATED:20250503T164132Z
LAST-MODIFIED:20260216T151724Z
UID:10042801-1787679000-1787682600@meetings.greysheet.org
SUMMARY:GSA 12x12 Telephone
DESCRIPTION:We read from Twelve Steps and Twelve Traditions of GreySheeters Anonymous.
URL:https://meetings.greysheet.org/meeting/gsa-12x12-telephone/2026-08-25
CATEGORIES:Telephone or Audio
ATTACH;FMTTYPE=image/svg+xml:https://meetings.greysheet.org/wp-content/uploads/2025/05/phone.svg
LOCATION:Phone Number: 712 832 8330, PIN: Contact Us
END:VEVENT
BEGIN:VEVENT
DTSTART;TZID=America/New_York:20260901T173000
DTEND;TZID=America/New_York:20260901T183000
DTSTAMP:20260421T131031
CREATED:20250503T164132Z
LAST-MODIFIED:20260216T151724Z
UID:10042802-1788283800-1788287400@meetings.greysheet.org
SUMMARY:GSA 12x12 Telephone
DESCRIPTION:We read from Twelve Steps and Twelve Traditions of GreySheeters Anonymous.
URL:https://meetings.greysheet.org/meeting/gsa-12x12-telephone/2026-09-01
CATEGORIES:Telephone or Audio
ATTACH;FMTTYPE=image/svg+xml:https://meetings.greysheet.org/wp-content/uploads/2025/05/phone.svg
LOCATION:Phone Number: 712 832 8330, PIN: Contact Us
END:VEVENT
BEGIN:VEVENT
DTSTART;TZID=America/New_York:20260908T173000
DTEND;TZID=America/New_York:20260908T183000
DTSTAMP:20260421T131031
CREATED:20250503T164132Z
LAST-MODIFIED:20260216T151724Z
UID:10042803-1788888600-1788892200@meetings.greysheet.org
SUMMARY:GSA 12x12 Telephone
DESCRIPTION:We read from Twelve Steps and Twelve Traditions of GreySheeters Anonymous.
URL:https://meetings.greysheet.org/meeting/gsa-12x12-telephone/2026-09-08
CATEGORIES:Telephone or Audio
ATTACH;FMTTYPE=image/svg+xml:https://meetings.greysheet.org/wp-content/uploads/2025/05/phone.svg
LOCATION:Phone Number: 712 832 8330, PIN: Contact Us
END:VEVENT
BEGIN:VEVENT
DTSTART;TZID=America/New_York:20260915T173000
DTEND;TZID=America/New_York:20260915T183000
DTSTAMP:20260421T131031
CREATED:20250503T164132Z
LAST-MODIFIED:20260216T151724Z
UID:10042804-1789493400-1789497000@meetings.greysheet.org
SUMMARY:GSA 12x12 Telephone
DESCRIPTION:We read from Twelve Steps and Twelve Traditions of GreySheeters Anonymous.
URL:https://meetings.greysheet.org/meeting/gsa-12x12-telephone/2026-09-15
CATEGORIES:Telephone or Audio
ATTACH;FMTTYPE=image/svg+xml:https://meetings.greysheet.org/wp-content/uploads/2025/05/phone.svg
LOCATION:Phone Number: 712 832 8330, PIN: Contact Us
END:VEVENT
BEGIN:VEVENT
DTSTART;TZID=America/New_York:20260922T173000
DTEND;TZID=America/New_York:20260922T183000
DTSTAMP:20260421T131031
CREATED:20250503T164132Z
LAST-MODIFIED:20260216T151724Z
UID:10042805-1790098200-1790101800@meetings.greysheet.org
SUMMARY:GSA 12x12 Telephone
DESCRIPTION:We read from Twelve Steps and Twelve Traditions of GreySheeters Anonymous.
URL:https://meetings.greysheet.org/meeting/gsa-12x12-telephone/2026-09-22
CATEGORIES:Telephone or Audio
ATTACH;FMTTYPE=image/svg+xml:https://meetings.greysheet.org/wp-content/uploads/2025/05/phone.svg
LOCATION:Phone Number: 712 832 8330, PIN: Contact Us
END:VEVENT
BEGIN:VEVENT
DTSTART;TZID=America/New_York:20260929T173000
DTEND;TZID=America/New_York:20260929T183000
DTSTAMP:20260421T131031
CREATED:20250503T164132Z
LAST-MODIFIED:20260216T151724Z
UID:10042806-1790703000-1790706600@meetings.greysheet.org
SUMMARY:GSA 12x12 Telephone
DESCRIPTION:We read from Twelve Steps and Twelve Traditions of GreySheeters Anonymous.
URL:https://meetings.greysheet.org/meeting/gsa-12x12-telephone/2026-09-29
CATEGORIES:Telephone or Audio
ATTACH;FMTTYPE=image/svg+xml:https://meetings.greysheet.org/wp-content/uploads/2025/05/phone.svg
LOCATION:Phone Number: 712 832 8330, PIN: Contact Us
END:VEVENT
BEGIN:VEVENT
DTSTART;TZID=America/New_York:20261006T173000
DTEND;TZID=America/New_York:20261006T183000
DTSTAMP:20260421T131031
CREATED:20250503T164132Z
LAST-MODIFIED:20260216T151724Z
UID:10042807-1791307800-1791311400@meetings.greysheet.org
SUMMARY:GSA 12x12 Telephone
DESCRIPTION:We read from Twelve Steps and Twelve Traditions of GreySheeters Anonymous.
URL:https://meetings.greysheet.org/meeting/gsa-12x12-telephone/2026-10-06
CATEGORIES:Telephone or Audio
ATTACH;FMTTYPE=image/svg+xml:https://meetings.greysheet.org/wp-content/uploads/2025/05/phone.svg
LOCATION:Phone Number: 712 832 8330, PIN: Contact Us
END:VEVENT
BEGIN:VEVENT
DTSTART;TZID=America/New_York:20261013T173000
DTEND;TZID=America/New_York:20261013T183000
DTSTAMP:20260421T131031
CREATED:20250503T164132Z
LAST-MODIFIED:20260216T151724Z
UID:10042808-1791912600-1791916200@meetings.greysheet.org
SUMMARY:GSA 12x12 Telephone
DESCRIPTION:We read from Twelve Steps and Twelve Traditions of GreySheeters Anonymous.
URL:https://meetings.greysheet.org/meeting/gsa-12x12-telephone/2026-10-13
CATEGORIES:Telephone or Audio
ATTACH;FMTTYPE=image/svg+xml:https://meetings.greysheet.org/wp-content/uploads/2025/05/phone.svg
LOCATION:Phone Number: 712 832 8330, PIN: Contact Us
END:VEVENT
BEGIN:VEVENT
DTSTART;TZID=America/New_York:20261020T173000
DTEND;TZID=America/New_York:20261020T183000
DTSTAMP:20260421T131031
CREATED:20250503T164132Z
LAST-MODIFIED:20260216T151724Z
UID:10042809-1792517400-1792521000@meetings.greysheet.org
SUMMARY:GSA 12x12 Telephone
DESCRIPTION:We read from Twelve Steps and Twelve Traditions of GreySheeters Anonymous.
URL:https://meetings.greysheet.org/meeting/gsa-12x12-telephone/2026-10-20
CATEGORIES:Telephone or Audio
ATTACH;FMTTYPE=image/svg+xml:https://meetings.greysheet.org/wp-content/uploads/2025/05/phone.svg
LOCATION:Phone Number: 712 832 8330, PIN: Contact Us
END:VEVENT
BEGIN:VEVENT
DTSTART;TZID=America/New_York:20261027T173000
DTEND;TZID=America/New_York:20261027T183000
DTSTAMP:20260421T131031
CREATED:20250503T164132Z
LAST-MODIFIED:20260216T151724Z
UID:10042810-1793122200-1793125800@meetings.greysheet.org
SUMMARY:GSA 12x12 Telephone
DESCRIPTION:We read from Twelve Steps and Twelve Traditions of GreySheeters Anonymous.
URL:https://meetings.greysheet.org/meeting/gsa-12x12-telephone/2026-10-27
CATEGORIES:Telephone or Audio
ATTACH;FMTTYPE=image/svg+xml:https://meetings.greysheet.org/wp-content/uploads/2025/05/phone.svg
LOCATION:Phone Number: 712 832 8330, PIN: Contact Us
END:VEVENT
BEGIN:VEVENT
DTSTART;TZID=America/New_York:20261103T173000
DTEND;TZID=America/New_York:20261103T183000
DTSTAMP:20260421T131031
CREATED:20250503T164132Z
LAST-MODIFIED:20260216T151724Z
UID:10042811-1793727000-1793730600@meetings.greysheet.org
SUMMARY:GSA 12x12 Telephone
DESCRIPTION:We read from Twelve Steps and Twelve Traditions of GreySheeters Anonymous.
URL:https://meetings.greysheet.org/meeting/gsa-12x12-telephone/2026-11-03
CATEGORIES:Telephone or Audio
ATTACH;FMTTYPE=image/svg+xml:https://meetings.greysheet.org/wp-content/uploads/2025/05/phone.svg
LOCATION:Phone Number: 712 832 8330, PIN: Contact Us
END:VEVENT
BEGIN:VEVENT
DTSTART;TZID=America/New_York:20261110T173000
DTEND;TZID=America/New_York:20261110T183000
DTSTAMP:20260421T131031
CREATED:20250503T164132Z
LAST-MODIFIED:20260216T151724Z
UID:10042812-1794331800-1794335400@meetings.greysheet.org
SUMMARY:GSA 12x12 Telephone
DESCRIPTION:We read from Twelve Steps and Twelve Traditions of GreySheeters Anonymous.
URL:https://meetings.greysheet.org/meeting/gsa-12x12-telephone/2026-11-10
CATEGORIES:Telephone or Audio
ATTACH;FMTTYPE=image/svg+xml:https://meetings.greysheet.org/wp-content/uploads/2025/05/phone.svg
LOCATION:Phone Number: 712 832 8330, PIN: Contact Us
END:VEVENT
BEGIN:VEVENT
DTSTART;TZID=America/New_York:20261117T173000
DTEND;TZID=America/New_York:20261117T183000
DTSTAMP:20260421T131031
CREATED:20250503T164132Z
LAST-MODIFIED:20260216T151724Z
UID:10042813-1794936600-1794940200@meetings.greysheet.org
SUMMARY:GSA 12x12 Telephone
DESCRIPTION:We read from Twelve Steps and Twelve Traditions of GreySheeters Anonymous.
URL:https://meetings.greysheet.org/meeting/gsa-12x12-telephone/2026-11-17
CATEGORIES:Telephone or Audio
ATTACH;FMTTYPE=image/svg+xml:https://meetings.greysheet.org/wp-content/uploads/2025/05/phone.svg
LOCATION:Phone Number: 712 832 8330, PIN: Contact Us
END:VEVENT
BEGIN:VEVENT
DTSTART;TZID=America/New_York:20261124T173000
DTEND;TZID=America/New_York:20261124T183000
DTSTAMP:20260421T131031
CREATED:20250503T164132Z
LAST-MODIFIED:20260216T151724Z
UID:10042814-1795541400-1795545000@meetings.greysheet.org
SUMMARY:GSA 12x12 Telephone
DESCRIPTION:We read from Twelve Steps and Twelve Traditions of GreySheeters Anonymous.
URL:https://meetings.greysheet.org/meeting/gsa-12x12-telephone/2026-11-24
CATEGORIES:Telephone or Audio
ATTACH;FMTTYPE=image/svg+xml:https://meetings.greysheet.org/wp-content/uploads/2025/05/phone.svg
LOCATION:Phone Number: 712 832 8330, PIN: Contact Us
END:VEVENT
BEGIN:VEVENT
DTSTART;TZID=America/New_York:20261201T173000
DTEND;TZID=America/New_York:20261201T183000
DTSTAMP:20260421T131031
CREATED:20250503T164132Z
LAST-MODIFIED:20260216T151724Z
UID:10042815-1796146200-1796149800@meetings.greysheet.org
SUMMARY:GSA 12x12 Telephone
DESCRIPTION:We read from Twelve Steps and Twelve Traditions of GreySheeters Anonymous.
URL:https://meetings.greysheet.org/meeting/gsa-12x12-telephone/2026-12-01
CATEGORIES:Telephone or Audio
ATTACH;FMTTYPE=image/svg+xml:https://meetings.greysheet.org/wp-content/uploads/2025/05/phone.svg
LOCATION:Phone Number: 712 832 8330, PIN: Contact Us
END:VEVENT
BEGIN:VEVENT
DTSTART;TZID=America/New_York:20261208T173000
DTEND;TZID=America/New_York:20261208T183000
DTSTAMP:20260421T131031
CREATED:20250503T164132Z
LAST-MODIFIED:20260216T151724Z
UID:10042816-1796751000-1796754600@meetings.greysheet.org
SUMMARY:GSA 12x12 Telephone
DESCRIPTION:We read from Twelve Steps and Twelve Traditions of GreySheeters Anonymous.
URL:https://meetings.greysheet.org/meeting/gsa-12x12-telephone/2026-12-08
CATEGORIES:Telephone or Audio
ATTACH;FMTTYPE=image/svg+xml:https://meetings.greysheet.org/wp-content/uploads/2025/05/phone.svg
LOCATION:Phone Number: 712 832 8330, PIN: Contact Us
END:VEVENT
BEGIN:VEVENT
DTSTART;TZID=America/New_York:20261215T173000
DTEND;TZID=America/New_York:20261215T183000
DTSTAMP:20260421T131031
CREATED:20250503T164132Z
LAST-MODIFIED:20260216T151724Z
UID:10042817-1797355800-1797359400@meetings.greysheet.org
SUMMARY:GSA 12x12 Telephone
DESCRIPTION:We read from Twelve Steps and Twelve Traditions of GreySheeters Anonymous.
URL:https://meetings.greysheet.org/meeting/gsa-12x12-telephone/2026-12-15
CATEGORIES:Telephone or Audio
ATTACH;FMTTYPE=image/svg+xml:https://meetings.greysheet.org/wp-content/uploads/2025/05/phone.svg
LOCATION:Phone Number: 712 832 8330, PIN: Contact Us
END:VEVENT
BEGIN:VEVENT
DTSTART;TZID=America/New_York:20261222T173000
DTEND;TZID=America/New_York:20261222T183000
DTSTAMP:20260421T131031
CREATED:20250503T164132Z
LAST-MODIFIED:20260216T151724Z
UID:10042818-1797960600-1797964200@meetings.greysheet.org
SUMMARY:GSA 12x12 Telephone
DESCRIPTION:We read from Twelve Steps and Twelve Traditions of GreySheeters Anonymous.
URL:https://meetings.greysheet.org/meeting/gsa-12x12-telephone/2026-12-22
CATEGORIES:Telephone or Audio
ATTACH;FMTTYPE=image/svg+xml:https://meetings.greysheet.org/wp-content/uploads/2025/05/phone.svg
LOCATION:Phone Number: 712 832 8330, PIN: Contact Us
END:VEVENT
BEGIN:VEVENT
DTSTART;TZID=America/New_York:20261229T173000
DTEND;TZID=America/New_York:20261229T183000
DTSTAMP:20260421T131031
CREATED:20250503T164132Z
LAST-MODIFIED:20260216T151724Z
UID:10042819-1798565400-1798569000@meetings.greysheet.org
SUMMARY:GSA 12x12 Telephone
DESCRIPTION:We read from Twelve Steps and Twelve Traditions of GreySheeters Anonymous.
URL:https://meetings.greysheet.org/meeting/gsa-12x12-telephone/2026-12-29
CATEGORIES:Telephone or Audio
ATTACH;FMTTYPE=image/svg+xml:https://meetings.greysheet.org/wp-content/uploads/2025/05/phone.svg
LOCATION:Phone Number: 712 832 8330, PIN: Contact Us
END:VEVENT
BEGIN:VEVENT
DTSTART;TZID=America/New_York:20270105T173000
DTEND;TZID=America/New_York:20270105T183000
DTSTAMP:20260421T131031
CREATED:20250503T164132Z
LAST-MODIFIED:20260216T151724Z
UID:10042820-1799170200-1799173800@meetings.greysheet.org
SUMMARY:GSA 12x12 Telephone
DESCRIPTION:We read from Twelve Steps and Twelve Traditions of GreySheeters Anonymous.
URL:https://meetings.greysheet.org/meeting/gsa-12x12-telephone/2027-01-05
CATEGORIES:Telephone or Audio
ATTACH;FMTTYPE=image/svg+xml:https://meetings.greysheet.org/wp-content/uploads/2025/05/phone.svg
LOCATION:Phone Number: 712 832 8330, PIN: Contact Us
END:VEVENT
BEGIN:VEVENT
DTSTART;TZID=America/New_York:20270112T173000
DTEND;TZID=America/New_York:20270112T183000
DTSTAMP:20260421T131031
CREATED:20250503T164132Z
LAST-MODIFIED:20260216T151724Z
UID:10042821-1799775000-1799778600@meetings.greysheet.org
SUMMARY:GSA 12x12 Telephone
DESCRIPTION:We read from Twelve Steps and Twelve Traditions of GreySheeters Anonymous.
URL:https://meetings.greysheet.org/meeting/gsa-12x12-telephone/2027-01-12
CATEGORIES:Telephone or Audio
ATTACH;FMTTYPE=image/svg+xml:https://meetings.greysheet.org/wp-content/uploads/2025/05/phone.svg
LOCATION:Phone Number: 712 832 8330, PIN: Contact Us
END:VEVENT
BEGIN:VEVENT
DTSTART;TZID=America/New_York:20270119T173000
DTEND;TZID=America/New_York:20270119T183000
DTSTAMP:20260421T131031
CREATED:20250503T164132Z
LAST-MODIFIED:20260216T151724Z
UID:10042822-1800379800-1800383400@meetings.greysheet.org
SUMMARY:GSA 12x12 Telephone
DESCRIPTION:We read from Twelve Steps and Twelve Traditions of GreySheeters Anonymous.
URL:https://meetings.greysheet.org/meeting/gsa-12x12-telephone/2027-01-19
CATEGORIES:Telephone or Audio
ATTACH;FMTTYPE=image/svg+xml:https://meetings.greysheet.org/wp-content/uploads/2025/05/phone.svg
LOCATION:Phone Number: 712 832 8330, PIN: Contact Us
END:VEVENT
BEGIN:VEVENT
DTSTART;TZID=America/New_York:20270126T173000
DTEND;TZID=America/New_York:20270126T183000
DTSTAMP:20260421T131031
CREATED:20250503T164132Z
LAST-MODIFIED:20260216T151724Z
UID:10042823-1800984600-1800988200@meetings.greysheet.org
SUMMARY:GSA 12x12 Telephone
DESCRIPTION:We read from Twelve Steps and Twelve Traditions of GreySheeters Anonymous.
URL:https://meetings.greysheet.org/meeting/gsa-12x12-telephone/2027-01-26
CATEGORIES:Telephone or Audio
ATTACH;FMTTYPE=image/svg+xml:https://meetings.greysheet.org/wp-content/uploads/2025/05/phone.svg
LOCATION:Phone Number: 712 832 8330, PIN: Contact Us
END:VEVENT
BEGIN:VEVENT
DTSTART;TZID=America/New_York:20270202T173000
DTEND;TZID=America/New_York:20270202T183000
DTSTAMP:20260421T131031
CREATED:20250503T164132Z
LAST-MODIFIED:20260216T151724Z
UID:10042824-1801589400-1801593000@meetings.greysheet.org
SUMMARY:GSA 12x12 Telephone
DESCRIPTION:We read from Twelve Steps and Twelve Traditions of GreySheeters Anonymous.
URL:https://meetings.greysheet.org/meeting/gsa-12x12-telephone/2027-02-02
CATEGORIES:Telephone or Audio
ATTACH;FMTTYPE=image/svg+xml:https://meetings.greysheet.org/wp-content/uploads/2025/05/phone.svg
LOCATION:Phone Number: 712 832 8330, PIN: Contact Us
END:VEVENT
END:VCALENDAR