BEGIN:VCALENDAR
VERSION:2.0
PRODID:-//GreySheeters Anonymous World Services - ECPv6.15.20//NONSGML v1.0//EN
CALSCALE:GREGORIAN
METHOD:PUBLISH
X-ORIGINAL-URL:https://meetings.greysheet.org
X-WR-CALDESC:Events for GreySheeters Anonymous World Services
REFRESH-INTERVAL;VALUE=DURATION:PT1H
X-Robots-Tag:noindex
X-PUBLISHED-TTL:PT1H
BEGIN:VTIMEZONE
TZID:America/Santo_Domingo
BEGIN:STANDARD
TZOFFSETFROM:-0400
TZOFFSETTO:-0400
TZNAME:AST
DTSTART:20250101T000000
END:STANDARD
END:VTIMEZONE
BEGIN:VEVENT
DTSTART;TZID=America/Santo_Domingo:20260422T190000
DTEND;TZID=America/Santo_Domingo:20260422T200000
DTSTAMP:20260422T160338
CREATED:20250504T220104Z
LAST-MODIFIED:20260215T202113Z
UID:10036822-1776884400-1776888000@meetings.greysheet.org
SUMMARY:El Cafecito Wed PM
DESCRIPTION:
URL:https://meetings.greysheet.org/meeting/el-cafecito-wed-pm/2026-04-22
CATEGORIES:Zoom
ATTACH;FMTTYPE=image/svg+xml:https://meetings.greysheet.org/wp-content/uploads/2025/05/desktop.svg
LOCATION:Zoom ID: 5613437089, Passcode: Universal, Camera: Optional
END:VEVENT
BEGIN:VEVENT
DTSTART;TZID=America/Santo_Domingo:20260423T070000
DTEND;TZID=America/Santo_Domingo:20260423T080000
DTSTAMP:20260422T160338
CREATED:20250504T220104Z
LAST-MODIFIED:20260215T202123Z
UID:10036167-1776927600-1776931200@meetings.greysheet.org
SUMMARY:El Cafecito Thu AM
DESCRIPTION:
URL:https://meetings.greysheet.org/meeting/el-cafecito-thu-am/2026-04-23
CATEGORIES:Zoom
ATTACH;FMTTYPE=image/svg+xml:https://meetings.greysheet.org/wp-content/uploads/2025/05/desktop.svg
LOCATION:Zoom ID: 5613437089, Passcode: Universal, Camera: Optional
END:VEVENT
BEGIN:VEVENT
DTSTART;TZID=America/Santo_Domingo:20260423T190000
DTEND;TZID=America/Santo_Domingo:20260423T200000
DTSTAMP:20260422T160338
CREATED:20250504T220104Z
LAST-MODIFIED:20260215T202123Z
UID:10035512-1776970800-1776974400@meetings.greysheet.org
SUMMARY:El Cafecito Thu PM
DESCRIPTION:
URL:https://meetings.greysheet.org/meeting/el-cafecito-thu-pm/2026-04-23
CATEGORIES:Zoom
ATTACH;FMTTYPE=image/svg+xml:https://meetings.greysheet.org/wp-content/uploads/2025/05/desktop.svg
LOCATION:Zoom ID: 5613437089, Passcode: Universal, Camera: Optional
END:VEVENT
BEGIN:VEVENT
DTSTART;TZID=America/Santo_Domingo:20260424T070000
DTEND;TZID=America/Santo_Domingo:20260424T080000
DTSTAMP:20260422T160338
CREATED:20250504T220104Z
LAST-MODIFIED:20260215T202123Z
UID:10034857-1777014000-1777017600@meetings.greysheet.org
SUMMARY:El Cafecito Fri AM
DESCRIPTION:
URL:https://meetings.greysheet.org/meeting/el-cafecito-fri-am/2026-04-24
CATEGORIES:Zoom
ATTACH;FMTTYPE=image/svg+xml:https://meetings.greysheet.org/wp-content/uploads/2025/05/desktop.svg
LOCATION:Zoom ID: 5613437089, Passcode: Universal, Camera: Optional
END:VEVENT
BEGIN:VEVENT
DTSTART;TZID=America/Santo_Domingo:20260424T190000
DTEND;TZID=America/Santo_Domingo:20260424T200000
DTSTAMP:20260422T160338
CREATED:20250504T220104Z
LAST-MODIFIED:20260215T202123Z
UID:10033940-1777057200-1777060800@meetings.greysheet.org
SUMMARY:El Cafecito Fri PM
DESCRIPTION:
URL:https://meetings.greysheet.org/meeting/el-cafecito-fri-pm/2026-04-24
CATEGORIES:Zoom
ATTACH;FMTTYPE=image/svg+xml:https://meetings.greysheet.org/wp-content/uploads/2025/05/desktop.svg
LOCATION:Zoom ID: 5613437089, Passcode: Universal, Camera: Optional
END:VEVENT
BEGIN:VEVENT
DTSTART;TZID=America/Santo_Domingo:20260425T070000
DTEND;TZID=America/Santo_Domingo:20260425T080000
DTSTAMP:20260422T160338
CREATED:20250504T220104Z
LAST-MODIFIED:20260215T202123Z
UID:10044808-1777100400-1777104000@meetings.greysheet.org
SUMMARY:El Cafecito Sat AM
DESCRIPTION:
URL:https://meetings.greysheet.org/meeting/el-cafecito-sat-am/2026-04-25
CATEGORIES:Zoom
ATTACH;FMTTYPE=image/svg+xml:https://meetings.greysheet.org/wp-content/uploads/2025/05/desktop.svg
LOCATION:Zoom ID: 5613437089, Passcode: Universal, Camera: Optional
END:VEVENT
BEGIN:VEVENT
DTSTART;TZID=America/Santo_Domingo:20260425T190000
DTEND;TZID=America/Santo_Domingo:20260425T200000
DTSTAMP:20260422T160338
CREATED:20250504T220104Z
LAST-MODIFIED:20260215T202123Z
UID:10032892-1777143600-1777147200@meetings.greysheet.org
SUMMARY:El Cafecito Sat PM
DESCRIPTION:
URL:https://meetings.greysheet.org/meeting/el-cafecito-sat-pm/2026-04-25
CATEGORIES:Zoom
ATTACH;FMTTYPE=image/svg+xml:https://meetings.greysheet.org/wp-content/uploads/2025/05/desktop.svg
LOCATION:Zoom ID: 5613437089, Passcode: Universal, Camera: Optional
END:VEVENT
BEGIN:VEVENT
DTSTART;TZID=America/Santo_Domingo:20260426T070000
DTEND;TZID=America/Santo_Domingo:20260426T080000
DTSTAMP:20260422T160338
CREATED:20250504T220104Z
LAST-MODIFIED:20260215T202123Z
UID:10032731-1777186800-1777190400@meetings.greysheet.org
SUMMARY:El Cafecito Sun AM
DESCRIPTION:
URL:https://meetings.greysheet.org/meeting/el-cafecito-sun-am/2026-04-26
CATEGORIES:Zoom
ATTACH;FMTTYPE=image/svg+xml:https://meetings.greysheet.org/wp-content/uploads/2025/05/desktop.svg
LOCATION:Zoom ID: 5613437089, Passcode: Universal, Camera: Optional
END:VEVENT
BEGIN:VEVENT
DTSTART;TZID=America/Santo_Domingo:20260426T190000
DTEND;TZID=America/Santo_Domingo:20260426T200000
DTSTAMP:20260422T160338
CREATED:20250504T220104Z
LAST-MODIFIED:20260215T202123Z
UID:10031421-1777230000-1777233600@meetings.greysheet.org
SUMMARY:El Cafecito Sun PM
DESCRIPTION:
URL:https://meetings.greysheet.org/meeting/el-cafecito-sun-pm/2026-04-26
CATEGORIES:Zoom
ATTACH;FMTTYPE=image/svg+xml:https://meetings.greysheet.org/wp-content/uploads/2025/05/desktop.svg
LOCATION:Zoom ID: 5613437089, Passcode: Universal, Camera: Optional
END:VEVENT
BEGIN:VEVENT
DTSTART;TZID=America/Santo_Domingo:20260427T070000
DTEND;TZID=America/Santo_Domingo:20260427T080000
DTSTAMP:20260422T160338
CREATED:20250504T220104Z
LAST-MODIFIED:20260215T202113Z
UID:10040540-1777273200-1777276800@meetings.greysheet.org
SUMMARY:El Cafecito Mon AM
DESCRIPTION:Trabajos los Pasos de acuerdo al mes en que estamos. \nWe work the Step of the month.
URL:https://meetings.greysheet.org/meeting/el-cafecito-mon-am/2026-04-27
CATEGORIES:Zoom
ATTACH;FMTTYPE=image/svg+xml:https://meetings.greysheet.org/wp-content/uploads/2025/05/desktop.svg
LOCATION:Zoom ID: 5613437089, Passcode: Universal, Camera: Optional
END:VEVENT
BEGIN:VEVENT
DTSTART;TZID=America/Santo_Domingo:20260427T190000
DTEND;TZID=America/Santo_Domingo:20260427T200000
DTSTAMP:20260422T160338
CREATED:20250504T220104Z
LAST-MODIFIED:20260215T202113Z
UID:10039880-1777316400-1777320000@meetings.greysheet.org
SUMMARY:El Cafecito Mon PM
DESCRIPTION:
URL:https://meetings.greysheet.org/meeting/el-cafecito-mon-pm/2026-04-27
CATEGORIES:Zoom
ATTACH;FMTTYPE=image/svg+xml:https://meetings.greysheet.org/wp-content/uploads/2025/05/desktop.svg
LOCATION:Zoom ID: 5613437089, Passcode: Universal, Camera: Optional
END:VEVENT
BEGIN:VEVENT
DTSTART;TZID=America/Santo_Domingo:20260428T070000
DTEND;TZID=America/Santo_Domingo:20260428T080000
DTSTAMP:20260422T160338
CREATED:20250504T220104Z
LAST-MODIFIED:20260215T202113Z
UID:10038824-1777359600-1777363200@meetings.greysheet.org
SUMMARY:El Cafecito Tues AM
DESCRIPTION:
URL:https://meetings.greysheet.org/meeting/el-cafecito-tues-am/2026-04-28
CATEGORIES:Zoom
ATTACH;FMTTYPE=image/svg+xml:https://meetings.greysheet.org/wp-content/uploads/2025/05/desktop.svg
LOCATION:Zoom ID: 5613437089, Passcode: Universal, Camera: Optional
END:VEVENT
BEGIN:VEVENT
DTSTART;TZID=America/Santo_Domingo:20260428T190000
DTEND;TZID=America/Santo_Domingo:20260428T200000
DTSTAMP:20260422T160338
CREATED:20250504T220104Z
LAST-MODIFIED:20260215T202113Z
UID:10038032-1777402800-1777406400@meetings.greysheet.org
SUMMARY:El Cafecito Tues PM
DESCRIPTION:
URL:https://meetings.greysheet.org/meeting/el-cafecito-tues-pm/2026-04-28
CATEGORIES:Zoom
ATTACH;FMTTYPE=image/svg+xml:https://meetings.greysheet.org/wp-content/uploads/2025/05/desktop.svg
LOCATION:Zoom ID: 5613437089, Passcode: Universal, Camera: Optional
END:VEVENT
BEGIN:VEVENT
DTSTART;TZID=America/Santo_Domingo:20260429T070000
DTEND;TZID=America/Santo_Domingo:20260429T080000
DTSTAMP:20260422T160338
CREATED:20250504T220104Z
LAST-MODIFIED:20260215T202113Z
UID:10037637-1777446000-1777449600@meetings.greysheet.org
SUMMARY:El Cafecito Weds AM
DESCRIPTION:
URL:https://meetings.greysheet.org/meeting/el-cafecito-weds-am/2026-04-29
CATEGORIES:Zoom
ATTACH;FMTTYPE=image/svg+xml:https://meetings.greysheet.org/wp-content/uploads/2025/05/desktop.svg
LOCATION:Zoom ID: 5613437089, Passcode: Universal, Camera: Optional
END:VEVENT
BEGIN:VEVENT
DTSTART;TZID=America/Santo_Domingo:20260429T190000
DTEND;TZID=America/Santo_Domingo:20260429T200000
DTSTAMP:20260422T160338
CREATED:20250504T220104Z
LAST-MODIFIED:20260215T202113Z
UID:10036823-1777489200-1777492800@meetings.greysheet.org
SUMMARY:El Cafecito Wed PM
DESCRIPTION:
URL:https://meetings.greysheet.org/meeting/el-cafecito-wed-pm/2026-04-29
CATEGORIES:Zoom
ATTACH;FMTTYPE=image/svg+xml:https://meetings.greysheet.org/wp-content/uploads/2025/05/desktop.svg
LOCATION:Zoom ID: 5613437089, Passcode: Universal, Camera: Optional
END:VEVENT
BEGIN:VEVENT
DTSTART;TZID=America/Santo_Domingo:20260430T070000
DTEND;TZID=America/Santo_Domingo:20260430T080000
DTSTAMP:20260422T160338
CREATED:20250504T220104Z
LAST-MODIFIED:20260215T202123Z
UID:10036168-1777532400-1777536000@meetings.greysheet.org
SUMMARY:El Cafecito Thu AM
DESCRIPTION:
URL:https://meetings.greysheet.org/meeting/el-cafecito-thu-am/2026-04-30
CATEGORIES:Zoom
ATTACH;FMTTYPE=image/svg+xml:https://meetings.greysheet.org/wp-content/uploads/2025/05/desktop.svg
LOCATION:Zoom ID: 5613437089, Passcode: Universal, Camera: Optional
END:VEVENT
BEGIN:VEVENT
DTSTART;TZID=America/Santo_Domingo:20260430T190000
DTEND;TZID=America/Santo_Domingo:20260430T200000
DTSTAMP:20260422T160338
CREATED:20250504T220104Z
LAST-MODIFIED:20260215T202123Z
UID:10035513-1777575600-1777579200@meetings.greysheet.org
SUMMARY:El Cafecito Thu PM
DESCRIPTION:
URL:https://meetings.greysheet.org/meeting/el-cafecito-thu-pm/2026-04-30
CATEGORIES:Zoom
ATTACH;FMTTYPE=image/svg+xml:https://meetings.greysheet.org/wp-content/uploads/2025/05/desktop.svg
LOCATION:Zoom ID: 5613437089, Passcode: Universal, Camera: Optional
END:VEVENT
BEGIN:VEVENT
DTSTART;TZID=America/Santo_Domingo:20260501T070000
DTEND;TZID=America/Santo_Domingo:20260501T080000
DTSTAMP:20260422T160338
CREATED:20250504T220104Z
LAST-MODIFIED:20260215T202123Z
UID:10034858-1777618800-1777622400@meetings.greysheet.org
SUMMARY:El Cafecito Fri AM
DESCRIPTION:
URL:https://meetings.greysheet.org/meeting/el-cafecito-fri-am/2026-05-01
CATEGORIES:Zoom
ATTACH;FMTTYPE=image/svg+xml:https://meetings.greysheet.org/wp-content/uploads/2025/05/desktop.svg
LOCATION:Zoom ID: 5613437089, Passcode: Universal, Camera: Optional
END:VEVENT
BEGIN:VEVENT
DTSTART;TZID=America/Santo_Domingo:20260501T190000
DTEND;TZID=America/Santo_Domingo:20260501T200000
DTSTAMP:20260422T160338
CREATED:20250504T220104Z
LAST-MODIFIED:20260215T202123Z
UID:10033941-1777662000-1777665600@meetings.greysheet.org
SUMMARY:El Cafecito Fri PM
DESCRIPTION:
URL:https://meetings.greysheet.org/meeting/el-cafecito-fri-pm/2026-05-01
CATEGORIES:Zoom
ATTACH;FMTTYPE=image/svg+xml:https://meetings.greysheet.org/wp-content/uploads/2025/05/desktop.svg
LOCATION:Zoom ID: 5613437089, Passcode: Universal, Camera: Optional
END:VEVENT
BEGIN:VEVENT
DTSTART;TZID=America/Santo_Domingo:20260502T070000
DTEND;TZID=America/Santo_Domingo:20260502T080000
DTSTAMP:20260422T160338
CREATED:20250504T220104Z
LAST-MODIFIED:20260215T202123Z
UID:10044809-1777705200-1777708800@meetings.greysheet.org
SUMMARY:El Cafecito Sat AM
DESCRIPTION:
URL:https://meetings.greysheet.org/meeting/el-cafecito-sat-am/2026-05-02
CATEGORIES:Zoom
ATTACH;FMTTYPE=image/svg+xml:https://meetings.greysheet.org/wp-content/uploads/2025/05/desktop.svg
LOCATION:Zoom ID: 5613437089, Passcode: Universal, Camera: Optional
END:VEVENT
BEGIN:VEVENT
DTSTART;TZID=America/Santo_Domingo:20260502T190000
DTEND;TZID=America/Santo_Domingo:20260502T200000
DTSTAMP:20260422T160338
CREATED:20250504T220104Z
LAST-MODIFIED:20260215T202123Z
UID:10032893-1777748400-1777752000@meetings.greysheet.org
SUMMARY:El Cafecito Sat PM
DESCRIPTION:
URL:https://meetings.greysheet.org/meeting/el-cafecito-sat-pm/2026-05-02
CATEGORIES:Zoom
ATTACH;FMTTYPE=image/svg+xml:https://meetings.greysheet.org/wp-content/uploads/2025/05/desktop.svg
LOCATION:Zoom ID: 5613437089, Passcode: Universal, Camera: Optional
END:VEVENT
BEGIN:VEVENT
DTSTART;TZID=America/Santo_Domingo:20260503T070000
DTEND;TZID=America/Santo_Domingo:20260503T080000
DTSTAMP:20260422T160338
CREATED:20250504T220104Z
LAST-MODIFIED:20260215T202123Z
UID:10032732-1777791600-1777795200@meetings.greysheet.org
SUMMARY:El Cafecito Sun AM
DESCRIPTION:
URL:https://meetings.greysheet.org/meeting/el-cafecito-sun-am/2026-05-03
CATEGORIES:Zoom
ATTACH;FMTTYPE=image/svg+xml:https://meetings.greysheet.org/wp-content/uploads/2025/05/desktop.svg
LOCATION:Zoom ID: 5613437089, Passcode: Universal, Camera: Optional
END:VEVENT
BEGIN:VEVENT
DTSTART;TZID=America/Santo_Domingo:20260503T190000
DTEND;TZID=America/Santo_Domingo:20260503T200000
DTSTAMP:20260422T160338
CREATED:20250504T220104Z
LAST-MODIFIED:20260215T202123Z
UID:10031422-1777834800-1777838400@meetings.greysheet.org
SUMMARY:El Cafecito Sun PM
DESCRIPTION:
URL:https://meetings.greysheet.org/meeting/el-cafecito-sun-pm/2026-05-03
CATEGORIES:Zoom
ATTACH;FMTTYPE=image/svg+xml:https://meetings.greysheet.org/wp-content/uploads/2025/05/desktop.svg
LOCATION:Zoom ID: 5613437089, Passcode: Universal, Camera: Optional
END:VEVENT
BEGIN:VEVENT
DTSTART;TZID=America/Santo_Domingo:20260504T070000
DTEND;TZID=America/Santo_Domingo:20260504T080000
DTSTAMP:20260422T160338
CREATED:20250504T220104Z
LAST-MODIFIED:20260215T202113Z
UID:10040541-1777878000-1777881600@meetings.greysheet.org
SUMMARY:El Cafecito Mon AM
DESCRIPTION:Trabajos los Pasos de acuerdo al mes en que estamos. \nWe work the Step of the month.
URL:https://meetings.greysheet.org/meeting/el-cafecito-mon-am/2026-05-04
CATEGORIES:Zoom
ATTACH;FMTTYPE=image/svg+xml:https://meetings.greysheet.org/wp-content/uploads/2025/05/desktop.svg
LOCATION:Zoom ID: 5613437089, Passcode: Universal, Camera: Optional
END:VEVENT
BEGIN:VEVENT
DTSTART;TZID=America/Santo_Domingo:20260504T190000
DTEND;TZID=America/Santo_Domingo:20260504T200000
DTSTAMP:20260422T160338
CREATED:20250504T220104Z
LAST-MODIFIED:20260215T202113Z
UID:10039881-1777921200-1777924800@meetings.greysheet.org
SUMMARY:El Cafecito Mon PM
DESCRIPTION:
URL:https://meetings.greysheet.org/meeting/el-cafecito-mon-pm/2026-05-04
CATEGORIES:Zoom
ATTACH;FMTTYPE=image/svg+xml:https://meetings.greysheet.org/wp-content/uploads/2025/05/desktop.svg
LOCATION:Zoom ID: 5613437089, Passcode: Universal, Camera: Optional
END:VEVENT
BEGIN:VEVENT
DTSTART;TZID=America/Santo_Domingo:20260505T070000
DTEND;TZID=America/Santo_Domingo:20260505T080000
DTSTAMP:20260422T160338
CREATED:20250504T220104Z
LAST-MODIFIED:20260215T202113Z
UID:10038825-1777964400-1777968000@meetings.greysheet.org
SUMMARY:El Cafecito Tues AM
DESCRIPTION:
URL:https://meetings.greysheet.org/meeting/el-cafecito-tues-am/2026-05-05
CATEGORIES:Zoom
ATTACH;FMTTYPE=image/svg+xml:https://meetings.greysheet.org/wp-content/uploads/2025/05/desktop.svg
LOCATION:Zoom ID: 5613437089, Passcode: Universal, Camera: Optional
END:VEVENT
BEGIN:VEVENT
DTSTART;TZID=America/Santo_Domingo:20260505T190000
DTEND;TZID=America/Santo_Domingo:20260505T200000
DTSTAMP:20260422T160338
CREATED:20250504T220104Z
LAST-MODIFIED:20260215T202113Z
UID:10038033-1778007600-1778011200@meetings.greysheet.org
SUMMARY:El Cafecito Tues PM
DESCRIPTION:
URL:https://meetings.greysheet.org/meeting/el-cafecito-tues-pm/2026-05-05
CATEGORIES:Zoom
ATTACH;FMTTYPE=image/svg+xml:https://meetings.greysheet.org/wp-content/uploads/2025/05/desktop.svg
LOCATION:Zoom ID: 5613437089, Passcode: Universal, Camera: Optional
END:VEVENT
BEGIN:VEVENT
DTSTART;TZID=America/Santo_Domingo:20260506T070000
DTEND;TZID=America/Santo_Domingo:20260506T080000
DTSTAMP:20260422T160338
CREATED:20250504T220104Z
LAST-MODIFIED:20260215T202113Z
UID:10037638-1778050800-1778054400@meetings.greysheet.org
SUMMARY:El Cafecito Weds AM
DESCRIPTION:
URL:https://meetings.greysheet.org/meeting/el-cafecito-weds-am/2026-05-06
CATEGORIES:Zoom
ATTACH;FMTTYPE=image/svg+xml:https://meetings.greysheet.org/wp-content/uploads/2025/05/desktop.svg
LOCATION:Zoom ID: 5613437089, Passcode: Universal, Camera: Optional
END:VEVENT
BEGIN:VEVENT
DTSTART;TZID=America/Santo_Domingo:20260506T190000
DTEND;TZID=America/Santo_Domingo:20260506T200000
DTSTAMP:20260422T160338
CREATED:20250504T220104Z
LAST-MODIFIED:20260215T202113Z
UID:10036824-1778094000-1778097600@meetings.greysheet.org
SUMMARY:El Cafecito Wed PM
DESCRIPTION:
URL:https://meetings.greysheet.org/meeting/el-cafecito-wed-pm/2026-05-06
CATEGORIES:Zoom
ATTACH;FMTTYPE=image/svg+xml:https://meetings.greysheet.org/wp-content/uploads/2025/05/desktop.svg
LOCATION:Zoom ID: 5613437089, Passcode: Universal, Camera: Optional
END:VEVENT
BEGIN:VEVENT
DTSTART;TZID=America/Santo_Domingo:20260507T070000
DTEND;TZID=America/Santo_Domingo:20260507T080000
DTSTAMP:20260422T160338
CREATED:20250504T220104Z
LAST-MODIFIED:20260215T202123Z
UID:10036169-1778137200-1778140800@meetings.greysheet.org
SUMMARY:El Cafecito Thu AM
DESCRIPTION:
URL:https://meetings.greysheet.org/meeting/el-cafecito-thu-am/2026-05-07
CATEGORIES:Zoom
ATTACH;FMTTYPE=image/svg+xml:https://meetings.greysheet.org/wp-content/uploads/2025/05/desktop.svg
LOCATION:Zoom ID: 5613437089, Passcode: Universal, Camera: Optional
END:VEVENT
END:VCALENDAR