BEGIN:VCALENDAR
VERSION:2.0
PRODID:-//GreySheeters Anonymous World Services - ECPv6.15.20//NONSGML v1.0//EN
CALSCALE:GREGORIAN
METHOD:PUBLISH
X-WR-CALNAME:GreySheeters Anonymous World Services
X-ORIGINAL-URL:https://meetings.greysheet.org
X-WR-CALDESC:Events for GreySheeters Anonymous World Services
REFRESH-INTERVAL;VALUE=DURATION:PT1H
X-Robots-Tag:noindex
X-PUBLISHED-TTL:PT1H
BEGIN:VTIMEZONE
TZID:America/New_York
BEGIN:DAYLIGHT
TZOFFSETFROM:-0500
TZOFFSETTO:-0400
TZNAME:EDT
DTSTART:20240310T070000
END:DAYLIGHT
BEGIN:STANDARD
TZOFFSETFROM:-0400
TZOFFSETTO:-0500
TZNAME:EST
DTSTART:20241103T060000
END:STANDARD
BEGIN:DAYLIGHT
TZOFFSETFROM:-0500
TZOFFSETTO:-0400
TZNAME:EDT
DTSTART:20250309T070000
END:DAYLIGHT
BEGIN:STANDARD
TZOFFSETFROM:-0400
TZOFFSETTO:-0500
TZNAME:EST
DTSTART:20251102T060000
END:STANDARD
BEGIN:DAYLIGHT
TZOFFSETFROM:-0500
TZOFFSETTO:-0400
TZNAME:EDT
DTSTART:20260308T070000
END:DAYLIGHT
BEGIN:STANDARD
TZOFFSETFROM:-0400
TZOFFSETTO:-0500
TZNAME:EST
DTSTART:20261101T060000
END:STANDARD
BEGIN:DAYLIGHT
TZOFFSETFROM:-0500
TZOFFSETTO:-0400
TZNAME:EDT
DTSTART:20270314T070000
END:DAYLIGHT
BEGIN:STANDARD
TZOFFSETFROM:-0400
TZOFFSETTO:-0500
TZNAME:EST
DTSTART:20271107T060000
END:STANDARD
END:VTIMEZONE
BEGIN:VEVENT
DTSTART;TZID=America/New_York:20260129T200000
DTEND;TZID=America/New_York:20260129T210000
DTSTAMP:20260425T140037
CREATED:20250504T220119Z
LAST-MODIFIED:20260216T152132Z
UID:10065527-1769716800-1769720400@meetings.greysheet.org
SUMMARY:Better Together
DESCRIPTION:
URL:https://meetings.greysheet.org/meeting/better-together/2026-01-29
CATEGORIES:Zoom
ATTACH;FMTTYPE=image/svg+xml:https://meetings.greysheet.org/wp-content/uploads/2025/05/desktop.svg
LOCATION:Zoom ID: 85167307851, Passcode: Universal, Camera: Optional
END:VEVENT
BEGIN:VEVENT
DTSTART;TZID=America/New_York:20260122T200000
DTEND;TZID=America/New_York:20260122T210000
DTSTAMP:20260425T140037
CREATED:20250504T220119Z
LAST-MODIFIED:20260216T152132Z
UID:10065526-1769112000-1769115600@meetings.greysheet.org
SUMMARY:Better Together
DESCRIPTION:
URL:https://meetings.greysheet.org/meeting/better-together/2026-01-22
CATEGORIES:Zoom
ATTACH;FMTTYPE=image/svg+xml:https://meetings.greysheet.org/wp-content/uploads/2025/05/desktop.svg
LOCATION:Zoom ID: 85167307851, Passcode: Universal, Camera: Optional
END:VEVENT
BEGIN:VEVENT
DTSTART;TZID=America/New_York:20260115T200000
DTEND;TZID=America/New_York:20260115T210000
DTSTAMP:20260425T140037
CREATED:20250504T220119Z
LAST-MODIFIED:20260216T152132Z
UID:10065525-1768507200-1768510800@meetings.greysheet.org
SUMMARY:Better Together
DESCRIPTION:
URL:https://meetings.greysheet.org/meeting/better-together/2026-01-15
CATEGORIES:Zoom
ATTACH;FMTTYPE=image/svg+xml:https://meetings.greysheet.org/wp-content/uploads/2025/05/desktop.svg
LOCATION:Zoom ID: 85167307851, Passcode: Universal, Camera: Optional
END:VEVENT
BEGIN:VEVENT
DTSTART;TZID=America/New_York:20260108T200000
DTEND;TZID=America/New_York:20260108T210000
DTSTAMP:20260425T140037
CREATED:20250504T220119Z
LAST-MODIFIED:20260216T152132Z
UID:10065524-1767902400-1767906000@meetings.greysheet.org
SUMMARY:Better Together
DESCRIPTION:
URL:https://meetings.greysheet.org/meeting/better-together/2026-01-08
CATEGORIES:Zoom
ATTACH;FMTTYPE=image/svg+xml:https://meetings.greysheet.org/wp-content/uploads/2025/05/desktop.svg
LOCATION:Zoom ID: 85167307851, Passcode: Universal, Camera: Optional
END:VEVENT
BEGIN:VEVENT
DTSTART;TZID=America/New_York:20260101T200000
DTEND;TZID=America/New_York:20260101T210000
DTSTAMP:20260425T140037
CREATED:20250504T220119Z
LAST-MODIFIED:20260216T152132Z
UID:10065523-1767297600-1767301200@meetings.greysheet.org
SUMMARY:Better Together
DESCRIPTION:
URL:https://meetings.greysheet.org/meeting/better-together/2026-01-01
CATEGORIES:Zoom
ATTACH;FMTTYPE=image/svg+xml:https://meetings.greysheet.org/wp-content/uploads/2025/05/desktop.svg
LOCATION:Zoom ID: 85167307851, Passcode: Universal, Camera: Optional
END:VEVENT
BEGIN:VEVENT
DTSTART;TZID=America/New_York:20251225T200000
DTEND;TZID=America/New_York:20251225T210000
DTSTAMP:20260425T140037
CREATED:20250504T220119Z
LAST-MODIFIED:20260216T152132Z
UID:10065522-1766692800-1766696400@meetings.greysheet.org
SUMMARY:Better Together
DESCRIPTION:
URL:https://meetings.greysheet.org/meeting/better-together/2025-12-25
CATEGORIES:Zoom
ATTACH;FMTTYPE=image/svg+xml:https://meetings.greysheet.org/wp-content/uploads/2025/05/desktop.svg
LOCATION:Zoom ID: 85167307851, Passcode: Universal, Camera: Optional
END:VEVENT
BEGIN:VEVENT
DTSTART;TZID=America/New_York:20251218T200000
DTEND;TZID=America/New_York:20251218T210000
DTSTAMP:20260425T140037
CREATED:20250504T220119Z
LAST-MODIFIED:20260216T152132Z
UID:10065521-1766088000-1766091600@meetings.greysheet.org
SUMMARY:Better Together
DESCRIPTION:
URL:https://meetings.greysheet.org/meeting/better-together/2025-12-18
CATEGORIES:Zoom
ATTACH;FMTTYPE=image/svg+xml:https://meetings.greysheet.org/wp-content/uploads/2025/05/desktop.svg
LOCATION:Zoom ID: 85167307851, Passcode: Universal, Camera: Optional
END:VEVENT
BEGIN:VEVENT
DTSTART;TZID=America/New_York:20251211T200000
DTEND;TZID=America/New_York:20251211T210000
DTSTAMP:20260425T140037
CREATED:20250504T220119Z
LAST-MODIFIED:20260216T152132Z
UID:10065520-1765483200-1765486800@meetings.greysheet.org
SUMMARY:Better Together
DESCRIPTION:
URL:https://meetings.greysheet.org/meeting/better-together/2025-12-11
CATEGORIES:Zoom
ATTACH;FMTTYPE=image/svg+xml:https://meetings.greysheet.org/wp-content/uploads/2025/05/desktop.svg
LOCATION:Zoom ID: 85167307851, Passcode: Universal, Camera: Optional
END:VEVENT
BEGIN:VEVENT
DTSTART;TZID=America/New_York:20251204T200000
DTEND;TZID=America/New_York:20251204T210000
DTSTAMP:20260425T140037
CREATED:20250504T220119Z
LAST-MODIFIED:20260216T152132Z
UID:10065519-1764878400-1764882000@meetings.greysheet.org
SUMMARY:Better Together
DESCRIPTION:
URL:https://meetings.greysheet.org/meeting/better-together/2025-12-04
CATEGORIES:Zoom
ATTACH;FMTTYPE=image/svg+xml:https://meetings.greysheet.org/wp-content/uploads/2025/05/desktop.svg
LOCATION:Zoom ID: 85167307851, Passcode: Universal, Camera: Optional
END:VEVENT
BEGIN:VEVENT
DTSTART;TZID=America/New_York:20251127T200000
DTEND;TZID=America/New_York:20251127T210000
DTSTAMP:20260425T140037
CREATED:20250504T220119Z
LAST-MODIFIED:20260216T152132Z
UID:10065518-1764273600-1764277200@meetings.greysheet.org
SUMMARY:Better Together
DESCRIPTION:
URL:https://meetings.greysheet.org/meeting/better-together/2025-11-27
CATEGORIES:Zoom
ATTACH;FMTTYPE=image/svg+xml:https://meetings.greysheet.org/wp-content/uploads/2025/05/desktop.svg
LOCATION:Zoom ID: 85167307851, Passcode: Universal, Camera: Optional
END:VEVENT
BEGIN:VEVENT
DTSTART;TZID=America/New_York:20251120T200000
DTEND;TZID=America/New_York:20251120T210000
DTSTAMP:20260425T140037
CREATED:20250504T220119Z
LAST-MODIFIED:20260216T152132Z
UID:10065517-1763668800-1763672400@meetings.greysheet.org
SUMMARY:Better Together
DESCRIPTION:
URL:https://meetings.greysheet.org/meeting/better-together/2025-11-20
CATEGORIES:Zoom
ATTACH;FMTTYPE=image/svg+xml:https://meetings.greysheet.org/wp-content/uploads/2025/05/desktop.svg
LOCATION:Zoom ID: 85167307851, Passcode: Universal, Camera: Optional
END:VEVENT
BEGIN:VEVENT
DTSTART;TZID=America/New_York:20251113T200000
DTEND;TZID=America/New_York:20251113T210000
DTSTAMP:20260425T140037
CREATED:20250504T220119Z
LAST-MODIFIED:20260216T152132Z
UID:10065516-1763064000-1763067600@meetings.greysheet.org
SUMMARY:Better Together
DESCRIPTION:
URL:https://meetings.greysheet.org/meeting/better-together/2025-11-13
CATEGORIES:Zoom
ATTACH;FMTTYPE=image/svg+xml:https://meetings.greysheet.org/wp-content/uploads/2025/05/desktop.svg
LOCATION:Zoom ID: 85167307851, Passcode: Universal, Camera: Optional
END:VEVENT
BEGIN:VEVENT
DTSTART;TZID=America/New_York:20251106T200000
DTEND;TZID=America/New_York:20251106T210000
DTSTAMP:20260425T140037
CREATED:20250504T220119Z
LAST-MODIFIED:20260216T152132Z
UID:10065515-1762459200-1762462800@meetings.greysheet.org
SUMMARY:Better Together
DESCRIPTION:
URL:https://meetings.greysheet.org/meeting/better-together/2025-11-06
CATEGORIES:Zoom
ATTACH;FMTTYPE=image/svg+xml:https://meetings.greysheet.org/wp-content/uploads/2025/05/desktop.svg
LOCATION:Zoom ID: 85167307851, Passcode: Universal, Camera: Optional
END:VEVENT
BEGIN:VEVENT
DTSTART;TZID=America/New_York:20251030T200000
DTEND;TZID=America/New_York:20251030T210000
DTSTAMP:20260425T140037
CREATED:20250504T220119Z
LAST-MODIFIED:20260216T152132Z
UID:10065514-1761854400-1761858000@meetings.greysheet.org
SUMMARY:Better Together
DESCRIPTION:
URL:https://meetings.greysheet.org/meeting/better-together/2025-10-30
CATEGORIES:Zoom
ATTACH;FMTTYPE=image/svg+xml:https://meetings.greysheet.org/wp-content/uploads/2025/05/desktop.svg
LOCATION:Zoom ID: 85167307851, Passcode: Universal, Camera: Optional
END:VEVENT
BEGIN:VEVENT
DTSTART;TZID=America/New_York:20251023T200000
DTEND;TZID=America/New_York:20251023T210000
DTSTAMP:20260425T140037
CREATED:20250504T220119Z
LAST-MODIFIED:20260216T152132Z
UID:10065513-1761249600-1761253200@meetings.greysheet.org
SUMMARY:Better Together
DESCRIPTION:
URL:https://meetings.greysheet.org/meeting/better-together/2025-10-23
CATEGORIES:Zoom
ATTACH;FMTTYPE=image/svg+xml:https://meetings.greysheet.org/wp-content/uploads/2025/05/desktop.svg
LOCATION:Zoom ID: 85167307851, Passcode: Universal, Camera: Optional
END:VEVENT
BEGIN:VEVENT
DTSTART;TZID=America/New_York:20251016T200000
DTEND;TZID=America/New_York:20251016T210000
DTSTAMP:20260425T140037
CREATED:20250504T220119Z
LAST-MODIFIED:20260216T152132Z
UID:10065512-1760644800-1760648400@meetings.greysheet.org
SUMMARY:Better Together
DESCRIPTION:
URL:https://meetings.greysheet.org/meeting/better-together/2025-10-16
CATEGORIES:Zoom
ATTACH;FMTTYPE=image/svg+xml:https://meetings.greysheet.org/wp-content/uploads/2025/05/desktop.svg
LOCATION:Zoom ID: 85167307851, Passcode: Universal, Camera: Optional
END:VEVENT
BEGIN:VEVENT
DTSTART;TZID=America/New_York:20251009T200000
DTEND;TZID=America/New_York:20251009T210000
DTSTAMP:20260425T140037
CREATED:20250504T220119Z
LAST-MODIFIED:20260216T152132Z
UID:10065511-1760040000-1760043600@meetings.greysheet.org
SUMMARY:Better Together
DESCRIPTION:
URL:https://meetings.greysheet.org/meeting/better-together/2025-10-09
CATEGORIES:Zoom
ATTACH;FMTTYPE=image/svg+xml:https://meetings.greysheet.org/wp-content/uploads/2025/05/desktop.svg
LOCATION:Zoom ID: 85167307851, Passcode: Universal, Camera: Optional
END:VEVENT
BEGIN:VEVENT
DTSTART;TZID=America/New_York:20251002T200000
DTEND;TZID=America/New_York:20251002T210000
DTSTAMP:20260425T140037
CREATED:20250504T220119Z
LAST-MODIFIED:20260216T152132Z
UID:10065510-1759435200-1759438800@meetings.greysheet.org
SUMMARY:Better Together
DESCRIPTION:
URL:https://meetings.greysheet.org/meeting/better-together/2025-10-02
CATEGORIES:Zoom
ATTACH;FMTTYPE=image/svg+xml:https://meetings.greysheet.org/wp-content/uploads/2025/05/desktop.svg
LOCATION:Zoom ID: 85167307851, Passcode: Universal, Camera: Optional
END:VEVENT
BEGIN:VEVENT
DTSTART;TZID=America/New_York:20250925T200000
DTEND;TZID=America/New_York:20250925T210000
DTSTAMP:20260425T140037
CREATED:20250504T220119Z
LAST-MODIFIED:20260216T152132Z
UID:10065509-1758830400-1758834000@meetings.greysheet.org
SUMMARY:Better Together
DESCRIPTION:
URL:https://meetings.greysheet.org/meeting/better-together/2025-09-25
CATEGORIES:Zoom
ATTACH;FMTTYPE=image/svg+xml:https://meetings.greysheet.org/wp-content/uploads/2025/05/desktop.svg
LOCATION:Zoom ID: 85167307851, Passcode: Universal, Camera: Optional
END:VEVENT
BEGIN:VEVENT
DTSTART;TZID=America/New_York:20250918T200000
DTEND;TZID=America/New_York:20250918T210000
DTSTAMP:20260425T140037
CREATED:20250504T220119Z
LAST-MODIFIED:20260216T152132Z
UID:10065508-1758225600-1758229200@meetings.greysheet.org
SUMMARY:Better Together
DESCRIPTION:
URL:https://meetings.greysheet.org/meeting/better-together/2025-09-18
CATEGORIES:Zoom
ATTACH;FMTTYPE=image/svg+xml:https://meetings.greysheet.org/wp-content/uploads/2025/05/desktop.svg
LOCATION:Zoom ID: 85167307851, Passcode: Universal, Camera: Optional
END:VEVENT
BEGIN:VEVENT
DTSTART;TZID=America/New_York:20250911T200000
DTEND;TZID=America/New_York:20250911T210000
DTSTAMP:20260425T140037
CREATED:20250504T220119Z
LAST-MODIFIED:20260216T152132Z
UID:10065507-1757620800-1757624400@meetings.greysheet.org
SUMMARY:Better Together
DESCRIPTION:
URL:https://meetings.greysheet.org/meeting/better-together/2025-09-11
CATEGORIES:Zoom
ATTACH;FMTTYPE=image/svg+xml:https://meetings.greysheet.org/wp-content/uploads/2025/05/desktop.svg
LOCATION:Zoom ID: 85167307851, Passcode: Universal, Camera: Optional
END:VEVENT
BEGIN:VEVENT
DTSTART;TZID=America/New_York:20250904T200000
DTEND;TZID=America/New_York:20250904T210000
DTSTAMP:20260425T140037
CREATED:20250504T220119Z
LAST-MODIFIED:20260216T152132Z
UID:10065506-1757016000-1757019600@meetings.greysheet.org
SUMMARY:Better Together
DESCRIPTION:
URL:https://meetings.greysheet.org/meeting/better-together/2025-09-04
CATEGORIES:Zoom
ATTACH;FMTTYPE=image/svg+xml:https://meetings.greysheet.org/wp-content/uploads/2025/05/desktop.svg
LOCATION:Zoom ID: 85167307851, Passcode: Universal, Camera: Optional
END:VEVENT
BEGIN:VEVENT
DTSTART;TZID=America/New_York:20250828T200000
DTEND;TZID=America/New_York:20250828T210000
DTSTAMP:20260425T140037
CREATED:20250504T220119Z
LAST-MODIFIED:20260216T152132Z
UID:10065505-1756411200-1756414800@meetings.greysheet.org
SUMMARY:Better Together
DESCRIPTION:
URL:https://meetings.greysheet.org/meeting/better-together/2025-08-28
CATEGORIES:Zoom
ATTACH;FMTTYPE=image/svg+xml:https://meetings.greysheet.org/wp-content/uploads/2025/05/desktop.svg
LOCATION:Zoom ID: 85167307851, Passcode: Universal, Camera: Optional
END:VEVENT
BEGIN:VEVENT
DTSTART;TZID=America/New_York:20250821T200000
DTEND;TZID=America/New_York:20250821T210000
DTSTAMP:20260425T140037
CREATED:20250504T220119Z
LAST-MODIFIED:20260216T152132Z
UID:10065504-1755806400-1755810000@meetings.greysheet.org
SUMMARY:Better Together
DESCRIPTION:
URL:https://meetings.greysheet.org/meeting/better-together/2025-08-21
CATEGORIES:Zoom
ATTACH;FMTTYPE=image/svg+xml:https://meetings.greysheet.org/wp-content/uploads/2025/05/desktop.svg
LOCATION:Zoom ID: 85167307851, Passcode: Universal, Camera: Optional
END:VEVENT
BEGIN:VEVENT
DTSTART;TZID=America/New_York:20250814T200000
DTEND;TZID=America/New_York:20250814T210000
DTSTAMP:20260425T140037
CREATED:20250504T220119Z
LAST-MODIFIED:20260216T152132Z
UID:10065503-1755201600-1755205200@meetings.greysheet.org
SUMMARY:Better Together
DESCRIPTION:
URL:https://meetings.greysheet.org/meeting/better-together/2025-08-14
CATEGORIES:Zoom
ATTACH;FMTTYPE=image/svg+xml:https://meetings.greysheet.org/wp-content/uploads/2025/05/desktop.svg
LOCATION:Zoom ID: 85167307851, Passcode: Universal, Camera: Optional
END:VEVENT
BEGIN:VEVENT
DTSTART;TZID=America/New_York:20250807T200000
DTEND;TZID=America/New_York:20250807T210000
DTSTAMP:20260425T140037
CREATED:20250504T220119Z
LAST-MODIFIED:20260216T152132Z
UID:10065502-1754596800-1754600400@meetings.greysheet.org
SUMMARY:Better Together
DESCRIPTION:
URL:https://meetings.greysheet.org/meeting/better-together/2025-08-07
CATEGORIES:Zoom
ATTACH;FMTTYPE=image/svg+xml:https://meetings.greysheet.org/wp-content/uploads/2025/05/desktop.svg
LOCATION:Zoom ID: 85167307851, Passcode: Universal, Camera: Optional
END:VEVENT
BEGIN:VEVENT
DTSTART;TZID=America/New_York:20250731T200000
DTEND;TZID=America/New_York:20250731T210000
DTSTAMP:20260425T140037
CREATED:20250504T220119Z
LAST-MODIFIED:20260216T152132Z
UID:10065501-1753992000-1753995600@meetings.greysheet.org
SUMMARY:Better Together
DESCRIPTION:
URL:https://meetings.greysheet.org/meeting/better-together/2025-07-31
CATEGORIES:Zoom
ATTACH;FMTTYPE=image/svg+xml:https://meetings.greysheet.org/wp-content/uploads/2025/05/desktop.svg
LOCATION:Zoom ID: 85167307851, Passcode: Universal, Camera: Optional
END:VEVENT
BEGIN:VEVENT
DTSTART;TZID=America/New_York:20250724T200000
DTEND;TZID=America/New_York:20250724T210000
DTSTAMP:20260425T140037
CREATED:20250504T220119Z
LAST-MODIFIED:20260216T152132Z
UID:10065500-1753387200-1753390800@meetings.greysheet.org
SUMMARY:Better Together
DESCRIPTION:
URL:https://meetings.greysheet.org/meeting/better-together/2025-07-24
CATEGORIES:Zoom
ATTACH;FMTTYPE=image/svg+xml:https://meetings.greysheet.org/wp-content/uploads/2025/05/desktop.svg
LOCATION:Zoom ID: 85167307851, Passcode: Universal, Camera: Optional
END:VEVENT
BEGIN:VEVENT
DTSTART;TZID=America/New_York:20250717T200000
DTEND;TZID=America/New_York:20250717T210000
DTSTAMP:20260425T140037
CREATED:20250504T220119Z
LAST-MODIFIED:20260216T152132Z
UID:10065499-1752782400-1752786000@meetings.greysheet.org
SUMMARY:Better Together
DESCRIPTION:
URL:https://meetings.greysheet.org/meeting/better-together/2025-07-17
CATEGORIES:Zoom
ATTACH;FMTTYPE=image/svg+xml:https://meetings.greysheet.org/wp-content/uploads/2025/05/desktop.svg
LOCATION:Zoom ID: 85167307851, Passcode: Universal, Camera: Optional
END:VEVENT
BEGIN:VEVENT
DTSTART;TZID=America/New_York:20250710T200000
DTEND;TZID=America/New_York:20250710T210000
DTSTAMP:20260425T140037
CREATED:20250504T220119Z
LAST-MODIFIED:20260216T152132Z
UID:10065498-1752177600-1752181200@meetings.greysheet.org
SUMMARY:Better Together
DESCRIPTION:
URL:https://meetings.greysheet.org/meeting/better-together/2025-07-10
CATEGORIES:Zoom
ATTACH;FMTTYPE=image/svg+xml:https://meetings.greysheet.org/wp-content/uploads/2025/05/desktop.svg
LOCATION:Zoom ID: 85167307851, Passcode: Universal, Camera: Optional
END:VEVENT
END:VCALENDAR