BEGIN:VCALENDAR
VERSION:2.0
PRODID:-//GreySheeters Anonymous World Services - ECPv6.15.20//NONSGML v1.0//EN
CALSCALE:GREGORIAN
METHOD:PUBLISH
X-ORIGINAL-URL:https://meetings.greysheet.org
X-WR-CALDESC:Events for GreySheeters Anonymous World Services
REFRESH-INTERVAL;VALUE=DURATION:PT1H
X-Robots-Tag:noindex
X-PUBLISHED-TTL:PT1H
BEGIN:VTIMEZONE
TZID:America/New_York
BEGIN:DAYLIGHT
TZOFFSETFROM:-0500
TZOFFSETTO:-0400
TZNAME:EDT
DTSTART:20240310T070000
END:DAYLIGHT
BEGIN:STANDARD
TZOFFSETFROM:-0400
TZOFFSETTO:-0500
TZNAME:EST
DTSTART:20241103T060000
END:STANDARD
BEGIN:DAYLIGHT
TZOFFSETFROM:-0500
TZOFFSETTO:-0400
TZNAME:EDT
DTSTART:20250309T070000
END:DAYLIGHT
BEGIN:STANDARD
TZOFFSETFROM:-0400
TZOFFSETTO:-0500
TZNAME:EST
DTSTART:20251102T060000
END:STANDARD
BEGIN:DAYLIGHT
TZOFFSETFROM:-0500
TZOFFSETTO:-0400
TZNAME:EDT
DTSTART:20260308T070000
END:DAYLIGHT
BEGIN:STANDARD
TZOFFSETFROM:-0400
TZOFFSETTO:-0500
TZNAME:EST
DTSTART:20261101T060000
END:STANDARD
BEGIN:DAYLIGHT
TZOFFSETFROM:-0500
TZOFFSETTO:-0400
TZNAME:EDT
DTSTART:20270314T070000
END:DAYLIGHT
BEGIN:STANDARD
TZOFFSETFROM:-0400
TZOFFSETTO:-0500
TZNAME:EST
DTSTART:20271107T060000
END:STANDARD
END:VTIMEZONE
BEGIN:VEVENT
DTSTART;TZID=America/New_York:20260304T190000
DTEND;TZID=America/New_York:20260304T200000
DTSTAMP:20260419T134814
CREATED:20250122T174218Z
LAST-MODIFIED:20260216T162611Z
UID:10041112-1772650800-1772654400@meetings.greysheet.org
SUMMARY:Bethpage Believers
DESCRIPTION:
URL:https://meetings.greysheet.org/meeting/bethpage-believers/2026-03-04
LOCATION:Bethpage Community Center\, 1001 Stewart Avenue\, Bethpage\, NY\, 11714\, United States
CATEGORIES:In Person
ATTACH;FMTTYPE=image/svg+xml:https://meetings.greysheet.org/wp-content/uploads/2025/05/map-pin.svg
GEO:40.7556517;-73.4865195
X-APPLE-STRUCTURED-LOCATION;VALUE=URI;X-ADDRESS=Bethpage Community Center 1001 Stewart Avenue Bethpage NY 11714 United States;X-APPLE-RADIUS=500;X-TITLE=1001 Stewart Avenue:geo:-73.4865195,40.7556517
END:VEVENT
BEGIN:VEVENT
DTSTART;TZID=America/New_York:20260301T090000
DTEND;TZID=America/New_York:20260301T100000
DTSTAMP:20260419T134814
CREATED:20250122T174217Z
LAST-MODIFIED:20260211T215125Z
UID:10047765-1772355600-1772359200@meetings.greysheet.org
SUMMARY:Bethpage NY
DESCRIPTION:
URL:https://meetings.greysheet.org/meeting/bethpage-ny/2026-03-01
LOCATION:Bethpage Community Center\, 1001 Stewart Avenue\, Bethpage\, NY\, 11714\, United States
CATEGORIES:In Person
ATTACH;FMTTYPE=image/svg+xml:https://meetings.greysheet.org/wp-content/uploads/2025/05/map-pin.svg
GEO:40.7556517;-73.4865195
X-APPLE-STRUCTURED-LOCATION;VALUE=URI;X-ADDRESS=Bethpage Community Center 1001 Stewart Avenue Bethpage NY 11714 United States;X-APPLE-RADIUS=500;X-TITLE=1001 Stewart Avenue:geo:-73.4865195,40.7556517
END:VEVENT
BEGIN:VEVENT
DTSTART;TZID=America/New_York:20260225T190000
DTEND;TZID=America/New_York:20260225T200000
DTSTAMP:20260419T134814
CREATED:20250122T174218Z
LAST-MODIFIED:20260216T162611Z
UID:10041111-1772046000-1772049600@meetings.greysheet.org
SUMMARY:Bethpage Believers
DESCRIPTION:
URL:https://meetings.greysheet.org/meeting/bethpage-believers/2026-02-25
LOCATION:Bethpage Community Center\, 1001 Stewart Avenue\, Bethpage\, NY\, 11714\, United States
CATEGORIES:In Person
ATTACH;FMTTYPE=image/svg+xml:https://meetings.greysheet.org/wp-content/uploads/2025/05/map-pin.svg
GEO:40.7556517;-73.4865195
X-APPLE-STRUCTURED-LOCATION;VALUE=URI;X-ADDRESS=Bethpage Community Center 1001 Stewart Avenue Bethpage NY 11714 United States;X-APPLE-RADIUS=500;X-TITLE=1001 Stewart Avenue:geo:-73.4865195,40.7556517
END:VEVENT
BEGIN:VEVENT
DTSTART;TZID=America/New_York:20260222T090000
DTEND;TZID=America/New_York:20260222T100000
DTSTAMP:20260419T134814
CREATED:20250122T174217Z
LAST-MODIFIED:20260211T215125Z
UID:10047764-1771750800-1771754400@meetings.greysheet.org
SUMMARY:Bethpage NY
DESCRIPTION:
URL:https://meetings.greysheet.org/meeting/bethpage-ny/2026-02-22
LOCATION:Bethpage Community Center\, 1001 Stewart Avenue\, Bethpage\, NY\, 11714\, United States
CATEGORIES:In Person
ATTACH;FMTTYPE=image/svg+xml:https://meetings.greysheet.org/wp-content/uploads/2025/05/map-pin.svg
GEO:40.7556517;-73.4865195
X-APPLE-STRUCTURED-LOCATION;VALUE=URI;X-ADDRESS=Bethpage Community Center 1001 Stewart Avenue Bethpage NY 11714 United States;X-APPLE-RADIUS=500;X-TITLE=1001 Stewart Avenue:geo:-73.4865195,40.7556517
END:VEVENT
BEGIN:VEVENT
DTSTART;TZID=America/New_York:20260218T190000
DTEND;TZID=America/New_York:20260218T200000
DTSTAMP:20260419T134814
CREATED:20250122T174218Z
LAST-MODIFIED:20260216T162611Z
UID:10041110-1771441200-1771444800@meetings.greysheet.org
SUMMARY:Bethpage Believers
DESCRIPTION:
URL:https://meetings.greysheet.org/meeting/bethpage-believers/2026-02-18
LOCATION:Bethpage Community Center\, 1001 Stewart Avenue\, Bethpage\, NY\, 11714\, United States
CATEGORIES:In Person
ATTACH;FMTTYPE=image/svg+xml:https://meetings.greysheet.org/wp-content/uploads/2025/05/map-pin.svg
GEO:40.7556517;-73.4865195
X-APPLE-STRUCTURED-LOCATION;VALUE=URI;X-ADDRESS=Bethpage Community Center 1001 Stewart Avenue Bethpage NY 11714 United States;X-APPLE-RADIUS=500;X-TITLE=1001 Stewart Avenue:geo:-73.4865195,40.7556517
END:VEVENT
BEGIN:VEVENT
DTSTART;TZID=America/New_York:20260215T090000
DTEND;TZID=America/New_York:20260215T100000
DTSTAMP:20260419T134814
CREATED:20250122T174217Z
LAST-MODIFIED:20260211T215125Z
UID:10047763-1771146000-1771149600@meetings.greysheet.org
SUMMARY:Bethpage NY
DESCRIPTION:
URL:https://meetings.greysheet.org/meeting/bethpage-ny/2026-02-15
LOCATION:Bethpage Community Center\, 1001 Stewart Avenue\, Bethpage\, NY\, 11714\, United States
CATEGORIES:In Person
ATTACH;FMTTYPE=image/svg+xml:https://meetings.greysheet.org/wp-content/uploads/2025/05/map-pin.svg
GEO:40.7556517;-73.4865195
X-APPLE-STRUCTURED-LOCATION;VALUE=URI;X-ADDRESS=Bethpage Community Center 1001 Stewart Avenue Bethpage NY 11714 United States;X-APPLE-RADIUS=500;X-TITLE=1001 Stewart Avenue:geo:-73.4865195,40.7556517
END:VEVENT
BEGIN:VEVENT
DTSTART;TZID=America/New_York:20260211T190000
DTEND;TZID=America/New_York:20260211T200000
DTSTAMP:20260419T134814
CREATED:20250122T174218Z
LAST-MODIFIED:20260216T162611Z
UID:10041109-1770836400-1770840000@meetings.greysheet.org
SUMMARY:Bethpage Believers
DESCRIPTION:
URL:https://meetings.greysheet.org/meeting/bethpage-believers/2026-02-11
LOCATION:Bethpage Community Center\, 1001 Stewart Avenue\, Bethpage\, NY\, 11714\, United States
CATEGORIES:In Person
ATTACH;FMTTYPE=image/svg+xml:https://meetings.greysheet.org/wp-content/uploads/2025/05/map-pin.svg
GEO:40.7556517;-73.4865195
X-APPLE-STRUCTURED-LOCATION;VALUE=URI;X-ADDRESS=Bethpage Community Center 1001 Stewart Avenue Bethpage NY 11714 United States;X-APPLE-RADIUS=500;X-TITLE=1001 Stewart Avenue:geo:-73.4865195,40.7556517
END:VEVENT
BEGIN:VEVENT
DTSTART;TZID=America/New_York:20260208T090000
DTEND;TZID=America/New_York:20260208T100000
DTSTAMP:20260419T134814
CREATED:20250122T174217Z
LAST-MODIFIED:20260211T215125Z
UID:10047762-1770541200-1770544800@meetings.greysheet.org
SUMMARY:Bethpage NY
DESCRIPTION:
URL:https://meetings.greysheet.org/meeting/bethpage-ny/2026-02-08
LOCATION:Bethpage Community Center\, 1001 Stewart Avenue\, Bethpage\, NY\, 11714\, United States
CATEGORIES:In Person
ATTACH;FMTTYPE=image/svg+xml:https://meetings.greysheet.org/wp-content/uploads/2025/05/map-pin.svg
GEO:40.7556517;-73.4865195
X-APPLE-STRUCTURED-LOCATION;VALUE=URI;X-ADDRESS=Bethpage Community Center 1001 Stewart Avenue Bethpage NY 11714 United States;X-APPLE-RADIUS=500;X-TITLE=1001 Stewart Avenue:geo:-73.4865195,40.7556517
END:VEVENT
BEGIN:VEVENT
DTSTART;TZID=America/New_York:20260204T190000
DTEND;TZID=America/New_York:20260204T200000
DTSTAMP:20260419T134814
CREATED:20250122T174218Z
LAST-MODIFIED:20260216T162611Z
UID:10041108-1770231600-1770235200@meetings.greysheet.org
SUMMARY:Bethpage Believers
DESCRIPTION:
URL:https://meetings.greysheet.org/meeting/bethpage-believers/2026-02-04
LOCATION:Bethpage Community Center\, 1001 Stewart Avenue\, Bethpage\, NY\, 11714\, United States
CATEGORIES:In Person
ATTACH;FMTTYPE=image/svg+xml:https://meetings.greysheet.org/wp-content/uploads/2025/05/map-pin.svg
GEO:40.7556517;-73.4865195
X-APPLE-STRUCTURED-LOCATION;VALUE=URI;X-ADDRESS=Bethpage Community Center 1001 Stewart Avenue Bethpage NY 11714 United States;X-APPLE-RADIUS=500;X-TITLE=1001 Stewart Avenue:geo:-73.4865195,40.7556517
END:VEVENT
BEGIN:VEVENT
DTSTART;TZID=America/New_York:20260201T090000
DTEND;TZID=America/New_York:20260201T100000
DTSTAMP:20260419T134814
CREATED:20250122T174217Z
LAST-MODIFIED:20260211T215125Z
UID:10047761-1769936400-1769940000@meetings.greysheet.org
SUMMARY:Bethpage NY
DESCRIPTION:
URL:https://meetings.greysheet.org/meeting/bethpage-ny/2026-02-01
LOCATION:Bethpage Community Center\, 1001 Stewart Avenue\, Bethpage\, NY\, 11714\, United States
CATEGORIES:In Person
ATTACH;FMTTYPE=image/svg+xml:https://meetings.greysheet.org/wp-content/uploads/2025/05/map-pin.svg
GEO:40.7556517;-73.4865195
X-APPLE-STRUCTURED-LOCATION;VALUE=URI;X-ADDRESS=Bethpage Community Center 1001 Stewart Avenue Bethpage NY 11714 United States;X-APPLE-RADIUS=500;X-TITLE=1001 Stewart Avenue:geo:-73.4865195,40.7556517
END:VEVENT
BEGIN:VEVENT
DTSTART;TZID=America/New_York:20260128T190000
DTEND;TZID=America/New_York:20260128T200000
DTSTAMP:20260419T134814
CREATED:20250122T174218Z
LAST-MODIFIED:20260216T162611Z
UID:10041107-1769626800-1769630400@meetings.greysheet.org
SUMMARY:Bethpage Believers
DESCRIPTION:
URL:https://meetings.greysheet.org/meeting/bethpage-believers/2026-01-28
LOCATION:Bethpage Community Center\, 1001 Stewart Avenue\, Bethpage\, NY\, 11714\, United States
CATEGORIES:In Person
ATTACH;FMTTYPE=image/svg+xml:https://meetings.greysheet.org/wp-content/uploads/2025/05/map-pin.svg
GEO:40.7556517;-73.4865195
X-APPLE-STRUCTURED-LOCATION;VALUE=URI;X-ADDRESS=Bethpage Community Center 1001 Stewart Avenue Bethpage NY 11714 United States;X-APPLE-RADIUS=500;X-TITLE=1001 Stewart Avenue:geo:-73.4865195,40.7556517
END:VEVENT
BEGIN:VEVENT
DTSTART;TZID=America/New_York:20260125T090000
DTEND;TZID=America/New_York:20260125T100000
DTSTAMP:20260419T134814
CREATED:20250122T174217Z
LAST-MODIFIED:20260211T215125Z
UID:10047760-1769331600-1769335200@meetings.greysheet.org
SUMMARY:Bethpage NY
DESCRIPTION:
URL:https://meetings.greysheet.org/meeting/bethpage-ny/2026-01-25
LOCATION:Bethpage Community Center\, 1001 Stewart Avenue\, Bethpage\, NY\, 11714\, United States
CATEGORIES:In Person
ATTACH;FMTTYPE=image/svg+xml:https://meetings.greysheet.org/wp-content/uploads/2025/05/map-pin.svg
GEO:40.7556517;-73.4865195
X-APPLE-STRUCTURED-LOCATION;VALUE=URI;X-ADDRESS=Bethpage Community Center 1001 Stewart Avenue Bethpage NY 11714 United States;X-APPLE-RADIUS=500;X-TITLE=1001 Stewart Avenue:geo:-73.4865195,40.7556517
END:VEVENT
BEGIN:VEVENT
DTSTART;TZID=America/New_York:20260121T190000
DTEND;TZID=America/New_York:20260121T200000
DTSTAMP:20260419T134814
CREATED:20250122T174218Z
LAST-MODIFIED:20260216T162611Z
UID:10041106-1769022000-1769025600@meetings.greysheet.org
SUMMARY:Bethpage Believers
DESCRIPTION:
URL:https://meetings.greysheet.org/meeting/bethpage-believers/2026-01-21
LOCATION:Bethpage Community Center\, 1001 Stewart Avenue\, Bethpage\, NY\, 11714\, United States
CATEGORIES:In Person
ATTACH;FMTTYPE=image/svg+xml:https://meetings.greysheet.org/wp-content/uploads/2025/05/map-pin.svg
GEO:40.7556517;-73.4865195
X-APPLE-STRUCTURED-LOCATION;VALUE=URI;X-ADDRESS=Bethpage Community Center 1001 Stewart Avenue Bethpage NY 11714 United States;X-APPLE-RADIUS=500;X-TITLE=1001 Stewart Avenue:geo:-73.4865195,40.7556517
END:VEVENT
BEGIN:VEVENT
DTSTART;TZID=America/New_York:20260118T090000
DTEND;TZID=America/New_York:20260118T100000
DTSTAMP:20260419T134814
CREATED:20250122T174217Z
LAST-MODIFIED:20260211T215125Z
UID:10047759-1768726800-1768730400@meetings.greysheet.org
SUMMARY:Bethpage NY
DESCRIPTION:
URL:https://meetings.greysheet.org/meeting/bethpage-ny/2026-01-18
LOCATION:Bethpage Community Center\, 1001 Stewart Avenue\, Bethpage\, NY\, 11714\, United States
CATEGORIES:In Person
ATTACH;FMTTYPE=image/svg+xml:https://meetings.greysheet.org/wp-content/uploads/2025/05/map-pin.svg
GEO:40.7556517;-73.4865195
X-APPLE-STRUCTURED-LOCATION;VALUE=URI;X-ADDRESS=Bethpage Community Center 1001 Stewart Avenue Bethpage NY 11714 United States;X-APPLE-RADIUS=500;X-TITLE=1001 Stewart Avenue:geo:-73.4865195,40.7556517
END:VEVENT
BEGIN:VEVENT
DTSTART;TZID=America/New_York:20260114T190000
DTEND;TZID=America/New_York:20260114T200000
DTSTAMP:20260419T134814
CREATED:20250122T174218Z
LAST-MODIFIED:20260216T162611Z
UID:10041105-1768417200-1768420800@meetings.greysheet.org
SUMMARY:Bethpage Believers
DESCRIPTION:
URL:https://meetings.greysheet.org/meeting/bethpage-believers/2026-01-14
LOCATION:Bethpage Community Center\, 1001 Stewart Avenue\, Bethpage\, NY\, 11714\, United States
CATEGORIES:In Person
ATTACH;FMTTYPE=image/svg+xml:https://meetings.greysheet.org/wp-content/uploads/2025/05/map-pin.svg
GEO:40.7556517;-73.4865195
X-APPLE-STRUCTURED-LOCATION;VALUE=URI;X-ADDRESS=Bethpage Community Center 1001 Stewart Avenue Bethpage NY 11714 United States;X-APPLE-RADIUS=500;X-TITLE=1001 Stewart Avenue:geo:-73.4865195,40.7556517
END:VEVENT
BEGIN:VEVENT
DTSTART;TZID=America/New_York:20260111T090000
DTEND;TZID=America/New_York:20260111T100000
DTSTAMP:20260419T134814
CREATED:20250122T174217Z
LAST-MODIFIED:20260211T215125Z
UID:10047758-1768122000-1768125600@meetings.greysheet.org
SUMMARY:Bethpage NY
DESCRIPTION:
URL:https://meetings.greysheet.org/meeting/bethpage-ny/2026-01-11
LOCATION:Bethpage Community Center\, 1001 Stewart Avenue\, Bethpage\, NY\, 11714\, United States
CATEGORIES:In Person
ATTACH;FMTTYPE=image/svg+xml:https://meetings.greysheet.org/wp-content/uploads/2025/05/map-pin.svg
GEO:40.7556517;-73.4865195
X-APPLE-STRUCTURED-LOCATION;VALUE=URI;X-ADDRESS=Bethpage Community Center 1001 Stewart Avenue Bethpage NY 11714 United States;X-APPLE-RADIUS=500;X-TITLE=1001 Stewart Avenue:geo:-73.4865195,40.7556517
END:VEVENT
BEGIN:VEVENT
DTSTART;TZID=America/New_York:20260107T190000
DTEND;TZID=America/New_York:20260107T200000
DTSTAMP:20260419T134814
CREATED:20250122T174218Z
LAST-MODIFIED:20260216T162611Z
UID:10041104-1767812400-1767816000@meetings.greysheet.org
SUMMARY:Bethpage Believers
DESCRIPTION:
URL:https://meetings.greysheet.org/meeting/bethpage-believers/2026-01-07
LOCATION:Bethpage Community Center\, 1001 Stewart Avenue\, Bethpage\, NY\, 11714\, United States
CATEGORIES:In Person
ATTACH;FMTTYPE=image/svg+xml:https://meetings.greysheet.org/wp-content/uploads/2025/05/map-pin.svg
GEO:40.7556517;-73.4865195
X-APPLE-STRUCTURED-LOCATION;VALUE=URI;X-ADDRESS=Bethpage Community Center 1001 Stewart Avenue Bethpage NY 11714 United States;X-APPLE-RADIUS=500;X-TITLE=1001 Stewart Avenue:geo:-73.4865195,40.7556517
END:VEVENT
BEGIN:VEVENT
DTSTART;TZID=America/New_York:20260104T090000
DTEND;TZID=America/New_York:20260104T100000
DTSTAMP:20260419T134814
CREATED:20250122T174217Z
LAST-MODIFIED:20260211T215125Z
UID:10047757-1767517200-1767520800@meetings.greysheet.org
SUMMARY:Bethpage NY
DESCRIPTION:
URL:https://meetings.greysheet.org/meeting/bethpage-ny/2026-01-04
LOCATION:Bethpage Community Center\, 1001 Stewart Avenue\, Bethpage\, NY\, 11714\, United States
CATEGORIES:In Person
ATTACH;FMTTYPE=image/svg+xml:https://meetings.greysheet.org/wp-content/uploads/2025/05/map-pin.svg
GEO:40.7556517;-73.4865195
X-APPLE-STRUCTURED-LOCATION;VALUE=URI;X-ADDRESS=Bethpage Community Center 1001 Stewart Avenue Bethpage NY 11714 United States;X-APPLE-RADIUS=500;X-TITLE=1001 Stewart Avenue:geo:-73.4865195,40.7556517
END:VEVENT
BEGIN:VEVENT
DTSTART;TZID=America/New_York:20251231T190000
DTEND;TZID=America/New_York:20251231T200000
DTSTAMP:20260419T134815
CREATED:20250122T174218Z
LAST-MODIFIED:20260216T162611Z
UID:10041103-1767207600-1767211200@meetings.greysheet.org
SUMMARY:Bethpage Believers
DESCRIPTION:
URL:https://meetings.greysheet.org/meeting/bethpage-believers/2025-12-31
LOCATION:Bethpage Community Center\, 1001 Stewart Avenue\, Bethpage\, NY\, 11714\, United States
CATEGORIES:In Person
ATTACH;FMTTYPE=image/svg+xml:https://meetings.greysheet.org/wp-content/uploads/2025/05/map-pin.svg
GEO:40.7556517;-73.4865195
X-APPLE-STRUCTURED-LOCATION;VALUE=URI;X-ADDRESS=Bethpage Community Center 1001 Stewart Avenue Bethpage NY 11714 United States;X-APPLE-RADIUS=500;X-TITLE=1001 Stewart Avenue:geo:-73.4865195,40.7556517
END:VEVENT
BEGIN:VEVENT
DTSTART;TZID=America/New_York:20251228T090000
DTEND;TZID=America/New_York:20251228T100000
DTSTAMP:20260419T134815
CREATED:20250122T174217Z
LAST-MODIFIED:20260211T215125Z
UID:10047756-1766912400-1766916000@meetings.greysheet.org
SUMMARY:Bethpage NY
DESCRIPTION:
URL:https://meetings.greysheet.org/meeting/bethpage-ny/2025-12-28
LOCATION:Bethpage Community Center\, 1001 Stewart Avenue\, Bethpage\, NY\, 11714\, United States
CATEGORIES:In Person
ATTACH;FMTTYPE=image/svg+xml:https://meetings.greysheet.org/wp-content/uploads/2025/05/map-pin.svg
GEO:40.7556517;-73.4865195
X-APPLE-STRUCTURED-LOCATION;VALUE=URI;X-ADDRESS=Bethpage Community Center 1001 Stewart Avenue Bethpage NY 11714 United States;X-APPLE-RADIUS=500;X-TITLE=1001 Stewart Avenue:geo:-73.4865195,40.7556517
END:VEVENT
BEGIN:VEVENT
DTSTART;TZID=America/New_York:20251224T190000
DTEND;TZID=America/New_York:20251224T200000
DTSTAMP:20260419T134815
CREATED:20250122T174218Z
LAST-MODIFIED:20260216T162611Z
UID:10041102-1766602800-1766606400@meetings.greysheet.org
SUMMARY:Bethpage Believers
DESCRIPTION:
URL:https://meetings.greysheet.org/meeting/bethpage-believers/2025-12-24
LOCATION:Bethpage Community Center\, 1001 Stewart Avenue\, Bethpage\, NY\, 11714\, United States
CATEGORIES:In Person
ATTACH;FMTTYPE=image/svg+xml:https://meetings.greysheet.org/wp-content/uploads/2025/05/map-pin.svg
GEO:40.7556517;-73.4865195
X-APPLE-STRUCTURED-LOCATION;VALUE=URI;X-ADDRESS=Bethpage Community Center 1001 Stewart Avenue Bethpage NY 11714 United States;X-APPLE-RADIUS=500;X-TITLE=1001 Stewart Avenue:geo:-73.4865195,40.7556517
END:VEVENT
BEGIN:VEVENT
DTSTART;TZID=America/New_York:20251221T090000
DTEND;TZID=America/New_York:20251221T100000
DTSTAMP:20260419T134815
CREATED:20250122T174217Z
LAST-MODIFIED:20260211T215125Z
UID:10047755-1766307600-1766311200@meetings.greysheet.org
SUMMARY:Bethpage NY
DESCRIPTION:
URL:https://meetings.greysheet.org/meeting/bethpage-ny/2025-12-21
LOCATION:Bethpage Community Center\, 1001 Stewart Avenue\, Bethpage\, NY\, 11714\, United States
CATEGORIES:In Person
ATTACH;FMTTYPE=image/svg+xml:https://meetings.greysheet.org/wp-content/uploads/2025/05/map-pin.svg
GEO:40.7556517;-73.4865195
X-APPLE-STRUCTURED-LOCATION;VALUE=URI;X-ADDRESS=Bethpage Community Center 1001 Stewart Avenue Bethpage NY 11714 United States;X-APPLE-RADIUS=500;X-TITLE=1001 Stewart Avenue:geo:-73.4865195,40.7556517
END:VEVENT
BEGIN:VEVENT
DTSTART;TZID=America/New_York:20251217T190000
DTEND;TZID=America/New_York:20251217T200000
DTSTAMP:20260419T134815
CREATED:20250122T174218Z
LAST-MODIFIED:20260216T162611Z
UID:10041101-1765998000-1766001600@meetings.greysheet.org
SUMMARY:Bethpage Believers
DESCRIPTION:
URL:https://meetings.greysheet.org/meeting/bethpage-believers/2025-12-17
LOCATION:Bethpage Community Center\, 1001 Stewart Avenue\, Bethpage\, NY\, 11714\, United States
CATEGORIES:In Person
ATTACH;FMTTYPE=image/svg+xml:https://meetings.greysheet.org/wp-content/uploads/2025/05/map-pin.svg
GEO:40.7556517;-73.4865195
X-APPLE-STRUCTURED-LOCATION;VALUE=URI;X-ADDRESS=Bethpage Community Center 1001 Stewart Avenue Bethpage NY 11714 United States;X-APPLE-RADIUS=500;X-TITLE=1001 Stewart Avenue:geo:-73.4865195,40.7556517
END:VEVENT
BEGIN:VEVENT
DTSTART;TZID=America/New_York:20251214T090000
DTEND;TZID=America/New_York:20251214T100000
DTSTAMP:20260419T134815
CREATED:20250122T174217Z
LAST-MODIFIED:20260211T215125Z
UID:10047754-1765702800-1765706400@meetings.greysheet.org
SUMMARY:Bethpage NY
DESCRIPTION:
URL:https://meetings.greysheet.org/meeting/bethpage-ny/2025-12-14
LOCATION:Bethpage Community Center\, 1001 Stewart Avenue\, Bethpage\, NY\, 11714\, United States
CATEGORIES:In Person
ATTACH;FMTTYPE=image/svg+xml:https://meetings.greysheet.org/wp-content/uploads/2025/05/map-pin.svg
GEO:40.7556517;-73.4865195
X-APPLE-STRUCTURED-LOCATION;VALUE=URI;X-ADDRESS=Bethpage Community Center 1001 Stewart Avenue Bethpage NY 11714 United States;X-APPLE-RADIUS=500;X-TITLE=1001 Stewart Avenue:geo:-73.4865195,40.7556517
END:VEVENT
BEGIN:VEVENT
DTSTART;TZID=America/New_York:20251210T190000
DTEND;TZID=America/New_York:20251210T200000
DTSTAMP:20260419T134815
CREATED:20250122T174218Z
LAST-MODIFIED:20260216T162611Z
UID:10041100-1765393200-1765396800@meetings.greysheet.org
SUMMARY:Bethpage Believers
DESCRIPTION:
URL:https://meetings.greysheet.org/meeting/bethpage-believers/2025-12-10
LOCATION:Bethpage Community Center\, 1001 Stewart Avenue\, Bethpage\, NY\, 11714\, United States
CATEGORIES:In Person
ATTACH;FMTTYPE=image/svg+xml:https://meetings.greysheet.org/wp-content/uploads/2025/05/map-pin.svg
GEO:40.7556517;-73.4865195
X-APPLE-STRUCTURED-LOCATION;VALUE=URI;X-ADDRESS=Bethpage Community Center 1001 Stewart Avenue Bethpage NY 11714 United States;X-APPLE-RADIUS=500;X-TITLE=1001 Stewart Avenue:geo:-73.4865195,40.7556517
END:VEVENT
BEGIN:VEVENT
DTSTART;TZID=America/New_York:20251207T090000
DTEND;TZID=America/New_York:20251207T100000
DTSTAMP:20260419T134815
CREATED:20250122T174217Z
LAST-MODIFIED:20260211T215125Z
UID:10047753-1765098000-1765101600@meetings.greysheet.org
SUMMARY:Bethpage NY
DESCRIPTION:
URL:https://meetings.greysheet.org/meeting/bethpage-ny/2025-12-07
LOCATION:Bethpage Community Center\, 1001 Stewart Avenue\, Bethpage\, NY\, 11714\, United States
CATEGORIES:In Person
ATTACH;FMTTYPE=image/svg+xml:https://meetings.greysheet.org/wp-content/uploads/2025/05/map-pin.svg
GEO:40.7556517;-73.4865195
X-APPLE-STRUCTURED-LOCATION;VALUE=URI;X-ADDRESS=Bethpage Community Center 1001 Stewart Avenue Bethpage NY 11714 United States;X-APPLE-RADIUS=500;X-TITLE=1001 Stewart Avenue:geo:-73.4865195,40.7556517
END:VEVENT
BEGIN:VEVENT
DTSTART;TZID=America/New_York:20251203T190000
DTEND;TZID=America/New_York:20251203T200000
DTSTAMP:20260419T134815
CREATED:20250122T174218Z
LAST-MODIFIED:20260216T162611Z
UID:10041099-1764788400-1764792000@meetings.greysheet.org
SUMMARY:Bethpage Believers
DESCRIPTION:
URL:https://meetings.greysheet.org/meeting/bethpage-believers/2025-12-03
LOCATION:Bethpage Community Center\, 1001 Stewart Avenue\, Bethpage\, NY\, 11714\, United States
CATEGORIES:In Person
ATTACH;FMTTYPE=image/svg+xml:https://meetings.greysheet.org/wp-content/uploads/2025/05/map-pin.svg
GEO:40.7556517;-73.4865195
X-APPLE-STRUCTURED-LOCATION;VALUE=URI;X-ADDRESS=Bethpage Community Center 1001 Stewart Avenue Bethpage NY 11714 United States;X-APPLE-RADIUS=500;X-TITLE=1001 Stewart Avenue:geo:-73.4865195,40.7556517
END:VEVENT
BEGIN:VEVENT
DTSTART;TZID=America/New_York:20251130T090000
DTEND;TZID=America/New_York:20251130T100000
DTSTAMP:20260419T134815
CREATED:20250122T174217Z
LAST-MODIFIED:20260211T215125Z
UID:10047752-1764493200-1764496800@meetings.greysheet.org
SUMMARY:Bethpage NY
DESCRIPTION:
URL:https://meetings.greysheet.org/meeting/bethpage-ny/2025-11-30
LOCATION:Bethpage Community Center\, 1001 Stewart Avenue\, Bethpage\, NY\, 11714\, United States
CATEGORIES:In Person
ATTACH;FMTTYPE=image/svg+xml:https://meetings.greysheet.org/wp-content/uploads/2025/05/map-pin.svg
GEO:40.7556517;-73.4865195
X-APPLE-STRUCTURED-LOCATION;VALUE=URI;X-ADDRESS=Bethpage Community Center 1001 Stewart Avenue Bethpage NY 11714 United States;X-APPLE-RADIUS=500;X-TITLE=1001 Stewart Avenue:geo:-73.4865195,40.7556517
END:VEVENT
BEGIN:VEVENT
DTSTART;TZID=America/New_York:20251126T190000
DTEND;TZID=America/New_York:20251126T200000
DTSTAMP:20260419T134815
CREATED:20250122T174218Z
LAST-MODIFIED:20260216T162611Z
UID:10041098-1764183600-1764187200@meetings.greysheet.org
SUMMARY:Bethpage Believers
DESCRIPTION:
URL:https://meetings.greysheet.org/meeting/bethpage-believers/2025-11-26
LOCATION:Bethpage Community Center\, 1001 Stewart Avenue\, Bethpage\, NY\, 11714\, United States
CATEGORIES:In Person
ATTACH;FMTTYPE=image/svg+xml:https://meetings.greysheet.org/wp-content/uploads/2025/05/map-pin.svg
GEO:40.7556517;-73.4865195
X-APPLE-STRUCTURED-LOCATION;VALUE=URI;X-ADDRESS=Bethpage Community Center 1001 Stewart Avenue Bethpage NY 11714 United States;X-APPLE-RADIUS=500;X-TITLE=1001 Stewart Avenue:geo:-73.4865195,40.7556517
END:VEVENT
BEGIN:VEVENT
DTSTART;TZID=America/New_York:20251123T090000
DTEND;TZID=America/New_York:20251123T100000
DTSTAMP:20260419T134815
CREATED:20250122T174217Z
LAST-MODIFIED:20260211T215125Z
UID:10047751-1763888400-1763892000@meetings.greysheet.org
SUMMARY:Bethpage NY
DESCRIPTION:
URL:https://meetings.greysheet.org/meeting/bethpage-ny/2025-11-23
LOCATION:Bethpage Community Center\, 1001 Stewart Avenue\, Bethpage\, NY\, 11714\, United States
CATEGORIES:In Person
ATTACH;FMTTYPE=image/svg+xml:https://meetings.greysheet.org/wp-content/uploads/2025/05/map-pin.svg
GEO:40.7556517;-73.4865195
X-APPLE-STRUCTURED-LOCATION;VALUE=URI;X-ADDRESS=Bethpage Community Center 1001 Stewart Avenue Bethpage NY 11714 United States;X-APPLE-RADIUS=500;X-TITLE=1001 Stewart Avenue:geo:-73.4865195,40.7556517
END:VEVENT
END:VCALENDAR