BEGIN:VCALENDAR
VERSION:2.0
PRODID:-//GreySheeters Anonymous World Services - ECPv6.15.20//NONSGML v1.0//EN
CALSCALE:GREGORIAN
METHOD:PUBLISH
X-ORIGINAL-URL:https://meetings.greysheet.org
X-WR-CALDESC:Events for GreySheeters Anonymous World Services
REFRESH-INTERVAL;VALUE=DURATION:PT1H
X-Robots-Tag:noindex
X-PUBLISHED-TTL:PT1H
BEGIN:VTIMEZONE
TZID:America/New_York
BEGIN:DAYLIGHT
TZOFFSETFROM:-0500
TZOFFSETTO:-0400
TZNAME:EDT
DTSTART:20250309T070000
END:DAYLIGHT
BEGIN:STANDARD
TZOFFSETFROM:-0400
TZOFFSETTO:-0500
TZNAME:EST
DTSTART:20251102T060000
END:STANDARD
BEGIN:DAYLIGHT
TZOFFSETFROM:-0500
TZOFFSETTO:-0400
TZNAME:EDT
DTSTART:20260308T070000
END:DAYLIGHT
BEGIN:STANDARD
TZOFFSETFROM:-0400
TZOFFSETTO:-0500
TZNAME:EST
DTSTART:20261101T060000
END:STANDARD
BEGIN:DAYLIGHT
TZOFFSETFROM:-0500
TZOFFSETTO:-0400
TZNAME:EDT
DTSTART:20270314T070000
END:DAYLIGHT
BEGIN:STANDARD
TZOFFSETFROM:-0400
TZOFFSETTO:-0500
TZNAME:EST
DTSTART:20271107T060000
END:STANDARD
END:VTIMEZONE
BEGIN:VEVENT
DTSTART;TZID=America/New_York:20260515T170000
DTEND;TZID=America/New_York:20260515T173000
DTSTAMP:20260421T010552
CREATED:20250503T164152Z
LAST-MODIFIED:20251117T231617Z
UID:10052102-1778864400-1778866200@meetings.greysheet.org
SUMMARY:Beginners Daily FRI
DESCRIPTION:This is a half-hour GreySheet Beginner’s meeting. The leader shares for 3-5 minutes\, followed by 2-minute timed shares.
URL:https://meetings.greysheet.org/meeting/beginners-daily-6/2026-05-15
CATEGORIES:Telephone or Audio
ATTACH;FMTTYPE=image/svg+xml:https://meetings.greysheet.org/wp-content/uploads/2025/05/phone.svg
LOCATION:Phone Number: 712 432 5229, PIN: Phone Bridge
END:VEVENT
BEGIN:VEVENT
DTSTART;TZID=America/New_York:20260516T170000
DTEND;TZID=America/New_York:20260516T173000
DTSTAMP:20260421T010552
CREATED:20250503T164152Z
LAST-MODIFIED:20251117T231024Z
UID:10050863-1778950800-1778952600@meetings.greysheet.org
SUMMARY:Beginners Daily SAT
DESCRIPTION:This is a half hour GreySheet Beginner’s meeting. The leader shares for 3-5 minutes\, followed by 2-minute timed shares.
URL:https://meetings.greysheet.org/meeting/beginners-daily-7/2026-05-16
CATEGORIES:Telephone or Audio
ATTACH;FMTTYPE=image/svg+xml:https://meetings.greysheet.org/wp-content/uploads/2025/05/phone.svg
LOCATION:Phone Number: 712 432 5229, PIN: Phone Bridge
END:VEVENT
BEGIN:VEVENT
DTSTART;TZID=America/New_York:20260517T170000
DTEND;TZID=America/New_York:20260517T173000
DTSTAMP:20260421T010552
CREATED:20250503T164142Z
LAST-MODIFIED:20251117T234856Z
UID:10059741-1779037200-1779039000@meetings.greysheet.org
SUMMARY:Beginners Daily SUN
DESCRIPTION:This is a half hour GreySheet Beginner’s meeting. The leader shares for 3-5 minutes\, followed by 2-minute timed shares.
URL:https://meetings.greysheet.org/meeting/beginners-daily/2026-05-17
CATEGORIES:Telephone or Audio
ATTACH;FMTTYPE=image/svg+xml:https://meetings.greysheet.org/wp-content/uploads/2025/05/phone.svg
LOCATION:Phone Number: 712 432 5229, PIN: Phone Bridge
END:VEVENT
BEGIN:VEVENT
DTSTART;TZID=America/New_York:20260518T170000
DTEND;TZID=America/New_York:20260518T173000
DTSTAMP:20260421T010552
CREATED:20250503T164142Z
LAST-MODIFIED:20251117T234431Z
UID:10058495-1779123600-1779125400@meetings.greysheet.org
SUMMARY:Beginners Daily MON
DESCRIPTION:This is a half hour GreySheet Beginners meeting. The leader shares for 3-5 minutes\, followed by 2-minute timed shares.
URL:https://meetings.greysheet.org/meeting/beginners-daily-mon/2026-05-18
CATEGORIES:Telephone or Audio
ATTACH;FMTTYPE=image/svg+xml:https://meetings.greysheet.org/wp-content/uploads/2025/05/phone.svg
LOCATION:Phone Number: 712 432 5229, PIN: Phone Bridge
END:VEVENT
BEGIN:VEVENT
DTSTART;TZID=America/New_York:20260519T170000
DTEND;TZID=America/New_York:20260519T173000
DTSTAMP:20260421T010552
CREATED:20250503T164142Z
LAST-MODIFIED:20251117T233722Z
UID:10056715-1779210000-1779211800@meetings.greysheet.org
SUMMARY:Beginners Daily TUE
DESCRIPTION:This is a half hour GreySheet Beginner’s meeting. The leader shares for 3-5 minutes\, followed by 2-minute timed shares.
URL:https://meetings.greysheet.org/meeting/beginners-daily-tue/2026-05-19
CATEGORIES:Telephone or Audio
ATTACH;FMTTYPE=image/svg+xml:https://meetings.greysheet.org/wp-content/uploads/2025/05/phone.svg
LOCATION:Phone Number: 712 432 5229, PIN: Phone Bridge
END:VEVENT
BEGIN:VEVENT
DTSTART;TZID=America/New_York:20260520T170000
DTEND;TZID=America/New_York:20260520T173000
DTSTAMP:20260421T010552
CREATED:20250503T164142Z
LAST-MODIFIED:20251117T233247Z
UID:10055469-1779296400-1779298200@meetings.greysheet.org
SUMMARY:Beginners Daily WED
DESCRIPTION:This is a half hour GreySheet Beginner’s meeting. The leader shares for 3-5 minutes\, followed by 2-minute timed shares.
URL:https://meetings.greysheet.org/meeting/beginners-daily-4/2026-05-20
CATEGORIES:Telephone or Audio
ATTACH;FMTTYPE=image/svg+xml:https://meetings.greysheet.org/wp-content/uploads/2025/05/phone.svg
LOCATION:Phone Number: 712 432 5229, PIN: Phone Bridge
END:VEVENT
BEGIN:VEVENT
DTSTART;TZID=America/New_York:20260521T170000
DTEND;TZID=America/New_York:20260521T173000
DTSTAMP:20260421T010552
CREATED:20250503T164142Z
LAST-MODIFIED:20251117T232508Z
UID:10053696-1779382800-1779384600@meetings.greysheet.org
SUMMARY:Beginners Daily THU
DESCRIPTION:This is a half hour GreySheet Beginner’s meeting. The leader shares for 3-5 minutes\, followed by 2-minute timed shares.
URL:https://meetings.greysheet.org/meeting/beginners-daily-5/2026-05-21
CATEGORIES:Telephone or Audio
ATTACH;FMTTYPE=image/svg+xml:https://meetings.greysheet.org/wp-content/uploads/2025/05/phone.svg
LOCATION:Phone Number: 712 432 5229, PIN: Phone Bridge
END:VEVENT
BEGIN:VEVENT
DTSTART;TZID=America/New_York:20260522T170000
DTEND;TZID=America/New_York:20260522T173000
DTSTAMP:20260421T010552
CREATED:20250503T164152Z
LAST-MODIFIED:20251117T231617Z
UID:10052103-1779469200-1779471000@meetings.greysheet.org
SUMMARY:Beginners Daily FRI
DESCRIPTION:This is a half-hour GreySheet Beginner’s meeting. The leader shares for 3-5 minutes\, followed by 2-minute timed shares.
URL:https://meetings.greysheet.org/meeting/beginners-daily-6/2026-05-22
CATEGORIES:Telephone or Audio
ATTACH;FMTTYPE=image/svg+xml:https://meetings.greysheet.org/wp-content/uploads/2025/05/phone.svg
LOCATION:Phone Number: 712 432 5229, PIN: Phone Bridge
END:VEVENT
BEGIN:VEVENT
DTSTART;TZID=America/New_York:20260523T170000
DTEND;TZID=America/New_York:20260523T173000
DTSTAMP:20260421T010552
CREATED:20250503T164152Z
LAST-MODIFIED:20251117T231024Z
UID:10050864-1779555600-1779557400@meetings.greysheet.org
SUMMARY:Beginners Daily SAT
DESCRIPTION:This is a half hour GreySheet Beginner’s meeting. The leader shares for 3-5 minutes\, followed by 2-minute timed shares.
URL:https://meetings.greysheet.org/meeting/beginners-daily-7/2026-05-23
CATEGORIES:Telephone or Audio
ATTACH;FMTTYPE=image/svg+xml:https://meetings.greysheet.org/wp-content/uploads/2025/05/phone.svg
LOCATION:Phone Number: 712 432 5229, PIN: Phone Bridge
END:VEVENT
BEGIN:VEVENT
DTSTART;TZID=America/New_York:20260524T170000
DTEND;TZID=America/New_York:20260524T173000
DTSTAMP:20260421T010552
CREATED:20250503T164142Z
LAST-MODIFIED:20251117T234856Z
UID:10059742-1779642000-1779643800@meetings.greysheet.org
SUMMARY:Beginners Daily SUN
DESCRIPTION:This is a half hour GreySheet Beginner’s meeting. The leader shares for 3-5 minutes\, followed by 2-minute timed shares.
URL:https://meetings.greysheet.org/meeting/beginners-daily/2026-05-24
CATEGORIES:Telephone or Audio
ATTACH;FMTTYPE=image/svg+xml:https://meetings.greysheet.org/wp-content/uploads/2025/05/phone.svg
LOCATION:Phone Number: 712 432 5229, PIN: Phone Bridge
END:VEVENT
BEGIN:VEVENT
DTSTART;TZID=America/New_York:20260525T170000
DTEND;TZID=America/New_York:20260525T173000
DTSTAMP:20260421T010552
CREATED:20250503T164142Z
LAST-MODIFIED:20251117T234431Z
UID:10058496-1779728400-1779730200@meetings.greysheet.org
SUMMARY:Beginners Daily MON
DESCRIPTION:This is a half hour GreySheet Beginners meeting. The leader shares for 3-5 minutes\, followed by 2-minute timed shares.
URL:https://meetings.greysheet.org/meeting/beginners-daily-mon/2026-05-25
CATEGORIES:Telephone or Audio
ATTACH;FMTTYPE=image/svg+xml:https://meetings.greysheet.org/wp-content/uploads/2025/05/phone.svg
LOCATION:Phone Number: 712 432 5229, PIN: Phone Bridge
END:VEVENT
BEGIN:VEVENT
DTSTART;TZID=America/New_York:20260526T170000
DTEND;TZID=America/New_York:20260526T173000
DTSTAMP:20260421T010552
CREATED:20250503T164142Z
LAST-MODIFIED:20251117T233722Z
UID:10056716-1779814800-1779816600@meetings.greysheet.org
SUMMARY:Beginners Daily TUE
DESCRIPTION:This is a half hour GreySheet Beginner’s meeting. The leader shares for 3-5 minutes\, followed by 2-minute timed shares.
URL:https://meetings.greysheet.org/meeting/beginners-daily-tue/2026-05-26
CATEGORIES:Telephone or Audio
ATTACH;FMTTYPE=image/svg+xml:https://meetings.greysheet.org/wp-content/uploads/2025/05/phone.svg
LOCATION:Phone Number: 712 432 5229, PIN: Phone Bridge
END:VEVENT
BEGIN:VEVENT
DTSTART;TZID=America/New_York:20260527T170000
DTEND;TZID=America/New_York:20260527T173000
DTSTAMP:20260421T010552
CREATED:20250503T164142Z
LAST-MODIFIED:20251117T233247Z
UID:10055470-1779901200-1779903000@meetings.greysheet.org
SUMMARY:Beginners Daily WED
DESCRIPTION:This is a half hour GreySheet Beginner’s meeting. The leader shares for 3-5 minutes\, followed by 2-minute timed shares.
URL:https://meetings.greysheet.org/meeting/beginners-daily-4/2026-05-27
CATEGORIES:Telephone or Audio
ATTACH;FMTTYPE=image/svg+xml:https://meetings.greysheet.org/wp-content/uploads/2025/05/phone.svg
LOCATION:Phone Number: 712 432 5229, PIN: Phone Bridge
END:VEVENT
BEGIN:VEVENT
DTSTART;TZID=America/New_York:20260528T170000
DTEND;TZID=America/New_York:20260528T173000
DTSTAMP:20260421T010552
CREATED:20250503T164142Z
LAST-MODIFIED:20251117T232508Z
UID:10053697-1779987600-1779989400@meetings.greysheet.org
SUMMARY:Beginners Daily THU
DESCRIPTION:This is a half hour GreySheet Beginner’s meeting. The leader shares for 3-5 minutes\, followed by 2-minute timed shares.
URL:https://meetings.greysheet.org/meeting/beginners-daily-5/2026-05-28
CATEGORIES:Telephone or Audio
ATTACH;FMTTYPE=image/svg+xml:https://meetings.greysheet.org/wp-content/uploads/2025/05/phone.svg
LOCATION:Phone Number: 712 432 5229, PIN: Phone Bridge
END:VEVENT
BEGIN:VEVENT
DTSTART;TZID=America/New_York:20260529T170000
DTEND;TZID=America/New_York:20260529T173000
DTSTAMP:20260421T010552
CREATED:20250503T164152Z
LAST-MODIFIED:20251117T231617Z
UID:10052104-1780074000-1780075800@meetings.greysheet.org
SUMMARY:Beginners Daily FRI
DESCRIPTION:This is a half-hour GreySheet Beginner’s meeting. The leader shares for 3-5 minutes\, followed by 2-minute timed shares.
URL:https://meetings.greysheet.org/meeting/beginners-daily-6/2026-05-29
CATEGORIES:Telephone or Audio
ATTACH;FMTTYPE=image/svg+xml:https://meetings.greysheet.org/wp-content/uploads/2025/05/phone.svg
LOCATION:Phone Number: 712 432 5229, PIN: Phone Bridge
END:VEVENT
BEGIN:VEVENT
DTSTART;TZID=America/New_York:20260530T170000
DTEND;TZID=America/New_York:20260530T173000
DTSTAMP:20260421T010552
CREATED:20250503T164152Z
LAST-MODIFIED:20251117T231024Z
UID:10050865-1780160400-1780162200@meetings.greysheet.org
SUMMARY:Beginners Daily SAT
DESCRIPTION:This is a half hour GreySheet Beginner’s meeting. The leader shares for 3-5 minutes\, followed by 2-minute timed shares.
URL:https://meetings.greysheet.org/meeting/beginners-daily-7/2026-05-30
CATEGORIES:Telephone or Audio
ATTACH;FMTTYPE=image/svg+xml:https://meetings.greysheet.org/wp-content/uploads/2025/05/phone.svg
LOCATION:Phone Number: 712 432 5229, PIN: Phone Bridge
END:VEVENT
BEGIN:VEVENT
DTSTART;TZID=America/New_York:20260531T170000
DTEND;TZID=America/New_York:20260531T173000
DTSTAMP:20260421T010552
CREATED:20250503T164142Z
LAST-MODIFIED:20251117T234856Z
UID:10059743-1780246800-1780248600@meetings.greysheet.org
SUMMARY:Beginners Daily SUN
DESCRIPTION:This is a half hour GreySheet Beginner’s meeting. The leader shares for 3-5 minutes\, followed by 2-minute timed shares.
URL:https://meetings.greysheet.org/meeting/beginners-daily/2026-05-31
CATEGORIES:Telephone or Audio
ATTACH;FMTTYPE=image/svg+xml:https://meetings.greysheet.org/wp-content/uploads/2025/05/phone.svg
LOCATION:Phone Number: 712 432 5229, PIN: Phone Bridge
END:VEVENT
BEGIN:VEVENT
DTSTART;TZID=America/New_York:20260601T170000
DTEND;TZID=America/New_York:20260601T173000
DTSTAMP:20260421T010552
CREATED:20250503T164142Z
LAST-MODIFIED:20251117T234431Z
UID:10058497-1780333200-1780335000@meetings.greysheet.org
SUMMARY:Beginners Daily MON
DESCRIPTION:This is a half hour GreySheet Beginners meeting. The leader shares for 3-5 minutes\, followed by 2-minute timed shares.
URL:https://meetings.greysheet.org/meeting/beginners-daily-mon/2026-06-01
CATEGORIES:Telephone or Audio
ATTACH;FMTTYPE=image/svg+xml:https://meetings.greysheet.org/wp-content/uploads/2025/05/phone.svg
LOCATION:Phone Number: 712 432 5229, PIN: Phone Bridge
END:VEVENT
BEGIN:VEVENT
DTSTART;TZID=America/New_York:20260602T170000
DTEND;TZID=America/New_York:20260602T173000
DTSTAMP:20260421T010552
CREATED:20250503T164142Z
LAST-MODIFIED:20251117T233722Z
UID:10056717-1780419600-1780421400@meetings.greysheet.org
SUMMARY:Beginners Daily TUE
DESCRIPTION:This is a half hour GreySheet Beginner’s meeting. The leader shares for 3-5 minutes\, followed by 2-minute timed shares.
URL:https://meetings.greysheet.org/meeting/beginners-daily-tue/2026-06-02
CATEGORIES:Telephone or Audio
ATTACH;FMTTYPE=image/svg+xml:https://meetings.greysheet.org/wp-content/uploads/2025/05/phone.svg
LOCATION:Phone Number: 712 432 5229, PIN: Phone Bridge
END:VEVENT
BEGIN:VEVENT
DTSTART;TZID=America/New_York:20260603T170000
DTEND;TZID=America/New_York:20260603T173000
DTSTAMP:20260421T010552
CREATED:20250503T164142Z
LAST-MODIFIED:20251117T233247Z
UID:10055471-1780506000-1780507800@meetings.greysheet.org
SUMMARY:Beginners Daily WED
DESCRIPTION:This is a half hour GreySheet Beginner’s meeting. The leader shares for 3-5 minutes\, followed by 2-minute timed shares.
URL:https://meetings.greysheet.org/meeting/beginners-daily-4/2026-06-03
CATEGORIES:Telephone or Audio
ATTACH;FMTTYPE=image/svg+xml:https://meetings.greysheet.org/wp-content/uploads/2025/05/phone.svg
LOCATION:Phone Number: 712 432 5229, PIN: Phone Bridge
END:VEVENT
BEGIN:VEVENT
DTSTART;TZID=America/New_York:20260604T170000
DTEND;TZID=America/New_York:20260604T173000
DTSTAMP:20260421T010552
CREATED:20250503T164142Z
LAST-MODIFIED:20251117T232508Z
UID:10053698-1780592400-1780594200@meetings.greysheet.org
SUMMARY:Beginners Daily THU
DESCRIPTION:This is a half hour GreySheet Beginner’s meeting. The leader shares for 3-5 minutes\, followed by 2-minute timed shares.
URL:https://meetings.greysheet.org/meeting/beginners-daily-5/2026-06-04
CATEGORIES:Telephone or Audio
ATTACH;FMTTYPE=image/svg+xml:https://meetings.greysheet.org/wp-content/uploads/2025/05/phone.svg
LOCATION:Phone Number: 712 432 5229, PIN: Phone Bridge
END:VEVENT
BEGIN:VEVENT
DTSTART;TZID=America/New_York:20260605T170000
DTEND;TZID=America/New_York:20260605T173000
DTSTAMP:20260421T010552
CREATED:20250503T164152Z
LAST-MODIFIED:20251117T231617Z
UID:10052105-1780678800-1780680600@meetings.greysheet.org
SUMMARY:Beginners Daily FRI
DESCRIPTION:This is a half-hour GreySheet Beginner’s meeting. The leader shares for 3-5 minutes\, followed by 2-minute timed shares.
URL:https://meetings.greysheet.org/meeting/beginners-daily-6/2026-06-05
CATEGORIES:Telephone or Audio
ATTACH;FMTTYPE=image/svg+xml:https://meetings.greysheet.org/wp-content/uploads/2025/05/phone.svg
LOCATION:Phone Number: 712 432 5229, PIN: Phone Bridge
END:VEVENT
BEGIN:VEVENT
DTSTART;TZID=America/New_York:20260606T170000
DTEND;TZID=America/New_York:20260606T173000
DTSTAMP:20260421T010552
CREATED:20250503T164152Z
LAST-MODIFIED:20251117T231024Z
UID:10050866-1780765200-1780767000@meetings.greysheet.org
SUMMARY:Beginners Daily SAT
DESCRIPTION:This is a half hour GreySheet Beginner’s meeting. The leader shares for 3-5 minutes\, followed by 2-minute timed shares.
URL:https://meetings.greysheet.org/meeting/beginners-daily-7/2026-06-06
CATEGORIES:Telephone or Audio
ATTACH;FMTTYPE=image/svg+xml:https://meetings.greysheet.org/wp-content/uploads/2025/05/phone.svg
LOCATION:Phone Number: 712 432 5229, PIN: Phone Bridge
END:VEVENT
BEGIN:VEVENT
DTSTART;TZID=America/New_York:20260607T170000
DTEND;TZID=America/New_York:20260607T173000
DTSTAMP:20260421T010552
CREATED:20250503T164142Z
LAST-MODIFIED:20251117T234856Z
UID:10059744-1780851600-1780853400@meetings.greysheet.org
SUMMARY:Beginners Daily SUN
DESCRIPTION:This is a half hour GreySheet Beginner’s meeting. The leader shares for 3-5 minutes\, followed by 2-minute timed shares.
URL:https://meetings.greysheet.org/meeting/beginners-daily/2026-06-07
CATEGORIES:Telephone or Audio
ATTACH;FMTTYPE=image/svg+xml:https://meetings.greysheet.org/wp-content/uploads/2025/05/phone.svg
LOCATION:Phone Number: 712 432 5229, PIN: Phone Bridge
END:VEVENT
BEGIN:VEVENT
DTSTART;TZID=America/New_York:20260608T170000
DTEND;TZID=America/New_York:20260608T173000
DTSTAMP:20260421T010552
CREATED:20250503T164142Z
LAST-MODIFIED:20251117T234431Z
UID:10058498-1780938000-1780939800@meetings.greysheet.org
SUMMARY:Beginners Daily MON
DESCRIPTION:This is a half hour GreySheet Beginners meeting. The leader shares for 3-5 minutes\, followed by 2-minute timed shares.
URL:https://meetings.greysheet.org/meeting/beginners-daily-mon/2026-06-08
CATEGORIES:Telephone or Audio
ATTACH;FMTTYPE=image/svg+xml:https://meetings.greysheet.org/wp-content/uploads/2025/05/phone.svg
LOCATION:Phone Number: 712 432 5229, PIN: Phone Bridge
END:VEVENT
BEGIN:VEVENT
DTSTART;TZID=America/New_York:20260609T170000
DTEND;TZID=America/New_York:20260609T173000
DTSTAMP:20260421T010552
CREATED:20250503T164142Z
LAST-MODIFIED:20251117T233722Z
UID:10056718-1781024400-1781026200@meetings.greysheet.org
SUMMARY:Beginners Daily TUE
DESCRIPTION:This is a half hour GreySheet Beginner’s meeting. The leader shares for 3-5 minutes\, followed by 2-minute timed shares.
URL:https://meetings.greysheet.org/meeting/beginners-daily-tue/2026-06-09
CATEGORIES:Telephone or Audio
ATTACH;FMTTYPE=image/svg+xml:https://meetings.greysheet.org/wp-content/uploads/2025/05/phone.svg
LOCATION:Phone Number: 712 432 5229, PIN: Phone Bridge
END:VEVENT
BEGIN:VEVENT
DTSTART;TZID=America/New_York:20260610T170000
DTEND;TZID=America/New_York:20260610T173000
DTSTAMP:20260421T010552
CREATED:20250503T164142Z
LAST-MODIFIED:20251117T233247Z
UID:10055472-1781110800-1781112600@meetings.greysheet.org
SUMMARY:Beginners Daily WED
DESCRIPTION:This is a half hour GreySheet Beginner’s meeting. The leader shares for 3-5 minutes\, followed by 2-minute timed shares.
URL:https://meetings.greysheet.org/meeting/beginners-daily-4/2026-06-10
CATEGORIES:Telephone or Audio
ATTACH;FMTTYPE=image/svg+xml:https://meetings.greysheet.org/wp-content/uploads/2025/05/phone.svg
LOCATION:Phone Number: 712 432 5229, PIN: Phone Bridge
END:VEVENT
BEGIN:VEVENT
DTSTART;TZID=America/New_York:20260611T170000
DTEND;TZID=America/New_York:20260611T173000
DTSTAMP:20260421T010552
CREATED:20250503T164142Z
LAST-MODIFIED:20251117T232508Z
UID:10053699-1781197200-1781199000@meetings.greysheet.org
SUMMARY:Beginners Daily THU
DESCRIPTION:This is a half hour GreySheet Beginner’s meeting. The leader shares for 3-5 minutes\, followed by 2-minute timed shares.
URL:https://meetings.greysheet.org/meeting/beginners-daily-5/2026-06-11
CATEGORIES:Telephone or Audio
ATTACH;FMTTYPE=image/svg+xml:https://meetings.greysheet.org/wp-content/uploads/2025/05/phone.svg
LOCATION:Phone Number: 712 432 5229, PIN: Phone Bridge
END:VEVENT
BEGIN:VEVENT
DTSTART;TZID=America/New_York:20260612T170000
DTEND;TZID=America/New_York:20260612T173000
DTSTAMP:20260421T010552
CREATED:20250503T164152Z
LAST-MODIFIED:20251117T231617Z
UID:10052106-1781283600-1781285400@meetings.greysheet.org
SUMMARY:Beginners Daily FRI
DESCRIPTION:This is a half-hour GreySheet Beginner’s meeting. The leader shares for 3-5 minutes\, followed by 2-minute timed shares.
URL:https://meetings.greysheet.org/meeting/beginners-daily-6/2026-06-12
CATEGORIES:Telephone or Audio
ATTACH;FMTTYPE=image/svg+xml:https://meetings.greysheet.org/wp-content/uploads/2025/05/phone.svg
LOCATION:Phone Number: 712 432 5229, PIN: Phone Bridge
END:VEVENT
BEGIN:VEVENT
DTSTART;TZID=America/New_York:20260613T170000
DTEND;TZID=America/New_York:20260613T173000
DTSTAMP:20260421T010552
CREATED:20250503T164152Z
LAST-MODIFIED:20251117T231024Z
UID:10050867-1781370000-1781371800@meetings.greysheet.org
SUMMARY:Beginners Daily SAT
DESCRIPTION:This is a half hour GreySheet Beginner’s meeting. The leader shares for 3-5 minutes\, followed by 2-minute timed shares.
URL:https://meetings.greysheet.org/meeting/beginners-daily-7/2026-06-13
CATEGORIES:Telephone or Audio
ATTACH;FMTTYPE=image/svg+xml:https://meetings.greysheet.org/wp-content/uploads/2025/05/phone.svg
LOCATION:Phone Number: 712 432 5229, PIN: Phone Bridge
END:VEVENT
END:VCALENDAR